{"text_format":"1","workbook":"xlsx","n_sheets":13,"sheets":["MENU","RC-1A","FO-DRE-01","FO-DRE-02","FO-DRE-03","FO-DRE-04","FO-DRE-12","FO-DRE-15","FO-DRE-16","Hoja1","GlobalMapper","Hoja2","Hoja3"],"not_rendered":{"charts":28,"images":5,"macros":1,"external_links":1,"defined_names":14,"comments":0,"pivot_tables":0},"unopened":[],"bounds":{"document_bytes":16777216,"sheet_cells":100000,"rows_first":2000,"rows_last":500,"rows_between":2000,"halvings":0,"cell_chars":16384,"cell_head_chars":4096},"cells_cut":0,"cells_raw":0,"read":"whole","date_system":"1900"}

{"sheet":"MENU","index":0,"n_rows":22,"n_cols":6,"rows_kept":22,"cut":false,"hidden":false,"merged":[[4,1,4,3],[1,1,1,3]]}
[]
[null,"AGENCIA DE REGULACIÓN Y CONTROL DE LAS TELECOMUNICACIONES - ARCOTEL"]
[]
[]
[null,"FORMATOS TÉCNICOS OTH DE FRECUENCIAS DEL ESPECTRO RADIOELÉCTRICO"]
[null,null,"PARA SISTEMA TRONCALIZADOS"]
[]
[null,1,null,"SOLICITUD PARA LA OBTENCIÓN DEL TÍTULO HABILITANTE PARA FRECUENCIAS DEL ESPECTRO RADIOELÉCTRICO",null,"FO-RC-1A"]
[]
[null,1,null,"INFORMACIÓN DE LA ESTRUCTURA DEL SISTEMA DE RADIOCOMUNICACIONES",null,"FO-DRE-01"]
[]
[null,2,null,"INFORMACIÓN DE ANTENAS",null,"FO-DRE-02"]
[]
[null,3,null,"PATRONES DE RADIACIÓN DE ANTENAS",null,"FO-DRE-03"]
[]
[null,4,null,"INFORMACIÓN DE EQUIPAMIENTO",null,"FO-DRE-04"]
[]
[null,5,null,"SISTEMAS TRONCALIZADOS",null,"FO-DRE-12"]
[]
[null,6,null," CALCULOS DE PROPAGACION",null,"FO-DRE-15"]
[]
[null,7,null,"ESTUDIO TÉCNICO DE EMISIONES DE RNI",null,"FO-DRE-16"]

{"sheet":"RC-1A","index":1,"n_rows":65,"n_cols":6,"rows_kept":65,"cut":false,"hidden":true,"merged":[[22,1,22,5],[23,1,23,5],[50,2,50,5],[51,2,51,5],[32,2,32,5],[34,2,34,5],[49,2,49,5],[39,2,39,5],[40,2,40,5],[30,2,30,5],[31,2,31,5],[33,2,33,5],[35,2,35,5],[15,2,15,4],[1,1,3,3],[62,1,62,5],[52,2,52,5],[55,1,55,5],[41,2,41,5],[45,2,45,5],[46,2,46,5],[47,2,47,5],[58,1,58,5],[59,1,59,5],[60,1,60,5],[61,2,61,5],[5,1,5,5],[48,2,48,5],[13,1,13,5]]}
[]
[null,"SOLICITUD PARA LA OBTENCIÓN DEL TÍTULO HABILITANTE PARA LA OPERACIÓN DE FRECUENCIAS DEL ESPECTRO RADIOELÉCTRICO"]
[]
[]
[]
[]
[]
[null,null,null,"Fecha:"]
[]
[null,"Señor(a)\nDIRECTOR(A) EJECUTIVO(A)\nARCOTEL\nPresente.-"]
[]
[null,"De mi consideración:",null,"SI"]
[null,null,null,"NO"]
[null,"Por medio del presente, me permito solicitarle el otorgamiento del título habilitante para la operación de Frecuencias Del Espectro Radioeléctrico, en tal virtud, adjunto sírvase encontrar el Proyecto Técnico, Estudio de Sostenibilidad Económica y demás requisitos legales establecidos en el Reglamento para Otorgar Títulos Habilitantes para Servicios del Régimen General de Telecomunicaciones y Frecuencias del Espectro Radioeléctrico, Reglamento para la Prestación de Servicios de Telecomunicaciones y Servicios de Radiodifusión por Suscripción."]
[]
[null,"SERVICIO DE RADIOCOMUNICACION:","Sistemas de radios de dos vías HF, VHF y UHF "]
[]
[null,"Uso de frecuencias esenciales:",null,"Uso de frecuencias no esenciales:"]
[]
[]
[null,"1. DATOS GENERALES DEL PETICIONARIO(A)",null,"PERSONA NATURAL O JURÍDICA DE DERECHO PRIVADO"]
[null,null,null,"EMPRESA PÚBLICA O INSTUCIÓN DEL SECTOR PÚBLICO"]
[null,"TIPO DE SOLICITANTE:"]
[null,"EMPRESA PÚBLICA O INSTUCIÓN DEL SECTOR PÚBLICO"]
[]
[null,"OBJETO DE LA SOLICITUD:",null,"ASOCIADA A:",null," TIPO DE RED:"]
[]
[]
[null,"1.1. DATOS GENERALES PERSONA NATURAL O REPRESENTANTE  LEGAL"]
[]
[null,"NOMBRES "]
[null,"APELLIDOS "]
[null,"CEDULA DE CIUDADANÍA /PASAPORTE"]
[null,"R.U.C."]
[null,"Nro. CERTIFICADO DE VOTACIÓN"]
[null,"CARGO"]
[]
[null,"1.2. DATOS GENERALES PERSONA JURÍDICA"]
[]
[null,"RAZÓN SOCIAL O DENOMINACIÓN OBJETIVA"]
[null,"ACTIVIDAD DE LA EMPRESA"]
[null,"R.U.C."]
[]
[null,"2. DIRECCIÓN DE CORRESPONDENCIA DEL PETICIONARIO(A)"]
[]
[null,"PROVINCIA"]
[null,"CANTÓN"]
[null,"PARROQUIA"]
[null,"DIRECCIÓN"]
[null,"CÓDIGO POSTAL"]
[null,"TELÉFONOS FIJO"]
[null,"TELÉFONOS CELULAR"]
[null,"CORREO ELECTRÓNICO"]
[]
[]
[null,"\n________________________________________________________\nFIRMA DEL PETICIONARIO(A) O REPRESENTANTE LEGAL"]
[null,null,null,"SI"]
[null,null,null,"NO"]
[null,"INFORMACIÓN DEL PROFESIONAL TÉCNICO RESPONSABLE DEL PROYECTO TÉCNICO"]
[null,"NOMBRE DEL PROFESIONAL"]
[]
[null,"NÚMERO DE REGISTO EN LA SENESCYT"]
[null,"Nota: El Proyecto Técnico deberá elaborar un ingeniero en Electrónica y/o Telecomunicaciones"]
[null,"Codigo :FO-RC-1A"]
[null,"Versión: 01"]

{"sheet":"FO-DRE-01","index":2,"n_rows":116,"n_cols":21,"rows_kept":116,"cut":false,"hidden":false,"merged":[[3,19,5,19],[2,15,2,16],[3,20,5,20],[0,18,1,20],[3,18,5,18],[3,0,5,0],[3,1,5,1],[3,2,5,2],[3,3,5,3],[0,0,1,1],[0,2,1,17],[3,4,5,4],[3,6,5,6],[4,11,4,14],[4,7,4,10],[3,7,3,14],[3,15,4,16],[3,17,5,17],[2,7,2,14],[3,5,5,5]]}
["Código: FO-DRE-01\nVersión: 01 ",null,"FORMULARIO PARA INFORMACION DE LA INFRAESTRUCTURA DEL SISTEMA DE RADIOCOMUNICACIONES"]
[]
[1,2,3,4,5,6,7,8,null,null,null,null,null,null,null,9,null,10,11,12,13]
[" CODIGO ESTRUCTURA","NOMBRE DEL SITIO","PROVINCIA","CANTÓN","CIUDAD","PARROQUIA (RURAL/CABECERA CANTONAL)","DIRECCIÓN ( Calle y No.)  /\nLOCALIDAD","COORDENADAS WGS84",null,null,null,null,null,null,null,"ALTURA DE LA ESTRUCTURA",null,"TIPO DE ESTRUCTURA DE SOPORTE","FUENTE DE \nENERGIA","ESTRUCTURA\nNUEVA / EXISTENTE","PROPIETARIO DE LA ESTRUCTURA"]
[null,null,null,null,null,null,null,"LATITUD",null,null,null,"LONGITUD"]
[null,null,null,null,null,null,null,"GRADOS","MINUTOS","SEGUNDOS","N/S","GRADOS","MINUTOS","SEGUNDOS","W","S.N.M.\n[m]","BASE-CIMA\n[m]"]
["S1","NUEVA ESPERANZA","ORELLANA","ORELLANA","NUEVA ESPERANZA","TARACOA (CAB EN NUEVA ESPERANZA:YUCA)","NUEVA ESPERANZA",0,29,11.83,"S",76,46,20.85,"W",252,12,"TORRE NO AUTOSOPORTADA",null,"NO","USUARIO"]
["S2","NUEVA ESPERANZA","ORELLANA","ORELLANA","NUEVA ESPERANZA","TARACOA (CAB EN NUEVA ESPERANZA:YUCA)","NUEVA ESPERANZA",0,29,11.83,"S",76,46,20.85,"W",252,20,"TORRE NO AUTOSOPORTADA",null,"NO","USUARIO"]
["S3","NUEVA ESPERANZA","ORELLANA","ORELLANA","NUEVA ESPERANZA","TARACOA (CAB EN NUEVA ESPERANZA:YUCA)","NUEVA ESPERANZA",0,29,11.83,"S",76,46,20.85,"W",252,12,"TORRE NO AUTOSOPORTADA",null,"NO","USUARIO"]
[null,null,null,null,null,null,null,null,null,null,null,null,null,null,"W"]
[null,null,null,null,null,null,null,null,null,null,null,null,null,null,"W"]
[null,null,null,null,null,null,null,null,null,null,null,null,null,null,"W"]
[null,null,null,null,null,null,null,null,null,null,null,null,null,null,"W"]
[null,null,null,null,null,null,null,null,null,null,null,null,null,null,"W"]
[null,null,null,null,null,null,null,null,null,null,null,null,null,null,"W"]
[null,null,null,null,null,null,null,null,null,null,null,null,null,null,"W"]
[null,null,null,null,null,null,null,null,null,null,null,null,null,null,"W"]
[null,null,null,null,null,null,null,null,null,null,null,null,null,null,"W"]
[null,null,null,null,null,null,null,null,null,null,null,null,null,null,"W"]
[null,null,null,null,null,null,null,null,null,null,null,null,null,null,"W"]
[null,null,null,null,null,null,null,null,null,null,null,null,null,null,"W"]
[null,null,null,null,null,null,null,null,null,null,null,null,null,null,"W"]
[null,null,null,null,null,null,null,null,null,null,null,null,null,null,"W"]
[null,null,null,null,null,null,null,null,null,null,null,null,null,null,"W"]
[null,null,null,null,null,null,null,null,null,null,null,null,null,null,"W"]
[null,null,null,null,null,null,null,null,null,null,null,null,null,null,"W"]
[null,null,null,null,null,null,null,null,null,null,null,null,null,null,"W"]
[null,null,null,null,null,null,null,null,null,null,null,null,null,null,"W"]
[null,null,null,null,null,null,null,null,null,null,null,null,null,null,"W"]
[null,null,null,null,null,null,null,null,null,null,null,null,null,null,"W"]
[null,null,null,null,null,null,null,null,null,null,null,null,null,null,"W"]
[null,null,null,null,null,null,null,null,null,null,null,null,null,null,"W"]
[null,null,null,null,null,null,null,null,null,null,null,null,null,null,"W"]
[null,null,null,null,null,null,null,null,null,null,null,null,null,null,"W"]
[null,null,null,null,null,null,null,null,null,null,null,null,null,null,"W"]
[null,null,null,null,null,null,null,null,null,null,null,null,null,null,"W"]
[null,null,null,null,null,null,null,null,null,null,null,null,null,null,"W"]
[null,null,null,null,null,null,null,null,null,null,null,null,null,null,"W"]
[null,null,null,null,null,null,null,null,null,null,null,null,null,null,"W"]
[null,null,null,null,null,null,null,null,null,null,null,null,null,null,"W"]
[null,null,null,null,null,null,null,null,null,null,null,null,null,null,"W"]
[null,null,null,null,null,null,null,null,null,null,null,null,null,null,"W"]
[null,null,null,null,null,null,null,null,null,null,null,null,null,null,"W"]
[null,null,null,null,null,null,null,null,null,null,null,null,null,null,"W"]
[null,null,null,null,null,null,null,null,null,null,null,null,null,null,"W"]
[null,null,null,null,null,null,null,null,null,null,null,null,null,null,"W"]
[null,null,null,null,null,null,null,null,null,null,null,null,null,null,"W"]
[null,null,null,null,null,null,null,null,null,null,null,null,null,null,"W"]
[null,null,null,null,null,null,null,null,null,null,null,null,null,null,"W"]
[null,null,null,null,null,null,null,null,null,null,null,null,null,null,"W"]
[null,null,null,null,null,null,null,null,null,null,null,null,null,null,"W"]
[null,null,null,null,null,null,null,null,null,null,null,null,null,null,"W"]
[null,null,null,null,null,null,null,null,null,null,null,null,null,null,"W"]
[null,null,null,null,null,null,null,null,null,null,null,null,null,null,"W"]
[null,null,null,null,null,null,null,null,null,null,null,null,null,null,"W"]
[null,null,null,null,null,null,null,null,null,null,null,null,null,null,"W"]
[null,null,null,null,null,null,null,null,null,null,null,null,null,null,"W"]
[null,null,null,null,null,null,null,null,null,null,null,null,null,null,"W"]
[null,null,null,null,null,null,null,null,null,null,null,null,null,null,"W"]
[null,null,null,null,null,null,null,null,null,null,null,null,null,null,"W"]
[null,null,null,null,null,null,null,null,null,null,null,null,null,null,"W"]
[null,null,null,null,null,null,null,null,null,null,null,null,null,null,"W"]
[null,null,null,null,null,null,null,null,null,null,null,null,null,null,"W"]
[null,null,null,null,null,null,null,null,null,null,null,null,null,null,"W"]
[null,null,null,null,null,null,null,null,null,null,null,null,null,null,"W"]
[null,null,null,null,null,null,null,null,null,null,null,null,null,null,"W"]
[null,null,null,null,null,null,null,null,null,null,null,null,null,null,"W"]
[null,null,null,null,null,null,null,null,null,null,null,null,null,null,"W"]
[null,null,null,null,null,null,null,null,null,null,null,null,null,null,"W"]
[null,null,null,null,null,null,null,null,null,null,null,null,null,null,"W"]
[null,null,null,null,null,null,null,null,null,null,null,null,null,null,"W"]
[null,null,null,null,null,null,null,null,null,null,null,null,null,null,"W"]
[null,null,null,null,null,null,null,null,null,null,null,null,null,null,"W"]
[null,null,null,null,null,null,null,null,null,null,null,null,null,null,"W"]
[null,null,null,null,null,null,null,null,null,null,null,null,null,null,"W"]
[null,null,null,null,null,null,null,null,null,null,null,null,null,null,"W"]
[null,null,null,null,null,null,null,null,null,null,null,null,null,null,"W"]
[null,null,null,null,null,null,null,null,null,null,null,null,null,null,"W"]
[null,null,null,null,null,null,null,null,null,null,null,null,null,null,"W"]
[null,null,null,null,null,null,null,null,null,null,null,null,null,null,"W"]
[null,null,null,null,null,null,null,null,null,null,null,null,null,null,"W"]
[null,null,null,null,null,null,null,null,null,null,null,null,null,null,"W"]
[null,null,null,null,null,null,null,null,null,null,null,null,null,null,"W"]
[null,null,null,null,null,null,null,null,null,null,null,null,null,null,"W"]
[null,null,null,null,null,null,null,null,null,null,null,null,null,null,"W"]
[null,null,null,null,null,null,null,null,null,null,null,null,null,null,"W"]
[null,null,null,null,null,null,null,null,null,null,null,null,null,null,"W"]
[null,null,null,null,null,null,null,null,null,null,null,null,null,null,"W"]
[null,null,null,null,null,null,null,null,null,null,null,null,null,null,"W"]
[null,null,null,null,null,null,null,null,null,null,null,null,null,null,"W"]
[null,null,null,null,null,null,null,null,null,null,null,null,null,null,"W"]
[null,null,null,null,null,null,null,null,null,null,null,null,null,null,"W"]
[null,null,null,null,null,null,null,null,null,null,null,null,null,null,"W"]
[null,null,null,null,null,null,null,null,null,null,null,null,null,null,"W"]
[null,null,null,null,null,null,null,null,null,null,null,null,null,null,"W"]
[null,null,null,null,null,null,null,null,null,null,null,null,null,null,"W"]
[null,null,null,null,null,null,null,null,null,null,null,null,null,null,"W"]
[null,null,null,null,null,null,null,null,null,null,null,null,null,null,"W"]
[null,null,null,null,null,null,null,null,null,null,null,null,null,null,"W"]
[null,null,null,null,null,null,null,null,null,null,null,null,null,null,"W"]
[null,null,null,null,null,null,null,null,null,null,null,null,null,null,"W"]
[null,null,null,null,null,null,null,null,null,null,null,null,null,null,"W"]
[null,null,null,null,null,null,null,null,null,null,null,null,null,null,"W"]
[null,null,null,null,null,null,null,null,null,null,null,null,null,null,"W"]
[null,null,null,null,null,null,null,null,null,null,null,null,null,null,"W"]
[null,null,null,null,null,null,null,null,null,null,null,null,null,null,"W"]
[null,null,null,null,null,null,null,null,null,null,null,null,null,null,"W"]
[null,null,null,null,null,null,null,null,null,null,null,null,null,null,"W"]
[null,null,null,null,null,null,null,null,null,null,null,null,null,null,"W"]
[null,null,null,null,null,null,null,null,null,null,null,null,null,null,"W"]
[null,null,null,null,null,null,null,null,null,null,null,null,null,null,"W"]
[null,null,null,null,null,null,null,null,null,null,null,null,null,null,"W"]
[null,null,null,null,null,null,null,null,null,null,null,null,null,null,"W"]
[null,null,null,null,null,null,null,null,null,null,null,null,null,null,"W"]
[null,null,null,null,null,null,null,null,null,null,null,null,null,null,"W"]
[null,null,null,null,null,null,null,null,null,null,null,null,null,null,"W"]

{"sheet":"FO-DRE-02","index":3,"n_rows":8,"n_cols":13,"rows_kept":8,"cut":false,"hidden":false,"merged":[[0,2,1,9],[3,10,4,10],[3,11,4,11],[3,12,4,12],[0,0,1,1],[3,7,4,7],[3,9,4,9],[3,0,4,0],[3,1,4,1],[3,2,4,2],[3,5,4,5],[3,8,4,8],[3,3,3,4],[2,3,2,4],[3,6,4,6]]}
["Código: FO-DRE-02\nVersión: 01 ",null,"FORMULARIO PARA INFORMACION DE ANTENAS"]
[]
[1,2,3,4,null,5,6,7,8,9,10,11,12]
[" CODIGO DE ANTENA","MARCA","MODELO"," RANGO DE OPERACIÓN\n[MHz]",null," TIPO","POLARIZACION"," IMPEDANCIA [Ω]","GANANCIA\n[dBd]"," DIAMETRO\n [m]","AZIMUT DE RADIACION MAXIMA (°)","ANGULO DE ELEVACION (°)","ALTURA BASE-ANTENA (m)"]
[null,null,null,"FREC. INICIAL","FREC. FINAL"]
["A1","SINCLAIR","SC-488",806,869,"4-DIPOLOS","HORIZONTAL",50,10,null,12,3,5]
["A2","SINCLAIR","SC-488",806,869,"4-DIPOLOS","HORIZONTAL",50,6,null,12,3,12]
["A3","SINCLAIR","SC-488",806,869,"4-DIPOLOS","HORIZONTAL",50,10,null,12,3,5]

{"sheet":"FO-DRE-03","index":4,"n_rows":149,"n_cols":53,"rows_kept":149,"cut":false,"hidden":false,"merged":[[1,1,4,5],[5,1,5,26],[1,6,4,20],[6,1,6,26],[7,1,7,2],[7,3,7,8],[7,9,7,10],[7,11,7,17],[7,18,7,19],[7,20,7,26],[1,21,4,26],[8,1,8,26],[9,7,10,7],[9,8,10,8],[9,9,10,9],[9,10,10,10],[9,23,10,23],[9,24,10,24],[9,25,10,25],[9,26,10,26],[14,1,31,13],[14,14,31,26],[32,1,32,26],[11,1,11,2],[9,17,10,17],[9,18,10,18],[9,19,10,19],[9,20,10,20],[9,21,10,21],[9,22,10,22],[9,11,10,11],[9,12,10,12],[9,13,10,13],[9,14,10,14],[9,15,10,15],[9,16,10,16],[9,1,10,2],[9,3,10,3],[9,4,10,4],[9,5,10,5],[9,6,10,6],[12,1,12,2],[13,1,13,13],[13,14,13,26],[36,5,37,5],[36,6,37,6],[36,7,37,7],[36,8,37,8],[36,9,37,9],[36,10,37,10],[33,1,33,26],[34,1,34,2],[34,3,34,8],[34,9,34,10],[34,11,34,17],[34,18,34,19],[34,20,34,26],[8,27,8,52],[9,27,10,28],[9,29,10,29],[36,23,37,23],[36,24,37,24],[36,25,37,25],[36,26,37,26],[38,1,38,2],[36,17,37,17],[36,18,37,18],[36,19,37,19],[36,20,37,20],[36,21,37,21],[36,22,37,22],[36,11,37,11],[36,12,37,12],[36,13,37,13],[36,14,37,14],[36,15,37,15],[36,16,37,16],[35,1,35,26],[36,1,37,2],[36,3,37,3],[36,4,37,4],[5,53,6,53],[6,27,6,52],[7,27,7,28],[7,29,7,34],[7,35,7,36],[7,37,7,43],[7,44,7,45],[7,46,7,52],[1,27,4,31],[5,27,5,52],[1,32,4,46],[1,47,4,52],[9,53,10,53],[9,42,10,42],[9,43,10,43],[9,44,10,44],[9,45,10,45],[9,46,10,46],[9,47,10,47],[9,36,10,36],[9,37,10,37],[9,38,10,38],[9,39,10,39],[9,40,10,40],[9,41,10,41],[11,27,11,28],[12,27,12,28],[13,27,13,39],[13,40,13,52],[14,27,31,39],[14,40,31,52],[9,48,10,48],[9,49,10,49],[9,50,10,50],[9,51,10,51],[9,52,10,52],[9,30,10,30],[9,31,10,31],[9,32,10,32],[9,33,10,33],[9,34,10,34],[9,35,10,35],[32,27,32,52],[32,53,33,53],[33,27,33,52],[34,27,34,28],[34,29,34,34],[34,35,34,36],[34,37,34,43],[34,44,34,45],[34,46,34,52],[35,27,35,52],[36,27,37,28],[36,29,37,29],[36,30,37,30],[36,31,37,31],[36,32,37,32],[36,33,37,33],[36,34,37,34],[36,35,37,35],[36,36,37,36],[36,49,37,49],[36,50,37,50],[36,51,37,51],[36,52,37,52],[36,53,37,53],[38,27,38,28],[36,43,37,43],[36,44,37,44],[36,45,37,45],[36,46,37,46],[36,47,37,47],[36,48,37,48],[36,37,37,37],[36,38,37,38],[36,39,37,39],[36,40,37,40],[36,41,37,41],[36,42,37,42],[39,27,39,28],[40,27,40,39],[40,40,40,52],[41,27,58,39],[41,40,58,52],[59,1,59,26],[59,27,59,52],[60,1,60,26],[60,27,60,52],[39,1,39,2],[40,1,40,13],[40,14,40,26],[41,1,58,13],[41,14,58,26],[61,27,61,28],[61,29,61,34],[61,35,61,36],[61,37,61,43],[61,44,61,45],[61,46,61,52],[61,1,61,2],[61,3,61,8],[61,9,61,10],[61,11,61,17],[61,18,61,19],[61,20,61,26],[63,10,64,10],[63,11,64,11],[63,12,64,12],[63,13,64,13],[63,14,64,14],[63,15,64,15],[62,1,62,26],[62,27,62,52],[63,1,64,2],[63,3,64,3],[63,4,64,4],[63,5,64,5],[63,6,64,6],[63,7,64,7],[63,8,64,8],[63,9,64,9],[63,22,64,22],[63,23,64,23],[63,24,64,24],[63,25,64,25],[63,26,64,26],[63,16,64,16],[63,17,64,17],[63,41,64,41],[63,42,64,42],[63,43,64,43],[63,44,64,44],[63,45,64,45],[63,34,64,34],[63,35,64,35],[63,36,64,36],[63,18,64,18],[63,19,64,19],[63,20,64,20],[63,21,64,21],[63,37,64,37],[63,38,64,38],[63,39,64,39],[63,27,64,28],[63,29,64,29],[63,30,64,30],[63,31,64,31],[63,32,64,32],[63,33,64,33],[68,1,85,13],[68,14,85,26],[68,27,85,39],[68,40,85,52],[86,1,86,26],[86,27,86,52],[87,1,87,26],[87,27,87,52],[63,52,64,52],[65,1,65,2],[65,27,65,28],[66,1,66,2],[66,27,66,28],[67,1,67,13],[67,14,67,26],[67,27,67,39],[67,40,67,52],[63,46,64,46],[63,47,64,47],[63,48,64,48],[63,49,64,49],[63,50,64,50],[63,51,64,51],[63,40,64,40],[88,27,88,28],[88,29,88,34],[88,35,88,36],[88,37,88,43],[88,44,88,45],[88,46,88,52],[88,1,88,2],[88,3,88,8],[88,9,88,10],[88,11,88,17],[88,18,88,19],[88,20,88,26],[90,10,91,10],[90,11,91,11],[90,12,91,12],[90,13,91,13],[90,14,91,14],[90,15,91,15],[89,1,89,26],[89,27,89,52],[90,1,91,2],[90,3,91,3],[90,4,91,4],[90,5,91,5],[90,6,91,6],[90,7,91,7],[90,8,91,8],[90,9,91,9],[90,22,91,22],[90,23,91,23],[90,24,91,24],[90,25,91,25],[90,26,91,26],[90,16,91,16],[90,17,91,17],[90,41,91,41],[90,42,91,42],[90,43,91,43],[90,44,91,44],[90,45,91,45],[90,34,91,34],[90,35,91,35],[90,36,91,36],[90,18,91,18],[90,19,91,19],[90,20,91,20],[90,21,91,21],[90,37,91,37],[90,38,91,38],[90,39,91,39],[90,27,91,28],[90,29,91,29],[90,30,91,30],[90,31,91,31],[90,32,91,32],[90,33,91,33],[95,1,112,13],[95,14,112,26],[95,27,112,39],[95,40,112,52],[113,1,113,26],[113,27,113,52],[114,1,114,26],[114,27,114,52],[90,52,91,52],[92,1,92,2],[92,27,92,28],[93,1,93,2],[93,27,93,28],[94,1,94,13],[94,14,94,26],[94,27,94,39],[94,40,94,52],[90,46,91,46],[90,47,91,47],[90,48,91,48],[90,49,91,49],[90,50,91,50],[90,51,91,51],[90,40,91,40],[115,27,115,28],[115,29,115,34],[115,35,115,36],[115,37,115,43],[115,44,115,45],[115,46,115,52],[115,1,115,2],[115,3,115,8],[115,9,115,10],[115,11,115,17],[115,18,115,19],[115,20,115,26],[117,10,118,10],[117,11,118,11],[117,12,118,12],[117,13,118,13],[117,14,118,14],[117,15,118,15],[116,1,116,26],[116,27,116,52],[117,1,118,2],[117,3,118,3],[117,4,118,4],[117,5,118,5],[117,6,118,6],[117,7,118,7],[117,8,118,8],[117,9,118,9],[117,22,118,22],[117,23,118,23],[117,24,118,24],[117,25,118,25],[117,26,118,26],[117,16,118,16],[117,17,118,17],[117,41,118,41],[117,42,118,42],[117,43,118,43],[117,44,118,44],[117,45,118,45],[117,34,118,34],[117,35,118,35],[117,36,118,36],[117,18,118,18],[117,19,118,19],[117,20,118,20],[117,21,118,21],[117,37,118,37],[117,38,118,38],[117,39,118,39],[117,27,118,28],[117,29,118,29],[117,30,118,30],[117,31,118,31],[117,32,118,32],[117,33,118,33],[122,1,139,13],[122,14,139,26],[122,27,139,39],[122,40,139,52],[140,1,140,26],[140,27,140,52],[141,1,141,26],[141,27,141,52],[117,52,118,52],[119,1,119,2],[119,27,119,28],[120,1,120,2],[120,27,120,28],[121,1,121,13],[121,14,121,26],[121,27,121,39],[121,40,121,52],[117,46,118,46],[117,47,118,47],[117,48,118,48],[117,49,118,49],[117,50,118,50],[117,51,118,51],[117,40,118,40],[142,27,142,28],[142,29,142,34],[142,35,142,36],[142,37,142,43],[142,44,142,45],[142,46,142,52],[142,1,142,2],[142,3,142,8],[142,9,142,10],[142,11,142,17],[142,18,142,19],[142,20,142,26],[144,10,145,10],[144,11,145,11],[144,12,145,12],[144,13,145,13],[144,14,145,14],[144,15,145,15],[143,1,143,26],[143,27,143,52],[144,1,145,2],[144,3,145,3],[144,4,145,4],[144,5,145,5],[144,6,145,6],[144,7,145,7],[144,8,145,8],[144,9,145,9],[144,22,145,22],[144,23,145,23],[144,24,145,24],[144,25,145,25],[144,26,145,26],[144,16,145,16],[144,17,145,17],[144,18,145,18],[144,19,145,19],[144,20,145,20],[144,21,145,21],[144,45,145,45],[144,34,145,34],[144,35,145,35],[144,36,145,36],[144,37,145,37],[144,38,145,38],[144,39,145,39],[144,27,145,28],[144,29,145,29],[144,30,145,30],[144,31,145,31],[144,32,145,32],[144,33,145,33],[149,1,166,13],[149,14,166,26],[149,27,166,39],[149,40,166,52],[144,52,145,52],[146,1,146,2],[146,27,146,28],[147,1,147,2],[147,27,147,28],[148,1,148,13],[148,14,148,26],[148,27,148,39],[148,40,148,52],[144,46,145,46],[144,47,145,47],[144,48,145,48],[144,49,145,49],[144,50,145,50],[144,51,145,51],[144,40,145,40],[144,41,145,41],[144,42,145,42],[144,43,145,43],[144,44,145,44]]}
[]
[null,"Código: FO-DRE-03\nVersión: 01 ",null,null,null,null,"FORMULARIO PARA PATRONES DE RADIACION DE ANTENAS",null,null,null,null,null,null,null,null,null,null,null,null,null,null,null,null,null,null,null,null,"Código: FO-DRE-03\nVersión: 01 ",null,null,null,null,"FORMULARIO PARA PATRONES DE RADIACION DE ANTENAS"]
[]
[]
[]
[null,1,null,null,null,null,null,null,null,null,null,null,null,null,null,null,null,null,null,null,null,null,null,null,null,null,null,1]
[null,"  PATRONES DE RADIACION DE ANTENA",null,null,null,null,null,null,null,null,null,null,null,null,null,null,null,null,null,null,null,null,null,null,null,null,null,"  PATRONES DE RADIACION DE ANTENA"]
[null,"MARCA:",null,{"$f":"'FO-DRE-02'!B6","v":"SINCLAIR"},null,null,null,null,null,"MODELO:",null,{"$f":"'FO-DRE-02'!C6","v":"SC-488"},null,null,null,null,null,null,"TIPO:",null,{"$f":"'FO-DRE-02'!F6","v":"4-DIPOLOS"},null,null,null,null,null,null,"MARCA:",null,{"$f":"'FO-DRE-02'!B7","v":"SINCLAIR"},null,null,null,null,null,"MODELO:",null,{"$f":"'FO-DRE-02'!C7","v":"SC-488"},null,null,null,null,null,null,"TIPO:",null,{"$f":"'FO-DRE-02'!F6","v":"4-DIPOLOS"}]
[null,"     Ingrese los valores de ganancia ( dBd ) para cada radial.",null,null,null,null,null,null,null,null,null,null,null,null,null,null,null,null,null,null,null,null,null,null,null,null,null,"     Ingrese los valores de ganancia ( dBd ) para cada radial."]
[null,"   RADIAL\n\n\nPLANO",null,"0°","15°","30°","45°","60°","75°","90°","105°","120°","135°","150°","165°","180°","195°","210°","225°","240°","255°","270°","285°","300°","315°","330°","345°","   RADIAL\n\n\nPLANO",null,"0°","15°","30°","45°","60°","75°","90°","105°","120°","135°","150°","165°","180°","195°","210°","225°","240°","255°","270°","285°","300°","315°","330°","345°"]
[]
[null,"HORIZONTAL",null,12,11,10.5,10.3,10,9,8.5,7,6.5,5.2,5,5,5,5,5,5.2,6.5,7,8.5,9,10,10.3,10.5,11,"HORIZONTAL"]
[null,"VERTICAL",null,12,0,-12,-24,-12,-18,-25,-18,-24,-12,-12,0,12,0,-12,-12,-24,-18,-25,-18,-12,-24,-12,0,"VERTICAL"]
[null,"PATRON DE RADIACION HORIZONTAL",null,null,null,null,null,null,null,null,null,null,null,null,"PATRON DE RADIACION VERTICAL",null,null,null,null,null,null,null,null,null,null,null,null,"PATRON DE RADIACION HORIZONTAL",null,null,null,null,null,null,null,null,null,null,null,null,"PATRON DE RADIACION VERTICAL"]
[]
[]
[]
[]
[]
[]
[]
[]
[]
[]
[]
[]
[]
[]
[]
[]
[]
[]
[null,1,null,null,null,null,null,null,null,null,null,null,null,null,null,null,null,null,null,null,null,null,null,null,null,null,null,1]
[null,"  PATRONES DE RADIACION DE ANTENA",null,null,null,null,null,null,null,null,null,null,null,null,null,null,null,null,null,null,null,null,null,null,null,null,null,"  PATRONES DE RADIACION DE ANTENA"]
[null,"MARCA:",null,null,null,null,null,null,null,"MODELO:",null,null,null,null,null,null,null,null,"TIPO:",null,null,null,null,null,null,null,null,"MARCA:",null,null,null,null,null,null,null,"MODELO:",null,null,null,null,null,null,null,null,"TIPO:"]
[null,"     Ingrese los valores de ganancia ( dBd ) para cada radial.",null,null,null,null,null,null,null,null,null,null,null,null,null,null,null,null,null,null,null,null,null,null,null,null,null,"     Ingrese los valores de ganancia ( dBd ) para cada radial."]
[null,"   RADIAL\n\n\nPLANO",null,"0°","15°","30°","45°","60°","75°","90°","105°","120°","135°","150°","165°","180°","195°","210°","225°","240°","255°","270°","285°","300°","315°","330°","345°","   RADIAL\n\n\nPLANO",null,"0°","15°","30°","45°","60°","75°","90°","105°","120°","135°","150°","165°","180°","195°","210°","225°","240°","255°","270°","285°","300°","315°","330°","345°"]
[]
[null,"HORIZONTAL",null,null,null,null,null,null,null,null,null,null,null,null,null,null,null,null,null,null,null,null,null,null,null,null,null,"HORIZONTAL"]
[null,"VERTICAL",null,null,null,null,null,null,null,null,null,null,null,null,null,null,null,null,null,null,null,null,null,null,null,null,null,"VERTICAL"]
[null,"PATRON DE RADIACION HORIZONTAL",null,null,null,null,null,null,null,null,null,null,null,null,"PATRON DE RADIACION VERTICAL",null,null,null,null,null,null,null,null,null,null,null,null,"PATRON DE RADIACION HORIZONTAL",null,null,null,null,null,null,null,null,null,null,null,null,"PATRON DE RADIACION VERTICAL"]
[]
[]
[]
[]
[]
[]
[]
[]
[]
[]
[]
[]
[]
[]
[]
[]
[]
[]
[null,1,null,null,null,null,null,null,null,null,null,null,null,null,null,null,null,null,null,null,null,null,null,null,null,null,null,1]
[null,"  PATRONES DE RADIACION DE ANTENA",null,null,null,null,null,null,null,null,null,null,null,null,null,null,null,null,null,null,null,null,null,null,null,null,null,"  PATRONES DE RADIACION DE ANTENA"]
[null,"MARCA:",null,null,null,null,null,null,null,"MODELO:",null,null,null,null,null,null,null,null,"TIPO:",null,null,null,null,null,null,null,null,"MARCA:",null,null,null,null,null,null,null,"MODELO:",null,null,null,null,null,null,null,null,"TIPO:"]
[null,"     Ingrese los valores de ganancia ( dBd ) para cada radial.",null,null,null,null,null,null,null,null,null,null,null,null,null,null,null,null,null,null,null,null,null,null,null,null,null,"     Ingrese los valores de ganancia ( dBd ) para cada radial."]
[null,"   RADIAL\n\n\nPLANO",null,"0°","15°","30°","45°","60°","75°","90°","105°","120°","135°","150°","165°","180°","195°","210°","225°","240°","255°","270°","285°","300°","315°","330°","345°","   RADIAL\n\n\nPLANO",null,"0°","15°","30°","45°","60°","75°","90°","105°","120°","135°","150°","165°","180°","195°","210°","225°","240°","255°","270°","285°","300°","315°","330°","345°"]
[]
[null,"HORIZONTAL",null,null,null,null,null,null,null,null,null,null,null,null,null,null,null,null,null,null,null,null,null,null,null,null,null,"HORIZONTAL"]
[null,"VERTICAL",null,null,null,null,null,null,null,null,null,null,null,null,null,null,null,null,null,null,null,null,null,null,null,null,null,"VERTICAL"]
[null,"PATRON DE RADIACION HORIZONTAL",null,null,null,null,null,null,null,null,null,null,null,null,"PATRON DE RADIACION VERTICAL",null,null,null,null,null,null,null,null,null,null,null,null,"PATRON DE RADIACION HORIZONTAL",null,null,null,null,null,null,null,null,null,null,null,null,"PATRON DE RADIACION VERTICAL"]
[]
[]
[]
[]
[]
[]
[]
[]
[]
[]
[]
[]
[]
[]
[]
[]
[]
[]
[null,1,null,null,null,null,null,null,null,null,null,null,null,null,null,null,null,null,null,null,null,null,null,null,null,null,null,1]
[null,"  PATRONES DE RADIACION DE ANTENA",null,null,null,null,null,null,null,null,null,null,null,null,null,null,null,null,null,null,null,null,null,null,null,null,null,"  PATRONES DE RADIACION DE ANTENA"]
[null,"MARCA:",null,null,null,null,null,null,null,"MODELO:",null,null,null,null,null,null,null,null,"TIPO:",null,null,null,null,null,null,null,null,"MARCA:",null,null,null,null,null,null,null,"MODELO:",null,null,null,null,null,null,null,null,"TIPO:"]
[null,"     Ingrese los valores de ganancia ( dBd ) para cada radial.",null,null,null,null,null,null,null,null,null,null,null,null,null,null,null,null,null,null,null,null,null,null,null,null,null,"     Ingrese los valores de ganancia ( dBd ) para cada radial."]
[null,"   RADIAL\n\n\nPLANO",null,"0°","15°","30°","45°","60°","75°","90°","105°","120°","135°","150°","165°","180°","195°","210°","225°","240°","255°","270°","285°","300°","315°","330°","345°","   RADIAL\n\n\nPLANO",null,"0°","15°","30°","45°","60°","75°","90°","105°","120°","135°","150°","165°","180°","195°","210°","225°","240°","255°","270°","285°","300°","315°","330°","345°"]
[]
[null,"HORIZONTAL",null,null,null,null,null,null,null,null,null,null,null,null,null,null,null,null,null,null,null,null,null,null,null,null,null,"HORIZONTAL"]
[null,"VERTICAL",null,null,null,null,null,null,null,null,null,null,null,null,null,null,null,null,null,null,null,null,null,null,null,null,null,"VERTICAL"]
[null,"PATRON DE RADIACION HORIZONTAL",null,null,null,null,null,null,null,null,null,null,null,null,"PATRON DE RADIACION VERTICAL",null,null,null,null,null,null,null,null,null,null,null,null,"PATRON DE RADIACION HORIZONTAL",null,null,null,null,null,null,null,null,null,null,null,null,"PATRON DE RADIACION VERTICAL"]
[]
[]
[]
[]
[]
[]
[]
[]
[]
[]
[]
[]
[]
[]
[]
[]
[]
[]
[null,1,null,null,null,null,null,null,null,null,null,null,null,null,null,null,null,null,null,null,null,null,null,null,null,null,null,1]
[null,"  PATRONES DE RADIACION DE ANTENA",null,null,null,null,null,null,null,null,null,null,null,null,null,null,null,null,null,null,null,null,null,null,null,null,null,"  PATRONES DE RADIACION DE ANTENA"]
[null,"MARCA:",null,null,null,null,null,null,null,"MODELO:",null,null,null,null,null,null,null,null,"TIPO:",null,null,null,null,null,null,null,null,"MARCA:",null,null,null,null,null,null,null,"MODELO:",null,null,null,null,null,null,null,null,"TIPO:"]
[null,"     Ingrese los valores de ganancia ( dBd ) para cada radial.",null,null,null,null,null,null,null,null,null,null,null,null,null,null,null,null,null,null,null,null,null,null,null,null,null,"     Ingrese los valores de ganancia ( dBd ) para cada radial."]
[null,"   RADIAL\n\n\nPLANO",null,"0°","15°","30°","45°","60°","75°","90°","105°","120°","135°","150°","165°","180°","195°","210°","225°","240°","255°","270°","285°","300°","315°","330°","345°","   RADIAL\n\n\nPLANO",null,"0°","15°","30°","45°","60°","75°","90°","105°","120°","135°","150°","165°","180°","195°","210°","225°","240°","255°","270°","285°","300°","315°","330°","345°"]
[]
[null,"HORIZONTAL",null,null,null,null,null,null,null,null,null,null,null,null,null,null,null,null,null,null,null,null,null,null,null,null,null,"HORIZONTAL"]
[null,"VERTICAL",null,null,null,null,null,null,null,null,null,null,null,null,null,null,null,null,null,null,null,null,null,null,null,null,null,"VERTICAL"]
[null,"PATRON DE RADIACION HORIZONTAL",null,null,null,null,null,null,null,null,null,null,null,null,"PATRON DE RADIACION VERTICAL",null,null,null,null,null,null,null,null,null,null,null,null,"PATRON DE RADIACION HORIZONTAL",null,null,null,null,null,null,null,null,null,null,null,null,"PATRON DE RADIACION VERTICAL"]
[]
[]
[]
[]
[]
[]
[]
[]
[]
[]
[]
[]
[]
[]
[]
[]
[]
[]
[null,1,null,null,null,null,null,null,null,null,null,null,null,null,null,null,null,null,null,null,null,null,null,null,null,null,null,1]
[null,"  PATRONES DE RADIACION DE ANTENA",null,null,null,null,null,null,null,null,null,null,null,null,null,null,null,null,null,null,null,null,null,null,null,null,null,"  PATRONES DE RADIACION DE ANTENA"]
[null,"MARCA:",null,null,null,null,null,null,null,"MODELO:",null,null,null,null,null,null,null,null,"TIPO:",null,null,null,null,null,null,null,null,"MARCA:",null,null,null,null,null,null,null,"MODELO:",null,null,null,null,null,null,null,null,"TIPO:"]
[null,"     Ingrese los valores de ganancia ( dBd ) para cada radial.",null,null,null,null,null,null,null,null,null,null,null,null,null,null,null,null,null,null,null,null,null,null,null,null,null,"     Ingrese los valores de ganancia ( dBd ) para cada radial."]
[null,"   RADIAL\n\n\nPLANO",null,"0°","15°","30°","45°","60°","75°","90°","105°","120°","135°","150°","165°","180°","195°","210°","225°","240°","255°","270°","285°","300°","315°","330°","345°","   RADIAL\n\n\nPLANO",null,"0°","15°","30°","45°","60°","75°","90°","105°","120°","135°","150°","165°","180°","195°","210°","225°","240°","255°","270°","285°","300°","315°","330°","345°"]
[]
[null,"HORIZONTAL",null,null,null,null,null,null,null,null,null,null,null,null,null,null,null,null,null,null,null,null,null,null,null,null,null,"HORIZONTAL"]
[null,"VERTICAL",null,null,null,null,null,null,null,null,null,null,null,null,null,null,null,null,null,null,null,null,null,null,null,null,null,"VERTICAL"]
[null,"PATRON DE RADIACION HORIZONTAL",null,null,null,null,null,null,null,null,null,null,null,null,"PATRON DE RADIACION VERTICAL",null,null,null,null,null,null,null,null,null,null,null,null,"PATRON DE RADIACION HORIZONTAL",null,null,null,null,null,null,null,null,null,null,null,null,"PATRON DE RADIACION VERTICAL"]

{"sheet":"FO-DRE-04","index":5,"n_rows":100,"n_cols":12,"rows_kept":100,"cut":false,"hidden":false,"merged":[[3,10,4,10],[3,4,4,4],[3,7,3,8],[3,9,4,9],[0,2,1,8],[0,9,1,11],[3,5,3,6],[2,5,2,6],[2,7,2,8],[3,11,4,11],[0,0,1,1],[3,0,4,0],[3,1,4,1],[3,2,4,2],[3,3,4,3]]}
["Código: FO-DRE-04\nVersión: 01 ",null,"FORMULARIO PARA INFORMACION DE EQUIPOS"]
[]
[4,2,3,4,5,6,null,7,null,8,9,10]
["CODIGO DEL EQUIPO"," TIPO DE ESTACION"," MARCA"," MODELO","SEPARACION ENTRE Tx Y Rx\n[MHz]","POTENCIA MAXIMA DE SALIDA",null," RANGO DE FRECUENCIAS\n[MHz]",null," TIPO DE MODULACION","SENSIBILIDAD\n[dBm]"," MAXIMA DESVIACION DE FRECUENCIA [kHz]"]
[null,null,null,null,null,"[W]"," [dBm]","FREC. INICIAL","FREC. FINAL"]
["E1","REPETIDOR","KENWOOD","NXR-900",45,45,{"$f":"IF(F6=\"\",\"\",10*LOG10(F6*1000))","v":46.53212513775344},806,870,"BPSK",0.33,4.5]
["E2","REPETIDOR","MOTOROLA","MTR-2000",45,40,{"$f":"IF(F7=\"\",\"\",10*LOG10(F7*1000))","v":46.020599913279625},806,870,"PSK",0.25,4.5]
["E3","REPETIDOR","UNIDEN","MSR-804",45,75,48.750612633917001,806,870,"MSK",0.35,4.5]
[null,null,null,null,null,null,{"$f":"IF(F9=\"\",\"\",10*LOG10(F9*1000))","v":""}]
[null,null,null,null,null,null,{"$f":"IF(F10=\"\",\"\",10*LOG10(F10*1000))","v":""}]
[null,null,null,null,null,null,""]
[null,null,null,null,null,null,""]
[null,null,null,null,null,null,""]
[null,null,null,null,null,null,""]
[null,null,null,null,null,null,""]
[null,null,null,null,null,null,""]
[null,null,null,null,null,null,""]
[null,null,null,null,null,null,""]
[null,null,null,null,null,null,""]
[null,null,null,null,null,null,""]
[null,null,null,null,null,null,""]
[null,null,null,null,null,null,""]
[null,null,null,null,null,null,""]
[null,null,null,null,null,null,""]
[null,null,null,null,null,null,""]
[null,null,null,null,null,null,""]
[null,null,null,null,null,null,""]
[null,null,null,null,null,null,""]
[null,null,null,null,null,null,""]
[null,null,null,null,null,null,""]
[null,null,null,null,null,null,""]
[null,null,null,null,null,null,""]
[null,null,null,null,null,null,""]
[null,null,null,null,null,null,""]
[null,null,null,null,null,null,""]
[null,null,null,null,null,null,""]
[null,null,null,null,null,null,""]
[null,null,null,null,null,null,""]
[null,null,null,null,null,null,""]
[null,null,null,null,null,null,""]
[null,null,null,null,null,null,""]
[null,null,null,null,null,null,""]
[null,null,null,null,null,null,""]
[null,null,null,null,null,null,""]
[null,null,null,null,null,null,""]
[null,null,null,null,null,null,""]
[null,null,null,null,null,null,""]
[null,null,null,null,null,null,""]
[null,null,null,null,null,null,""]
[null,null,null,null,null,null,""]
[null,null,null,null,null,null,""]
[null,null,null,null,null,null,""]
[null,null,null,null,null,null,""]
[null,null,null,null,null,null,""]
[null,null,null,null,null,null,""]
[null,null,null,null,null,null,""]
[null,null,null,null,null,null,""]
[null,null,null,null,null,null,""]
[null,null,null,null,null,null,""]
[null,null,null,null,null,null,""]
[null,null,null,null,null,null,""]
[null,null,null,null,null,null,""]
[null,null,null,null,null,null,""]
[null,null,null,null,null,null,""]
[null,null,null,null,null,null,""]
[null,null,null,null,null,null,""]
[null,null,null,null,null,null,""]
[null,null,null,null,null,null,""]
[null,null,null,null,null,null,""]
[null,null,null,null,null,null,""]
[null,null,null,null,null,null,""]
[null,null,null,null,null,null,""]
[null,null,null,null,null,null,""]
[null,null,null,null,null,null,{"$f":"IF(F74=\"\",\"\",10*LOG10(F74*1000))","v":""}]
[null,null,null,null,null,null,""]
[null,null,null,null,null,null,""]
[null,null,null,null,null,null,""]
[null,null,null,null,null,null,""]
[null,null,null,null,null,null,""]
[null,null,null,null,null,null,""]
[null,null,null,null,null,null,""]
[null,null,null,null,null,null,""]
[null,null,null,null,null,null,""]
[null,null,null,null,null,null,""]
[null,null,null,null,null,null,""]
[null,null,null,null,null,null,""]
[null,null,null,null,null,null,""]
[null,null,null,null,null,null,""]
[null,null,null,null,null,null,""]
[null,null,null,null,null,null,""]
[null,null,null,null,null,null,""]
[null,null,null,null,null,null,""]
[null,null,null,null,null,null,""]
[null,null,null,null,null,null,""]
[null,null,null,null,null,null,""]
[null,null,null,null,null,null,""]
[null,null,null,null,null,null,""]
[null,null,null,null,null,null,""]
[null,null,null,null,null,null,""]
[null,null,null,null,null,null,""]

{"sheet":"FO-DRE-12","index":6,"n_rows":400,"n_cols":76,"rows_kept":400,"cut":false,"hidden":false,"merged":[[6,69,6,73],[7,69,7,73],[4,75,8,77],[6,44,6,45],[0,71,2,73],[3,71,3,73],[0,59,2,70],[3,59,3,60],[4,55,8,55],[3,61,3,70],[4,71,5,73],[7,44,7,45],[4,59,5,70],[4,58,7,58],[6,61,7,65],[4,41,5,51],[9,11,300,11],[7,8,8,8],[4,57,7,57],[4,56,8,56],[6,66,7,68],[6,59,7,60],[4,0,5,20],[7,51,8,51],[7,43,8,43],[7,46,8,46],[7,47,8,47],[7,48,8,48],[7,49,8,49],[7,50,8,50],[7,42,8,42],[7,25,8,25],[7,26,8,26],[7,27,8,27],[7,28,7,31],[7,32,7,35],[7,36,8,36],[7,37,8,37],[7,38,8,38],[7,39,8,39],[7,40,8,40],[7,41,8,41],[7,0,8,0],[7,1,8,1],[7,2,8,2],[7,3,8,3],[7,7,8,7],[7,4,8,4],[7,5,8,5],[7,6,8,6],[6,4,6,5],[6,28,6,35],[7,12,8,12],[7,13,8,13],[7,24,8,24],[7,14,8,14],[7,15,8,15],[7,16,8,16],[7,17,8,17],[7,18,8,18],[7,19,8,19],[7,20,8,20],[7,21,8,21],[7,22,8,22],[7,23,8,23],[7,11,8,11],[4,36,5,40],[4,21,5,35],[0,0,3,1],[0,21,3,35],[0,41,3,51],[0,36,3,40],[0,2,3,16]]}
["Código: FO-DRE-12\nVersión: 01 ",null,"FORMULARIO PARA SISTEMA TRONCALIZADOS",null,null,null,null,null,null,null,null,null,null,null,null,null,null,null,null,null,null,"FORMULARIO PARA INFORMACION DE LA INFRAESTRUCTURA DEL SISTEMA DE RADIOCOMUNICACIONES",null,null,null,null,null,null,null,null,null,null,null,null,null,null,"FORMULARIO PARA INFORMACION DE EQUIPOS",null,null,null,null,"FORMULARIO PARA INFORMACION DE ANTENAS",null,null,null,null,null,null,null,null,null,null,null,null,null,null,null,null,null,"FORMULARIO  PARA ESTUDIO  TECNICO DE EMISIONES DE RNI\n(CALCULO DE LA DISTANCIA DE SEGURIDAD)\nRESOLUCION 01-01-CONATEL-2005",null,null,null,null,null,null,null,null,null,null,null,"RC-15A\nElab: DRE\nVersión: 02"]
[]
[]
[null,null,null,null,null,null,null,null,null,null,null,null,null,null,null,null,null,null,null,null,null,null,null,null,null,null,null,null,null,null,null,null,null,null,null,null,null,null,null,null,null,null,null,null,null,null,null,null,null,null,null,null,null,null,null,null,null,null,null,"NOMBRE DE LA EMPRESA:",null,null,null,null,null,null,null,null,null,null,null,"1) Cod. Cont:"]
["CARACTERISTICAS  DE  OPERACIÓN  POR  RADIOBASE",null,null,null,null,null,null,null,null,null,null,null,null,null,null,null,null,null,null,null,null,"CARACTERISTICAS DE LAS ESTRUCTURAS",null,null,null,null,null,null,null,null,null,null,null,null,null,null,"CARACTERISTICAS DE LOS EQUIPOS",null,null,null,null,"CARACTERISTICAS DE LAS ANTENAS",null,null,null,null,null,null,null,null,null,null,null,null,null,"\nNo","CODIGO DE ESTRUCTURA \nASOCIADA","SOBREPASA LÍMITES POBLACIONAL","SOBREPASA LÍMITES OCUPACIONAL","ESTACION REPETIDORA / FIJA ",null,null,null,null,null,null,null,null,null,null,null,"2016-05-11",null,null,null,"Las frecuencias bajo 10 MHz, no se puede determinar la distancia debido a que los valores de Slim no están determinados, por lo tanto, las zonas de exposición poblacional y ocupacional serán determinadas por la ARCOTEL durante el control. (Ver Anexo 3, Procedimiento de Mediciones).\nRESOLUCION 01-01-CONATEL-2005"]
[]
[1,2,3,4,5,null,6,7,8,8,9,9,10,11,12,12,13,14,15,16,17,18,19,20,21,22,23,24,"25\nCOORDENADAS WGS84",null,null,null,null,null,null,null,26,27,28,29,30,31,32,33,34,null,35,36,37,38,39,40,null,"806-811 / 851-856",null,null,null,null,null,"Slím A CONSIDERAR",null,"CALCULO DE R2",null,null,null,null,"CÁLCULO DEL PIRE",null,null,"Slím TEÓRICO (W/m2)"]
["NUMERO DE CONTRATO ","N° DE RADIOBASE","RANGOS DE FRECUENCIAS (MHZ)","MODO DE OPERACION:","BLOQUE","GRUPO","N° DE CANALES POR RADIOBASE","ZONA","CIUDAD/PROVINCIAS DE LA ZONA",null,null,"NUMERO TOTAL DE ABONADOS DEL SISTEMA","POTENCIA DE OPERACIÓN (Watts):","ANCHURA DE BANDA (kHz):","CLASE DE EMISIÓN:","INDICATIVO","AC.\n(A,M,I,E)","CODIGO DE ESTRUCTURA ASOCIADA","CODIGO DE EQUIPO ASOCIADO","CODIGO DE ANTENA ASOCIADA","ALTURA EFECTIVA DE ANTENA (m)","TIPO DE ESTRUCTURA DE SOPORTE","ALTURA DE LA ESTRUCTURA s.n.m. (m):","ALTURA DE LA ESTRUCTURA (BASE-CIMA) (m):","PROVINCIA","CANTÓN","CIUDAD","DIRECCIÓN \n(Localidad / Calle y No.)","LATITUD",null,null,null,"LONGITUD",null,null,null,"TIPO DE ESTACIÓN","MARCA","MODELO","POTENCIA MAXIMA DEL EQUIPO (Watts)","SENSIBILIDAD (mV) o (dBm)","MARCA ","MODELO "," TIPO "," RANGO DE OPERACIÓN\n[MHz]",null,"IMPEDANCIA (ohmios)","POLARIZACION","GANANCIA (dBd)","AZIMUT DE RADIACION MAXIMA (°)","ANGULO DE ELEVACION (°)","ALTURA BASE-ANTENA (m)",null,"811-824 / 856-869",null,null,null,null,null,null,null,null,null,null,null,null,null,null,null,"Distancia (m)"]
[null,null,null,null,null,null,null,null,null,null,null,null,null,null,null,null,null,null,null,null,null,null,null,null,null,null,null,null,"GRADOS","MINUTOS","SEGUNDOS","N/S","GRADOS","MINUTOS","SEGUNDOS","W",null,null,null,null,null,null,null,null,"FREC. INICIAL ","FREC. FINAL",null,null,null,null,null,null,null,null,null,null,null,"Estación de Rx","Estación de Rx","Slím OCUPACIONAL (W/m2)","Slím POBLACIONAL (W/m2)",2,5,10,20,50,"Pmax (W)","Gmax","PIRE (W)",2,5,10,20,50]
[null,"B1","811-824 / 856-869","SEM",1,"G3",5,"1b",{"$f":"IF(H10=\"1a\",Hoja1!$B$126,IF(H10=\"1b\",Hoja1!$B$127,IF(H10=\"2a\",Hoja1!$B$128,IF(H10=\"2b\",Hoja1!$B$129,IF(H10=\"3 \",Hoja1!$B$130,IF(H10=\"4 \",Hoja1!$B$131,IF(H10=\"5 \",Hoja1!$B$132,IF(H10=\"6 \",Hoja1!$B$133,IF(H10=\"7 \",Hoja1!$B$134,IF(H10=\"8 \",Hoja1!$B$135,\" \"))))))))))","v":"RESTO DE PICHINCHA-SUCUMBIOS-NAPO-ORELLANA"},{"$f":"CONCATENATE(#REF!,\"-\",\"TX\")","v":{"$error":"#REF!"}},{"$f":"CONCATENATE(#REF!,\"-\",\"RX\")","v":{"$error":"#REF!"}},null,40,25,"16K0F3E",{"$f":"B10","v":"B1"},"A","S1","E1","A1",1050,{"$f":"IF($R10=\"\",\"\",VLOOKUP($R10,'FO-DRE-01'!$A$7:$U$301,18,FALSE))","v":"TORRE NO AUTOSOPORTADA"},{"$f":"IF($R10=\"\",\"\",VLOOKUP($R10,'FO-DRE-01'!$A$7:$U$301,16,FALSE))","v":252},{"$f":"IF($R10=\"\",\"\",VLOOKUP($R10,'FO-DRE-01'!$A$7:$U$301,17,FALSE))","v":12},{"$f":"IF($R10=\"\",\"\",VLOOKUP($R10,'FO-DRE-01'!$A$7:$U$301,3,FALSE))","v":"ORELLANA"},{"$f":"IF($R10=\"\",\"\",VLOOKUP($R10,'FO-DRE-01'!$A$7:$U$301,4,FALSE))","v":"ORELLANA"},{"$f":"IF($R10=\"\",\"\",VLOOKUP($R10,'FO-DRE-01'!$A$7:$U$301,5,FALSE))","v":"NUEVA ESPERANZA"},{"$f":"IF($R10=\"\",\"\",VLOOKUP($R10,'FO-DRE-01'!$A$7:$U$301,7,FALSE))","v":"NUEVA ESPERANZA"},{"$f":"IF($R10=\"\",\"\",VLOOKUP($R10,'FO-DRE-01'!$A$7:$U$301,8,FALSE))","v":0},{"$f":"IF($R10=\"\",\"\",VLOOKUP($R10,'FO-DRE-01'!$A$7:$U$301,9,FALSE))","v":29},{"$f":"IF($R10=\"\",\"\",VLOOKUP($R10,'FO-DRE-01'!$A$7:$U$301,10,FALSE))","v":11.83},{"$f":"IF($R10=\"\",\"\",VLOOKUP($R10,'FO-DRE-01'!$A$7:$U$301,11,FALSE))","v":"S"},{"$f":"IF($R10=\"\",\"\",VLOOKUP($R10,'FO-DRE-01'!$A$7:$U$301,12,FALSE))","v":76},{"$f":"IF($R10=\"\",\"\",VLOOKUP($R10,'FO-DRE-01'!$A$7:$U$301,13,FALSE))","v":46},{"$f":"IF($R10=\"\",\"\",VLOOKUP($R10,'FO-DRE-01'!$A$7:$U$301,14,FALSE))","v":20.85},{"$f":"IF($R10=\"\",\"\",VLOOKUP($R10,'FO-DRE-01'!$A$7:$U$301,15,FALSE))","v":"W"},{"$f":"IF($S10=\"\",\"\",VLOOKUP($S10,'FO-DRE-04'!$A$6:$L$301,2,FALSE))","v":"REPETIDOR"},{"$f":"IF($S10=\"\",\"\",VLOOKUP($S10,'FO-DRE-04'!$A$6:$L$301,3,FALSE))","v":"KENWOOD"},{"$f":"IF($S10=\"\",\"\",VLOOKUP($S10,'FO-DRE-04'!$A$6:$L$301,4,FALSE))","v":"NXR-900"},{"$f":"IF($S10=\"\",\"\",VLOOKUP($S10,'FO-DRE-04'!$A$6:$L$301,6,FALSE))","v":45},{"$f":"IF($S10=\"\",\"\",VLOOKUP($S10,'FO-DRE-04'!$A$6:$L$301,11,FALSE))","v":0.33},{"$f":"IF($T10=\"\",\"\",VLOOKUP($T10,'FO-DRE-02'!$A$6:$M$101,2,FALSE))","v":"SINCLAIR"},{"$f":"IF($T10=\"\",\"\",VLOOKUP($T10,'FO-DRE-02'!$A$6:$M$101,3,FALSE))","v":"SC-488"},{"$f":"IF($T10=\"\",\"\",VLOOKUP($T10,'FO-DRE-02'!$A$6:$M$101,6,FALSE))","v":"4-DIPOLOS"},{"$f":"IF($T10=\"\",\"\",VLOOKUP($T10,'FO-DRE-02'!$A$6:$M$101,4,FALSE))","v":806},{"$f":"IF($T10=\"\",\"\",VLOOKUP($T10,'FO-DRE-02'!$A$6:$M$101,5,FALSE))","v":869},{"$f":"IF($T10=\"\",\"\",VLOOKUP($T10,'FO-DRE-02'!$A$6:$M$101,8,FALSE))","v":50},{"$f":"IF($T10=\"\",\"\",VLOOKUP($T10,'FO-DRE-02'!$A$6:$M$101,7,FALSE))","v":"HORIZONTAL"},{"$f":"IF($T10=\"\",\"\",VLOOKUP($T10,'FO-DRE-02'!$A$6:$M$101,9,FALSE))","v":10},{"$f":"IF($T10=\"\",\"\",VLOOKUP($T10,'FO-DRE-02'!$A$6:$M$101,11,FALSE))","v":12},{"$f":"IF($T10=\"\",\"\",VLOOKUP($T10,'FO-DRE-02'!$A$6:$M$101,12,FALSE))","v":3},{"$f":"IF($T10=\"\",\"\",VLOOKUP($T10,'FO-DRE-02'!$A$6:$M$101,13,FALSE))","v":5},null,{"$f":"IF(C10=\"811-824 / 856-869\",869,856)","v":869},null,1,{"$f":"IF($R10=\"\",\"\",$R10)","v":"S1"},{"$f":"IF(OR($C10=\"\",$AN10=\"\",$AW10=\"\"),\"F/D\",IF(BR10>BH10,\"SI\",\"\"))","v":""},{"$f":"IF(OR($C10=\"\",$AN10=\"\",$AW10=\"\"),\"F/D\",IF(BR10>BI10,\"SI\",\"\"))","v":"SI"},{"$f":"IF(D10=\"\",\"\",IF(AND(10<BB10,BB10<=400),10,IF(AND(400<BB10,BB10<=2000),(BB10/40),IF(AND(2000<BB10,B10<=300000),50,0))))","v":21.725000000000001},{"$f":"IF(D10=\"\",\"\",IF(AND(10<BB10,BB10<=400),2,IF(AND(400<BB10,BB10<=2000),(BB10/200),IF(AND(2000<BB10,BB10<=300000),10,0))))","v":4.3449999999999998},{"$f":"IF(M10=\"\",\"\",SQRT(POWER($BJ$9,2)+POWER((AZ10-1.5),2)))","v":4.0311288741492746},{"$f":"IF(M10=\"\",\"\",SQRT(POWER($BK$9,2)+POWER((AZ10-1.5),2)))","v":6.103277807866851},{"$f":"IF(M10=\"\",\"\",SQRT(POWER($BL$9,2)+POWER((AZ10-1.5),2)))","v":10.594810050208546},{"$f":"IF(M10=\"\",\"\",SQRT(POWER($BM$9,2)+POWER((AZ10-1.5),2)))","v":20.303940504246953},{"$f":"IF(M10=\"\",\"\",SQRT(POWER($BN$9,2)+POWER((AZ10-1.5),2)))","v":50.122350304031038},{"$f":"IF(OR(AK10=\"MOVIL\",AK10=\"PORTATIL\"),\"\",IF(AN10=\"\",\"\",AN10))","v":45},{"$f":"IF(M10=\"\",\"\",POWER(10,(AW10+2.15)/10))","v":16.405897731995399},{"$f":"IF(OR(BO10=\"\",BP10=\"\"),\"\",BP10*BO10)","v":738.26539793979293},{"$f":"IF(M10=\"\",\"\",$BQ10/(PI()*BJ10^2))","v":14.46136460256286},{"$f":"IF(M10=\"\",\"\",$BQ10/(PI()*BK10^2))","v":6.3086489876952072},{"$f":"IF(M10=\"\",\"\",$BQ10/(PI()*BL10^2))","v":2.0935160337785872},{"$f":"IF(M10=\"\",\"\",$BQ10/(PI()*BM10^2))","v":0.57003559682631033},{"$f":"IF(M10=\"\",\"\",$BQ10/(PI()*BN10^2))","v":9.3540521361984832E-2}]
[null,"B2","806-811 / 851-856","SEM",2,"G1",5,"2a",{"$f":"IF(H11=\"1a\",Hoja1!$B$126,IF(H11=\"1b\",Hoja1!$B$127,IF(H11=\"2a\",Hoja1!$B$128,IF(H11=\"2b\",Hoja1!$B$129,IF(H11=\"3 \",Hoja1!$B$130,IF(H11=\"4 \",Hoja1!$B$131,IF(H11=\"5 \",Hoja1!$B$132,IF(H11=\"6 \",Hoja1!$B$133,IF(H11=\"7 \",Hoja1!$B$134,IF(H11=\"8 \",Hoja1!$B$135,\" \"))))))))))","v":"GUAYAQUIL Y ALREDEDORES"},{"$f":"CONCATENATE(#REF!,\"-\",\"TX\")","v":{"$error":"#REF!"}},{"$f":"CONCATENATE(#REF!,\"-\",\"RX\")","v":{"$error":"#REF!"}},null,40,25,"16K0F3E",{"$f":"B11","v":"B2"},"A","S2","E2","A2",200,{"$f":"IF($R11=\"\",\"\",VLOOKUP($R11,'FO-DRE-01'!$A$7:$U$301,18,FALSE))","v":"TORRE NO AUTOSOPORTADA"},{"$f":"IF($R11=\"\",\"\",VLOOKUP($R11,'FO-DRE-01'!$A$7:$U$301,16,FALSE))","v":252},{"$f":"IF($R11=\"\",\"\",VLOOKUP($R11,'FO-DRE-01'!$A$7:$U$301,17,FALSE))","v":20},{"$f":"IF($R11=\"\",\"\",VLOOKUP($R11,'FO-DRE-01'!$A$7:$U$301,3,FALSE))","v":"ORELLANA"},{"$f":"IF($R11=\"\",\"\",VLOOKUP($R11,'FO-DRE-01'!$A$7:$U$301,4,FALSE))","v":"ORELLANA"},{"$f":"IF($R11=\"\",\"\",VLOOKUP($R11,'FO-DRE-01'!$A$7:$U$301,5,FALSE))","v":"NUEVA ESPERANZA"},{"$f":"IF($R11=\"\",\"\",VLOOKUP($R11,'FO-DRE-01'!$A$7:$U$301,7,FALSE))","v":"NUEVA ESPERANZA"},{"$f":"IF($R11=\"\",\"\",VLOOKUP($R11,'FO-DRE-01'!$A$7:$U$301,8,FALSE))","v":0},{"$f":"IF($R11=\"\",\"\",VLOOKUP($R11,'FO-DRE-01'!$A$7:$U$301,9,FALSE))","v":29},{"$f":"IF($R11=\"\",\"\",VLOOKUP($R11,'FO-DRE-01'!$A$7:$U$301,10,FALSE))","v":11.83},{"$f":"IF($R11=\"\",\"\",VLOOKUP($R11,'FO-DRE-01'!$A$7:$U$301,11,FALSE))","v":"S"},{"$f":"IF($R11=\"\",\"\",VLOOKUP($R11,'FO-DRE-01'!$A$7:$U$301,12,FALSE))","v":76},{"$f":"IF($R11=\"\",\"\",VLOOKUP($R11,'FO-DRE-01'!$A$7:$U$301,13,FALSE))","v":46},{"$f":"IF($R11=\"\",\"\",VLOOKUP($R11,'FO-DRE-01'!$A$7:$U$301,14,FALSE))","v":20.85},{"$f":"IF($R11=\"\",\"\",VLOOKUP($R11,'FO-DRE-01'!$A$7:$U$301,15,FALSE))","v":"W"},{"$f":"IF($S11=\"\",\"\",VLOOKUP($S11,'FO-DRE-04'!$A$6:$L$301,2,FALSE))","v":"REPETIDOR"},{"$f":"IF($S11=\"\",\"\",VLOOKUP($S11,'FO-DRE-04'!$A$6:$L$301,3,FALSE))","v":"MOTOROLA"},{"$f":"IF($S11=\"\",\"\",VLOOKUP($S11,'FO-DRE-04'!$A$6:$L$301,4,FALSE))","v":"MTR-2000"},{"$f":"IF($S11=\"\",\"\",VLOOKUP($S11,'FO-DRE-04'!$A$6:$L$301,6,FALSE))","v":40},{"$f":"IF($S11=\"\",\"\",VLOOKUP($S11,'FO-DRE-04'!$A$6:$L$301,11,FALSE))","v":0.25},{"$f":"IF($T11=\"\",\"\",VLOOKUP($T11,'FO-DRE-02'!$A$6:$M$101,2,FALSE))","v":"SINCLAIR"},{"$f":"IF($T11=\"\",\"\",VLOOKUP($T11,'FO-DRE-02'!$A$6:$M$101,3,FALSE))","v":"SC-488"},{"$f":"IF($T11=\"\",\"\",VLOOKUP($T11,'FO-DRE-02'!$A$6:$M$101,6,FALSE))","v":"4-DIPOLOS"},{"$f":"IF($T11=\"\",\"\",VLOOKUP($T11,'FO-DRE-02'!$A$6:$M$101,4,FALSE))","v":806},{"$f":"IF($T11=\"\",\"\",VLOOKUP($T11,'FO-DRE-02'!$A$6:$M$101,5,FALSE))","v":869},{"$f":"IF($T11=\"\",\"\",VLOOKUP($T11,'FO-DRE-02'!$A$6:$M$101,8,FALSE))","v":50},{"$f":"IF($T11=\"\",\"\",VLOOKUP($T11,'FO-DRE-02'!$A$6:$M$101,7,FALSE))","v":"HORIZONTAL"},{"$f":"IF($T11=\"\",\"\",VLOOKUP($T11,'FO-DRE-02'!$A$6:$M$101,9,FALSE))","v":6},{"$f":"IF($T11=\"\",\"\",VLOOKUP($T11,'FO-DRE-02'!$A$6:$M$101,11,FALSE))","v":12},{"$f":"IF($T11=\"\",\"\",VLOOKUP($T11,'FO-DRE-02'!$A$6:$M$101,12,FALSE))","v":3},{"$f":"IF($T11=\"\",\"\",VLOOKUP($T11,'FO-DRE-02'!$A$6:$M$101,13,FALSE))","v":12},null,856,null,2,{"$f":"IF($R11=\"\",\"\",$R11)","v":"S2"},"","",21.4,4.28,10.688779163215974,11.629703349613008,14.5,22.588713996153036,51.090605790105876,{"$f":"IF(OR(AK11=\"MOVIL\",AK11=\"PORTATIL\"),\"\",IF(AN11=\"\",\"\",AN11))","v":40},6.5313055264747248,{"$f":"IF(OR(BO11=\"\",BP11=\"\"),\"\",BP11*BO11)","v":261.25222105898899},0.72787015098949082,0.61485519224066021,0.39552515933673871,0.16297729495453073,3.1858697347207858E-2]
[null,"B3","811-824 / 856-869","SEM",16,"G4",5,"2a",{"$f":"IF(H12=\"1a\",Hoja1!$B$126,IF(H12=\"1b\",Hoja1!$B$127,IF(H12=\"2a\",Hoja1!$B$128,IF(H12=\"2b\",Hoja1!$B$129,IF(H12=\"3 \",Hoja1!$B$130,IF(H12=\"4 \",Hoja1!$B$131,IF(H12=\"5 \",Hoja1!$B$132,IF(H12=\"6 \",Hoja1!$B$133,IF(H12=\"7 \",Hoja1!$B$134,IF(H12=\"8 \",Hoja1!$B$135,\" \"))))))))))","v":"GUAYAQUIL Y ALREDEDORES"},{"$f":"CONCATENATE(#REF!,\"-\",\"TX\")","v":{"$error":"#REF!"}},{"$f":"CONCATENATE(#REF!,\"-\",\"RX\")","v":{"$error":"#REF!"}},null,40,null,null,{"$f":"B12","v":"B3"},null,"S3","E3","A3",1251,{"$f":"IF($R12=\"\",\"\",VLOOKUP($R12,'FO-DRE-01'!$A$7:$U$301,18,FALSE))","v":"TORRE NO AUTOSOPORTADA"},{"$f":"IF($R12=\"\",\"\",VLOOKUP($R12,'FO-DRE-01'!$A$7:$U$301,16,FALSE))","v":252},{"$f":"IF($R12=\"\",\"\",VLOOKUP($R12,'FO-DRE-01'!$A$7:$U$301,17,FALSE))","v":12},{"$f":"IF($R12=\"\",\"\",VLOOKUP($R12,'FO-DRE-01'!$A$7:$U$301,3,FALSE))","v":"ORELLANA"},{"$f":"IF($R12=\"\",\"\",VLOOKUP($R12,'FO-DRE-01'!$A$7:$U$301,4,FALSE))","v":"ORELLANA"},{"$f":"IF($R12=\"\",\"\",VLOOKUP($R12,'FO-DRE-01'!$A$7:$U$301,5,FALSE))","v":"NUEVA ESPERANZA"},{"$f":"IF($R12=\"\",\"\",VLOOKUP($R12,'FO-DRE-01'!$A$7:$U$301,7,FALSE))","v":"NUEVA ESPERANZA"},{"$f":"IF($R12=\"\",\"\",VLOOKUP($R12,'FO-DRE-01'!$A$7:$U$301,8,FALSE))","v":0},{"$f":"IF($R12=\"\",\"\",VLOOKUP($R12,'FO-DRE-01'!$A$7:$U$301,9,FALSE))","v":29},{"$f":"IF($R12=\"\",\"\",VLOOKUP($R12,'FO-DRE-01'!$A$7:$U$301,10,FALSE))","v":11.83},{"$f":"IF($R12=\"\",\"\",VLOOKUP($R12,'FO-DRE-01'!$A$7:$U$301,11,FALSE))","v":"S"},{"$f":"IF($R12=\"\",\"\",VLOOKUP($R12,'FO-DRE-01'!$A$7:$U$301,12,FALSE))","v":76},{"$f":"IF($R12=\"\",\"\",VLOOKUP($R12,'FO-DRE-01'!$A$7:$U$301,13,FALSE))","v":46},{"$f":"IF($R12=\"\",\"\",VLOOKUP($R12,'FO-DRE-01'!$A$7:$U$301,14,FALSE))","v":20.85},{"$f":"IF($R12=\"\",\"\",VLOOKUP($R12,'FO-DRE-01'!$A$7:$U$301,15,FALSE))","v":"W"},{"$f":"IF($S12=\"\",\"\",VLOOKUP($S12,'FO-DRE-04'!$A$6:$L$301,2,FALSE))","v":"REPETIDOR"},{"$f":"IF($S12=\"\",\"\",VLOOKUP($S12,'FO-DRE-04'!$A$6:$L$301,3,FALSE))","v":"UNIDEN"},{"$f":"IF($S12=\"\",\"\",VLOOKUP($S12,'FO-DRE-04'!$A$6:$L$301,4,FALSE))","v":"MSR-804"},{"$f":"IF($S12=\"\",\"\",VLOOKUP($S12,'FO-DRE-04'!$A$6:$L$301,6,FALSE))","v":75},{"$f":"IF($S12=\"\",\"\",VLOOKUP($S12,'FO-DRE-04'!$A$6:$L$301,11,FALSE))","v":0.35},{"$f":"IF($T12=\"\",\"\",VLOOKUP($T12,'FO-DRE-02'!$A$6:$M$101,2,FALSE))","v":"SINCLAIR"},{"$f":"IF($T12=\"\",\"\",VLOOKUP($T12,'FO-DRE-02'!$A$6:$M$101,3,FALSE))","v":"SC-488"},{"$f":"IF($T12=\"\",\"\",VLOOKUP($T12,'FO-DRE-02'!$A$6:$M$101,6,FALSE))","v":"4-DIPOLOS"},{"$f":"IF($T12=\"\",\"\",VLOOKUP($T12,'FO-DRE-02'!$A$6:$M$101,4,FALSE))","v":806},{"$f":"IF($T12=\"\",\"\",VLOOKUP($T12,'FO-DRE-02'!$A$6:$M$101,5,FALSE))","v":869},{"$f":"IF($T12=\"\",\"\",VLOOKUP($T12,'FO-DRE-02'!$A$6:$M$101,8,FALSE))","v":50},{"$f":"IF($T12=\"\",\"\",VLOOKUP($T12,'FO-DRE-02'!$A$6:$M$101,7,FALSE))","v":"HORIZONTAL"},{"$f":"IF($T12=\"\",\"\",VLOOKUP($T12,'FO-DRE-02'!$A$6:$M$101,9,FALSE))","v":10},{"$f":"IF($T12=\"\",\"\",VLOOKUP($T12,'FO-DRE-02'!$A$6:$M$101,11,FALSE))","v":12},{"$f":"IF($T12=\"\",\"\",VLOOKUP($T12,'FO-DRE-02'!$A$6:$M$101,12,FALSE))","v":3},{"$f":"IF($T12=\"\",\"\",VLOOKUP($T12,'FO-DRE-02'!$A$6:$M$101,13,FALSE))","v":5},null,869,null,3,{"$f":"IF($R12=\"\",\"\",$R12)","v":"S3"},"SI","SI",21.725000000000001,4.3449999999999998,4.0311288741492746,6.103277807866851,10.594810050208546,20.303940504246953,50.122350304031038,{"$f":"IF(OR(AK12=\"MOVIL\",AK12=\"PORTATIL\"),\"\",IF(AN12=\"\",\"\",AN12))","v":75},16.405897731995399,{"$f":"IF(OR(BO12=\"\",BP12=\"\"),\"\",BP12*BO12)","v":1230.4423298996549},24.102274337604765,10.514414979492011,3.4891933896309784,0.95005932804385052,0.15590086893664137]
[null,null,null,null,null,null,null,null,{"$f":"IF(H13=\"1a\",Hoja1!$B$126,IF(H13=\"1b\",Hoja1!$B$127,IF(H13=\"2a\",Hoja1!$B$128,IF(H13=\"2b\",Hoja1!$B$129,IF(H13=\"3 \",Hoja1!$B$130,IF(H13=\"4 \",Hoja1!$B$131,IF(H13=\"5 \",Hoja1!$B$132,IF(H13=\"6 \",Hoja1!$B$133,IF(H13=\"7 \",Hoja1!$B$134,IF(H13=\"8 \",Hoja1!$B$135,\" \"))))))))))","v":" "},{"$f":"CONCATENATE(#REF!,\"-\",\"TX\")","v":{"$error":"#REF!"}},{"$f":"CONCATENATE(#REF!,\"-\",\"RX\")","v":{"$error":"#REF!"}},null,null,null,null,0,null,null,null,null,null,{"$f":"IF($R13=\"\",\"\",VLOOKUP($R13,'FO-DRE-01'!$A$7:$U$301,18,FALSE))","v":""},{"$f":"IF($R13=\"\",\"\",VLOOKUP($R13,'FO-DRE-01'!$A$7:$U$301,16,FALSE))","v":""},{"$f":"IF($R13=\"\",\"\",VLOOKUP($R13,'FO-DRE-01'!$A$7:$U$301,17,FALSE))","v":""},{"$f":"IF($R13=\"\",\"\",VLOOKUP($R13,'FO-DRE-01'!$A$7:$U$301,3,FALSE))","v":""},{"$f":"IF($R13=\"\",\"\",VLOOKUP($R13,'FO-DRE-01'!$A$7:$U$301,4,FALSE))","v":""},{"$f":"IF($R13=\"\",\"\",VLOOKUP($R13,'FO-DRE-01'!$A$7:$U$301,5,FALSE))","v":""},{"$f":"IF($R13=\"\",\"\",VLOOKUP($R13,'FO-DRE-01'!$A$7:$U$301,7,FALSE))","v":""},{"$f":"IF($R13=\"\",\"\",VLOOKUP($R13,'FO-DRE-01'!$A$7:$U$301,8,FALSE))","v":""},{"$f":"IF($R13=\"\",\"\",VLOOKUP($R13,'FO-DRE-01'!$A$7:$U$301,9,FALSE))","v":""},{"$f":"IF($R13=\"\",\"\",VLOOKUP($R13,'FO-DRE-01'!$A$7:$U$301,10,FALSE))","v":""},{"$f":"IF($R13=\"\",\"\",VLOOKUP($R13,'FO-DRE-01'!$A$7:$U$301,11,FALSE))","v":""},{"$f":"IF($R13=\"\",\"\",VLOOKUP($R13,'FO-DRE-01'!$A$7:$U$301,12,FALSE))","v":""},{"$f":"IF($R13=\"\",\"\",VLOOKUP($R13,'FO-DRE-01'!$A$7:$U$301,13,FALSE))","v":""},{"$f":"IF($R13=\"\",\"\",VLOOKUP($R13,'FO-DRE-01'!$A$7:$U$301,14,FALSE))","v":""},{"$f":"IF($R13=\"\",\"\",VLOOKUP($R13,'FO-DRE-01'!$A$7:$U$301,15,FALSE))","v":""},{"$f":"IF($S13=\"\",\"\",VLOOKUP($S13,'FO-DRE-04'!$A$6:$L$301,2,FALSE))","v":""},{"$f":"IF($S13=\"\",\"\",VLOOKUP($S13,'FO-DRE-04'!$A$6:$L$301,3,FALSE))","v":""},{"$f":"IF($S13=\"\",\"\",VLOOKUP($S13,'FO-DRE-04'!$A$6:$L$301,4,FALSE))","v":""},{"$f":"IF($S13=\"\",\"\",VLOOKUP($S13,'FO-DRE-04'!$A$6:$L$301,6,FALSE))","v":""},{"$f":"IF($S13=\"\",\"\",VLOOKUP($S13,'FO-DRE-04'!$A$6:$L$301,11,FALSE))","v":""},{"$f":"IF($T13=\"\",\"\",VLOOKUP($T13,'FO-DRE-02'!$A$6:$M$101,2,FALSE))","v":""},{"$f":"IF($T13=\"\",\"\",VLOOKUP($T13,'FO-DRE-02'!$A$6:$M$101,3,FALSE))","v":""},{"$f":"IF($T13=\"\",\"\",VLOOKUP($T13,'FO-DRE-02'!$A$6:$M$101,6,FALSE))","v":""},{"$f":"IF($T13=\"\",\"\",VLOOKUP($T13,'FO-DRE-02'!$A$6:$M$101,4,FALSE))","v":""},{"$f":"IF($T13=\"\",\"\",VLOOKUP($T13,'FO-DRE-02'!$A$6:$M$101,5,FALSE))","v":""},{"$f":"IF($T13=\"\",\"\",VLOOKUP($T13,'FO-DRE-02'!$A$6:$M$101,8,FALSE))","v":""},{"$f":"IF($T13=\"\",\"\",VLOOKUP($T13,'FO-DRE-02'!$A$6:$M$101,7,FALSE))","v":""},{"$f":"IF($T13=\"\",\"\",VLOOKUP($T13,'FO-DRE-02'!$A$6:$M$101,9,FALSE))","v":""},{"$f":"IF($T13=\"\",\"\",VLOOKUP($T13,'FO-DRE-02'!$A$6:$M$101,11,FALSE))","v":""},{"$f":"IF($T13=\"\",\"\",VLOOKUP($T13,'FO-DRE-02'!$A$6:$M$101,12,FALSE))","v":""},{"$f":"IF($T13=\"\",\"\",VLOOKUP($T13,'FO-DRE-02'!$A$6:$M$101,13,FALSE))","v":""},null,856,null,4,{"$f":"IF($R13=\"\",\"\",$R13)","v":""},"F/D","F/D","","","","","","","",{"$f":"IF(OR(AK13=\"MOVIL\",AK13=\"PORTATIL\"),\"\",IF(AN13=\"\",\"\",AN13))","v":""},"",{"$f":"IF(OR(BO13=\"\",BP13=\"\"),\"\",BP13*BO13)","v":""},"","","","",""]
[null,null,null,null,null,null,null,null,{"$f":"IF(H14=\"1a\",Hoja1!$B$126,IF(H14=\"1b\",Hoja1!$B$127,IF(H14=\"2a\",Hoja1!$B$128,IF(H14=\"2b\",Hoja1!$B$129,IF(H14=\"3 \",Hoja1!$B$130,IF(H14=\"4 \",Hoja1!$B$131,IF(H14=\"5 \",Hoja1!$B$132,IF(H14=\"6 \",Hoja1!$B$133,IF(H14=\"7 \",Hoja1!$B$134,IF(H14=\"8 \",Hoja1!$B$135,\" \"))))))))))","v":" "},{"$f":"CONCATENATE(#REF!,\"-\",\"TX\")","v":{"$error":"#REF!"}},{"$f":"CONCATENATE(#REF!,\"-\",\"RX\")","v":{"$error":"#REF!"}},null,null,null,null,0,null,null,null,null,null,{"$f":"IF($R14=\"\",\"\",VLOOKUP($R14,'FO-DRE-01'!$A$7:$U$301,18,FALSE))","v":""},{"$f":"IF($R14=\"\",\"\",VLOOKUP($R14,'FO-DRE-01'!$A$7:$U$301,16,FALSE))","v":""},{"$f":"IF($R14=\"\",\"\",VLOOKUP($R14,'FO-DRE-01'!$A$7:$U$301,17,FALSE))","v":""},{"$f":"IF($R14=\"\",\"\",VLOOKUP($R14,'FO-DRE-01'!$A$7:$U$301,3,FALSE))","v":""},{"$f":"IF($R14=\"\",\"\",VLOOKUP($R14,'FO-DRE-01'!$A$7:$U$301,4,FALSE))","v":""},{"$f":"IF($R14=\"\",\"\",VLOOKUP($R14,'FO-DRE-01'!$A$7:$U$301,5,FALSE))","v":""},{"$f":"IF($R14=\"\",\"\",VLOOKUP($R14,'FO-DRE-01'!$A$7:$U$301,7,FALSE))","v":""},{"$f":"IF($R14=\"\",\"\",VLOOKUP($R14,'FO-DRE-01'!$A$7:$U$301,8,FALSE))","v":""},{"$f":"IF($R14=\"\",\"\",VLOOKUP($R14,'FO-DRE-01'!$A$7:$U$301,9,FALSE))","v":""},{"$f":"IF($R14=\"\",\"\",VLOOKUP($R14,'FO-DRE-01'!$A$7:$U$301,10,FALSE))","v":""},{"$f":"IF($R14=\"\",\"\",VLOOKUP($R14,'FO-DRE-01'!$A$7:$U$301,11,FALSE))","v":""},{"$f":"IF($R14=\"\",\"\",VLOOKUP($R14,'FO-DRE-01'!$A$7:$U$301,12,FALSE))","v":""},{"$f":"IF($R14=\"\",\"\",VLOOKUP($R14,'FO-DRE-01'!$A$7:$U$301,13,FALSE))","v":""},{"$f":"IF($R14=\"\",\"\",VLOOKUP($R14,'FO-DRE-01'!$A$7:$U$301,14,FALSE))","v":""},{"$f":"IF($R14=\"\",\"\",VLOOKUP($R14,'FO-DRE-01'!$A$7:$U$301,15,FALSE))","v":""},{"$f":"IF($S14=\"\",\"\",VLOOKUP($S14,'FO-DRE-04'!$A$6:$L$301,2,FALSE))","v":""},{"$f":"IF($S14=\"\",\"\",VLOOKUP($S14,'FO-DRE-04'!$A$6:$L$301,3,FALSE))","v":""},{"$f":"IF($S14=\"\",\"\",VLOOKUP($S14,'FO-DRE-04'!$A$6:$L$301,4,FALSE))","v":""},{"$f":"IF($S14=\"\",\"\",VLOOKUP($S14,'FO-DRE-04'!$A$6:$L$301,6,FALSE))","v":""},{"$f":"IF($S14=\"\",\"\",VLOOKUP($S14,'FO-DRE-04'!$A$6:$L$301,11,FALSE))","v":""},{"$f":"IF($T14=\"\",\"\",VLOOKUP($T14,'FO-DRE-02'!$A$6:$M$101,2,FALSE))","v":""},{"$f":"IF($T14=\"\",\"\",VLOOKUP($T14,'FO-DRE-02'!$A$6:$M$101,3,FALSE))","v":""},{"$f":"IF($T14=\"\",\"\",VLOOKUP($T14,'FO-DRE-02'!$A$6:$M$101,6,FALSE))","v":""},{"$f":"IF($T14=\"\",\"\",VLOOKUP($T14,'FO-DRE-02'!$A$6:$M$101,4,FALSE))","v":""},{"$f":"IF($T14=\"\",\"\",VLOOKUP($T14,'FO-DRE-02'!$A$6:$M$101,5,FALSE))","v":""},{"$f":"IF($T14=\"\",\"\",VLOOKUP($T14,'FO-DRE-02'!$A$6:$M$101,8,FALSE))","v":""},{"$f":"IF($T14=\"\",\"\",VLOOKUP($T14,'FO-DRE-02'!$A$6:$M$101,7,FALSE))","v":""},{"$f":"IF($T14=\"\",\"\",VLOOKUP($T14,'FO-DRE-02'!$A$6:$M$101,9,FALSE))","v":""},{"$f":"IF($T14=\"\",\"\",VLOOKUP($T14,'FO-DRE-02'!$A$6:$M$101,11,FALSE))","v":""},{"$f":"IF($T14=\"\",\"\",VLOOKUP($T14,'FO-DRE-02'!$A$6:$M$101,12,FALSE))","v":""},{"$f":"IF($T14=\"\",\"\",VLOOKUP($T14,'FO-DRE-02'!$A$6:$M$101,13,FALSE))","v":""},null,856,null,5,{"$f":"IF($R14=\"\",\"\",$R14)","v":""},"F/D","F/D","","","","","","","",{"$f":"IF(OR(AK14=\"MOVIL\",AK14=\"PORTATIL\"),\"\",IF(AN14=\"\",\"\",AN14))","v":""},"",{"$f":"IF(OR(BO14=\"\",BP14=\"\"),\"\",BP14*BO14)","v":""},"","","","",""]
[null,null,null,null,null,null,null,null,{"$f":"IF(H15=\"1a\",Hoja1!$B$126,IF(H15=\"1b\",Hoja1!$B$127,IF(H15=\"2a\",Hoja1!$B$128,IF(H15=\"2b\",Hoja1!$B$129,IF(H15=\"3 \",Hoja1!$B$130,IF(H15=\"4 \",Hoja1!$B$131,IF(H15=\"5 \",Hoja1!$B$132,IF(H15=\"6 \",Hoja1!$B$133,IF(H15=\"7 \",Hoja1!$B$134,IF(H15=\"8 \",Hoja1!$B$135,\" \"))))))))))","v":" "},{"$f":"CONCATENATE(#REF!,\"-\",\"TX\")","v":{"$error":"#REF!"}},{"$f":"CONCATENATE(#REF!,\"-\",\"RX\")","v":{"$error":"#REF!"}},null,null,null,null,0,null,null,null,null,null,{"$f":"IF($R15=\"\",\"\",VLOOKUP($R15,'FO-DRE-01'!$A$7:$U$301,18,FALSE))","v":""},{"$f":"IF($R15=\"\",\"\",VLOOKUP($R15,'FO-DRE-01'!$A$7:$U$301,16,FALSE))","v":""},{"$f":"IF($R15=\"\",\"\",VLOOKUP($R15,'FO-DRE-01'!$A$7:$U$301,17,FALSE))","v":""},{"$f":"IF($R15=\"\",\"\",VLOOKUP($R15,'FO-DRE-01'!$A$7:$U$301,3,FALSE))","v":""},{"$f":"IF($R15=\"\",\"\",VLOOKUP($R15,'FO-DRE-01'!$A$7:$U$301,4,FALSE))","v":""},{"$f":"IF($R15=\"\",\"\",VLOOKUP($R15,'FO-DRE-01'!$A$7:$U$301,5,FALSE))","v":""},{"$f":"IF($R15=\"\",\"\",VLOOKUP($R15,'FO-DRE-01'!$A$7:$U$301,7,FALSE))","v":""},{"$f":"IF($R15=\"\",\"\",VLOOKUP($R15,'FO-DRE-01'!$A$7:$U$301,8,FALSE))","v":""},{"$f":"IF($R15=\"\",\"\",VLOOKUP($R15,'FO-DRE-01'!$A$7:$U$301,9,FALSE))","v":""},{"$f":"IF($R15=\"\",\"\",VLOOKUP($R15,'FO-DRE-01'!$A$7:$U$301,10,FALSE))","v":""},{"$f":"IF($R15=\"\",\"\",VLOOKUP($R15,'FO-DRE-01'!$A$7:$U$301,11,FALSE))","v":""},{"$f":"IF($R15=\"\",\"\",VLOOKUP($R15,'FO-DRE-01'!$A$7:$U$301,12,FALSE))","v":""},{"$f":"IF($R15=\"\",\"\",VLOOKUP($R15,'FO-DRE-01'!$A$7:$U$301,13,FALSE))","v":""},{"$f":"IF($R15=\"\",\"\",VLOOKUP($R15,'FO-DRE-01'!$A$7:$U$301,14,FALSE))","v":""},{"$f":"IF($R15=\"\",\"\",VLOOKUP($R15,'FO-DRE-01'!$A$7:$U$301,15,FALSE))","v":""},{"$f":"IF($S15=\"\",\"\",VLOOKUP($S15,'FO-DRE-04'!$A$6:$L$301,2,FALSE))","v":""},{"$f":"IF($S15=\"\",\"\",VLOOKUP($S15,'FO-DRE-04'!$A$6:$L$301,3,FALSE))","v":""},{"$f":"IF($S15=\"\",\"\",VLOOKUP($S15,'FO-DRE-04'!$A$6:$L$301,4,FALSE))","v":""},{"$f":"IF($S15=\"\",\"\",VLOOKUP($S15,'FO-DRE-04'!$A$6:$L$301,6,FALSE))","v":""},{"$f":"IF($S15=\"\",\"\",VLOOKUP($S15,'FO-DRE-04'!$A$6:$L$301,11,FALSE))","v":""},{"$f":"IF($T15=\"\",\"\",VLOOKUP($T15,'FO-DRE-02'!$A$6:$M$101,2,FALSE))","v":""},{"$f":"IF($T15=\"\",\"\",VLOOKUP($T15,'FO-DRE-02'!$A$6:$M$101,3,FALSE))","v":""},{"$f":"IF($T15=\"\",\"\",VLOOKUP($T15,'FO-DRE-02'!$A$6:$M$101,6,FALSE))","v":""},{"$f":"IF($T15=\"\",\"\",VLOOKUP($T15,'FO-DRE-02'!$A$6:$M$101,4,FALSE))","v":""},{"$f":"IF($T15=\"\",\"\",VLOOKUP($T15,'FO-DRE-02'!$A$6:$M$101,5,FALSE))","v":""},{"$f":"IF($T15=\"\",\"\",VLOOKUP($T15,'FO-DRE-02'!$A$6:$M$101,8,FALSE))","v":""},{"$f":"IF($T15=\"\",\"\",VLOOKUP($T15,'FO-DRE-02'!$A$6:$M$101,7,FALSE))","v":""},{"$f":"IF($T15=\"\",\"\",VLOOKUP($T15,'FO-DRE-02'!$A$6:$M$101,9,FALSE))","v":""},{"$f":"IF($T15=\"\",\"\",VLOOKUP($T15,'FO-DRE-02'!$A$6:$M$101,11,FALSE))","v":""},{"$f":"IF($T15=\"\",\"\",VLOOKUP($T15,'FO-DRE-02'!$A$6:$M$101,12,FALSE))","v":""},{"$f":"IF($T15=\"\",\"\",VLOOKUP($T15,'FO-DRE-02'!$A$6:$M$101,13,FALSE))","v":""},null,856,null,6,"","F/D","F/D","","","","","","","","","","","","","","",""]
[null,null,null,null,null,null,null,null,{"$f":"IF(H16=\"1a\",Hoja1!$B$126,IF(H16=\"1b\",Hoja1!$B$127,IF(H16=\"2a\",Hoja1!$B$128,IF(H16=\"2b\",Hoja1!$B$129,IF(H16=\"3 \",Hoja1!$B$130,IF(H16=\"4 \",Hoja1!$B$131,IF(H16=\"5 \",Hoja1!$B$132,IF(H16=\"6 \",Hoja1!$B$133,IF(H16=\"7 \",Hoja1!$B$134,IF(H16=\"8 \",Hoja1!$B$135,\" \"))))))))))","v":" "},{"$f":"CONCATENATE(#REF!,\"-\",\"TX\")","v":{"$error":"#REF!"}},{"$f":"CONCATENATE(#REF!,\"-\",\"RX\")","v":{"$error":"#REF!"}},null,null,null,null,0,null,null,null,null,null,{"$f":"IF($R16=\"\",\"\",VLOOKUP($R16,'FO-DRE-01'!$A$7:$U$301,18,FALSE))","v":""},{"$f":"IF($R16=\"\",\"\",VLOOKUP($R16,'FO-DRE-01'!$A$7:$U$301,16,FALSE))","v":""},{"$f":"IF($R16=\"\",\"\",VLOOKUP($R16,'FO-DRE-01'!$A$7:$U$301,17,FALSE))","v":""},{"$f":"IF($R16=\"\",\"\",VLOOKUP($R16,'FO-DRE-01'!$A$7:$U$301,3,FALSE))","v":""},{"$f":"IF($R16=\"\",\"\",VLOOKUP($R16,'FO-DRE-01'!$A$7:$U$301,4,FALSE))","v":""},{"$f":"IF($R16=\"\",\"\",VLOOKUP($R16,'FO-DRE-01'!$A$7:$U$301,5,FALSE))","v":""},{"$f":"IF($R16=\"\",\"\",VLOOKUP($R16,'FO-DRE-01'!$A$7:$U$301,7,FALSE))","v":""},{"$f":"IF($R16=\"\",\"\",VLOOKUP($R16,'FO-DRE-01'!$A$7:$U$301,8,FALSE))","v":""},{"$f":"IF($R16=\"\",\"\",VLOOKUP($R16,'FO-DRE-01'!$A$7:$U$301,9,FALSE))","v":""},{"$f":"IF($R16=\"\",\"\",VLOOKUP($R16,'FO-DRE-01'!$A$7:$U$301,10,FALSE))","v":""},{"$f":"IF($R16=\"\",\"\",VLOOKUP($R16,'FO-DRE-01'!$A$7:$U$301,11,FALSE))","v":""},{"$f":"IF($R16=\"\",\"\",VLOOKUP($R16,'FO-DRE-01'!$A$7:$U$301,12,FALSE))","v":""},{"$f":"IF($R16=\"\",\"\",VLOOKUP($R16,'FO-DRE-01'!$A$7:$U$301,13,FALSE))","v":""},{"$f":"IF($R16=\"\",\"\",VLOOKUP($R16,'FO-DRE-01'!$A$7:$U$301,14,FALSE))","v":""},{"$f":"IF($R16=\"\",\"\",VLOOKUP($R16,'FO-DRE-01'!$A$7:$U$301,15,FALSE))","v":""},{"$f":"IF($S16=\"\",\"\",VLOOKUP($S16,'FO-DRE-04'!$A$6:$L$301,2,FALSE))","v":""},{"$f":"IF($S16=\"\",\"\",VLOOKUP($S16,'FO-DRE-04'!$A$6:$L$301,3,FALSE))","v":""},{"$f":"IF($S16=\"\",\"\",VLOOKUP($S16,'FO-DRE-04'!$A$6:$L$301,4,FALSE))","v":""},{"$f":"IF($S16=\"\",\"\",VLOOKUP($S16,'FO-DRE-04'!$A$6:$L$301,6,FALSE))","v":""},{"$f":"IF($S16=\"\",\"\",VLOOKUP($S16,'FO-DRE-04'!$A$6:$L$301,11,FALSE))","v":""},{"$f":"IF($T16=\"\",\"\",VLOOKUP($T16,'FO-DRE-02'!$A$6:$M$101,2,FALSE))","v":""},{"$f":"IF($T16=\"\",\"\",VLOOKUP($T16,'FO-DRE-02'!$A$6:$M$101,3,FALSE))","v":""},{"$f":"IF($T16=\"\",\"\",VLOOKUP($T16,'FO-DRE-02'!$A$6:$M$101,6,FALSE))","v":""},{"$f":"IF($T16=\"\",\"\",VLOOKUP($T16,'FO-DRE-02'!$A$6:$M$101,4,FALSE))","v":""},{"$f":"IF($T16=\"\",\"\",VLOOKUP($T16,'FO-DRE-02'!$A$6:$M$101,5,FALSE))","v":""},{"$f":"IF($T16=\"\",\"\",VLOOKUP($T16,'FO-DRE-02'!$A$6:$M$101,8,FALSE))","v":""},{"$f":"IF($T16=\"\",\"\",VLOOKUP($T16,'FO-DRE-02'!$A$6:$M$101,7,FALSE))","v":""},{"$f":"IF($T16=\"\",\"\",VLOOKUP($T16,'FO-DRE-02'!$A$6:$M$101,9,FALSE))","v":""},{"$f":"IF($T16=\"\",\"\",VLOOKUP($T16,'FO-DRE-02'!$A$6:$M$101,11,FALSE))","v":""},{"$f":"IF($T16=\"\",\"\",VLOOKUP($T16,'FO-DRE-02'!$A$6:$M$101,12,FALSE))","v":""},{"$f":"IF($T16=\"\",\"\",VLOOKUP($T16,'FO-DRE-02'!$A$6:$M$101,13,FALSE))","v":""},null,856,null,7,"","F/D","F/D","","","","","","","","","","","","","","",""]
[null,null,null,null,null,null,null,null,{"$f":"IF(H17=\"1a\",Hoja1!$B$126,IF(H17=\"1b\",Hoja1!$B$127,IF(H17=\"2a\",Hoja1!$B$128,IF(H17=\"2b\",Hoja1!$B$129,IF(H17=\"3 \",Hoja1!$B$130,IF(H17=\"4 \",Hoja1!$B$131,IF(H17=\"5 \",Hoja1!$B$132,IF(H17=\"6 \",Hoja1!$B$133,IF(H17=\"7 \",Hoja1!$B$134,IF(H17=\"8 \",Hoja1!$B$135,\" \"))))))))))","v":" "},{"$f":"CONCATENATE(#REF!,\"-\",\"TX\")","v":{"$error":"#REF!"}},{"$f":"CONCATENATE(#REF!,\"-\",\"RX\")","v":{"$error":"#REF!"}},null,null,null,null,0,null,null,null,null,null,{"$f":"IF($R17=\"\",\"\",VLOOKUP($R17,'FO-DRE-01'!$A$7:$U$301,18,FALSE))","v":""},{"$f":"IF($R17=\"\",\"\",VLOOKUP($R17,'FO-DRE-01'!$A$7:$U$301,16,FALSE))","v":""},{"$f":"IF($R17=\"\",\"\",VLOOKUP($R17,'FO-DRE-01'!$A$7:$U$301,17,FALSE))","v":""},{"$f":"IF($R17=\"\",\"\",VLOOKUP($R17,'FO-DRE-01'!$A$7:$U$301,3,FALSE))","v":""},{"$f":"IF($R17=\"\",\"\",VLOOKUP($R17,'FO-DRE-01'!$A$7:$U$301,4,FALSE))","v":""},{"$f":"IF($R17=\"\",\"\",VLOOKUP($R17,'FO-DRE-01'!$A$7:$U$301,5,FALSE))","v":""},{"$f":"IF($R17=\"\",\"\",VLOOKUP($R17,'FO-DRE-01'!$A$7:$U$301,7,FALSE))","v":""},{"$f":"IF($R17=\"\",\"\",VLOOKUP($R17,'FO-DRE-01'!$A$7:$U$301,8,FALSE))","v":""},{"$f":"IF($R17=\"\",\"\",VLOOKUP($R17,'FO-DRE-01'!$A$7:$U$301,9,FALSE))","v":""},{"$f":"IF($R17=\"\",\"\",VLOOKUP($R17,'FO-DRE-01'!$A$7:$U$301,10,FALSE))","v":""},{"$f":"IF($R17=\"\",\"\",VLOOKUP($R17,'FO-DRE-01'!$A$7:$U$301,11,FALSE))","v":""},{"$f":"IF($R17=\"\",\"\",VLOOKUP($R17,'FO-DRE-01'!$A$7:$U$301,12,FALSE))","v":""},{"$f":"IF($R17=\"\",\"\",VLOOKUP($R17,'FO-DRE-01'!$A$7:$U$301,13,FALSE))","v":""},{"$f":"IF($R17=\"\",\"\",VLOOKUP($R17,'FO-DRE-01'!$A$7:$U$301,14,FALSE))","v":""},{"$f":"IF($R17=\"\",\"\",VLOOKUP($R17,'FO-DRE-01'!$A$7:$U$301,15,FALSE))","v":""},{"$f":"IF($S17=\"\",\"\",VLOOKUP($S17,'FO-DRE-04'!$A$6:$L$301,2,FALSE))","v":""},{"$f":"IF($S17=\"\",\"\",VLOOKUP($S17,'FO-DRE-04'!$A$6:$L$301,3,FALSE))","v":""},{"$f":"IF($S17=\"\",\"\",VLOOKUP($S17,'FO-DRE-04'!$A$6:$L$301,4,FALSE))","v":""},{"$f":"IF($S17=\"\",\"\",VLOOKUP($S17,'FO-DRE-04'!$A$6:$L$301,6,FALSE))","v":""},{"$f":"IF($S17=\"\",\"\",VLOOKUP($S17,'FO-DRE-04'!$A$6:$L$301,11,FALSE))","v":""},{"$f":"IF($T17=\"\",\"\",VLOOKUP($T17,'FO-DRE-02'!$A$6:$M$101,2,FALSE))","v":""},{"$f":"IF($T17=\"\",\"\",VLOOKUP($T17,'FO-DRE-02'!$A$6:$M$101,3,FALSE))","v":""},{"$f":"IF($T17=\"\",\"\",VLOOKUP($T17,'FO-DRE-02'!$A$6:$M$101,6,FALSE))","v":""},{"$f":"IF($T17=\"\",\"\",VLOOKUP($T17,'FO-DRE-02'!$A$6:$M$101,4,FALSE))","v":""},{"$f":"IF($T17=\"\",\"\",VLOOKUP($T17,'FO-DRE-02'!$A$6:$M$101,5,FALSE))","v":""},{"$f":"IF($T17=\"\",\"\",VLOOKUP($T17,'FO-DRE-02'!$A$6:$M$101,8,FALSE))","v":""},{"$f":"IF($T17=\"\",\"\",VLOOKUP($T17,'FO-DRE-02'!$A$6:$M$101,7,FALSE))","v":""},{"$f":"IF($T17=\"\",\"\",VLOOKUP($T17,'FO-DRE-02'!$A$6:$M$101,9,FALSE))","v":""},{"$f":"IF($T17=\"\",\"\",VLOOKUP($T17,'FO-DRE-02'!$A$6:$M$101,11,FALSE))","v":""},{"$f":"IF($T17=\"\",\"\",VLOOKUP($T17,'FO-DRE-02'!$A$6:$M$101,12,FALSE))","v":""},{"$f":"IF($T17=\"\",\"\",VLOOKUP($T17,'FO-DRE-02'!$A$6:$M$101,13,FALSE))","v":""},null,856,null,8,"","F/D","F/D","","","","","","","","","","","","","","",""]
[null,null,null,null,null,null,null,null,{"$f":"IF(H18=\"1a\",Hoja1!$B$126,IF(H18=\"1b\",Hoja1!$B$127,IF(H18=\"2a\",Hoja1!$B$128,IF(H18=\"2b\",Hoja1!$B$129,IF(H18=\"3 \",Hoja1!$B$130,IF(H18=\"4 \",Hoja1!$B$131,IF(H18=\"5 \",Hoja1!$B$132,IF(H18=\"6 \",Hoja1!$B$133,IF(H18=\"7 \",Hoja1!$B$134,IF(H18=\"8 \",Hoja1!$B$135,\" \"))))))))))","v":" "},{"$f":"CONCATENATE(#REF!,\"-\",\"TX\")","v":{"$error":"#REF!"}},{"$f":"CONCATENATE(#REF!,\"-\",\"RX\")","v":{"$error":"#REF!"}},null,null,null,null,0,null,null,null,null,null,{"$f":"IF($R18=\"\",\"\",VLOOKUP($R18,'FO-DRE-01'!$A$7:$U$301,18,FALSE))","v":""},{"$f":"IF($R18=\"\",\"\",VLOOKUP($R18,'FO-DRE-01'!$A$7:$U$301,16,FALSE))","v":""},{"$f":"IF($R18=\"\",\"\",VLOOKUP($R18,'FO-DRE-01'!$A$7:$U$301,17,FALSE))","v":""},{"$f":"IF($R18=\"\",\"\",VLOOKUP($R18,'FO-DRE-01'!$A$7:$U$301,3,FALSE))","v":""},{"$f":"IF($R18=\"\",\"\",VLOOKUP($R18,'FO-DRE-01'!$A$7:$U$301,4,FALSE))","v":""},{"$f":"IF($R18=\"\",\"\",VLOOKUP($R18,'FO-DRE-01'!$A$7:$U$301,5,FALSE))","v":""},{"$f":"IF($R18=\"\",\"\",VLOOKUP($R18,'FO-DRE-01'!$A$7:$U$301,7,FALSE))","v":""},{"$f":"IF($R18=\"\",\"\",VLOOKUP($R18,'FO-DRE-01'!$A$7:$U$301,8,FALSE))","v":""},{"$f":"IF($R18=\"\",\"\",VLOOKUP($R18,'FO-DRE-01'!$A$7:$U$301,9,FALSE))","v":""},{"$f":"IF($R18=\"\",\"\",VLOOKUP($R18,'FO-DRE-01'!$A$7:$U$301,10,FALSE))","v":""},{"$f":"IF($R18=\"\",\"\",VLOOKUP($R18,'FO-DRE-01'!$A$7:$U$301,11,FALSE))","v":""},{"$f":"IF($R18=\"\",\"\",VLOOKUP($R18,'FO-DRE-01'!$A$7:$U$301,12,FALSE))","v":""},{"$f":"IF($R18=\"\",\"\",VLOOKUP($R18,'FO-DRE-01'!$A$7:$U$301,13,FALSE))","v":""},{"$f":"IF($R18=\"\",\"\",VLOOKUP($R18,'FO-DRE-01'!$A$7:$U$301,14,FALSE))","v":""},{"$f":"IF($R18=\"\",\"\",VLOOKUP($R18,'FO-DRE-01'!$A$7:$U$301,15,FALSE))","v":""},{"$f":"IF($S18=\"\",\"\",VLOOKUP($S18,'FO-DRE-04'!$A$6:$L$301,2,FALSE))","v":""},{"$f":"IF($S18=\"\",\"\",VLOOKUP($S18,'FO-DRE-04'!$A$6:$L$301,3,FALSE))","v":""},{"$f":"IF($S18=\"\",\"\",VLOOKUP($S18,'FO-DRE-04'!$A$6:$L$301,4,FALSE))","v":""},{"$f":"IF($S18=\"\",\"\",VLOOKUP($S18,'FO-DRE-04'!$A$6:$L$301,6,FALSE))","v":""},{"$f":"IF($S18=\"\",\"\",VLOOKUP($S18,'FO-DRE-04'!$A$6:$L$301,11,FALSE))","v":""},{"$f":"IF($T18=\"\",\"\",VLOOKUP($T18,'FO-DRE-02'!$A$6:$M$101,2,FALSE))","v":""},{"$f":"IF($T18=\"\",\"\",VLOOKUP($T18,'FO-DRE-02'!$A$6:$M$101,3,FALSE))","v":""},{"$f":"IF($T18=\"\",\"\",VLOOKUP($T18,'FO-DRE-02'!$A$6:$M$101,6,FALSE))","v":""},{"$f":"IF($T18=\"\",\"\",VLOOKUP($T18,'FO-DRE-02'!$A$6:$M$101,4,FALSE))","v":""},{"$f":"IF($T18=\"\",\"\",VLOOKUP($T18,'FO-DRE-02'!$A$6:$M$101,5,FALSE))","v":""},{"$f":"IF($T18=\"\",\"\",VLOOKUP($T18,'FO-DRE-02'!$A$6:$M$101,8,FALSE))","v":""},{"$f":"IF($T18=\"\",\"\",VLOOKUP($T18,'FO-DRE-02'!$A$6:$M$101,7,FALSE))","v":""},{"$f":"IF($T18=\"\",\"\",VLOOKUP($T18,'FO-DRE-02'!$A$6:$M$101,9,FALSE))","v":""},{"$f":"IF($T18=\"\",\"\",VLOOKUP($T18,'FO-DRE-02'!$A$6:$M$101,11,FALSE))","v":""},{"$f":"IF($T18=\"\",\"\",VLOOKUP($T18,'FO-DRE-02'!$A$6:$M$101,12,FALSE))","v":""},{"$f":"IF($T18=\"\",\"\",VLOOKUP($T18,'FO-DRE-02'!$A$6:$M$101,13,FALSE))","v":""},null,856,null,9,"","F/D","F/D","","","","","","","","","","","","","","",""]
[null,null,null,null,null,null,null,null,{"$f":"IF(H19=\"1a\",Hoja1!$B$126,IF(H19=\"1b\",Hoja1!$B$127,IF(H19=\"2a\",Hoja1!$B$128,IF(H19=\"2b\",Hoja1!$B$129,IF(H19=\"3 \",Hoja1!$B$130,IF(H19=\"4 \",Hoja1!$B$131,IF(H19=\"5 \",Hoja1!$B$132,IF(H19=\"6 \",Hoja1!$B$133,IF(H19=\"7 \",Hoja1!$B$134,IF(H19=\"8 \",Hoja1!$B$135,\" \"))))))))))","v":" "},{"$f":"CONCATENATE(#REF!,\"-\",\"TX\")","v":{"$error":"#REF!"}},{"$f":"CONCATENATE(#REF!,\"-\",\"RX\")","v":{"$error":"#REF!"}},null,null,null,null,0,null,null,null,null,null,{"$f":"IF($R19=\"\",\"\",VLOOKUP($R19,'FO-DRE-01'!$A$7:$U$301,18,FALSE))","v":""},{"$f":"IF($R19=\"\",\"\",VLOOKUP($R19,'FO-DRE-01'!$A$7:$U$301,16,FALSE))","v":""},{"$f":"IF($R19=\"\",\"\",VLOOKUP($R19,'FO-DRE-01'!$A$7:$U$301,17,FALSE))","v":""},{"$f":"IF($R19=\"\",\"\",VLOOKUP($R19,'FO-DRE-01'!$A$7:$U$301,3,FALSE))","v":""},{"$f":"IF($R19=\"\",\"\",VLOOKUP($R19,'FO-DRE-01'!$A$7:$U$301,4,FALSE))","v":""},{"$f":"IF($R19=\"\",\"\",VLOOKUP($R19,'FO-DRE-01'!$A$7:$U$301,5,FALSE))","v":""},{"$f":"IF($R19=\"\",\"\",VLOOKUP($R19,'FO-DRE-01'!$A$7:$U$301,7,FALSE))","v":""},{"$f":"IF($R19=\"\",\"\",VLOOKUP($R19,'FO-DRE-01'!$A$7:$U$301,8,FALSE))","v":""},{"$f":"IF($R19=\"\",\"\",VLOOKUP($R19,'FO-DRE-01'!$A$7:$U$301,9,FALSE))","v":""},{"$f":"IF($R19=\"\",\"\",VLOOKUP($R19,'FO-DRE-01'!$A$7:$U$301,10,FALSE))","v":""},{"$f":"IF($R19=\"\",\"\",VLOOKUP($R19,'FO-DRE-01'!$A$7:$U$301,11,FALSE))","v":""},{"$f":"IF($R19=\"\",\"\",VLOOKUP($R19,'FO-DRE-01'!$A$7:$U$301,12,FALSE))","v":""},{"$f":"IF($R19=\"\",\"\",VLOOKUP($R19,'FO-DRE-01'!$A$7:$U$301,13,FALSE))","v":""},{"$f":"IF($R19=\"\",\"\",VLOOKUP($R19,'FO-DRE-01'!$A$7:$U$301,14,FALSE))","v":""},{"$f":"IF($R19=\"\",\"\",VLOOKUP($R19,'FO-DRE-01'!$A$7:$U$301,15,FALSE))","v":""},{"$f":"IF($S19=\"\",\"\",VLOOKUP($S19,'FO-DRE-04'!$A$6:$L$301,2,FALSE))","v":""},{"$f":"IF($S19=\"\",\"\",VLOOKUP($S19,'FO-DRE-04'!$A$6:$L$301,3,FALSE))","v":""},{"$f":"IF($S19=\"\",\"\",VLOOKUP($S19,'FO-DRE-04'!$A$6:$L$301,4,FALSE))","v":""},{"$f":"IF($S19=\"\",\"\",VLOOKUP($S19,'FO-DRE-04'!$A$6:$L$301,6,FALSE))","v":""},{"$f":"IF($S19=\"\",\"\",VLOOKUP($S19,'FO-DRE-04'!$A$6:$L$301,11,FALSE))","v":""},{"$f":"IF($T19=\"\",\"\",VLOOKUP($T19,'FO-DRE-02'!$A$6:$M$101,2,FALSE))","v":""},{"$f":"IF($T19=\"\",\"\",VLOOKUP($T19,'FO-DRE-02'!$A$6:$M$101,3,FALSE))","v":""},{"$f":"IF($T19=\"\",\"\",VLOOKUP($T19,'FO-DRE-02'!$A$6:$M$101,6,FALSE))","v":""},{"$f":"IF($T19=\"\",\"\",VLOOKUP($T19,'FO-DRE-02'!$A$6:$M$101,4,FALSE))","v":""},{"$f":"IF($T19=\"\",\"\",VLOOKUP($T19,'FO-DRE-02'!$A$6:$M$101,5,FALSE))","v":""},{"$f":"IF($T19=\"\",\"\",VLOOKUP($T19,'FO-DRE-02'!$A$6:$M$101,8,FALSE))","v":""},{"$f":"IF($T19=\"\",\"\",VLOOKUP($T19,'FO-DRE-02'!$A$6:$M$101,7,FALSE))","v":""},{"$f":"IF($T19=\"\",\"\",VLOOKUP($T19,'FO-DRE-02'!$A$6:$M$101,9,FALSE))","v":""},{"$f":"IF($T19=\"\",\"\",VLOOKUP($T19,'FO-DRE-02'!$A$6:$M$101,11,FALSE))","v":""},{"$f":"IF($T19=\"\",\"\",VLOOKUP($T19,'FO-DRE-02'!$A$6:$M$101,12,FALSE))","v":""},{"$f":"IF($T19=\"\",\"\",VLOOKUP($T19,'FO-DRE-02'!$A$6:$M$101,13,FALSE))","v":""},null,856,null,10,"","F/D","F/D","","","","","","","","","","","","","","",""]
[null,null,null,null,null,null,null,null,{"$f":"IF(H20=\"1a\",Hoja1!$B$126,IF(H20=\"1b\",Hoja1!$B$127,IF(H20=\"2a\",Hoja1!$B$128,IF(H20=\"2b\",Hoja1!$B$129,IF(H20=\"3 \",Hoja1!$B$130,IF(H20=\"4 \",Hoja1!$B$131,IF(H20=\"5 \",Hoja1!$B$132,IF(H20=\"6 \",Hoja1!$B$133,IF(H20=\"7 \",Hoja1!$B$134,IF(H20=\"8 \",Hoja1!$B$135,\" \"))))))))))","v":" "},null,null,null,null,null,null,0,null,null,null,null,null,{"$f":"IF($R20=\"\",\"\",VLOOKUP($R20,'FO-DRE-01'!$A$7:$U$301,18,FALSE))","v":""},{"$f":"IF($R20=\"\",\"\",VLOOKUP($R20,'FO-DRE-01'!$A$7:$U$301,16,FALSE))","v":""},{"$f":"IF($R20=\"\",\"\",VLOOKUP($R20,'FO-DRE-01'!$A$7:$U$301,17,FALSE))","v":""},{"$f":"IF($R20=\"\",\"\",VLOOKUP($R20,'FO-DRE-01'!$A$7:$U$301,3,FALSE))","v":""},{"$f":"IF($R20=\"\",\"\",VLOOKUP($R20,'FO-DRE-01'!$A$7:$U$301,4,FALSE))","v":""},{"$f":"IF($R20=\"\",\"\",VLOOKUP($R20,'FO-DRE-01'!$A$7:$U$301,5,FALSE))","v":""},{"$f":"IF($R20=\"\",\"\",VLOOKUP($R20,'FO-DRE-01'!$A$7:$U$301,7,FALSE))","v":""},{"$f":"IF($R20=\"\",\"\",VLOOKUP($R20,'FO-DRE-01'!$A$7:$U$301,8,FALSE))","v":""},{"$f":"IF($R20=\"\",\"\",VLOOKUP($R20,'FO-DRE-01'!$A$7:$U$301,9,FALSE))","v":""},{"$f":"IF($R20=\"\",\"\",VLOOKUP($R20,'FO-DRE-01'!$A$7:$U$301,10,FALSE))","v":""},{"$f":"IF($R20=\"\",\"\",VLOOKUP($R20,'FO-DRE-01'!$A$7:$U$301,11,FALSE))","v":""},{"$f":"IF($R20=\"\",\"\",VLOOKUP($R20,'FO-DRE-01'!$A$7:$U$301,12,FALSE))","v":""},{"$f":"IF($R20=\"\",\"\",VLOOKUP($R20,'FO-DRE-01'!$A$7:$U$301,13,FALSE))","v":""},{"$f":"IF($R20=\"\",\"\",VLOOKUP($R20,'FO-DRE-01'!$A$7:$U$301,14,FALSE))","v":""},{"$f":"IF($R20=\"\",\"\",VLOOKUP($R20,'FO-DRE-01'!$A$7:$U$301,15,FALSE))","v":""},{"$f":"IF($S20=\"\",\"\",VLOOKUP($S20,'FO-DRE-04'!$A$6:$L$301,2,FALSE))","v":""},{"$f":"IF($S20=\"\",\"\",VLOOKUP($S20,'FO-DRE-04'!$A$6:$L$301,3,FALSE))","v":""},{"$f":"IF($S20=\"\",\"\",VLOOKUP($S20,'FO-DRE-04'!$A$6:$L$301,4,FALSE))","v":""},{"$f":"IF($S20=\"\",\"\",VLOOKUP($S20,'FO-DRE-04'!$A$6:$L$301,6,FALSE))","v":""},{"$f":"IF($S20=\"\",\"\",VLOOKUP($S20,'FO-DRE-04'!$A$6:$L$301,11,FALSE))","v":""},{"$f":"IF($T20=\"\",\"\",VLOOKUP($T20,'FO-DRE-02'!$A$6:$M$101,2,FALSE))","v":""},{"$f":"IF($T20=\"\",\"\",VLOOKUP($T20,'FO-DRE-02'!$A$6:$M$101,3,FALSE))","v":""},{"$f":"IF($T20=\"\",\"\",VLOOKUP($T20,'FO-DRE-02'!$A$6:$M$101,6,FALSE))","v":""},{"$f":"IF($T20=\"\",\"\",VLOOKUP($T20,'FO-DRE-02'!$A$6:$M$101,4,FALSE))","v":""},{"$f":"IF($T20=\"\",\"\",VLOOKUP($T20,'FO-DRE-02'!$A$6:$M$101,5,FALSE))","v":""},{"$f":"IF($T20=\"\",\"\",VLOOKUP($T20,'FO-DRE-02'!$A$6:$M$101,8,FALSE))","v":""},{"$f":"IF($T20=\"\",\"\",VLOOKUP($T20,'FO-DRE-02'!$A$6:$M$101,7,FALSE))","v":""},{"$f":"IF($T20=\"\",\"\",VLOOKUP($T20,'FO-DRE-02'!$A$6:$M$101,9,FALSE))","v":""},{"$f":"IF($T20=\"\",\"\",VLOOKUP($T20,'FO-DRE-02'!$A$6:$M$101,11,FALSE))","v":""},{"$f":"IF($T20=\"\",\"\",VLOOKUP($T20,'FO-DRE-02'!$A$6:$M$101,12,FALSE))","v":""},{"$f":"IF($T20=\"\",\"\",VLOOKUP($T20,'FO-DRE-02'!$A$6:$M$101,13,FALSE))","v":""},null,856,null,11,"","F/D","F/D","","","","","","","","","","","","","","",""]
[null,null,null,null,null,null,null,null,{"$f":"IF(H21=\"1a\",Hoja1!$B$126,IF(H21=\"1b\",Hoja1!$B$127,IF(H21=\"2a\",Hoja1!$B$128,IF(H21=\"2b\",Hoja1!$B$129,IF(H21=\"3 \",Hoja1!$B$130,IF(H21=\"4 \",Hoja1!$B$131,IF(H21=\"5 \",Hoja1!$B$132,IF(H21=\"6 \",Hoja1!$B$133,IF(H21=\"7 \",Hoja1!$B$134,IF(H21=\"8 \",Hoja1!$B$135,\" \"))))))))))","v":" "},{"$f":"CONCATENATE(#REF!,\"-\",\"TX\")","v":{"$error":"#REF!"}},{"$f":"CONCATENATE(#REF!,\"-\",\"RX\")","v":{"$error":"#REF!"}},null,null,null,null,0,null,null,null,null,null,{"$f":"IF($R21=\"\",\"\",VLOOKUP($R21,'FO-DRE-01'!$A$7:$U$301,18,FALSE))","v":""},{"$f":"IF($R21=\"\",\"\",VLOOKUP($R21,'FO-DRE-01'!$A$7:$U$301,16,FALSE))","v":""},{"$f":"IF($R21=\"\",\"\",VLOOKUP($R21,'FO-DRE-01'!$A$7:$U$301,17,FALSE))","v":""},{"$f":"IF($R21=\"\",\"\",VLOOKUP($R21,'FO-DRE-01'!$A$7:$U$301,3,FALSE))","v":""},{"$f":"IF($R21=\"\",\"\",VLOOKUP($R21,'FO-DRE-01'!$A$7:$U$301,4,FALSE))","v":""},{"$f":"IF($R21=\"\",\"\",VLOOKUP($R21,'FO-DRE-01'!$A$7:$U$301,5,FALSE))","v":""},{"$f":"IF($R21=\"\",\"\",VLOOKUP($R21,'FO-DRE-01'!$A$7:$U$301,7,FALSE))","v":""},{"$f":"IF($R21=\"\",\"\",VLOOKUP($R21,'FO-DRE-01'!$A$7:$U$301,8,FALSE))","v":""},{"$f":"IF($R21=\"\",\"\",VLOOKUP($R21,'FO-DRE-01'!$A$7:$U$301,9,FALSE))","v":""},{"$f":"IF($R21=\"\",\"\",VLOOKUP($R21,'FO-DRE-01'!$A$7:$U$301,10,FALSE))","v":""},{"$f":"IF($R21=\"\",\"\",VLOOKUP($R21,'FO-DRE-01'!$A$7:$U$301,11,FALSE))","v":""},{"$f":"IF($R21=\"\",\"\",VLOOKUP($R21,'FO-DRE-01'!$A$7:$U$301,12,FALSE))","v":""},{"$f":"IF($R21=\"\",\"\",VLOOKUP($R21,'FO-DRE-01'!$A$7:$U$301,13,FALSE))","v":""},{"$f":"IF($R21=\"\",\"\",VLOOKUP($R21,'FO-DRE-01'!$A$7:$U$301,14,FALSE))","v":""},{"$f":"IF($R21=\"\",\"\",VLOOKUP($R21,'FO-DRE-01'!$A$7:$U$301,15,FALSE))","v":""},{"$f":"IF($S21=\"\",\"\",VLOOKUP($S21,'FO-DRE-04'!$A$6:$L$301,2,FALSE))","v":""},{"$f":"IF($S21=\"\",\"\",VLOOKUP($S21,'FO-DRE-04'!$A$6:$L$301,3,FALSE))","v":""},{"$f":"IF($S21=\"\",\"\",VLOOKUP($S21,'FO-DRE-04'!$A$6:$L$301,4,FALSE))","v":""},{"$f":"IF($S21=\"\",\"\",VLOOKUP($S21,'FO-DRE-04'!$A$6:$L$301,6,FALSE))","v":""},{"$f":"IF($S21=\"\",\"\",VLOOKUP($S21,'FO-DRE-04'!$A$6:$L$301,11,FALSE))","v":""},{"$f":"IF($T21=\"\",\"\",VLOOKUP($T21,'FO-DRE-02'!$A$6:$M$101,2,FALSE))","v":""},{"$f":"IF($T21=\"\",\"\",VLOOKUP($T21,'FO-DRE-02'!$A$6:$M$101,3,FALSE))","v":""},{"$f":"IF($T21=\"\",\"\",VLOOKUP($T21,'FO-DRE-02'!$A$6:$M$101,6,FALSE))","v":""},{"$f":"IF($T21=\"\",\"\",VLOOKUP($T21,'FO-DRE-02'!$A$6:$M$101,4,FALSE))","v":""},{"$f":"IF($T21=\"\",\"\",VLOOKUP($T21,'FO-DRE-02'!$A$6:$M$101,5,FALSE))","v":""},{"$f":"IF($T21=\"\",\"\",VLOOKUP($T21,'FO-DRE-02'!$A$6:$M$101,8,FALSE))","v":""},{"$f":"IF($T21=\"\",\"\",VLOOKUP($T21,'FO-DRE-02'!$A$6:$M$101,7,FALSE))","v":""},{"$f":"IF($T21=\"\",\"\",VLOOKUP($T21,'FO-DRE-02'!$A$6:$M$101,9,FALSE))","v":""},{"$f":"IF($T21=\"\",\"\",VLOOKUP($T21,'FO-DRE-02'!$A$6:$M$101,11,FALSE))","v":""},{"$f":"IF($T21=\"\",\"\",VLOOKUP($T21,'FO-DRE-02'!$A$6:$M$101,12,FALSE))","v":""},{"$f":"IF($T21=\"\",\"\",VLOOKUP($T21,'FO-DRE-02'!$A$6:$M$101,13,FALSE))","v":""},null,856,null,12,"","F/D","F/D","","","","","","","","","","","","","","",""]
[null,null,null,null,null,null,null,null,{"$f":"IF(H22=\"1a\",Hoja1!$B$126,IF(H22=\"1b\",Hoja1!$B$127,IF(H22=\"2a\",Hoja1!$B$128,IF(H22=\"2b\",Hoja1!$B$129,IF(H22=\"3 \",Hoja1!$B$130,IF(H22=\"4 \",Hoja1!$B$131,IF(H22=\"5 \",Hoja1!$B$132,IF(H22=\"6 \",Hoja1!$B$133,IF(H22=\"7 \",Hoja1!$B$134,IF(H22=\"8 \",Hoja1!$B$135,\" \"))))))))))","v":" "},{"$f":"CONCATENATE(#REF!,\"-\",\"TX\")","v":{"$error":"#REF!"}},{"$f":"CONCATENATE(#REF!,\"-\",\"RX\")","v":{"$error":"#REF!"}},null,null,null,null,0,null,null,null,null,null,{"$f":"IF($R22=\"\",\"\",VLOOKUP($R22,'FO-DRE-01'!$A$7:$U$301,18,FALSE))","v":""},{"$f":"IF($R22=\"\",\"\",VLOOKUP($R22,'FO-DRE-01'!$A$7:$U$301,16,FALSE))","v":""},{"$f":"IF($R22=\"\",\"\",VLOOKUP($R22,'FO-DRE-01'!$A$7:$U$301,17,FALSE))","v":""},{"$f":"IF($R22=\"\",\"\",VLOOKUP($R22,'FO-DRE-01'!$A$7:$U$301,3,FALSE))","v":""},{"$f":"IF($R22=\"\",\"\",VLOOKUP($R22,'FO-DRE-01'!$A$7:$U$301,4,FALSE))","v":""},{"$f":"IF($R22=\"\",\"\",VLOOKUP($R22,'FO-DRE-01'!$A$7:$U$301,5,FALSE))","v":""},{"$f":"IF($R22=\"\",\"\",VLOOKUP($R22,'FO-DRE-01'!$A$7:$U$301,7,FALSE))","v":""},{"$f":"IF($R22=\"\",\"\",VLOOKUP($R22,'FO-DRE-01'!$A$7:$U$301,8,FALSE))","v":""},{"$f":"IF($R22=\"\",\"\",VLOOKUP($R22,'FO-DRE-01'!$A$7:$U$301,9,FALSE))","v":""},{"$f":"IF($R22=\"\",\"\",VLOOKUP($R22,'FO-DRE-01'!$A$7:$U$301,10,FALSE))","v":""},{"$f":"IF($R22=\"\",\"\",VLOOKUP($R22,'FO-DRE-01'!$A$7:$U$301,11,FALSE))","v":""},{"$f":"IF($R22=\"\",\"\",VLOOKUP($R22,'FO-DRE-01'!$A$7:$U$301,12,FALSE))","v":""},{"$f":"IF($R22=\"\",\"\",VLOOKUP($R22,'FO-DRE-01'!$A$7:$U$301,13,FALSE))","v":""},{"$f":"IF($R22=\"\",\"\",VLOOKUP($R22,'FO-DRE-01'!$A$7:$U$301,14,FALSE))","v":""},{"$f":"IF($R22=\"\",\"\",VLOOKUP($R22,'FO-DRE-01'!$A$7:$U$301,15,FALSE))","v":""},{"$f":"IF($S22=\"\",\"\",VLOOKUP($S22,'FO-DRE-04'!$A$6:$L$301,2,FALSE))","v":""},{"$f":"IF($S22=\"\",\"\",VLOOKUP($S22,'FO-DRE-04'!$A$6:$L$301,3,FALSE))","v":""},{"$f":"IF($S22=\"\",\"\",VLOOKUP($S22,'FO-DRE-04'!$A$6:$L$301,4,FALSE))","v":""},{"$f":"IF($S22=\"\",\"\",VLOOKUP($S22,'FO-DRE-04'!$A$6:$L$301,6,FALSE))","v":""},{"$f":"IF($S22=\"\",\"\",VLOOKUP($S22,'FO-DRE-04'!$A$6:$L$301,11,FALSE))","v":""},{"$f":"IF($T22=\"\",\"\",VLOOKUP($T22,'FO-DRE-02'!$A$6:$M$101,2,FALSE))","v":""},{"$f":"IF($T22=\"\",\"\",VLOOKUP($T22,'FO-DRE-02'!$A$6:$M$101,3,FALSE))","v":""},{"$f":"IF($T22=\"\",\"\",VLOOKUP($T22,'FO-DRE-02'!$A$6:$M$101,6,FALSE))","v":""},{"$f":"IF($T22=\"\",\"\",VLOOKUP($T22,'FO-DRE-02'!$A$6:$M$101,4,FALSE))","v":""},{"$f":"IF($T22=\"\",\"\",VLOOKUP($T22,'FO-DRE-02'!$A$6:$M$101,5,FALSE))","v":""},{"$f":"IF($T22=\"\",\"\",VLOOKUP($T22,'FO-DRE-02'!$A$6:$M$101,8,FALSE))","v":""},{"$f":"IF($T22=\"\",\"\",VLOOKUP($T22,'FO-DRE-02'!$A$6:$M$101,7,FALSE))","v":""},{"$f":"IF($T22=\"\",\"\",VLOOKUP($T22,'FO-DRE-02'!$A$6:$M$101,9,FALSE))","v":""},{"$f":"IF($T22=\"\",\"\",VLOOKUP($T22,'FO-DRE-02'!$A$6:$M$101,11,FALSE))","v":""},{"$f":"IF($T22=\"\",\"\",VLOOKUP($T22,'FO-DRE-02'!$A$6:$M$101,12,FALSE))","v":""},{"$f":"IF($T22=\"\",\"\",VLOOKUP($T22,'FO-DRE-02'!$A$6:$M$101,13,FALSE))","v":""},null,856,null,13,"","F/D","F/D","","","","","","","","","","","","","","",""]
[null,null,null,null,null,null,null,null,{"$f":"IF(H23=\"1a\",Hoja1!$B$126,IF(H23=\"1b\",Hoja1!$B$127,IF(H23=\"2a\",Hoja1!$B$128,IF(H23=\"2b\",Hoja1!$B$129,IF(H23=\"3 \",Hoja1!$B$130,IF(H23=\"4 \",Hoja1!$B$131,IF(H23=\"5 \",Hoja1!$B$132,IF(H23=\"6 \",Hoja1!$B$133,IF(H23=\"7 \",Hoja1!$B$134,IF(H23=\"8 \",Hoja1!$B$135,\" \"))))))))))","v":" "},{"$f":"CONCATENATE(#REF!,\"-\",\"TX\")","v":{"$error":"#REF!"}},{"$f":"CONCATENATE(#REF!,\"-\",\"RX\")","v":{"$error":"#REF!"}},null,null,null,null,0,null,null,null,null,null,{"$f":"IF($R23=\"\",\"\",VLOOKUP($R23,'FO-DRE-01'!$A$7:$U$301,18,FALSE))","v":""},{"$f":"IF($R23=\"\",\"\",VLOOKUP($R23,'FO-DRE-01'!$A$7:$U$301,16,FALSE))","v":""},{"$f":"IF($R23=\"\",\"\",VLOOKUP($R23,'FO-DRE-01'!$A$7:$U$301,17,FALSE))","v":""},{"$f":"IF($R23=\"\",\"\",VLOOKUP($R23,'FO-DRE-01'!$A$7:$U$301,3,FALSE))","v":""},{"$f":"IF($R23=\"\",\"\",VLOOKUP($R23,'FO-DRE-01'!$A$7:$U$301,4,FALSE))","v":""},{"$f":"IF($R23=\"\",\"\",VLOOKUP($R23,'FO-DRE-01'!$A$7:$U$301,5,FALSE))","v":""},{"$f":"IF($R23=\"\",\"\",VLOOKUP($R23,'FO-DRE-01'!$A$7:$U$301,7,FALSE))","v":""},{"$f":"IF($R23=\"\",\"\",VLOOKUP($R23,'FO-DRE-01'!$A$7:$U$301,8,FALSE))","v":""},{"$f":"IF($R23=\"\",\"\",VLOOKUP($R23,'FO-DRE-01'!$A$7:$U$301,9,FALSE))","v":""},{"$f":"IF($R23=\"\",\"\",VLOOKUP($R23,'FO-DRE-01'!$A$7:$U$301,10,FALSE))","v":""},{"$f":"IF($R23=\"\",\"\",VLOOKUP($R23,'FO-DRE-01'!$A$7:$U$301,11,FALSE))","v":""},{"$f":"IF($R23=\"\",\"\",VLOOKUP($R23,'FO-DRE-01'!$A$7:$U$301,12,FALSE))","v":""},{"$f":"IF($R23=\"\",\"\",VLOOKUP($R23,'FO-DRE-01'!$A$7:$U$301,13,FALSE))","v":""},{"$f":"IF($R23=\"\",\"\",VLOOKUP($R23,'FO-DRE-01'!$A$7:$U$301,14,FALSE))","v":""},{"$f":"IF($R23=\"\",\"\",VLOOKUP($R23,'FO-DRE-01'!$A$7:$U$301,15,FALSE))","v":""},{"$f":"IF($S23=\"\",\"\",VLOOKUP($S23,'FO-DRE-04'!$A$6:$L$301,2,FALSE))","v":""},{"$f":"IF($S23=\"\",\"\",VLOOKUP($S23,'FO-DRE-04'!$A$6:$L$301,3,FALSE))","v":""},{"$f":"IF($S23=\"\",\"\",VLOOKUP($S23,'FO-DRE-04'!$A$6:$L$301,4,FALSE))","v":""},{"$f":"IF($S23=\"\",\"\",VLOOKUP($S23,'FO-DRE-04'!$A$6:$L$301,6,FALSE))","v":""},{"$f":"IF($S23=\"\",\"\",VLOOKUP($S23,'FO-DRE-04'!$A$6:$L$301,11,FALSE))","v":""},{"$f":"IF($T23=\"\",\"\",VLOOKUP($T23,'FO-DRE-02'!$A$6:$M$101,2,FALSE))","v":""},{"$f":"IF($T23=\"\",\"\",VLOOKUP($T23,'FO-DRE-02'!$A$6:$M$101,3,FALSE))","v":""},{"$f":"IF($T23=\"\",\"\",VLOOKUP($T23,'FO-DRE-02'!$A$6:$M$101,6,FALSE))","v":""},{"$f":"IF($T23=\"\",\"\",VLOOKUP($T23,'FO-DRE-02'!$A$6:$M$101,4,FALSE))","v":""},{"$f":"IF($T23=\"\",\"\",VLOOKUP($T23,'FO-DRE-02'!$A$6:$M$101,5,FALSE))","v":""},{"$f":"IF($T23=\"\",\"\",VLOOKUP($T23,'FO-DRE-02'!$A$6:$M$101,8,FALSE))","v":""},{"$f":"IF($T23=\"\",\"\",VLOOKUP($T23,'FO-DRE-02'!$A$6:$M$101,7,FALSE))","v":""},{"$f":"IF($T23=\"\",\"\",VLOOKUP($T23,'FO-DRE-02'!$A$6:$M$101,9,FALSE))","v":""},{"$f":"IF($T23=\"\",\"\",VLOOKUP($T23,'FO-DRE-02'!$A$6:$M$101,11,FALSE))","v":""},{"$f":"IF($T23=\"\",\"\",VLOOKUP($T23,'FO-DRE-02'!$A$6:$M$101,12,FALSE))","v":""},{"$f":"IF($T23=\"\",\"\",VLOOKUP($T23,'FO-DRE-02'!$A$6:$M$101,13,FALSE))","v":""},null,856,null,14,"","F/D","F/D","","","","","","","","","","","","","","",""]
[null,null,null,null,null,null,null,null,{"$f":"IF(H24=\"1a\",Hoja1!$B$126,IF(H24=\"1b\",Hoja1!$B$127,IF(H24=\"2a\",Hoja1!$B$128,IF(H24=\"2b\",Hoja1!$B$129,IF(H24=\"3 \",Hoja1!$B$130,IF(H24=\"4 \",Hoja1!$B$131,IF(H24=\"5 \",Hoja1!$B$132,IF(H24=\"6 \",Hoja1!$B$133,IF(H24=\"7 \",Hoja1!$B$134,IF(H24=\"8 \",Hoja1!$B$135,\" \"))))))))))","v":" "},{"$f":"CONCATENATE(#REF!,\"-\",\"TX\")","v":{"$error":"#REF!"}},{"$f":"CONCATENATE(#REF!,\"-\",\"RX\")","v":{"$error":"#REF!"}},null,null,null,null,0,null,null,null,null,null,{"$f":"IF($R24=\"\",\"\",VLOOKUP($R24,'FO-DRE-01'!$A$7:$U$301,18,FALSE))","v":""},{"$f":"IF($R24=\"\",\"\",VLOOKUP($R24,'FO-DRE-01'!$A$7:$U$301,16,FALSE))","v":""},{"$f":"IF($R24=\"\",\"\",VLOOKUP($R24,'FO-DRE-01'!$A$7:$U$301,17,FALSE))","v":""},{"$f":"IF($R24=\"\",\"\",VLOOKUP($R24,'FO-DRE-01'!$A$7:$U$301,3,FALSE))","v":""},{"$f":"IF($R24=\"\",\"\",VLOOKUP($R24,'FO-DRE-01'!$A$7:$U$301,4,FALSE))","v":""},{"$f":"IF($R24=\"\",\"\",VLOOKUP($R24,'FO-DRE-01'!$A$7:$U$301,5,FALSE))","v":""},{"$f":"IF($R24=\"\",\"\",VLOOKUP($R24,'FO-DRE-01'!$A$7:$U$301,7,FALSE))","v":""},{"$f":"IF($R24=\"\",\"\",VLOOKUP($R24,'FO-DRE-01'!$A$7:$U$301,8,FALSE))","v":""},{"$f":"IF($R24=\"\",\"\",VLOOKUP($R24,'FO-DRE-01'!$A$7:$U$301,9,FALSE))","v":""},{"$f":"IF($R24=\"\",\"\",VLOOKUP($R24,'FO-DRE-01'!$A$7:$U$301,10,FALSE))","v":""},{"$f":"IF($R24=\"\",\"\",VLOOKUP($R24,'FO-DRE-01'!$A$7:$U$301,11,FALSE))","v":""},{"$f":"IF($R24=\"\",\"\",VLOOKUP($R24,'FO-DRE-01'!$A$7:$U$301,12,FALSE))","v":""},{"$f":"IF($R24=\"\",\"\",VLOOKUP($R24,'FO-DRE-01'!$A$7:$U$301,13,FALSE))","v":""},{"$f":"IF($R24=\"\",\"\",VLOOKUP($R24,'FO-DRE-01'!$A$7:$U$301,14,FALSE))","v":""},{"$f":"IF($R24=\"\",\"\",VLOOKUP($R24,'FO-DRE-01'!$A$7:$U$301,15,FALSE))","v":""},{"$f":"IF($S24=\"\",\"\",VLOOKUP($S24,'FO-DRE-04'!$A$6:$L$301,2,FALSE))","v":""},{"$f":"IF($S24=\"\",\"\",VLOOKUP($S24,'FO-DRE-04'!$A$6:$L$301,3,FALSE))","v":""},{"$f":"IF($S24=\"\",\"\",VLOOKUP($S24,'FO-DRE-04'!$A$6:$L$301,4,FALSE))","v":""},{"$f":"IF($S24=\"\",\"\",VLOOKUP($S24,'FO-DRE-04'!$A$6:$L$301,6,FALSE))","v":""},{"$f":"IF($S24=\"\",\"\",VLOOKUP($S24,'FO-DRE-04'!$A$6:$L$301,11,FALSE))","v":""},{"$f":"IF($T24=\"\",\"\",VLOOKUP($T24,'FO-DRE-02'!$A$6:$M$101,2,FALSE))","v":""},{"$f":"IF($T24=\"\",\"\",VLOOKUP($T24,'FO-DRE-02'!$A$6:$M$101,3,FALSE))","v":""},{"$f":"IF($T24=\"\",\"\",VLOOKUP($T24,'FO-DRE-02'!$A$6:$M$101,6,FALSE))","v":""},{"$f":"IF($T24=\"\",\"\",VLOOKUP($T24,'FO-DRE-02'!$A$6:$M$101,4,FALSE))","v":""},{"$f":"IF($T24=\"\",\"\",VLOOKUP($T24,'FO-DRE-02'!$A$6:$M$101,5,FALSE))","v":""},{"$f":"IF($T24=\"\",\"\",VLOOKUP($T24,'FO-DRE-02'!$A$6:$M$101,8,FALSE))","v":""},{"$f":"IF($T24=\"\",\"\",VLOOKUP($T24,'FO-DRE-02'!$A$6:$M$101,7,FALSE))","v":""},{"$f":"IF($T24=\"\",\"\",VLOOKUP($T24,'FO-DRE-02'!$A$6:$M$101,9,FALSE))","v":""},{"$f":"IF($T24=\"\",\"\",VLOOKUP($T24,'FO-DRE-02'!$A$6:$M$101,11,FALSE))","v":""},{"$f":"IF($T24=\"\",\"\",VLOOKUP($T24,'FO-DRE-02'!$A$6:$M$101,12,FALSE))","v":""},{"$f":"IF($T24=\"\",\"\",VLOOKUP($T24,'FO-DRE-02'!$A$6:$M$101,13,FALSE))","v":""},null,856,null,15,"","F/D","F/D","","","","","","","","","","","","","","",""]
[null,null,null,null,null,null,null,null,{"$f":"IF(H25=\"1a\",Hoja1!$B$126,IF(H25=\"1b\",Hoja1!$B$127,IF(H25=\"2a\",Hoja1!$B$128,IF(H25=\"2b\",Hoja1!$B$129,IF(H25=\"3 \",Hoja1!$B$130,IF(H25=\"4 \",Hoja1!$B$131,IF(H25=\"5 \",Hoja1!$B$132,IF(H25=\"6 \",Hoja1!$B$133,IF(H25=\"7 \",Hoja1!$B$134,IF(H25=\"8 \",Hoja1!$B$135,\" \"))))))))))","v":" "},{"$f":"CONCATENATE(#REF!,\"-\",\"TX\")","v":{"$error":"#REF!"}},{"$f":"CONCATENATE(#REF!,\"-\",\"RX\")","v":{"$error":"#REF!"}},null,null,null,null,0,null,null,null,null,null,{"$f":"IF($R25=\"\",\"\",VLOOKUP($R25,'FO-DRE-01'!$A$7:$U$301,18,FALSE))","v":""},{"$f":"IF($R25=\"\",\"\",VLOOKUP($R25,'FO-DRE-01'!$A$7:$U$301,16,FALSE))","v":""},{"$f":"IF($R25=\"\",\"\",VLOOKUP($R25,'FO-DRE-01'!$A$7:$U$301,17,FALSE))","v":""},{"$f":"IF($R25=\"\",\"\",VLOOKUP($R25,'FO-DRE-01'!$A$7:$U$301,3,FALSE))","v":""},{"$f":"IF($R25=\"\",\"\",VLOOKUP($R25,'FO-DRE-01'!$A$7:$U$301,4,FALSE))","v":""},{"$f":"IF($R25=\"\",\"\",VLOOKUP($R25,'FO-DRE-01'!$A$7:$U$301,5,FALSE))","v":""},{"$f":"IF($R25=\"\",\"\",VLOOKUP($R25,'FO-DRE-01'!$A$7:$U$301,7,FALSE))","v":""},{"$f":"IF($R25=\"\",\"\",VLOOKUP($R25,'FO-DRE-01'!$A$7:$U$301,8,FALSE))","v":""},{"$f":"IF($R25=\"\",\"\",VLOOKUP($R25,'FO-DRE-01'!$A$7:$U$301,9,FALSE))","v":""},{"$f":"IF($R25=\"\",\"\",VLOOKUP($R25,'FO-DRE-01'!$A$7:$U$301,10,FALSE))","v":""},{"$f":"IF($R25=\"\",\"\",VLOOKUP($R25,'FO-DRE-01'!$A$7:$U$301,11,FALSE))","v":""},{"$f":"IF($R25=\"\",\"\",VLOOKUP($R25,'FO-DRE-01'!$A$7:$U$301,12,FALSE))","v":""},{"$f":"IF($R25=\"\",\"\",VLOOKUP($R25,'FO-DRE-01'!$A$7:$U$301,13,FALSE))","v":""},{"$f":"IF($R25=\"\",\"\",VLOOKUP($R25,'FO-DRE-01'!$A$7:$U$301,14,FALSE))","v":""},{"$f":"IF($R25=\"\",\"\",VLOOKUP($R25,'FO-DRE-01'!$A$7:$U$301,15,FALSE))","v":""},{"$f":"IF($S25=\"\",\"\",VLOOKUP($S25,'FO-DRE-04'!$A$6:$L$301,2,FALSE))","v":""},{"$f":"IF($S25=\"\",\"\",VLOOKUP($S25,'FO-DRE-04'!$A$6:$L$301,3,FALSE))","v":""},{"$f":"IF($S25=\"\",\"\",VLOOKUP($S25,'FO-DRE-04'!$A$6:$L$301,4,FALSE))","v":""},{"$f":"IF($S25=\"\",\"\",VLOOKUP($S25,'FO-DRE-04'!$A$6:$L$301,6,FALSE))","v":""},{"$f":"IF($S25=\"\",\"\",VLOOKUP($S25,'FO-DRE-04'!$A$6:$L$301,11,FALSE))","v":""},{"$f":"IF($T25=\"\",\"\",VLOOKUP($T25,'FO-DRE-02'!$A$6:$M$101,2,FALSE))","v":""},{"$f":"IF($T25=\"\",\"\",VLOOKUP($T25,'FO-DRE-02'!$A$6:$M$101,3,FALSE))","v":""},{"$f":"IF($T25=\"\",\"\",VLOOKUP($T25,'FO-DRE-02'!$A$6:$M$101,6,FALSE))","v":""},{"$f":"IF($T25=\"\",\"\",VLOOKUP($T25,'FO-DRE-02'!$A$6:$M$101,4,FALSE))","v":""},{"$f":"IF($T25=\"\",\"\",VLOOKUP($T25,'FO-DRE-02'!$A$6:$M$101,5,FALSE))","v":""},{"$f":"IF($T25=\"\",\"\",VLOOKUP($T25,'FO-DRE-02'!$A$6:$M$101,8,FALSE))","v":""},{"$f":"IF($T25=\"\",\"\",VLOOKUP($T25,'FO-DRE-02'!$A$6:$M$101,7,FALSE))","v":""},{"$f":"IF($T25=\"\",\"\",VLOOKUP($T25,'FO-DRE-02'!$A$6:$M$101,9,FALSE))","v":""},{"$f":"IF($T25=\"\",\"\",VLOOKUP($T25,'FO-DRE-02'!$A$6:$M$101,11,FALSE))","v":""},{"$f":"IF($T25=\"\",\"\",VLOOKUP($T25,'FO-DRE-02'!$A$6:$M$101,12,FALSE))","v":""},{"$f":"IF($T25=\"\",\"\",VLOOKUP($T25,'FO-DRE-02'!$A$6:$M$101,13,FALSE))","v":""},null,856,null,16,"","F/D","F/D","","","","","","","",{"$f":"IF(OR(AK25=\"MOVIL\",AK25=\"PORTATIL\"),\"\",IF(AN25=\"\",\"\",AN25))","v":""},"",{"$f":"IF(OR(BO25=\"\",BP25=\"\"),\"\",BP25*BO25)","v":""},"","","","",""]
[null,null,null,null,null,null,null,null,{"$f":"IF(H26=\"1a\",Hoja1!$B$126,IF(H26=\"1b\",Hoja1!$B$127,IF(H26=\"2a\",Hoja1!$B$128,IF(H26=\"2b\",Hoja1!$B$129,IF(H26=\"3 \",Hoja1!$B$130,IF(H26=\"4 \",Hoja1!$B$131,IF(H26=\"5 \",Hoja1!$B$132,IF(H26=\"6 \",Hoja1!$B$133,IF(H26=\"7 \",Hoja1!$B$134,IF(H26=\"8 \",Hoja1!$B$135,\" \"))))))))))","v":" "},{"$f":"CONCATENATE(#REF!,\"-\",\"TX\")","v":{"$error":"#REF!"}},{"$f":"CONCATENATE(#REF!,\"-\",\"RX\")","v":{"$error":"#REF!"}},null,null,null,null,0,null,null,null,null,null,{"$f":"IF($R26=\"\",\"\",VLOOKUP($R26,'FO-DRE-01'!$A$7:$U$301,18,FALSE))","v":""},{"$f":"IF($R26=\"\",\"\",VLOOKUP($R26,'FO-DRE-01'!$A$7:$U$301,16,FALSE))","v":""},{"$f":"IF($R26=\"\",\"\",VLOOKUP($R26,'FO-DRE-01'!$A$7:$U$301,17,FALSE))","v":""},{"$f":"IF($R26=\"\",\"\",VLOOKUP($R26,'FO-DRE-01'!$A$7:$U$301,3,FALSE))","v":""},{"$f":"IF($R26=\"\",\"\",VLOOKUP($R26,'FO-DRE-01'!$A$7:$U$301,4,FALSE))","v":""},{"$f":"IF($R26=\"\",\"\",VLOOKUP($R26,'FO-DRE-01'!$A$7:$U$301,5,FALSE))","v":""},{"$f":"IF($R26=\"\",\"\",VLOOKUP($R26,'FO-DRE-01'!$A$7:$U$301,7,FALSE))","v":""},{"$f":"IF($R26=\"\",\"\",VLOOKUP($R26,'FO-DRE-01'!$A$7:$U$301,8,FALSE))","v":""},{"$f":"IF($R26=\"\",\"\",VLOOKUP($R26,'FO-DRE-01'!$A$7:$U$301,9,FALSE))","v":""},{"$f":"IF($R26=\"\",\"\",VLOOKUP($R26,'FO-DRE-01'!$A$7:$U$301,10,FALSE))","v":""},{"$f":"IF($R26=\"\",\"\",VLOOKUP($R26,'FO-DRE-01'!$A$7:$U$301,11,FALSE))","v":""},{"$f":"IF($R26=\"\",\"\",VLOOKUP($R26,'FO-DRE-01'!$A$7:$U$301,12,FALSE))","v":""},{"$f":"IF($R26=\"\",\"\",VLOOKUP($R26,'FO-DRE-01'!$A$7:$U$301,13,FALSE))","v":""},{"$f":"IF($R26=\"\",\"\",VLOOKUP($R26,'FO-DRE-01'!$A$7:$U$301,14,FALSE))","v":""},{"$f":"IF($R26=\"\",\"\",VLOOKUP($R26,'FO-DRE-01'!$A$7:$U$301,15,FALSE))","v":""},{"$f":"IF($S26=\"\",\"\",VLOOKUP($S26,'FO-DRE-04'!$A$6:$L$301,2,FALSE))","v":""},{"$f":"IF($S26=\"\",\"\",VLOOKUP($S26,'FO-DRE-04'!$A$6:$L$301,3,FALSE))","v":""},{"$f":"IF($S26=\"\",\"\",VLOOKUP($S26,'FO-DRE-04'!$A$6:$L$301,4,FALSE))","v":""},{"$f":"IF($S26=\"\",\"\",VLOOKUP($S26,'FO-DRE-04'!$A$6:$L$301,6,FALSE))","v":""},{"$f":"IF($S26=\"\",\"\",VLOOKUP($S26,'FO-DRE-04'!$A$6:$L$301,11,FALSE))","v":""},{"$f":"IF($T26=\"\",\"\",VLOOKUP($T26,'FO-DRE-02'!$A$6:$M$101,2,FALSE))","v":""},{"$f":"IF($T26=\"\",\"\",VLOOKUP($T26,'FO-DRE-02'!$A$6:$M$101,3,FALSE))","v":""},{"$f":"IF($T26=\"\",\"\",VLOOKUP($T26,'FO-DRE-02'!$A$6:$M$101,6,FALSE))","v":""},{"$f":"IF($T26=\"\",\"\",VLOOKUP($T26,'FO-DRE-02'!$A$6:$M$101,4,FALSE))","v":""},{"$f":"IF($T26=\"\",\"\",VLOOKUP($T26,'FO-DRE-02'!$A$6:$M$101,5,FALSE))","v":""},{"$f":"IF($T26=\"\",\"\",VLOOKUP($T26,'FO-DRE-02'!$A$6:$M$101,8,FALSE))","v":""},{"$f":"IF($T26=\"\",\"\",VLOOKUP($T26,'FO-DRE-02'!$A$6:$M$101,7,FALSE))","v":""},{"$f":"IF($T26=\"\",\"\",VLOOKUP($T26,'FO-DRE-02'!$A$6:$M$101,9,FALSE))","v":""},{"$f":"IF($T26=\"\",\"\",VLOOKUP($T26,'FO-DRE-02'!$A$6:$M$101,11,FALSE))","v":""},{"$f":"IF($T26=\"\",\"\",VLOOKUP($T26,'FO-DRE-02'!$A$6:$M$101,12,FALSE))","v":""},{"$f":"IF($T26=\"\",\"\",VLOOKUP($T26,'FO-DRE-02'!$A$6:$M$101,13,FALSE))","v":""},null,856,null,17,"","F/D","F/D","","","","","","","","","","","","","","",""]
[null,null,null,null,null,null,null,null,{"$f":"IF(H27=\"1a\",Hoja1!$B$126,IF(H27=\"1b\",Hoja1!$B$127,IF(H27=\"2a\",Hoja1!$B$128,IF(H27=\"2b\",Hoja1!$B$129,IF(H27=\"3 \",Hoja1!$B$130,IF(H27=\"4 \",Hoja1!$B$131,IF(H27=\"5 \",Hoja1!$B$132,IF(H27=\"6 \",Hoja1!$B$133,IF(H27=\"7 \",Hoja1!$B$134,IF(H27=\"8 \",Hoja1!$B$135,\" \"))))))))))","v":" "},{"$f":"CONCATENATE(#REF!,\"-\",\"TX\")","v":{"$error":"#REF!"}},{"$f":"CONCATENATE(#REF!,\"-\",\"RX\")","v":{"$error":"#REF!"}},null,null,null,null,0,null,null,null,null,null,{"$f":"IF($R27=\"\",\"\",VLOOKUP($R27,'FO-DRE-01'!$A$7:$U$301,18,FALSE))","v":""},{"$f":"IF($R27=\"\",\"\",VLOOKUP($R27,'FO-DRE-01'!$A$7:$U$301,16,FALSE))","v":""},{"$f":"IF($R27=\"\",\"\",VLOOKUP($R27,'FO-DRE-01'!$A$7:$U$301,17,FALSE))","v":""},{"$f":"IF($R27=\"\",\"\",VLOOKUP($R27,'FO-DRE-01'!$A$7:$U$301,3,FALSE))","v":""},{"$f":"IF($R27=\"\",\"\",VLOOKUP($R27,'FO-DRE-01'!$A$7:$U$301,4,FALSE))","v":""},{"$f":"IF($R27=\"\",\"\",VLOOKUP($R27,'FO-DRE-01'!$A$7:$U$301,5,FALSE))","v":""},{"$f":"IF($R27=\"\",\"\",VLOOKUP($R27,'FO-DRE-01'!$A$7:$U$301,7,FALSE))","v":""},{"$f":"IF($R27=\"\",\"\",VLOOKUP($R27,'FO-DRE-01'!$A$7:$U$301,8,FALSE))","v":""},{"$f":"IF($R27=\"\",\"\",VLOOKUP($R27,'FO-DRE-01'!$A$7:$U$301,9,FALSE))","v":""},{"$f":"IF($R27=\"\",\"\",VLOOKUP($R27,'FO-DRE-01'!$A$7:$U$301,10,FALSE))","v":""},{"$f":"IF($R27=\"\",\"\",VLOOKUP($R27,'FO-DRE-01'!$A$7:$U$301,11,FALSE))","v":""},{"$f":"IF($R27=\"\",\"\",VLOOKUP($R27,'FO-DRE-01'!$A$7:$U$301,12,FALSE))","v":""},{"$f":"IF($R27=\"\",\"\",VLOOKUP($R27,'FO-DRE-01'!$A$7:$U$301,13,FALSE))","v":""},{"$f":"IF($R27=\"\",\"\",VLOOKUP($R27,'FO-DRE-01'!$A$7:$U$301,14,FALSE))","v":""},{"$f":"IF($R27=\"\",\"\",VLOOKUP($R27,'FO-DRE-01'!$A$7:$U$301,15,FALSE))","v":""},{"$f":"IF($S27=\"\",\"\",VLOOKUP($S27,'FO-DRE-04'!$A$6:$L$301,2,FALSE))","v":""},{"$f":"IF($S27=\"\",\"\",VLOOKUP($S27,'FO-DRE-04'!$A$6:$L$301,3,FALSE))","v":""},{"$f":"IF($S27=\"\",\"\",VLOOKUP($S27,'FO-DRE-04'!$A$6:$L$301,4,FALSE))","v":""},{"$f":"IF($S27=\"\",\"\",VLOOKUP($S27,'FO-DRE-04'!$A$6:$L$301,6,FALSE))","v":""},{"$f":"IF($S27=\"\",\"\",VLOOKUP($S27,'FO-DRE-04'!$A$6:$L$301,11,FALSE))","v":""},{"$f":"IF($T27=\"\",\"\",VLOOKUP($T27,'FO-DRE-02'!$A$6:$M$101,2,FALSE))","v":""},{"$f":"IF($T27=\"\",\"\",VLOOKUP($T27,'FO-DRE-02'!$A$6:$M$101,3,FALSE))","v":""},{"$f":"IF($T27=\"\",\"\",VLOOKUP($T27,'FO-DRE-02'!$A$6:$M$101,6,FALSE))","v":""},{"$f":"IF($T27=\"\",\"\",VLOOKUP($T27,'FO-DRE-02'!$A$6:$M$101,4,FALSE))","v":""},{"$f":"IF($T27=\"\",\"\",VLOOKUP($T27,'FO-DRE-02'!$A$6:$M$101,5,FALSE))","v":""},{"$f":"IF($T27=\"\",\"\",VLOOKUP($T27,'FO-DRE-02'!$A$6:$M$101,8,FALSE))","v":""},{"$f":"IF($T27=\"\",\"\",VLOOKUP($T27,'FO-DRE-02'!$A$6:$M$101,7,FALSE))","v":""},{"$f":"IF($T27=\"\",\"\",VLOOKUP($T27,'FO-DRE-02'!$A$6:$M$101,9,FALSE))","v":""},{"$f":"IF($T27=\"\",\"\",VLOOKUP($T27,'FO-DRE-02'!$A$6:$M$101,11,FALSE))","v":""},{"$f":"IF($T27=\"\",\"\",VLOOKUP($T27,'FO-DRE-02'!$A$6:$M$101,12,FALSE))","v":""},{"$f":"IF($T27=\"\",\"\",VLOOKUP($T27,'FO-DRE-02'!$A$6:$M$101,13,FALSE))","v":""},null,856,null,18,"","F/D","F/D","","","","","","","","","","","","","","",""]
[null,null,null,null,null,null,null,null,{"$f":"IF(H28=\"1a\",Hoja1!$B$126,IF(H28=\"1b\",Hoja1!$B$127,IF(H28=\"2a\",Hoja1!$B$128,IF(H28=\"2b\",Hoja1!$B$129,IF(H28=\"3 \",Hoja1!$B$130,IF(H28=\"4 \",Hoja1!$B$131,IF(H28=\"5 \",Hoja1!$B$132,IF(H28=\"6 \",Hoja1!$B$133,IF(H28=\"7 \",Hoja1!$B$134,IF(H28=\"8 \",Hoja1!$B$135,\" \"))))))))))","v":" "},{"$f":"CONCATENATE(#REF!,\"-\",\"TX\")","v":{"$error":"#REF!"}},{"$f":"CONCATENATE(#REF!,\"-\",\"RX\")","v":{"$error":"#REF!"}},null,null,null,null,0,null,null,null,null,null,{"$f":"IF($R28=\"\",\"\",VLOOKUP($R28,'FO-DRE-01'!$A$7:$U$301,18,FALSE))","v":""},{"$f":"IF($R28=\"\",\"\",VLOOKUP($R28,'FO-DRE-01'!$A$7:$U$301,16,FALSE))","v":""},{"$f":"IF($R28=\"\",\"\",VLOOKUP($R28,'FO-DRE-01'!$A$7:$U$301,17,FALSE))","v":""},{"$f":"IF($R28=\"\",\"\",VLOOKUP($R28,'FO-DRE-01'!$A$7:$U$301,3,FALSE))","v":""},{"$f":"IF($R28=\"\",\"\",VLOOKUP($R28,'FO-DRE-01'!$A$7:$U$301,4,FALSE))","v":""},{"$f":"IF($R28=\"\",\"\",VLOOKUP($R28,'FO-DRE-01'!$A$7:$U$301,5,FALSE))","v":""},{"$f":"IF($R28=\"\",\"\",VLOOKUP($R28,'FO-DRE-01'!$A$7:$U$301,7,FALSE))","v":""},{"$f":"IF($R28=\"\",\"\",VLOOKUP($R28,'FO-DRE-01'!$A$7:$U$301,8,FALSE))","v":""},{"$f":"IF($R28=\"\",\"\",VLOOKUP($R28,'FO-DRE-01'!$A$7:$U$301,9,FALSE))","v":""},{"$f":"IF($R28=\"\",\"\",VLOOKUP($R28,'FO-DRE-01'!$A$7:$U$301,10,FALSE))","v":""},{"$f":"IF($R28=\"\",\"\",VLOOKUP($R28,'FO-DRE-01'!$A$7:$U$301,11,FALSE))","v":""},{"$f":"IF($R28=\"\",\"\",VLOOKUP($R28,'FO-DRE-01'!$A$7:$U$301,12,FALSE))","v":""},{"$f":"IF($R28=\"\",\"\",VLOOKUP($R28,'FO-DRE-01'!$A$7:$U$301,13,FALSE))","v":""},{"$f":"IF($R28=\"\",\"\",VLOOKUP($R28,'FO-DRE-01'!$A$7:$U$301,14,FALSE))","v":""},{"$f":"IF($R28=\"\",\"\",VLOOKUP($R28,'FO-DRE-01'!$A$7:$U$301,15,FALSE))","v":""},{"$f":"IF($S28=\"\",\"\",VLOOKUP($S28,'FO-DRE-04'!$A$6:$L$301,2,FALSE))","v":""},{"$f":"IF($S28=\"\",\"\",VLOOKUP($S28,'FO-DRE-04'!$A$6:$L$301,3,FALSE))","v":""},{"$f":"IF($S28=\"\",\"\",VLOOKUP($S28,'FO-DRE-04'!$A$6:$L$301,4,FALSE))","v":""},{"$f":"IF($S28=\"\",\"\",VLOOKUP($S28,'FO-DRE-04'!$A$6:$L$301,6,FALSE))","v":""},{"$f":"IF($S28=\"\",\"\",VLOOKUP($S28,'FO-DRE-04'!$A$6:$L$301,11,FALSE))","v":""},{"$f":"IF($T28=\"\",\"\",VLOOKUP($T28,'FO-DRE-02'!$A$6:$M$101,2,FALSE))","v":""},{"$f":"IF($T28=\"\",\"\",VLOOKUP($T28,'FO-DRE-02'!$A$6:$M$101,3,FALSE))","v":""},{"$f":"IF($T28=\"\",\"\",VLOOKUP($T28,'FO-DRE-02'!$A$6:$M$101,6,FALSE))","v":""},{"$f":"IF($T28=\"\",\"\",VLOOKUP($T28,'FO-DRE-02'!$A$6:$M$101,4,FALSE))","v":""},{"$f":"IF($T28=\"\",\"\",VLOOKUP($T28,'FO-DRE-02'!$A$6:$M$101,5,FALSE))","v":""},{"$f":"IF($T28=\"\",\"\",VLOOKUP($T28,'FO-DRE-02'!$A$6:$M$101,8,FALSE))","v":""},{"$f":"IF($T28=\"\",\"\",VLOOKUP($T28,'FO-DRE-02'!$A$6:$M$101,7,FALSE))","v":""},{"$f":"IF($T28=\"\",\"\",VLOOKUP($T28,'FO-DRE-02'!$A$6:$M$101,9,FALSE))","v":""},{"$f":"IF($T28=\"\",\"\",VLOOKUP($T28,'FO-DRE-02'!$A$6:$M$101,11,FALSE))","v":""},{"$f":"IF($T28=\"\",\"\",VLOOKUP($T28,'FO-DRE-02'!$A$6:$M$101,12,FALSE))","v":""},{"$f":"IF($T28=\"\",\"\",VLOOKUP($T28,'FO-DRE-02'!$A$6:$M$101,13,FALSE))","v":""},null,856,null,19,"","F/D","F/D","","","","","","","","","","","","","","",""]
[null,null,null,null,null,null,null,null,{"$f":"IF(H29=\"1a\",Hoja1!$B$126,IF(H29=\"1b\",Hoja1!$B$127,IF(H29=\"2a\",Hoja1!$B$128,IF(H29=\"2b\",Hoja1!$B$129,IF(H29=\"3 \",Hoja1!$B$130,IF(H29=\"4 \",Hoja1!$B$131,IF(H29=\"5 \",Hoja1!$B$132,IF(H29=\"6 \",Hoja1!$B$133,IF(H29=\"7 \",Hoja1!$B$134,IF(H29=\"8 \",Hoja1!$B$135,\" \"))))))))))","v":" "},{"$f":"CONCATENATE(#REF!,\"-\",\"TX\")","v":{"$error":"#REF!"}},{"$f":"CONCATENATE(#REF!,\"-\",\"RX\")","v":{"$error":"#REF!"}},null,null,null,null,0,null,null,null,null,null,{"$f":"IF($R29=\"\",\"\",VLOOKUP($R29,'FO-DRE-01'!$A$7:$U$301,18,FALSE))","v":""},{"$f":"IF($R29=\"\",\"\",VLOOKUP($R29,'FO-DRE-01'!$A$7:$U$301,16,FALSE))","v":""},{"$f":"IF($R29=\"\",\"\",VLOOKUP($R29,'FO-DRE-01'!$A$7:$U$301,17,FALSE))","v":""},{"$f":"IF($R29=\"\",\"\",VLOOKUP($R29,'FO-DRE-01'!$A$7:$U$301,3,FALSE))","v":""},{"$f":"IF($R29=\"\",\"\",VLOOKUP($R29,'FO-DRE-01'!$A$7:$U$301,4,FALSE))","v":""},{"$f":"IF($R29=\"\",\"\",VLOOKUP($R29,'FO-DRE-01'!$A$7:$U$301,5,FALSE))","v":""},{"$f":"IF($R29=\"\",\"\",VLOOKUP($R29,'FO-DRE-01'!$A$7:$U$301,7,FALSE))","v":""},{"$f":"IF($R29=\"\",\"\",VLOOKUP($R29,'FO-DRE-01'!$A$7:$U$301,8,FALSE))","v":""},{"$f":"IF($R29=\"\",\"\",VLOOKUP($R29,'FO-DRE-01'!$A$7:$U$301,9,FALSE))","v":""},{"$f":"IF($R29=\"\",\"\",VLOOKUP($R29,'FO-DRE-01'!$A$7:$U$301,10,FALSE))","v":""},{"$f":"IF($R29=\"\",\"\",VLOOKUP($R29,'FO-DRE-01'!$A$7:$U$301,11,FALSE))","v":""},{"$f":"IF($R29=\"\",\"\",VLOOKUP($R29,'FO-DRE-01'!$A$7:$U$301,12,FALSE))","v":""},{"$f":"IF($R29=\"\",\"\",VLOOKUP($R29,'FO-DRE-01'!$A$7:$U$301,13,FALSE))","v":""},{"$f":"IF($R29=\"\",\"\",VLOOKUP($R29,'FO-DRE-01'!$A$7:$U$301,14,FALSE))","v":""},{"$f":"IF($R29=\"\",\"\",VLOOKUP($R29,'FO-DRE-01'!$A$7:$U$301,15,FALSE))","v":""},{"$f":"IF($S29=\"\",\"\",VLOOKUP($S29,'FO-DRE-04'!$A$6:$L$301,2,FALSE))","v":""},{"$f":"IF($S29=\"\",\"\",VLOOKUP($S29,'FO-DRE-04'!$A$6:$L$301,3,FALSE))","v":""},{"$f":"IF($S29=\"\",\"\",VLOOKUP($S29,'FO-DRE-04'!$A$6:$L$301,4,FALSE))","v":""},{"$f":"IF($S29=\"\",\"\",VLOOKUP($S29,'FO-DRE-04'!$A$6:$L$301,6,FALSE))","v":""},{"$f":"IF($S29=\"\",\"\",VLOOKUP($S29,'FO-DRE-04'!$A$6:$L$301,11,FALSE))","v":""},{"$f":"IF($T29=\"\",\"\",VLOOKUP($T29,'FO-DRE-02'!$A$6:$M$101,2,FALSE))","v":""},{"$f":"IF($T29=\"\",\"\",VLOOKUP($T29,'FO-DRE-02'!$A$6:$M$101,3,FALSE))","v":""},{"$f":"IF($T29=\"\",\"\",VLOOKUP($T29,'FO-DRE-02'!$A$6:$M$101,6,FALSE))","v":""},{"$f":"IF($T29=\"\",\"\",VLOOKUP($T29,'FO-DRE-02'!$A$6:$M$101,4,FALSE))","v":""},{"$f":"IF($T29=\"\",\"\",VLOOKUP($T29,'FO-DRE-02'!$A$6:$M$101,5,FALSE))","v":""},{"$f":"IF($T29=\"\",\"\",VLOOKUP($T29,'FO-DRE-02'!$A$6:$M$101,8,FALSE))","v":""},{"$f":"IF($T29=\"\",\"\",VLOOKUP($T29,'FO-DRE-02'!$A$6:$M$101,7,FALSE))","v":""},{"$f":"IF($T29=\"\",\"\",VLOOKUP($T29,'FO-DRE-02'!$A$6:$M$101,9,FALSE))","v":""},{"$f":"IF($T29=\"\",\"\",VLOOKUP($T29,'FO-DRE-02'!$A$6:$M$101,11,FALSE))","v":""},{"$f":"IF($T29=\"\",\"\",VLOOKUP($T29,'FO-DRE-02'!$A$6:$M$101,12,FALSE))","v":""},{"$f":"IF($T29=\"\",\"\",VLOOKUP($T29,'FO-DRE-02'!$A$6:$M$101,13,FALSE))","v":""},null,856,null,20,"","F/D","F/D","","","","","","","","","","","","","","",""]
[null,null,null,null,null,null,null,null,{"$f":"IF(H30=\"1a\",Hoja1!$B$126,IF(H30=\"1b\",Hoja1!$B$127,IF(H30=\"2a\",Hoja1!$B$128,IF(H30=\"2b\",Hoja1!$B$129,IF(H30=\"3 \",Hoja1!$B$130,IF(H30=\"4 \",Hoja1!$B$131,IF(H30=\"5 \",Hoja1!$B$132,IF(H30=\"6 \",Hoja1!$B$133,IF(H30=\"7 \",Hoja1!$B$134,IF(H30=\"8 \",Hoja1!$B$135,\" \"))))))))))","v":" "},{"$f":"CONCATENATE(#REF!,\"-\",\"TX\")","v":{"$error":"#REF!"}},{"$f":"CONCATENATE(#REF!,\"-\",\"RX\")","v":{"$error":"#REF!"}},null,null,null,null,0,null,null,null,null,null,{"$f":"IF($R30=\"\",\"\",VLOOKUP($R30,'FO-DRE-01'!$A$7:$U$301,18,FALSE))","v":""},{"$f":"IF($R30=\"\",\"\",VLOOKUP($R30,'FO-DRE-01'!$A$7:$U$301,16,FALSE))","v":""},{"$f":"IF($R30=\"\",\"\",VLOOKUP($R30,'FO-DRE-01'!$A$7:$U$301,17,FALSE))","v":""},{"$f":"IF($R30=\"\",\"\",VLOOKUP($R30,'FO-DRE-01'!$A$7:$U$301,3,FALSE))","v":""},{"$f":"IF($R30=\"\",\"\",VLOOKUP($R30,'FO-DRE-01'!$A$7:$U$301,4,FALSE))","v":""},{"$f":"IF($R30=\"\",\"\",VLOOKUP($R30,'FO-DRE-01'!$A$7:$U$301,5,FALSE))","v":""},{"$f":"IF($R30=\"\",\"\",VLOOKUP($R30,'FO-DRE-01'!$A$7:$U$301,7,FALSE))","v":""},{"$f":"IF($R30=\"\",\"\",VLOOKUP($R30,'FO-DRE-01'!$A$7:$U$301,8,FALSE))","v":""},{"$f":"IF($R30=\"\",\"\",VLOOKUP($R30,'FO-DRE-01'!$A$7:$U$301,9,FALSE))","v":""},{"$f":"IF($R30=\"\",\"\",VLOOKUP($R30,'FO-DRE-01'!$A$7:$U$301,10,FALSE))","v":""},{"$f":"IF($R30=\"\",\"\",VLOOKUP($R30,'FO-DRE-01'!$A$7:$U$301,11,FALSE))","v":""},{"$f":"IF($R30=\"\",\"\",VLOOKUP($R30,'FO-DRE-01'!$A$7:$U$301,12,FALSE))","v":""},{"$f":"IF($R30=\"\",\"\",VLOOKUP($R30,'FO-DRE-01'!$A$7:$U$301,13,FALSE))","v":""},{"$f":"IF($R30=\"\",\"\",VLOOKUP($R30,'FO-DRE-01'!$A$7:$U$301,14,FALSE))","v":""},{"$f":"IF($R30=\"\",\"\",VLOOKUP($R30,'FO-DRE-01'!$A$7:$U$301,15,FALSE))","v":""},{"$f":"IF($S30=\"\",\"\",VLOOKUP($S30,'FO-DRE-04'!$A$6:$L$301,2,FALSE))","v":""},{"$f":"IF($S30=\"\",\"\",VLOOKUP($S30,'FO-DRE-04'!$A$6:$L$301,3,FALSE))","v":""},{"$f":"IF($S30=\"\",\"\",VLOOKUP($S30,'FO-DRE-04'!$A$6:$L$301,4,FALSE))","v":""},{"$f":"IF($S30=\"\",\"\",VLOOKUP($S30,'FO-DRE-04'!$A$6:$L$301,6,FALSE))","v":""},{"$f":"IF($S30=\"\",\"\",VLOOKUP($S30,'FO-DRE-04'!$A$6:$L$301,11,FALSE))","v":""},{"$f":"IF($T30=\"\",\"\",VLOOKUP($T30,'FO-DRE-02'!$A$6:$M$101,2,FALSE))","v":""},{"$f":"IF($T30=\"\",\"\",VLOOKUP($T30,'FO-DRE-02'!$A$6:$M$101,3,FALSE))","v":""},{"$f":"IF($T30=\"\",\"\",VLOOKUP($T30,'FO-DRE-02'!$A$6:$M$101,6,FALSE))","v":""},{"$f":"IF($T30=\"\",\"\",VLOOKUP($T30,'FO-DRE-02'!$A$6:$M$101,4,FALSE))","v":""},{"$f":"IF($T30=\"\",\"\",VLOOKUP($T30,'FO-DRE-02'!$A$6:$M$101,5,FALSE))","v":""},{"$f":"IF($T30=\"\",\"\",VLOOKUP($T30,'FO-DRE-02'!$A$6:$M$101,8,FALSE))","v":""},{"$f":"IF($T30=\"\",\"\",VLOOKUP($T30,'FO-DRE-02'!$A$6:$M$101,7,FALSE))","v":""},{"$f":"IF($T30=\"\",\"\",VLOOKUP($T30,'FO-DRE-02'!$A$6:$M$101,9,FALSE))","v":""},{"$f":"IF($T30=\"\",\"\",VLOOKUP($T30,'FO-DRE-02'!$A$6:$M$101,11,FALSE))","v":""},{"$f":"IF($T30=\"\",\"\",VLOOKUP($T30,'FO-DRE-02'!$A$6:$M$101,12,FALSE))","v":""},{"$f":"IF($T30=\"\",\"\",VLOOKUP($T30,'FO-DRE-02'!$A$6:$M$101,13,FALSE))","v":""},null,856,null,21,"","F/D","F/D","","","","","","","","","","","","","","",""]
[null,null,null,null,null,null,null,null,{"$f":"IF(H31=\"1a\",Hoja1!$B$126,IF(H31=\"1b\",Hoja1!$B$127,IF(H31=\"2a\",Hoja1!$B$128,IF(H31=\"2b\",Hoja1!$B$129,IF(H31=\"3 \",Hoja1!$B$130,IF(H31=\"4 \",Hoja1!$B$131,IF(H31=\"5 \",Hoja1!$B$132,IF(H31=\"6 \",Hoja1!$B$133,IF(H31=\"7 \",Hoja1!$B$134,IF(H31=\"8 \",Hoja1!$B$135,\" \"))))))))))","v":" "},{"$f":"CONCATENATE(#REF!,\"-\",\"TX\")","v":{"$error":"#REF!"}},{"$f":"CONCATENATE(#REF!,\"-\",\"RX\")","v":{"$error":"#REF!"}},null,null,null,null,0,null,null,null,null,null,{"$f":"IF($R31=\"\",\"\",VLOOKUP($R31,'FO-DRE-01'!$A$7:$U$301,18,FALSE))","v":""},{"$f":"IF($R31=\"\",\"\",VLOOKUP($R31,'FO-DRE-01'!$A$7:$U$301,16,FALSE))","v":""},{"$f":"IF($R31=\"\",\"\",VLOOKUP($R31,'FO-DRE-01'!$A$7:$U$301,17,FALSE))","v":""},{"$f":"IF($R31=\"\",\"\",VLOOKUP($R31,'FO-DRE-01'!$A$7:$U$301,3,FALSE))","v":""},{"$f":"IF($R31=\"\",\"\",VLOOKUP($R31,'FO-DRE-01'!$A$7:$U$301,4,FALSE))","v":""},{"$f":"IF($R31=\"\",\"\",VLOOKUP($R31,'FO-DRE-01'!$A$7:$U$301,5,FALSE))","v":""},{"$f":"IF($R31=\"\",\"\",VLOOKUP($R31,'FO-DRE-01'!$A$7:$U$301,7,FALSE))","v":""},{"$f":"IF($R31=\"\",\"\",VLOOKUP($R31,'FO-DRE-01'!$A$7:$U$301,8,FALSE))","v":""},{"$f":"IF($R31=\"\",\"\",VLOOKUP($R31,'FO-DRE-01'!$A$7:$U$301,9,FALSE))","v":""},{"$f":"IF($R31=\"\",\"\",VLOOKUP($R31,'FO-DRE-01'!$A$7:$U$301,10,FALSE))","v":""},{"$f":"IF($R31=\"\",\"\",VLOOKUP($R31,'FO-DRE-01'!$A$7:$U$301,11,FALSE))","v":""},{"$f":"IF($R31=\"\",\"\",VLOOKUP($R31,'FO-DRE-01'!$A$7:$U$301,12,FALSE))","v":""},{"$f":"IF($R31=\"\",\"\",VLOOKUP($R31,'FO-DRE-01'!$A$7:$U$301,13,FALSE))","v":""},{"$f":"IF($R31=\"\",\"\",VLOOKUP($R31,'FO-DRE-01'!$A$7:$U$301,14,FALSE))","v":""},{"$f":"IF($R31=\"\",\"\",VLOOKUP($R31,'FO-DRE-01'!$A$7:$U$301,15,FALSE))","v":""},{"$f":"IF($S31=\"\",\"\",VLOOKUP($S31,'FO-DRE-04'!$A$6:$L$301,2,FALSE))","v":""},{"$f":"IF($S31=\"\",\"\",VLOOKUP($S31,'FO-DRE-04'!$A$6:$L$301,3,FALSE))","v":""},{"$f":"IF($S31=\"\",\"\",VLOOKUP($S31,'FO-DRE-04'!$A$6:$L$301,4,FALSE))","v":""},{"$f":"IF($S31=\"\",\"\",VLOOKUP($S31,'FO-DRE-04'!$A$6:$L$301,6,FALSE))","v":""},{"$f":"IF($S31=\"\",\"\",VLOOKUP($S31,'FO-DRE-04'!$A$6:$L$301,11,FALSE))","v":""},{"$f":"IF($T31=\"\",\"\",VLOOKUP($T31,'FO-DRE-02'!$A$6:$M$101,2,FALSE))","v":""},{"$f":"IF($T31=\"\",\"\",VLOOKUP($T31,'FO-DRE-02'!$A$6:$M$101,3,FALSE))","v":""},{"$f":"IF($T31=\"\",\"\",VLOOKUP($T31,'FO-DRE-02'!$A$6:$M$101,6,FALSE))","v":""},{"$f":"IF($T31=\"\",\"\",VLOOKUP($T31,'FO-DRE-02'!$A$6:$M$101,4,FALSE))","v":""},{"$f":"IF($T31=\"\",\"\",VLOOKUP($T31,'FO-DRE-02'!$A$6:$M$101,5,FALSE))","v":""},{"$f":"IF($T31=\"\",\"\",VLOOKUP($T31,'FO-DRE-02'!$A$6:$M$101,8,FALSE))","v":""},{"$f":"IF($T31=\"\",\"\",VLOOKUP($T31,'FO-DRE-02'!$A$6:$M$101,7,FALSE))","v":""},{"$f":"IF($T31=\"\",\"\",VLOOKUP($T31,'FO-DRE-02'!$A$6:$M$101,9,FALSE))","v":""},{"$f":"IF($T31=\"\",\"\",VLOOKUP($T31,'FO-DRE-02'!$A$6:$M$101,11,FALSE))","v":""},{"$f":"IF($T31=\"\",\"\",VLOOKUP($T31,'FO-DRE-02'!$A$6:$M$101,12,FALSE))","v":""},{"$f":"IF($T31=\"\",\"\",VLOOKUP($T31,'FO-DRE-02'!$A$6:$M$101,13,FALSE))","v":""},null,856,null,22,"","F/D","F/D","","","","","","","","","","","","","","",""]
[null,null,null,null,null,null,null,null,{"$f":"IF(H32=\"1a\",Hoja1!$B$126,IF(H32=\"1b\",Hoja1!$B$127,IF(H32=\"2a\",Hoja1!$B$128,IF(H32=\"2b\",Hoja1!$B$129,IF(H32=\"3 \",Hoja1!$B$130,IF(H32=\"4 \",Hoja1!$B$131,IF(H32=\"5 \",Hoja1!$B$132,IF(H32=\"6 \",Hoja1!$B$133,IF(H32=\"7 \",Hoja1!$B$134,IF(H32=\"8 \",Hoja1!$B$135,\" \"))))))))))","v":" "},{"$f":"CONCATENATE(#REF!,\"-\",\"TX\")","v":{"$error":"#REF!"}},{"$f":"CONCATENATE(#REF!,\"-\",\"RX\")","v":{"$error":"#REF!"}},null,null,null,null,0,null,null,null,null,null,{"$f":"IF($R32=\"\",\"\",VLOOKUP($R32,'FO-DRE-01'!$A$7:$U$301,18,FALSE))","v":""},{"$f":"IF($R32=\"\",\"\",VLOOKUP($R32,'FO-DRE-01'!$A$7:$U$301,16,FALSE))","v":""},{"$f":"IF($R32=\"\",\"\",VLOOKUP($R32,'FO-DRE-01'!$A$7:$U$301,17,FALSE))","v":""},{"$f":"IF($R32=\"\",\"\",VLOOKUP($R32,'FO-DRE-01'!$A$7:$U$301,3,FALSE))","v":""},{"$f":"IF($R32=\"\",\"\",VLOOKUP($R32,'FO-DRE-01'!$A$7:$U$301,4,FALSE))","v":""},{"$f":"IF($R32=\"\",\"\",VLOOKUP($R32,'FO-DRE-01'!$A$7:$U$301,5,FALSE))","v":""},{"$f":"IF($R32=\"\",\"\",VLOOKUP($R32,'FO-DRE-01'!$A$7:$U$301,7,FALSE))","v":""},{"$f":"IF($R32=\"\",\"\",VLOOKUP($R32,'FO-DRE-01'!$A$7:$U$301,8,FALSE))","v":""},{"$f":"IF($R32=\"\",\"\",VLOOKUP($R32,'FO-DRE-01'!$A$7:$U$301,9,FALSE))","v":""},{"$f":"IF($R32=\"\",\"\",VLOOKUP($R32,'FO-DRE-01'!$A$7:$U$301,10,FALSE))","v":""},{"$f":"IF($R32=\"\",\"\",VLOOKUP($R32,'FO-DRE-01'!$A$7:$U$301,11,FALSE))","v":""},{"$f":"IF($R32=\"\",\"\",VLOOKUP($R32,'FO-DRE-01'!$A$7:$U$301,12,FALSE))","v":""},{"$f":"IF($R32=\"\",\"\",VLOOKUP($R32,'FO-DRE-01'!$A$7:$U$301,13,FALSE))","v":""},{"$f":"IF($R32=\"\",\"\",VLOOKUP($R32,'FO-DRE-01'!$A$7:$U$301,14,FALSE))","v":""},{"$f":"IF($R32=\"\",\"\",VLOOKUP($R32,'FO-DRE-01'!$A$7:$U$301,15,FALSE))","v":""},{"$f":"IF($S32=\"\",\"\",VLOOKUP($S32,'FO-DRE-04'!$A$6:$L$301,2,FALSE))","v":""},{"$f":"IF($S32=\"\",\"\",VLOOKUP($S32,'FO-DRE-04'!$A$6:$L$301,3,FALSE))","v":""},{"$f":"IF($S32=\"\",\"\",VLOOKUP($S32,'FO-DRE-04'!$A$6:$L$301,4,FALSE))","v":""},{"$f":"IF($S32=\"\",\"\",VLOOKUP($S32,'FO-DRE-04'!$A$6:$L$301,6,FALSE))","v":""},{"$f":"IF($S32=\"\",\"\",VLOOKUP($S32,'FO-DRE-04'!$A$6:$L$301,11,FALSE))","v":""},{"$f":"IF($T32=\"\",\"\",VLOOKUP($T32,'FO-DRE-02'!$A$6:$M$101,2,FALSE))","v":""},{"$f":"IF($T32=\"\",\"\",VLOOKUP($T32,'FO-DRE-02'!$A$6:$M$101,3,FALSE))","v":""},{"$f":"IF($T32=\"\",\"\",VLOOKUP($T32,'FO-DRE-02'!$A$6:$M$101,6,FALSE))","v":""},{"$f":"IF($T32=\"\",\"\",VLOOKUP($T32,'FO-DRE-02'!$A$6:$M$101,4,FALSE))","v":""},{"$f":"IF($T32=\"\",\"\",VLOOKUP($T32,'FO-DRE-02'!$A$6:$M$101,5,FALSE))","v":""},{"$f":"IF($T32=\"\",\"\",VLOOKUP($T32,'FO-DRE-02'!$A$6:$M$101,8,FALSE))","v":""},{"$f":"IF($T32=\"\",\"\",VLOOKUP($T32,'FO-DRE-02'!$A$6:$M$101,7,FALSE))","v":""},{"$f":"IF($T32=\"\",\"\",VLOOKUP($T32,'FO-DRE-02'!$A$6:$M$101,9,FALSE))","v":""},{"$f":"IF($T32=\"\",\"\",VLOOKUP($T32,'FO-DRE-02'!$A$6:$M$101,11,FALSE))","v":""},{"$f":"IF($T32=\"\",\"\",VLOOKUP($T32,'FO-DRE-02'!$A$6:$M$101,12,FALSE))","v":""},{"$f":"IF($T32=\"\",\"\",VLOOKUP($T32,'FO-DRE-02'!$A$6:$M$101,13,FALSE))","v":""},null,856,null,23,"","F/D","F/D","","","","","","","","","","","","","","",""]
[null,null,null,null,null,null,null,null,{"$f":"IF(H33=\"1a\",Hoja1!$B$126,IF(H33=\"1b\",Hoja1!$B$127,IF(H33=\"2a\",Hoja1!$B$128,IF(H33=\"2b\",Hoja1!$B$129,IF(H33=\"3 \",Hoja1!$B$130,IF(H33=\"4 \",Hoja1!$B$131,IF(H33=\"5 \",Hoja1!$B$132,IF(H33=\"6 \",Hoja1!$B$133,IF(H33=\"7 \",Hoja1!$B$134,IF(H33=\"8 \",Hoja1!$B$135,\" \"))))))))))","v":" "},{"$f":"CONCATENATE(#REF!,\"-\",\"TX\")","v":{"$error":"#REF!"}},{"$f":"CONCATENATE(#REF!,\"-\",\"RX\")","v":{"$error":"#REF!"}},null,null,null,null,0,null,null,null,null,null,{"$f":"IF($R33=\"\",\"\",VLOOKUP($R33,'FO-DRE-01'!$A$7:$U$301,18,FALSE))","v":""},{"$f":"IF($R33=\"\",\"\",VLOOKUP($R33,'FO-DRE-01'!$A$7:$U$301,16,FALSE))","v":""},{"$f":"IF($R33=\"\",\"\",VLOOKUP($R33,'FO-DRE-01'!$A$7:$U$301,17,FALSE))","v":""},{"$f":"IF($R33=\"\",\"\",VLOOKUP($R33,'FO-DRE-01'!$A$7:$U$301,3,FALSE))","v":""},{"$f":"IF($R33=\"\",\"\",VLOOKUP($R33,'FO-DRE-01'!$A$7:$U$301,4,FALSE))","v":""},{"$f":"IF($R33=\"\",\"\",VLOOKUP($R33,'FO-DRE-01'!$A$7:$U$301,5,FALSE))","v":""},{"$f":"IF($R33=\"\",\"\",VLOOKUP($R33,'FO-DRE-01'!$A$7:$U$301,7,FALSE))","v":""},{"$f":"IF($R33=\"\",\"\",VLOOKUP($R33,'FO-DRE-01'!$A$7:$U$301,8,FALSE))","v":""},{"$f":"IF($R33=\"\",\"\",VLOOKUP($R33,'FO-DRE-01'!$A$7:$U$301,9,FALSE))","v":""},{"$f":"IF($R33=\"\",\"\",VLOOKUP($R33,'FO-DRE-01'!$A$7:$U$301,10,FALSE))","v":""},{"$f":"IF($R33=\"\",\"\",VLOOKUP($R33,'FO-DRE-01'!$A$7:$U$301,11,FALSE))","v":""},{"$f":"IF($R33=\"\",\"\",VLOOKUP($R33,'FO-DRE-01'!$A$7:$U$301,12,FALSE))","v":""},{"$f":"IF($R33=\"\",\"\",VLOOKUP($R33,'FO-DRE-01'!$A$7:$U$301,13,FALSE))","v":""},{"$f":"IF($R33=\"\",\"\",VLOOKUP($R33,'FO-DRE-01'!$A$7:$U$301,14,FALSE))","v":""},{"$f":"IF($R33=\"\",\"\",VLOOKUP($R33,'FO-DRE-01'!$A$7:$U$301,15,FALSE))","v":""},{"$f":"IF($S33=\"\",\"\",VLOOKUP($S33,'FO-DRE-04'!$A$6:$L$301,2,FALSE))","v":""},{"$f":"IF($S33=\"\",\"\",VLOOKUP($S33,'FO-DRE-04'!$A$6:$L$301,3,FALSE))","v":""},{"$f":"IF($S33=\"\",\"\",VLOOKUP($S33,'FO-DRE-04'!$A$6:$L$301,4,FALSE))","v":""},{"$f":"IF($S33=\"\",\"\",VLOOKUP($S33,'FO-DRE-04'!$A$6:$L$301,6,FALSE))","v":""},{"$f":"IF($S33=\"\",\"\",VLOOKUP($S33,'FO-DRE-04'!$A$6:$L$301,11,FALSE))","v":""},{"$f":"IF($T33=\"\",\"\",VLOOKUP($T33,'FO-DRE-02'!$A$6:$M$101,2,FALSE))","v":""},{"$f":"IF($T33=\"\",\"\",VLOOKUP($T33,'FO-DRE-02'!$A$6:$M$101,3,FALSE))","v":""},{"$f":"IF($T33=\"\",\"\",VLOOKUP($T33,'FO-DRE-02'!$A$6:$M$101,6,FALSE))","v":""},{"$f":"IF($T33=\"\",\"\",VLOOKUP($T33,'FO-DRE-02'!$A$6:$M$101,4,FALSE))","v":""},{"$f":"IF($T33=\"\",\"\",VLOOKUP($T33,'FO-DRE-02'!$A$6:$M$101,5,FALSE))","v":""},{"$f":"IF($T33=\"\",\"\",VLOOKUP($T33,'FO-DRE-02'!$A$6:$M$101,8,FALSE))","v":""},{"$f":"IF($T33=\"\",\"\",VLOOKUP($T33,'FO-DRE-02'!$A$6:$M$101,7,FALSE))","v":""},{"$f":"IF($T33=\"\",\"\",VLOOKUP($T33,'FO-DRE-02'!$A$6:$M$101,9,FALSE))","v":""},{"$f":"IF($T33=\"\",\"\",VLOOKUP($T33,'FO-DRE-02'!$A$6:$M$101,11,FALSE))","v":""},{"$f":"IF($T33=\"\",\"\",VLOOKUP($T33,'FO-DRE-02'!$A$6:$M$101,12,FALSE))","v":""},{"$f":"IF($T33=\"\",\"\",VLOOKUP($T33,'FO-DRE-02'!$A$6:$M$101,13,FALSE))","v":""},null,856,null,24,"","F/D","F/D","","","","","","","","","","","","","","",""]
[null,null,null,null,null,null,null,null,{"$f":"IF(H34=\"1a\",Hoja1!$B$126,IF(H34=\"1b\",Hoja1!$B$127,IF(H34=\"2a\",Hoja1!$B$128,IF(H34=\"2b\",Hoja1!$B$129,IF(H34=\"3 \",Hoja1!$B$130,IF(H34=\"4 \",Hoja1!$B$131,IF(H34=\"5 \",Hoja1!$B$132,IF(H34=\"6 \",Hoja1!$B$133,IF(H34=\"7 \",Hoja1!$B$134,IF(H34=\"8 \",Hoja1!$B$135,\" \"))))))))))","v":" "},{"$f":"CONCATENATE(#REF!,\"-\",\"TX\")","v":{"$error":"#REF!"}},{"$f":"CONCATENATE(#REF!,\"-\",\"RX\")","v":{"$error":"#REF!"}},null,null,null,null,0,null,null,null,null,null,{"$f":"IF($R34=\"\",\"\",VLOOKUP($R34,'FO-DRE-01'!$A$7:$U$301,18,FALSE))","v":""},{"$f":"IF($R34=\"\",\"\",VLOOKUP($R34,'FO-DRE-01'!$A$7:$U$301,16,FALSE))","v":""},{"$f":"IF($R34=\"\",\"\",VLOOKUP($R34,'FO-DRE-01'!$A$7:$U$301,17,FALSE))","v":""},{"$f":"IF($R34=\"\",\"\",VLOOKUP($R34,'FO-DRE-01'!$A$7:$U$301,3,FALSE))","v":""},{"$f":"IF($R34=\"\",\"\",VLOOKUP($R34,'FO-DRE-01'!$A$7:$U$301,4,FALSE))","v":""},{"$f":"IF($R34=\"\",\"\",VLOOKUP($R34,'FO-DRE-01'!$A$7:$U$301,5,FALSE))","v":""},{"$f":"IF($R34=\"\",\"\",VLOOKUP($R34,'FO-DRE-01'!$A$7:$U$301,7,FALSE))","v":""},{"$f":"IF($R34=\"\",\"\",VLOOKUP($R34,'FO-DRE-01'!$A$7:$U$301,8,FALSE))","v":""},{"$f":"IF($R34=\"\",\"\",VLOOKUP($R34,'FO-DRE-01'!$A$7:$U$301,9,FALSE))","v":""},{"$f":"IF($R34=\"\",\"\",VLOOKUP($R34,'FO-DRE-01'!$A$7:$U$301,10,FALSE))","v":""},{"$f":"IF($R34=\"\",\"\",VLOOKUP($R34,'FO-DRE-01'!$A$7:$U$301,11,FALSE))","v":""},{"$f":"IF($R34=\"\",\"\",VLOOKUP($R34,'FO-DRE-01'!$A$7:$U$301,12,FALSE))","v":""},{"$f":"IF($R34=\"\",\"\",VLOOKUP($R34,'FO-DRE-01'!$A$7:$U$301,13,FALSE))","v":""},{"$f":"IF($R34=\"\",\"\",VLOOKUP($R34,'FO-DRE-01'!$A$7:$U$301,14,FALSE))","v":""},{"$f":"IF($R34=\"\",\"\",VLOOKUP($R34,'FO-DRE-01'!$A$7:$U$301,15,FALSE))","v":""},{"$f":"IF($S34=\"\",\"\",VLOOKUP($S34,'FO-DRE-04'!$A$6:$L$301,2,FALSE))","v":""},{"$f":"IF($S34=\"\",\"\",VLOOKUP($S34,'FO-DRE-04'!$A$6:$L$301,3,FALSE))","v":""},{"$f":"IF($S34=\"\",\"\",VLOOKUP($S34,'FO-DRE-04'!$A$6:$L$301,4,FALSE))","v":""},{"$f":"IF($S34=\"\",\"\",VLOOKUP($S34,'FO-DRE-04'!$A$6:$L$301,6,FALSE))","v":""},{"$f":"IF($S34=\"\",\"\",VLOOKUP($S34,'FO-DRE-04'!$A$6:$L$301,11,FALSE))","v":""},{"$f":"IF($T34=\"\",\"\",VLOOKUP($T34,'FO-DRE-02'!$A$6:$M$101,2,FALSE))","v":""},{"$f":"IF($T34=\"\",\"\",VLOOKUP($T34,'FO-DRE-02'!$A$6:$M$101,3,FALSE))","v":""},{"$f":"IF($T34=\"\",\"\",VLOOKUP($T34,'FO-DRE-02'!$A$6:$M$101,6,FALSE))","v":""},{"$f":"IF($T34=\"\",\"\",VLOOKUP($T34,'FO-DRE-02'!$A$6:$M$101,4,FALSE))","v":""},{"$f":"IF($T34=\"\",\"\",VLOOKUP($T34,'FO-DRE-02'!$A$6:$M$101,5,FALSE))","v":""},{"$f":"IF($T34=\"\",\"\",VLOOKUP($T34,'FO-DRE-02'!$A$6:$M$101,8,FALSE))","v":""},{"$f":"IF($T34=\"\",\"\",VLOOKUP($T34,'FO-DRE-02'!$A$6:$M$101,7,FALSE))","v":""},{"$f":"IF($T34=\"\",\"\",VLOOKUP($T34,'FO-DRE-02'!$A$6:$M$101,9,FALSE))","v":""},{"$f":"IF($T34=\"\",\"\",VLOOKUP($T34,'FO-DRE-02'!$A$6:$M$101,11,FALSE))","v":""},{"$f":"IF($T34=\"\",\"\",VLOOKUP($T34,'FO-DRE-02'!$A$6:$M$101,12,FALSE))","v":""},{"$f":"IF($T34=\"\",\"\",VLOOKUP($T34,'FO-DRE-02'!$A$6:$M$101,13,FALSE))","v":""},null,856,null,25,"","F/D","F/D","","","","","","","","","","","","","","",""]
[null,null,null,null,null,null,null,null,{"$f":"IF(H35=\"1a\",Hoja1!$B$126,IF(H35=\"1b\",Hoja1!$B$127,IF(H35=\"2a\",Hoja1!$B$128,IF(H35=\"2b\",Hoja1!$B$129,IF(H35=\"3 \",Hoja1!$B$130,IF(H35=\"4 \",Hoja1!$B$131,IF(H35=\"5 \",Hoja1!$B$132,IF(H35=\"6 \",Hoja1!$B$133,IF(H35=\"7 \",Hoja1!$B$134,IF(H35=\"8 \",Hoja1!$B$135,\" \"))))))))))","v":" "},{"$f":"CONCATENATE(#REF!,\"-\",\"TX\")","v":{"$error":"#REF!"}},{"$f":"CONCATENATE(#REF!,\"-\",\"RX\")","v":{"$error":"#REF!"}},null,null,null,null,0,null,null,null,null,null,{"$f":"IF($R35=\"\",\"\",VLOOKUP($R35,'FO-DRE-01'!$A$7:$U$301,18,FALSE))","v":""},{"$f":"IF($R35=\"\",\"\",VLOOKUP($R35,'FO-DRE-01'!$A$7:$U$301,16,FALSE))","v":""},{"$f":"IF($R35=\"\",\"\",VLOOKUP($R35,'FO-DRE-01'!$A$7:$U$301,17,FALSE))","v":""},{"$f":"IF($R35=\"\",\"\",VLOOKUP($R35,'FO-DRE-01'!$A$7:$U$301,3,FALSE))","v":""},{"$f":"IF($R35=\"\",\"\",VLOOKUP($R35,'FO-DRE-01'!$A$7:$U$301,4,FALSE))","v":""},{"$f":"IF($R35=\"\",\"\",VLOOKUP($R35,'FO-DRE-01'!$A$7:$U$301,5,FALSE))","v":""},{"$f":"IF($R35=\"\",\"\",VLOOKUP($R35,'FO-DRE-01'!$A$7:$U$301,7,FALSE))","v":""},{"$f":"IF($R35=\"\",\"\",VLOOKUP($R35,'FO-DRE-01'!$A$7:$U$301,8,FALSE))","v":""},{"$f":"IF($R35=\"\",\"\",VLOOKUP($R35,'FO-DRE-01'!$A$7:$U$301,9,FALSE))","v":""},{"$f":"IF($R35=\"\",\"\",VLOOKUP($R35,'FO-DRE-01'!$A$7:$U$301,10,FALSE))","v":""},{"$f":"IF($R35=\"\",\"\",VLOOKUP($R35,'FO-DRE-01'!$A$7:$U$301,11,FALSE))","v":""},{"$f":"IF($R35=\"\",\"\",VLOOKUP($R35,'FO-DRE-01'!$A$7:$U$301,12,FALSE))","v":""},{"$f":"IF($R35=\"\",\"\",VLOOKUP($R35,'FO-DRE-01'!$A$7:$U$301,13,FALSE))","v":""},{"$f":"IF($R35=\"\",\"\",VLOOKUP($R35,'FO-DRE-01'!$A$7:$U$301,14,FALSE))","v":""},{"$f":"IF($R35=\"\",\"\",VLOOKUP($R35,'FO-DRE-01'!$A$7:$U$301,15,FALSE))","v":""},{"$f":"IF($S35=\"\",\"\",VLOOKUP($S35,'FO-DRE-04'!$A$6:$L$301,2,FALSE))","v":""},{"$f":"IF($S35=\"\",\"\",VLOOKUP($S35,'FO-DRE-04'!$A$6:$L$301,3,FALSE))","v":""},{"$f":"IF($S35=\"\",\"\",VLOOKUP($S35,'FO-DRE-04'!$A$6:$L$301,4,FALSE))","v":""},{"$f":"IF($S35=\"\",\"\",VLOOKUP($S35,'FO-DRE-04'!$A$6:$L$301,6,FALSE))","v":""},{"$f":"IF($S35=\"\",\"\",VLOOKUP($S35,'FO-DRE-04'!$A$6:$L$301,11,FALSE))","v":""},{"$f":"IF($T35=\"\",\"\",VLOOKUP($T35,'FO-DRE-02'!$A$6:$M$101,2,FALSE))","v":""},{"$f":"IF($T35=\"\",\"\",VLOOKUP($T35,'FO-DRE-02'!$A$6:$M$101,3,FALSE))","v":""},{"$f":"IF($T35=\"\",\"\",VLOOKUP($T35,'FO-DRE-02'!$A$6:$M$101,6,FALSE))","v":""},{"$f":"IF($T35=\"\",\"\",VLOOKUP($T35,'FO-DRE-02'!$A$6:$M$101,4,FALSE))","v":""},{"$f":"IF($T35=\"\",\"\",VLOOKUP($T35,'FO-DRE-02'!$A$6:$M$101,5,FALSE))","v":""},{"$f":"IF($T35=\"\",\"\",VLOOKUP($T35,'FO-DRE-02'!$A$6:$M$101,8,FALSE))","v":""},{"$f":"IF($T35=\"\",\"\",VLOOKUP($T35,'FO-DRE-02'!$A$6:$M$101,7,FALSE))","v":""},{"$f":"IF($T35=\"\",\"\",VLOOKUP($T35,'FO-DRE-02'!$A$6:$M$101,9,FALSE))","v":""},{"$f":"IF($T35=\"\",\"\",VLOOKUP($T35,'FO-DRE-02'!$A$6:$M$101,11,FALSE))","v":""},{"$f":"IF($T35=\"\",\"\",VLOOKUP($T35,'FO-DRE-02'!$A$6:$M$101,12,FALSE))","v":""},{"$f":"IF($T35=\"\",\"\",VLOOKUP($T35,'FO-DRE-02'!$A$6:$M$101,13,FALSE))","v":""},null,856,null,26,"","F/D","F/D","","","","","","","","","","","","","","",""]
[null,null,null,null,null,null,null,null,{"$f":"IF(H36=\"1a\",Hoja1!$B$126,IF(H36=\"1b\",Hoja1!$B$127,IF(H36=\"2a\",Hoja1!$B$128,IF(H36=\"2b\",Hoja1!$B$129,IF(H36=\"3 \",Hoja1!$B$130,IF(H36=\"4 \",Hoja1!$B$131,IF(H36=\"5 \",Hoja1!$B$132,IF(H36=\"6 \",Hoja1!$B$133,IF(H36=\"7 \",Hoja1!$B$134,IF(H36=\"8 \",Hoja1!$B$135,\" \"))))))))))","v":" "},{"$f":"CONCATENATE(#REF!,\"-\",\"TX\")","v":{"$error":"#REF!"}},{"$f":"CONCATENATE(#REF!,\"-\",\"RX\")","v":{"$error":"#REF!"}},null,null,null,null,0,null,null,null,null,null,{"$f":"IF($R36=\"\",\"\",VLOOKUP($R36,'FO-DRE-01'!$A$7:$U$301,18,FALSE))","v":""},{"$f":"IF($R36=\"\",\"\",VLOOKUP($R36,'FO-DRE-01'!$A$7:$U$301,16,FALSE))","v":""},{"$f":"IF($R36=\"\",\"\",VLOOKUP($R36,'FO-DRE-01'!$A$7:$U$301,17,FALSE))","v":""},{"$f":"IF($R36=\"\",\"\",VLOOKUP($R36,'FO-DRE-01'!$A$7:$U$301,3,FALSE))","v":""},{"$f":"IF($R36=\"\",\"\",VLOOKUP($R36,'FO-DRE-01'!$A$7:$U$301,4,FALSE))","v":""},{"$f":"IF($R36=\"\",\"\",VLOOKUP($R36,'FO-DRE-01'!$A$7:$U$301,5,FALSE))","v":""},{"$f":"IF($R36=\"\",\"\",VLOOKUP($R36,'FO-DRE-01'!$A$7:$U$301,7,FALSE))","v":""},{"$f":"IF($R36=\"\",\"\",VLOOKUP($R36,'FO-DRE-01'!$A$7:$U$301,8,FALSE))","v":""},{"$f":"IF($R36=\"\",\"\",VLOOKUP($R36,'FO-DRE-01'!$A$7:$U$301,9,FALSE))","v":""},{"$f":"IF($R36=\"\",\"\",VLOOKUP($R36,'FO-DRE-01'!$A$7:$U$301,10,FALSE))","v":""},{"$f":"IF($R36=\"\",\"\",VLOOKUP($R36,'FO-DRE-01'!$A$7:$U$301,11,FALSE))","v":""},{"$f":"IF($R36=\"\",\"\",VLOOKUP($R36,'FO-DRE-01'!$A$7:$U$301,12,FALSE))","v":""},{"$f":"IF($R36=\"\",\"\",VLOOKUP($R36,'FO-DRE-01'!$A$7:$U$301,13,FALSE))","v":""},{"$f":"IF($R36=\"\",\"\",VLOOKUP($R36,'FO-DRE-01'!$A$7:$U$301,14,FALSE))","v":""},{"$f":"IF($R36=\"\",\"\",VLOOKUP($R36,'FO-DRE-01'!$A$7:$U$301,15,FALSE))","v":""},{"$f":"IF($S36=\"\",\"\",VLOOKUP($S36,'FO-DRE-04'!$A$6:$L$301,2,FALSE))","v":""},{"$f":"IF($S36=\"\",\"\",VLOOKUP($S36,'FO-DRE-04'!$A$6:$L$301,3,FALSE))","v":""},{"$f":"IF($S36=\"\",\"\",VLOOKUP($S36,'FO-DRE-04'!$A$6:$L$301,4,FALSE))","v":""},{"$f":"IF($S36=\"\",\"\",VLOOKUP($S36,'FO-DRE-04'!$A$6:$L$301,6,FALSE))","v":""},{"$f":"IF($S36=\"\",\"\",VLOOKUP($S36,'FO-DRE-04'!$A$6:$L$301,11,FALSE))","v":""},{"$f":"IF($T36=\"\",\"\",VLOOKUP($T36,'FO-DRE-02'!$A$6:$M$101,2,FALSE))","v":""},{"$f":"IF($T36=\"\",\"\",VLOOKUP($T36,'FO-DRE-02'!$A$6:$M$101,3,FALSE))","v":""},{"$f":"IF($T36=\"\",\"\",VLOOKUP($T36,'FO-DRE-02'!$A$6:$M$101,6,FALSE))","v":""},{"$f":"IF($T36=\"\",\"\",VLOOKUP($T36,'FO-DRE-02'!$A$6:$M$101,4,FALSE))","v":""},{"$f":"IF($T36=\"\",\"\",VLOOKUP($T36,'FO-DRE-02'!$A$6:$M$101,5,FALSE))","v":""},{"$f":"IF($T36=\"\",\"\",VLOOKUP($T36,'FO-DRE-02'!$A$6:$M$101,8,FALSE))","v":""},{"$f":"IF($T36=\"\",\"\",VLOOKUP($T36,'FO-DRE-02'!$A$6:$M$101,7,FALSE))","v":""},{"$f":"IF($T36=\"\",\"\",VLOOKUP($T36,'FO-DRE-02'!$A$6:$M$101,9,FALSE))","v":""},{"$f":"IF($T36=\"\",\"\",VLOOKUP($T36,'FO-DRE-02'!$A$6:$M$101,11,FALSE))","v":""},{"$f":"IF($T36=\"\",\"\",VLOOKUP($T36,'FO-DRE-02'!$A$6:$M$101,12,FALSE))","v":""},{"$f":"IF($T36=\"\",\"\",VLOOKUP($T36,'FO-DRE-02'!$A$6:$M$101,13,FALSE))","v":""},null,856,null,27,"","F/D","F/D","","","","","","","","","","","","","","",""]
[null,null,null,null,null,null,null,null,{"$f":"IF(H37=\"1a\",Hoja1!$B$126,IF(H37=\"1b\",Hoja1!$B$127,IF(H37=\"2a\",Hoja1!$B$128,IF(H37=\"2b\",Hoja1!$B$129,IF(H37=\"3 \",Hoja1!$B$130,IF(H37=\"4 \",Hoja1!$B$131,IF(H37=\"5 \",Hoja1!$B$132,IF(H37=\"6 \",Hoja1!$B$133,IF(H37=\"7 \",Hoja1!$B$134,IF(H37=\"8 \",Hoja1!$B$135,\" \"))))))))))","v":" "},{"$f":"CONCATENATE(#REF!,\"-\",\"TX\")","v":{"$error":"#REF!"}},{"$f":"CONCATENATE(#REF!,\"-\",\"RX\")","v":{"$error":"#REF!"}},null,null,null,null,0,null,null,null,null,null,{"$f":"IF($R37=\"\",\"\",VLOOKUP($R37,'FO-DRE-01'!$A$7:$U$301,18,FALSE))","v":""},{"$f":"IF($R37=\"\",\"\",VLOOKUP($R37,'FO-DRE-01'!$A$7:$U$301,16,FALSE))","v":""},{"$f":"IF($R37=\"\",\"\",VLOOKUP($R37,'FO-DRE-01'!$A$7:$U$301,17,FALSE))","v":""},{"$f":"IF($R37=\"\",\"\",VLOOKUP($R37,'FO-DRE-01'!$A$7:$U$301,3,FALSE))","v":""},{"$f":"IF($R37=\"\",\"\",VLOOKUP($R37,'FO-DRE-01'!$A$7:$U$301,4,FALSE))","v":""},{"$f":"IF($R37=\"\",\"\",VLOOKUP($R37,'FO-DRE-01'!$A$7:$U$301,5,FALSE))","v":""},{"$f":"IF($R37=\"\",\"\",VLOOKUP($R37,'FO-DRE-01'!$A$7:$U$301,7,FALSE))","v":""},{"$f":"IF($R37=\"\",\"\",VLOOKUP($R37,'FO-DRE-01'!$A$7:$U$301,8,FALSE))","v":""},{"$f":"IF($R37=\"\",\"\",VLOOKUP($R37,'FO-DRE-01'!$A$7:$U$301,9,FALSE))","v":""},{"$f":"IF($R37=\"\",\"\",VLOOKUP($R37,'FO-DRE-01'!$A$7:$U$301,10,FALSE))","v":""},{"$f":"IF($R37=\"\",\"\",VLOOKUP($R37,'FO-DRE-01'!$A$7:$U$301,11,FALSE))","v":""},{"$f":"IF($R37=\"\",\"\",VLOOKUP($R37,'FO-DRE-01'!$A$7:$U$301,12,FALSE))","v":""},{"$f":"IF($R37=\"\",\"\",VLOOKUP($R37,'FO-DRE-01'!$A$7:$U$301,13,FALSE))","v":""},{"$f":"IF($R37=\"\",\"\",VLOOKUP($R37,'FO-DRE-01'!$A$7:$U$301,14,FALSE))","v":""},{"$f":"IF($R37=\"\",\"\",VLOOKUP($R37,'FO-DRE-01'!$A$7:$U$301,15,FALSE))","v":""},{"$f":"IF($S37=\"\",\"\",VLOOKUP($S37,'FO-DRE-04'!$A$6:$L$301,2,FALSE))","v":""},{"$f":"IF($S37=\"\",\"\",VLOOKUP($S37,'FO-DRE-04'!$A$6:$L$301,3,FALSE))","v":""},{"$f":"IF($S37=\"\",\"\",VLOOKUP($S37,'FO-DRE-04'!$A$6:$L$301,4,FALSE))","v":""},{"$f":"IF($S37=\"\",\"\",VLOOKUP($S37,'FO-DRE-04'!$A$6:$L$301,6,FALSE))","v":""},{"$f":"IF($S37=\"\",\"\",VLOOKUP($S37,'FO-DRE-04'!$A$6:$L$301,11,FALSE))","v":""},{"$f":"IF($T37=\"\",\"\",VLOOKUP($T37,'FO-DRE-02'!$A$6:$M$101,2,FALSE))","v":""},{"$f":"IF($T37=\"\",\"\",VLOOKUP($T37,'FO-DRE-02'!$A$6:$M$101,3,FALSE))","v":""},{"$f":"IF($T37=\"\",\"\",VLOOKUP($T37,'FO-DRE-02'!$A$6:$M$101,6,FALSE))","v":""},{"$f":"IF($T37=\"\",\"\",VLOOKUP($T37,'FO-DRE-02'!$A$6:$M$101,4,FALSE))","v":""},{"$f":"IF($T37=\"\",\"\",VLOOKUP($T37,'FO-DRE-02'!$A$6:$M$101,5,FALSE))","v":""},{"$f":"IF($T37=\"\",\"\",VLOOKUP($T37,'FO-DRE-02'!$A$6:$M$101,8,FALSE))","v":""},{"$f":"IF($T37=\"\",\"\",VLOOKUP($T37,'FO-DRE-02'!$A$6:$M$101,7,FALSE))","v":""},{"$f":"IF($T37=\"\",\"\",VLOOKUP($T37,'FO-DRE-02'!$A$6:$M$101,9,FALSE))","v":""},{"$f":"IF($T37=\"\",\"\",VLOOKUP($T37,'FO-DRE-02'!$A$6:$M$101,11,FALSE))","v":""},{"$f":"IF($T37=\"\",\"\",VLOOKUP($T37,'FO-DRE-02'!$A$6:$M$101,12,FALSE))","v":""},{"$f":"IF($T37=\"\",\"\",VLOOKUP($T37,'FO-DRE-02'!$A$6:$M$101,13,FALSE))","v":""},null,856,null,28,"","F/D","F/D","","","","","","","","","","","","","","",""]
[null,null,null,null,null,null,null,null,{"$f":"IF(H38=\"1a\",Hoja1!$B$126,IF(H38=\"1b\",Hoja1!$B$127,IF(H38=\"2a\",Hoja1!$B$128,IF(H38=\"2b\",Hoja1!$B$129,IF(H38=\"3 \",Hoja1!$B$130,IF(H38=\"4 \",Hoja1!$B$131,IF(H38=\"5 \",Hoja1!$B$132,IF(H38=\"6 \",Hoja1!$B$133,IF(H38=\"7 \",Hoja1!$B$134,IF(H38=\"8 \",Hoja1!$B$135,\" \"))))))))))","v":" "},{"$f":"CONCATENATE(#REF!,\"-\",\"TX\")","v":{"$error":"#REF!"}},{"$f":"CONCATENATE(#REF!,\"-\",\"RX\")","v":{"$error":"#REF!"}},null,null,null,null,0,null,null,null,null,null,{"$f":"IF($R38=\"\",\"\",VLOOKUP($R38,'FO-DRE-01'!$A$7:$U$301,18,FALSE))","v":""},{"$f":"IF($R38=\"\",\"\",VLOOKUP($R38,'FO-DRE-01'!$A$7:$U$301,16,FALSE))","v":""},{"$f":"IF($R38=\"\",\"\",VLOOKUP($R38,'FO-DRE-01'!$A$7:$U$301,17,FALSE))","v":""},{"$f":"IF($R38=\"\",\"\",VLOOKUP($R38,'FO-DRE-01'!$A$7:$U$301,3,FALSE))","v":""},{"$f":"IF($R38=\"\",\"\",VLOOKUP($R38,'FO-DRE-01'!$A$7:$U$301,4,FALSE))","v":""},{"$f":"IF($R38=\"\",\"\",VLOOKUP($R38,'FO-DRE-01'!$A$7:$U$301,5,FALSE))","v":""},{"$f":"IF($R38=\"\",\"\",VLOOKUP($R38,'FO-DRE-01'!$A$7:$U$301,7,FALSE))","v":""},{"$f":"IF($R38=\"\",\"\",VLOOKUP($R38,'FO-DRE-01'!$A$7:$U$301,8,FALSE))","v":""},{"$f":"IF($R38=\"\",\"\",VLOOKUP($R38,'FO-DRE-01'!$A$7:$U$301,9,FALSE))","v":""},{"$f":"IF($R38=\"\",\"\",VLOOKUP($R38,'FO-DRE-01'!$A$7:$U$301,10,FALSE))","v":""},{"$f":"IF($R38=\"\",\"\",VLOOKUP($R38,'FO-DRE-01'!$A$7:$U$301,11,FALSE))","v":""},{"$f":"IF($R38=\"\",\"\",VLOOKUP($R38,'FO-DRE-01'!$A$7:$U$301,12,FALSE))","v":""},{"$f":"IF($R38=\"\",\"\",VLOOKUP($R38,'FO-DRE-01'!$A$7:$U$301,13,FALSE))","v":""},{"$f":"IF($R38=\"\",\"\",VLOOKUP($R38,'FO-DRE-01'!$A$7:$U$301,14,FALSE))","v":""},{"$f":"IF($R38=\"\",\"\",VLOOKUP($R38,'FO-DRE-01'!$A$7:$U$301,15,FALSE))","v":""},{"$f":"IF($S38=\"\",\"\",VLOOKUP($S38,'FO-DRE-04'!$A$6:$L$301,2,FALSE))","v":""},{"$f":"IF($S38=\"\",\"\",VLOOKUP($S38,'FO-DRE-04'!$A$6:$L$301,3,FALSE))","v":""},{"$f":"IF($S38=\"\",\"\",VLOOKUP($S38,'FO-DRE-04'!$A$6:$L$301,4,FALSE))","v":""},{"$f":"IF($S38=\"\",\"\",VLOOKUP($S38,'FO-DRE-04'!$A$6:$L$301,6,FALSE))","v":""},{"$f":"IF($S38=\"\",\"\",VLOOKUP($S38,'FO-DRE-04'!$A$6:$L$301,11,FALSE))","v":""},{"$f":"IF($T38=\"\",\"\",VLOOKUP($T38,'FO-DRE-02'!$A$6:$M$101,2,FALSE))","v":""},{"$f":"IF($T38=\"\",\"\",VLOOKUP($T38,'FO-DRE-02'!$A$6:$M$101,3,FALSE))","v":""},{"$f":"IF($T38=\"\",\"\",VLOOKUP($T38,'FO-DRE-02'!$A$6:$M$101,6,FALSE))","v":""},{"$f":"IF($T38=\"\",\"\",VLOOKUP($T38,'FO-DRE-02'!$A$6:$M$101,4,FALSE))","v":""},{"$f":"IF($T38=\"\",\"\",VLOOKUP($T38,'FO-DRE-02'!$A$6:$M$101,5,FALSE))","v":""},{"$f":"IF($T38=\"\",\"\",VLOOKUP($T38,'FO-DRE-02'!$A$6:$M$101,8,FALSE))","v":""},{"$f":"IF($T38=\"\",\"\",VLOOKUP($T38,'FO-DRE-02'!$A$6:$M$101,7,FALSE))","v":""},{"$f":"IF($T38=\"\",\"\",VLOOKUP($T38,'FO-DRE-02'!$A$6:$M$101,9,FALSE))","v":""},{"$f":"IF($T38=\"\",\"\",VLOOKUP($T38,'FO-DRE-02'!$A$6:$M$101,11,FALSE))","v":""},{"$f":"IF($T38=\"\",\"\",VLOOKUP($T38,'FO-DRE-02'!$A$6:$M$101,12,FALSE))","v":""},{"$f":"IF($T38=\"\",\"\",VLOOKUP($T38,'FO-DRE-02'!$A$6:$M$101,13,FALSE))","v":""},null,856,null,29,"","F/D","F/D","","","","","","","","","","","","","","",""]
[null,null,null,null,null,null,null,null,{"$f":"IF(H39=\"1a\",Hoja1!$B$126,IF(H39=\"1b\",Hoja1!$B$127,IF(H39=\"2a\",Hoja1!$B$128,IF(H39=\"2b\",Hoja1!$B$129,IF(H39=\"3 \",Hoja1!$B$130,IF(H39=\"4 \",Hoja1!$B$131,IF(H39=\"5 \",Hoja1!$B$132,IF(H39=\"6 \",Hoja1!$B$133,IF(H39=\"7 \",Hoja1!$B$134,IF(H39=\"8 \",Hoja1!$B$135,\" \"))))))))))","v":" "},null,null,null,null,null,null,0,null,null,null,null,null,{"$f":"IF($R39=\"\",\"\",VLOOKUP($R39,'FO-DRE-01'!$A$7:$U$301,18,FALSE))","v":""},{"$f":"IF($R39=\"\",\"\",VLOOKUP($R39,'FO-DRE-01'!$A$7:$U$301,16,FALSE))","v":""},{"$f":"IF($R39=\"\",\"\",VLOOKUP($R39,'FO-DRE-01'!$A$7:$U$301,17,FALSE))","v":""},{"$f":"IF($R39=\"\",\"\",VLOOKUP($R39,'FO-DRE-01'!$A$7:$U$301,3,FALSE))","v":""},{"$f":"IF($R39=\"\",\"\",VLOOKUP($R39,'FO-DRE-01'!$A$7:$U$301,4,FALSE))","v":""},{"$f":"IF($R39=\"\",\"\",VLOOKUP($R39,'FO-DRE-01'!$A$7:$U$301,5,FALSE))","v":""},{"$f":"IF($R39=\"\",\"\",VLOOKUP($R39,'FO-DRE-01'!$A$7:$U$301,7,FALSE))","v":""},{"$f":"IF($R39=\"\",\"\",VLOOKUP($R39,'FO-DRE-01'!$A$7:$U$301,8,FALSE))","v":""},{"$f":"IF($R39=\"\",\"\",VLOOKUP($R39,'FO-DRE-01'!$A$7:$U$301,9,FALSE))","v":""},{"$f":"IF($R39=\"\",\"\",VLOOKUP($R39,'FO-DRE-01'!$A$7:$U$301,10,FALSE))","v":""},{"$f":"IF($R39=\"\",\"\",VLOOKUP($R39,'FO-DRE-01'!$A$7:$U$301,11,FALSE))","v":""},{"$f":"IF($R39=\"\",\"\",VLOOKUP($R39,'FO-DRE-01'!$A$7:$U$301,12,FALSE))","v":""},{"$f":"IF($R39=\"\",\"\",VLOOKUP($R39,'FO-DRE-01'!$A$7:$U$301,13,FALSE))","v":""},{"$f":"IF($R39=\"\",\"\",VLOOKUP($R39,'FO-DRE-01'!$A$7:$U$301,14,FALSE))","v":""},{"$f":"IF($R39=\"\",\"\",VLOOKUP($R39,'FO-DRE-01'!$A$7:$U$301,15,FALSE))","v":""},{"$f":"IF($S39=\"\",\"\",VLOOKUP($S39,'FO-DRE-04'!$A$6:$L$301,2,FALSE))","v":""},{"$f":"IF($S39=\"\",\"\",VLOOKUP($S39,'FO-DRE-04'!$A$6:$L$301,3,FALSE))","v":""},{"$f":"IF($S39=\"\",\"\",VLOOKUP($S39,'FO-DRE-04'!$A$6:$L$301,4,FALSE))","v":""},{"$f":"IF($S39=\"\",\"\",VLOOKUP($S39,'FO-DRE-04'!$A$6:$L$301,6,FALSE))","v":""},{"$f":"IF($S39=\"\",\"\",VLOOKUP($S39,'FO-DRE-04'!$A$6:$L$301,11,FALSE))","v":""},{"$f":"IF($T39=\"\",\"\",VLOOKUP($T39,'FO-DRE-02'!$A$6:$M$101,2,FALSE))","v":""},{"$f":"IF($T39=\"\",\"\",VLOOKUP($T39,'FO-DRE-02'!$A$6:$M$101,3,FALSE))","v":""},{"$f":"IF($T39=\"\",\"\",VLOOKUP($T39,'FO-DRE-02'!$A$6:$M$101,6,FALSE))","v":""},{"$f":"IF($T39=\"\",\"\",VLOOKUP($T39,'FO-DRE-02'!$A$6:$M$101,4,FALSE))","v":""},{"$f":"IF($T39=\"\",\"\",VLOOKUP($T39,'FO-DRE-02'!$A$6:$M$101,5,FALSE))","v":""},{"$f":"IF($T39=\"\",\"\",VLOOKUP($T39,'FO-DRE-02'!$A$6:$M$101,8,FALSE))","v":""},{"$f":"IF($T39=\"\",\"\",VLOOKUP($T39,'FO-DRE-02'!$A$6:$M$101,7,FALSE))","v":""},{"$f":"IF($T39=\"\",\"\",VLOOKUP($T39,'FO-DRE-02'!$A$6:$M$101,9,FALSE))","v":""},{"$f":"IF($T39=\"\",\"\",VLOOKUP($T39,'FO-DRE-02'!$A$6:$M$101,11,FALSE))","v":""},{"$f":"IF($T39=\"\",\"\",VLOOKUP($T39,'FO-DRE-02'!$A$6:$M$101,12,FALSE))","v":""},{"$f":"IF($T39=\"\",\"\",VLOOKUP($T39,'FO-DRE-02'!$A$6:$M$101,13,FALSE))","v":""},null,856,null,30,"","F/D","F/D","","","","","","","","","","","","","","",""]
[null,null,null,null,null,null,null,null,{"$f":"IF(H40=\"1a\",Hoja1!$B$126,IF(H40=\"1b\",Hoja1!$B$127,IF(H40=\"2a\",Hoja1!$B$128,IF(H40=\"2b\",Hoja1!$B$129,IF(H40=\"3 \",Hoja1!$B$130,IF(H40=\"4 \",Hoja1!$B$131,IF(H40=\"5 \",Hoja1!$B$132,IF(H40=\"6 \",Hoja1!$B$133,IF(H40=\"7 \",Hoja1!$B$134,IF(H40=\"8 \",Hoja1!$B$135,\" \"))))))))))","v":" "},{"$f":"CONCATENATE(#REF!,\"-\",\"TX\")","v":{"$error":"#REF!"}},{"$f":"CONCATENATE(#REF!,\"-\",\"RX\")","v":{"$error":"#REF!"}},null,null,null,null,0,null,null,null,null,null,{"$f":"IF($R40=\"\",\"\",VLOOKUP($R40,'FO-DRE-01'!$A$7:$U$301,18,FALSE))","v":""},{"$f":"IF($R40=\"\",\"\",VLOOKUP($R40,'FO-DRE-01'!$A$7:$U$301,16,FALSE))","v":""},{"$f":"IF($R40=\"\",\"\",VLOOKUP($R40,'FO-DRE-01'!$A$7:$U$301,17,FALSE))","v":""},{"$f":"IF($R40=\"\",\"\",VLOOKUP($R40,'FO-DRE-01'!$A$7:$U$301,3,FALSE))","v":""},{"$f":"IF($R40=\"\",\"\",VLOOKUP($R40,'FO-DRE-01'!$A$7:$U$301,4,FALSE))","v":""},{"$f":"IF($R40=\"\",\"\",VLOOKUP($R40,'FO-DRE-01'!$A$7:$U$301,5,FALSE))","v":""},{"$f":"IF($R40=\"\",\"\",VLOOKUP($R40,'FO-DRE-01'!$A$7:$U$301,7,FALSE))","v":""},{"$f":"IF($R40=\"\",\"\",VLOOKUP($R40,'FO-DRE-01'!$A$7:$U$301,8,FALSE))","v":""},{"$f":"IF($R40=\"\",\"\",VLOOKUP($R40,'FO-DRE-01'!$A$7:$U$301,9,FALSE))","v":""},{"$f":"IF($R40=\"\",\"\",VLOOKUP($R40,'FO-DRE-01'!$A$7:$U$301,10,FALSE))","v":""},{"$f":"IF($R40=\"\",\"\",VLOOKUP($R40,'FO-DRE-01'!$A$7:$U$301,11,FALSE))","v":""},{"$f":"IF($R40=\"\",\"\",VLOOKUP($R40,'FO-DRE-01'!$A$7:$U$301,12,FALSE))","v":""},{"$f":"IF($R40=\"\",\"\",VLOOKUP($R40,'FO-DRE-01'!$A$7:$U$301,13,FALSE))","v":""},{"$f":"IF($R40=\"\",\"\",VLOOKUP($R40,'FO-DRE-01'!$A$7:$U$301,14,FALSE))","v":""},{"$f":"IF($R40=\"\",\"\",VLOOKUP($R40,'FO-DRE-01'!$A$7:$U$301,15,FALSE))","v":""},{"$f":"IF($S40=\"\",\"\",VLOOKUP($S40,'FO-DRE-04'!$A$6:$L$301,2,FALSE))","v":""},{"$f":"IF($S40=\"\",\"\",VLOOKUP($S40,'FO-DRE-04'!$A$6:$L$301,3,FALSE))","v":""},{"$f":"IF($S40=\"\",\"\",VLOOKUP($S40,'FO-DRE-04'!$A$6:$L$301,4,FALSE))","v":""},{"$f":"IF($S40=\"\",\"\",VLOOKUP($S40,'FO-DRE-04'!$A$6:$L$301,6,FALSE))","v":""},{"$f":"IF($S40=\"\",\"\",VLOOKUP($S40,'FO-DRE-04'!$A$6:$L$301,11,FALSE))","v":""},{"$f":"IF($T40=\"\",\"\",VLOOKUP($T40,'FO-DRE-02'!$A$6:$M$101,2,FALSE))","v":""},{"$f":"IF($T40=\"\",\"\",VLOOKUP($T40,'FO-DRE-02'!$A$6:$M$101,3,FALSE))","v":""},{"$f":"IF($T40=\"\",\"\",VLOOKUP($T40,'FO-DRE-02'!$A$6:$M$101,6,FALSE))","v":""},{"$f":"IF($T40=\"\",\"\",VLOOKUP($T40,'FO-DRE-02'!$A$6:$M$101,4,FALSE))","v":""},{"$f":"IF($T40=\"\",\"\",VLOOKUP($T40,'FO-DRE-02'!$A$6:$M$101,5,FALSE))","v":""},{"$f":"IF($T40=\"\",\"\",VLOOKUP($T40,'FO-DRE-02'!$A$6:$M$101,8,FALSE))","v":""},{"$f":"IF($T40=\"\",\"\",VLOOKUP($T40,'FO-DRE-02'!$A$6:$M$101,7,FALSE))","v":""},{"$f":"IF($T40=\"\",\"\",VLOOKUP($T40,'FO-DRE-02'!$A$6:$M$101,9,FALSE))","v":""},{"$f":"IF($T40=\"\",\"\",VLOOKUP($T40,'FO-DRE-02'!$A$6:$M$101,11,FALSE))","v":""},{"$f":"IF($T40=\"\",\"\",VLOOKUP($T40,'FO-DRE-02'!$A$6:$M$101,12,FALSE))","v":""},{"$f":"IF($T40=\"\",\"\",VLOOKUP($T40,'FO-DRE-02'!$A$6:$M$101,13,FALSE))","v":""},null,856,null,31,"","F/D","F/D","","","","","","","","","","","","","","",""]
[null,null,null,null,null,null,null,null,{"$f":"IF(H41=\"1a\",Hoja1!$B$126,IF(H41=\"1b\",Hoja1!$B$127,IF(H41=\"2a\",Hoja1!$B$128,IF(H41=\"2b\",Hoja1!$B$129,IF(H41=\"3 \",Hoja1!$B$130,IF(H41=\"4 \",Hoja1!$B$131,IF(H41=\"5 \",Hoja1!$B$132,IF(H41=\"6 \",Hoja1!$B$133,IF(H41=\"7 \",Hoja1!$B$134,IF(H41=\"8 \",Hoja1!$B$135,\" \"))))))))))","v":" "},{"$f":"CONCATENATE(#REF!,\"-\",\"TX\")","v":{"$error":"#REF!"}},{"$f":"CONCATENATE(#REF!,\"-\",\"RX\")","v":{"$error":"#REF!"}},null,null,null,null,0,null,null,null,null,null,{"$f":"IF($R41=\"\",\"\",VLOOKUP($R41,'FO-DRE-01'!$A$7:$U$301,18,FALSE))","v":""},{"$f":"IF($R41=\"\",\"\",VLOOKUP($R41,'FO-DRE-01'!$A$7:$U$301,16,FALSE))","v":""},{"$f":"IF($R41=\"\",\"\",VLOOKUP($R41,'FO-DRE-01'!$A$7:$U$301,17,FALSE))","v":""},{"$f":"IF($R41=\"\",\"\",VLOOKUP($R41,'FO-DRE-01'!$A$7:$U$301,3,FALSE))","v":""},{"$f":"IF($R41=\"\",\"\",VLOOKUP($R41,'FO-DRE-01'!$A$7:$U$301,4,FALSE))","v":""},{"$f":"IF($R41=\"\",\"\",VLOOKUP($R41,'FO-DRE-01'!$A$7:$U$301,5,FALSE))","v":""},{"$f":"IF($R41=\"\",\"\",VLOOKUP($R41,'FO-DRE-01'!$A$7:$U$301,7,FALSE))","v":""},{"$f":"IF($R41=\"\",\"\",VLOOKUP($R41,'FO-DRE-01'!$A$7:$U$301,8,FALSE))","v":""},{"$f":"IF($R41=\"\",\"\",VLOOKUP($R41,'FO-DRE-01'!$A$7:$U$301,9,FALSE))","v":""},{"$f":"IF($R41=\"\",\"\",VLOOKUP($R41,'FO-DRE-01'!$A$7:$U$301,10,FALSE))","v":""},{"$f":"IF($R41=\"\",\"\",VLOOKUP($R41,'FO-DRE-01'!$A$7:$U$301,11,FALSE))","v":""},{"$f":"IF($R41=\"\",\"\",VLOOKUP($R41,'FO-DRE-01'!$A$7:$U$301,12,FALSE))","v":""},{"$f":"IF($R41=\"\",\"\",VLOOKUP($R41,'FO-DRE-01'!$A$7:$U$301,13,FALSE))","v":""},{"$f":"IF($R41=\"\",\"\",VLOOKUP($R41,'FO-DRE-01'!$A$7:$U$301,14,FALSE))","v":""},{"$f":"IF($R41=\"\",\"\",VLOOKUP($R41,'FO-DRE-01'!$A$7:$U$301,15,FALSE))","v":""},{"$f":"IF($S41=\"\",\"\",VLOOKUP($S41,'FO-DRE-04'!$A$6:$L$301,2,FALSE))","v":""},{"$f":"IF($S41=\"\",\"\",VLOOKUP($S41,'FO-DRE-04'!$A$6:$L$301,3,FALSE))","v":""},{"$f":"IF($S41=\"\",\"\",VLOOKUP($S41,'FO-DRE-04'!$A$6:$L$301,4,FALSE))","v":""},{"$f":"IF($S41=\"\",\"\",VLOOKUP($S41,'FO-DRE-04'!$A$6:$L$301,6,FALSE))","v":""},{"$f":"IF($S41=\"\",\"\",VLOOKUP($S41,'FO-DRE-04'!$A$6:$L$301,11,FALSE))","v":""},{"$f":"IF($T41=\"\",\"\",VLOOKUP($T41,'FO-DRE-02'!$A$6:$M$101,2,FALSE))","v":""},{"$f":"IF($T41=\"\",\"\",VLOOKUP($T41,'FO-DRE-02'!$A$6:$M$101,3,FALSE))","v":""},{"$f":"IF($T41=\"\",\"\",VLOOKUP($T41,'FO-DRE-02'!$A$6:$M$101,6,FALSE))","v":""},{"$f":"IF($T41=\"\",\"\",VLOOKUP($T41,'FO-DRE-02'!$A$6:$M$101,4,FALSE))","v":""},{"$f":"IF($T41=\"\",\"\",VLOOKUP($T41,'FO-DRE-02'!$A$6:$M$101,5,FALSE))","v":""},{"$f":"IF($T41=\"\",\"\",VLOOKUP($T41,'FO-DRE-02'!$A$6:$M$101,8,FALSE))","v":""},{"$f":"IF($T41=\"\",\"\",VLOOKUP($T41,'FO-DRE-02'!$A$6:$M$101,7,FALSE))","v":""},{"$f":"IF($T41=\"\",\"\",VLOOKUP($T41,'FO-DRE-02'!$A$6:$M$101,9,FALSE))","v":""},{"$f":"IF($T41=\"\",\"\",VLOOKUP($T41,'FO-DRE-02'!$A$6:$M$101,11,FALSE))","v":""},{"$f":"IF($T41=\"\",\"\",VLOOKUP($T41,'FO-DRE-02'!$A$6:$M$101,12,FALSE))","v":""},{"$f":"IF($T41=\"\",\"\",VLOOKUP($T41,'FO-DRE-02'!$A$6:$M$101,13,FALSE))","v":""},null,856,null,32,"","F/D","F/D","","","","","","","","","","","","","","",""]
[null,null,null,null,null,null,null,null,{"$f":"IF(H42=\"1a\",Hoja1!$B$126,IF(H42=\"1b\",Hoja1!$B$127,IF(H42=\"2a\",Hoja1!$B$128,IF(H42=\"2b\",Hoja1!$B$129,IF(H42=\"3 \",Hoja1!$B$130,IF(H42=\"4 \",Hoja1!$B$131,IF(H42=\"5 \",Hoja1!$B$132,IF(H42=\"6 \",Hoja1!$B$133,IF(H42=\"7 \",Hoja1!$B$134,IF(H42=\"8 \",Hoja1!$B$135,\" \"))))))))))","v":" "},{"$f":"CONCATENATE(#REF!,\"-\",\"TX\")","v":{"$error":"#REF!"}},{"$f":"CONCATENATE(#REF!,\"-\",\"RX\")","v":{"$error":"#REF!"}},null,null,null,null,0,null,null,null,null,null,{"$f":"IF($R42=\"\",\"\",VLOOKUP($R42,'FO-DRE-01'!$A$7:$U$301,18,FALSE))","v":""},{"$f":"IF($R42=\"\",\"\",VLOOKUP($R42,'FO-DRE-01'!$A$7:$U$301,16,FALSE))","v":""},{"$f":"IF($R42=\"\",\"\",VLOOKUP($R42,'FO-DRE-01'!$A$7:$U$301,17,FALSE))","v":""},{"$f":"IF($R42=\"\",\"\",VLOOKUP($R42,'FO-DRE-01'!$A$7:$U$301,3,FALSE))","v":""},{"$f":"IF($R42=\"\",\"\",VLOOKUP($R42,'FO-DRE-01'!$A$7:$U$301,4,FALSE))","v":""},{"$f":"IF($R42=\"\",\"\",VLOOKUP($R42,'FO-DRE-01'!$A$7:$U$301,5,FALSE))","v":""},{"$f":"IF($R42=\"\",\"\",VLOOKUP($R42,'FO-DRE-01'!$A$7:$U$301,7,FALSE))","v":""},{"$f":"IF($R42=\"\",\"\",VLOOKUP($R42,'FO-DRE-01'!$A$7:$U$301,8,FALSE))","v":""},{"$f":"IF($R42=\"\",\"\",VLOOKUP($R42,'FO-DRE-01'!$A$7:$U$301,9,FALSE))","v":""},{"$f":"IF($R42=\"\",\"\",VLOOKUP($R42,'FO-DRE-01'!$A$7:$U$301,10,FALSE))","v":""},{"$f":"IF($R42=\"\",\"\",VLOOKUP($R42,'FO-DRE-01'!$A$7:$U$301,11,FALSE))","v":""},{"$f":"IF($R42=\"\",\"\",VLOOKUP($R42,'FO-DRE-01'!$A$7:$U$301,12,FALSE))","v":""},{"$f":"IF($R42=\"\",\"\",VLOOKUP($R42,'FO-DRE-01'!$A$7:$U$301,13,FALSE))","v":""},{"$f":"IF($R42=\"\",\"\",VLOOKUP($R42,'FO-DRE-01'!$A$7:$U$301,14,FALSE))","v":""},{"$f":"IF($R42=\"\",\"\",VLOOKUP($R42,'FO-DRE-01'!$A$7:$U$301,15,FALSE))","v":""},{"$f":"IF($S42=\"\",\"\",VLOOKUP($S42,'FO-DRE-04'!$A$6:$L$301,2,FALSE))","v":""},{"$f":"IF($S42=\"\",\"\",VLOOKUP($S42,'FO-DRE-04'!$A$6:$L$301,3,FALSE))","v":""},{"$f":"IF($S42=\"\",\"\",VLOOKUP($S42,'FO-DRE-04'!$A$6:$L$301,4,FALSE))","v":""},{"$f":"IF($S42=\"\",\"\",VLOOKUP($S42,'FO-DRE-04'!$A$6:$L$301,6,FALSE))","v":""},{"$f":"IF($S42=\"\",\"\",VLOOKUP($S42,'FO-DRE-04'!$A$6:$L$301,11,FALSE))","v":""},{"$f":"IF($T42=\"\",\"\",VLOOKUP($T42,'FO-DRE-02'!$A$6:$M$101,2,FALSE))","v":""},{"$f":"IF($T42=\"\",\"\",VLOOKUP($T42,'FO-DRE-02'!$A$6:$M$101,3,FALSE))","v":""},{"$f":"IF($T42=\"\",\"\",VLOOKUP($T42,'FO-DRE-02'!$A$6:$M$101,6,FALSE))","v":""},{"$f":"IF($T42=\"\",\"\",VLOOKUP($T42,'FO-DRE-02'!$A$6:$M$101,4,FALSE))","v":""},{"$f":"IF($T42=\"\",\"\",VLOOKUP($T42,'FO-DRE-02'!$A$6:$M$101,5,FALSE))","v":""},{"$f":"IF($T42=\"\",\"\",VLOOKUP($T42,'FO-DRE-02'!$A$6:$M$101,8,FALSE))","v":""},{"$f":"IF($T42=\"\",\"\",VLOOKUP($T42,'FO-DRE-02'!$A$6:$M$101,7,FALSE))","v":""},{"$f":"IF($T42=\"\",\"\",VLOOKUP($T42,'FO-DRE-02'!$A$6:$M$101,9,FALSE))","v":""},{"$f":"IF($T42=\"\",\"\",VLOOKUP($T42,'FO-DRE-02'!$A$6:$M$101,11,FALSE))","v":""},{"$f":"IF($T42=\"\",\"\",VLOOKUP($T42,'FO-DRE-02'!$A$6:$M$101,12,FALSE))","v":""},{"$f":"IF($T42=\"\",\"\",VLOOKUP($T42,'FO-DRE-02'!$A$6:$M$101,13,FALSE))","v":""},null,{"$f":"IF(C42=\"811-824 / 856-869\",869,856)","v":856},null,33,"","F/D","F/D","","","","","","","","","","","","","","",""]
[null,null,null,null,null,null,null,null,{"$f":"IF(H43=\"1a\",Hoja1!$B$126,IF(H43=\"1b\",Hoja1!$B$127,IF(H43=\"2a\",Hoja1!$B$128,IF(H43=\"2b\",Hoja1!$B$129,IF(H43=\"3 \",Hoja1!$B$130,IF(H43=\"4 \",Hoja1!$B$131,IF(H43=\"5 \",Hoja1!$B$132,IF(H43=\"6 \",Hoja1!$B$133,IF(H43=\"7 \",Hoja1!$B$134,IF(H43=\"8 \",Hoja1!$B$135,\" \"))))))))))","v":" "},{"$f":"CONCATENATE(#REF!,\"-\",\"TX\")","v":{"$error":"#REF!"}},{"$f":"CONCATENATE(#REF!,\"-\",\"RX\")","v":{"$error":"#REF!"}},null,null,null,null,0,null,null,null,null,null,{"$f":"IF($R43=\"\",\"\",VLOOKUP($R43,'FO-DRE-01'!$A$7:$U$301,18,FALSE))","v":""},{"$f":"IF($R43=\"\",\"\",VLOOKUP($R43,'FO-DRE-01'!$A$7:$U$301,16,FALSE))","v":""},{"$f":"IF($R43=\"\",\"\",VLOOKUP($R43,'FO-DRE-01'!$A$7:$U$301,17,FALSE))","v":""},{"$f":"IF($R43=\"\",\"\",VLOOKUP($R43,'FO-DRE-01'!$A$7:$U$301,3,FALSE))","v":""},{"$f":"IF($R43=\"\",\"\",VLOOKUP($R43,'FO-DRE-01'!$A$7:$U$301,4,FALSE))","v":""},{"$f":"IF($R43=\"\",\"\",VLOOKUP($R43,'FO-DRE-01'!$A$7:$U$301,5,FALSE))","v":""},{"$f":"IF($R43=\"\",\"\",VLOOKUP($R43,'FO-DRE-01'!$A$7:$U$301,7,FALSE))","v":""},{"$f":"IF($R43=\"\",\"\",VLOOKUP($R43,'FO-DRE-01'!$A$7:$U$301,8,FALSE))","v":""},{"$f":"IF($R43=\"\",\"\",VLOOKUP($R43,'FO-DRE-01'!$A$7:$U$301,9,FALSE))","v":""},{"$f":"IF($R43=\"\",\"\",VLOOKUP($R43,'FO-DRE-01'!$A$7:$U$301,10,FALSE))","v":""},{"$f":"IF($R43=\"\",\"\",VLOOKUP($R43,'FO-DRE-01'!$A$7:$U$301,11,FALSE))","v":""},{"$f":"IF($R43=\"\",\"\",VLOOKUP($R43,'FO-DRE-01'!$A$7:$U$301,12,FALSE))","v":""},{"$f":"IF($R43=\"\",\"\",VLOOKUP($R43,'FO-DRE-01'!$A$7:$U$301,13,FALSE))","v":""},{"$f":"IF($R43=\"\",\"\",VLOOKUP($R43,'FO-DRE-01'!$A$7:$U$301,14,FALSE))","v":""},{"$f":"IF($R43=\"\",\"\",VLOOKUP($R43,'FO-DRE-01'!$A$7:$U$301,15,FALSE))","v":""},{"$f":"IF($S43=\"\",\"\",VLOOKUP($S43,'FO-DRE-04'!$A$6:$L$301,2,FALSE))","v":""},{"$f":"IF($S43=\"\",\"\",VLOOKUP($S43,'FO-DRE-04'!$A$6:$L$301,3,FALSE))","v":""},{"$f":"IF($S43=\"\",\"\",VLOOKUP($S43,'FO-DRE-04'!$A$6:$L$301,4,FALSE))","v":""},{"$f":"IF($S43=\"\",\"\",VLOOKUP($S43,'FO-DRE-04'!$A$6:$L$301,6,FALSE))","v":""},{"$f":"IF($S43=\"\",\"\",VLOOKUP($S43,'FO-DRE-04'!$A$6:$L$301,11,FALSE))","v":""},{"$f":"IF($T43=\"\",\"\",VLOOKUP($T43,'FO-DRE-02'!$A$6:$M$101,2,FALSE))","v":""},{"$f":"IF($T43=\"\",\"\",VLOOKUP($T43,'FO-DRE-02'!$A$6:$M$101,3,FALSE))","v":""},{"$f":"IF($T43=\"\",\"\",VLOOKUP($T43,'FO-DRE-02'!$A$6:$M$101,6,FALSE))","v":""},{"$f":"IF($T43=\"\",\"\",VLOOKUP($T43,'FO-DRE-02'!$A$6:$M$101,4,FALSE))","v":""},{"$f":"IF($T43=\"\",\"\",VLOOKUP($T43,'FO-DRE-02'!$A$6:$M$101,5,FALSE))","v":""},{"$f":"IF($T43=\"\",\"\",VLOOKUP($T43,'FO-DRE-02'!$A$6:$M$101,8,FALSE))","v":""},{"$f":"IF($T43=\"\",\"\",VLOOKUP($T43,'FO-DRE-02'!$A$6:$M$101,7,FALSE))","v":""},{"$f":"IF($T43=\"\",\"\",VLOOKUP($T43,'FO-DRE-02'!$A$6:$M$101,9,FALSE))","v":""},{"$f":"IF($T43=\"\",\"\",VLOOKUP($T43,'FO-DRE-02'!$A$6:$M$101,11,FALSE))","v":""},{"$f":"IF($T43=\"\",\"\",VLOOKUP($T43,'FO-DRE-02'!$A$6:$M$101,12,FALSE))","v":""},{"$f":"IF($T43=\"\",\"\",VLOOKUP($T43,'FO-DRE-02'!$A$6:$M$101,13,FALSE))","v":""},null,856,null,34,"","F/D","F/D","","","","","","","","","","","","","","",""]
[null,null,null,null,null,null,null,null,{"$f":"IF(H44=\"1a\",Hoja1!$B$126,IF(H44=\"1b\",Hoja1!$B$127,IF(H44=\"2a\",Hoja1!$B$128,IF(H44=\"2b\",Hoja1!$B$129,IF(H44=\"3 \",Hoja1!$B$130,IF(H44=\"4 \",Hoja1!$B$131,IF(H44=\"5 \",Hoja1!$B$132,IF(H44=\"6 \",Hoja1!$B$133,IF(H44=\"7 \",Hoja1!$B$134,IF(H44=\"8 \",Hoja1!$B$135,\" \"))))))))))","v":" "},{"$f":"CONCATENATE(#REF!,\"-\",\"TX\")","v":{"$error":"#REF!"}},{"$f":"CONCATENATE(#REF!,\"-\",\"RX\")","v":{"$error":"#REF!"}},null,null,null,null,0,null,null,null,null,null,{"$f":"IF($R44=\"\",\"\",VLOOKUP($R44,'FO-DRE-01'!$A$7:$U$301,18,FALSE))","v":""},{"$f":"IF($R44=\"\",\"\",VLOOKUP($R44,'FO-DRE-01'!$A$7:$U$301,16,FALSE))","v":""},{"$f":"IF($R44=\"\",\"\",VLOOKUP($R44,'FO-DRE-01'!$A$7:$U$301,17,FALSE))","v":""},{"$f":"IF($R44=\"\",\"\",VLOOKUP($R44,'FO-DRE-01'!$A$7:$U$301,3,FALSE))","v":""},{"$f":"IF($R44=\"\",\"\",VLOOKUP($R44,'FO-DRE-01'!$A$7:$U$301,4,FALSE))","v":""},{"$f":"IF($R44=\"\",\"\",VLOOKUP($R44,'FO-DRE-01'!$A$7:$U$301,5,FALSE))","v":""},{"$f":"IF($R44=\"\",\"\",VLOOKUP($R44,'FO-DRE-01'!$A$7:$U$301,7,FALSE))","v":""},{"$f":"IF($R44=\"\",\"\",VLOOKUP($R44,'FO-DRE-01'!$A$7:$U$301,8,FALSE))","v":""},{"$f":"IF($R44=\"\",\"\",VLOOKUP($R44,'FO-DRE-01'!$A$7:$U$301,9,FALSE))","v":""},{"$f":"IF($R44=\"\",\"\",VLOOKUP($R44,'FO-DRE-01'!$A$7:$U$301,10,FALSE))","v":""},{"$f":"IF($R44=\"\",\"\",VLOOKUP($R44,'FO-DRE-01'!$A$7:$U$301,11,FALSE))","v":""},{"$f":"IF($R44=\"\",\"\",VLOOKUP($R44,'FO-DRE-01'!$A$7:$U$301,12,FALSE))","v":""},{"$f":"IF($R44=\"\",\"\",VLOOKUP($R44,'FO-DRE-01'!$A$7:$U$301,13,FALSE))","v":""},{"$f":"IF($R44=\"\",\"\",VLOOKUP($R44,'FO-DRE-01'!$A$7:$U$301,14,FALSE))","v":""},{"$f":"IF($R44=\"\",\"\",VLOOKUP($R44,'FO-DRE-01'!$A$7:$U$301,15,FALSE))","v":""},{"$f":"IF($S44=\"\",\"\",VLOOKUP($S44,'FO-DRE-04'!$A$6:$L$301,2,FALSE))","v":""},{"$f":"IF($S44=\"\",\"\",VLOOKUP($S44,'FO-DRE-04'!$A$6:$L$301,3,FALSE))","v":""},{"$f":"IF($S44=\"\",\"\",VLOOKUP($S44,'FO-DRE-04'!$A$6:$L$301,4,FALSE))","v":""},{"$f":"IF($S44=\"\",\"\",VLOOKUP($S44,'FO-DRE-04'!$A$6:$L$301,6,FALSE))","v":""},{"$f":"IF($S44=\"\",\"\",VLOOKUP($S44,'FO-DRE-04'!$A$6:$L$301,11,FALSE))","v":""},{"$f":"IF($T44=\"\",\"\",VLOOKUP($T44,'FO-DRE-02'!$A$6:$M$101,2,FALSE))","v":""},{"$f":"IF($T44=\"\",\"\",VLOOKUP($T44,'FO-DRE-02'!$A$6:$M$101,3,FALSE))","v":""},{"$f":"IF($T44=\"\",\"\",VLOOKUP($T44,'FO-DRE-02'!$A$6:$M$101,6,FALSE))","v":""},{"$f":"IF($T44=\"\",\"\",VLOOKUP($T44,'FO-DRE-02'!$A$6:$M$101,4,FALSE))","v":""},{"$f":"IF($T44=\"\",\"\",VLOOKUP($T44,'FO-DRE-02'!$A$6:$M$101,5,FALSE))","v":""},{"$f":"IF($T44=\"\",\"\",VLOOKUP($T44,'FO-DRE-02'!$A$6:$M$101,8,FALSE))","v":""},{"$f":"IF($T44=\"\",\"\",VLOOKUP($T44,'FO-DRE-02'!$A$6:$M$101,7,FALSE))","v":""},{"$f":"IF($T44=\"\",\"\",VLOOKUP($T44,'FO-DRE-02'!$A$6:$M$101,9,FALSE))","v":""},{"$f":"IF($T44=\"\",\"\",VLOOKUP($T44,'FO-DRE-02'!$A$6:$M$101,11,FALSE))","v":""},{"$f":"IF($T44=\"\",\"\",VLOOKUP($T44,'FO-DRE-02'!$A$6:$M$101,12,FALSE))","v":""},{"$f":"IF($T44=\"\",\"\",VLOOKUP($T44,'FO-DRE-02'!$A$6:$M$101,13,FALSE))","v":""},null,856,null,35,"","F/D","F/D","","","","","","","","","","","","","","",""]
[null,null,null,null,null,null,null,null,{"$f":"IF(H45=\"1a\",Hoja1!$B$126,IF(H45=\"1b\",Hoja1!$B$127,IF(H45=\"2a\",Hoja1!$B$128,IF(H45=\"2b\",Hoja1!$B$129,IF(H45=\"3 \",Hoja1!$B$130,IF(H45=\"4 \",Hoja1!$B$131,IF(H45=\"5 \",Hoja1!$B$132,IF(H45=\"6 \",Hoja1!$B$133,IF(H45=\"7 \",Hoja1!$B$134,IF(H45=\"8 \",Hoja1!$B$135,\" \"))))))))))","v":" "},{"$f":"CONCATENATE(#REF!,\"-\",\"TX\")","v":{"$error":"#REF!"}},{"$f":"CONCATENATE(#REF!,\"-\",\"RX\")","v":{"$error":"#REF!"}},null,null,null,null,0,null,null,null,null,null,{"$f":"IF($R45=\"\",\"\",VLOOKUP($R45,'FO-DRE-01'!$A$7:$U$301,18,FALSE))","v":""},{"$f":"IF($R45=\"\",\"\",VLOOKUP($R45,'FO-DRE-01'!$A$7:$U$301,16,FALSE))","v":""},{"$f":"IF($R45=\"\",\"\",VLOOKUP($R45,'FO-DRE-01'!$A$7:$U$301,17,FALSE))","v":""},{"$f":"IF($R45=\"\",\"\",VLOOKUP($R45,'FO-DRE-01'!$A$7:$U$301,3,FALSE))","v":""},{"$f":"IF($R45=\"\",\"\",VLOOKUP($R45,'FO-DRE-01'!$A$7:$U$301,4,FALSE))","v":""},{"$f":"IF($R45=\"\",\"\",VLOOKUP($R45,'FO-DRE-01'!$A$7:$U$301,5,FALSE))","v":""},{"$f":"IF($R45=\"\",\"\",VLOOKUP($R45,'FO-DRE-01'!$A$7:$U$301,7,FALSE))","v":""},{"$f":"IF($R45=\"\",\"\",VLOOKUP($R45,'FO-DRE-01'!$A$7:$U$301,8,FALSE))","v":""},{"$f":"IF($R45=\"\",\"\",VLOOKUP($R45,'FO-DRE-01'!$A$7:$U$301,9,FALSE))","v":""},{"$f":"IF($R45=\"\",\"\",VLOOKUP($R45,'FO-DRE-01'!$A$7:$U$301,10,FALSE))","v":""},{"$f":"IF($R45=\"\",\"\",VLOOKUP($R45,'FO-DRE-01'!$A$7:$U$301,11,FALSE))","v":""},{"$f":"IF($R45=\"\",\"\",VLOOKUP($R45,'FO-DRE-01'!$A$7:$U$301,12,FALSE))","v":""},{"$f":"IF($R45=\"\",\"\",VLOOKUP($R45,'FO-DRE-01'!$A$7:$U$301,13,FALSE))","v":""},{"$f":"IF($R45=\"\",\"\",VLOOKUP($R45,'FO-DRE-01'!$A$7:$U$301,14,FALSE))","v":""},{"$f":"IF($R45=\"\",\"\",VLOOKUP($R45,'FO-DRE-01'!$A$7:$U$301,15,FALSE))","v":""},{"$f":"IF($S45=\"\",\"\",VLOOKUP($S45,'FO-DRE-04'!$A$6:$L$301,2,FALSE))","v":""},{"$f":"IF($S45=\"\",\"\",VLOOKUP($S45,'FO-DRE-04'!$A$6:$L$301,3,FALSE))","v":""},{"$f":"IF($S45=\"\",\"\",VLOOKUP($S45,'FO-DRE-04'!$A$6:$L$301,4,FALSE))","v":""},{"$f":"IF($S45=\"\",\"\",VLOOKUP($S45,'FO-DRE-04'!$A$6:$L$301,6,FALSE))","v":""},{"$f":"IF($S45=\"\",\"\",VLOOKUP($S45,'FO-DRE-04'!$A$6:$L$301,11,FALSE))","v":""},{"$f":"IF($T45=\"\",\"\",VLOOKUP($T45,'FO-DRE-02'!$A$6:$M$101,2,FALSE))","v":""},{"$f":"IF($T45=\"\",\"\",VLOOKUP($T45,'FO-DRE-02'!$A$6:$M$101,3,FALSE))","v":""},{"$f":"IF($T45=\"\",\"\",VLOOKUP($T45,'FO-DRE-02'!$A$6:$M$101,6,FALSE))","v":""},{"$f":"IF($T45=\"\",\"\",VLOOKUP($T45,'FO-DRE-02'!$A$6:$M$101,4,FALSE))","v":""},{"$f":"IF($T45=\"\",\"\",VLOOKUP($T45,'FO-DRE-02'!$A$6:$M$101,5,FALSE))","v":""},{"$f":"IF($T45=\"\",\"\",VLOOKUP($T45,'FO-DRE-02'!$A$6:$M$101,8,FALSE))","v":""},{"$f":"IF($T45=\"\",\"\",VLOOKUP($T45,'FO-DRE-02'!$A$6:$M$101,7,FALSE))","v":""},{"$f":"IF($T45=\"\",\"\",VLOOKUP($T45,'FO-DRE-02'!$A$6:$M$101,9,FALSE))","v":""},{"$f":"IF($T45=\"\",\"\",VLOOKUP($T45,'FO-DRE-02'!$A$6:$M$101,11,FALSE))","v":""},{"$f":"IF($T45=\"\",\"\",VLOOKUP($T45,'FO-DRE-02'!$A$6:$M$101,12,FALSE))","v":""},{"$f":"IF($T45=\"\",\"\",VLOOKUP($T45,'FO-DRE-02'!$A$6:$M$101,13,FALSE))","v":""},null,856,null,36,"","F/D","F/D","","","","","","","","","","","","","","",""]
[null,null,null,null,null,null,null,null,{"$f":"IF(H46=\"1a\",Hoja1!$B$126,IF(H46=\"1b\",Hoja1!$B$127,IF(H46=\"2a\",Hoja1!$B$128,IF(H46=\"2b\",Hoja1!$B$129,IF(H46=\"3 \",Hoja1!$B$130,IF(H46=\"4 \",Hoja1!$B$131,IF(H46=\"5 \",Hoja1!$B$132,IF(H46=\"6 \",Hoja1!$B$133,IF(H46=\"7 \",Hoja1!$B$134,IF(H46=\"8 \",Hoja1!$B$135,\" \"))))))))))","v":" "},{"$f":"CONCATENATE(#REF!,\"-\",\"TX\")","v":{"$error":"#REF!"}},{"$f":"CONCATENATE(#REF!,\"-\",\"RX\")","v":{"$error":"#REF!"}},null,null,null,null,0,null,null,null,null,null,{"$f":"IF($R46=\"\",\"\",VLOOKUP($R46,'FO-DRE-01'!$A$7:$U$301,18,FALSE))","v":""},{"$f":"IF($R46=\"\",\"\",VLOOKUP($R46,'FO-DRE-01'!$A$7:$U$301,16,FALSE))","v":""},{"$f":"IF($R46=\"\",\"\",VLOOKUP($R46,'FO-DRE-01'!$A$7:$U$301,17,FALSE))","v":""},{"$f":"IF($R46=\"\",\"\",VLOOKUP($R46,'FO-DRE-01'!$A$7:$U$301,3,FALSE))","v":""},{"$f":"IF($R46=\"\",\"\",VLOOKUP($R46,'FO-DRE-01'!$A$7:$U$301,4,FALSE))","v":""},{"$f":"IF($R46=\"\",\"\",VLOOKUP($R46,'FO-DRE-01'!$A$7:$U$301,5,FALSE))","v":""},{"$f":"IF($R46=\"\",\"\",VLOOKUP($R46,'FO-DRE-01'!$A$7:$U$301,7,FALSE))","v":""},{"$f":"IF($R46=\"\",\"\",VLOOKUP($R46,'FO-DRE-01'!$A$7:$U$301,8,FALSE))","v":""},{"$f":"IF($R46=\"\",\"\",VLOOKUP($R46,'FO-DRE-01'!$A$7:$U$301,9,FALSE))","v":""},{"$f":"IF($R46=\"\",\"\",VLOOKUP($R46,'FO-DRE-01'!$A$7:$U$301,10,FALSE))","v":""},{"$f":"IF($R46=\"\",\"\",VLOOKUP($R46,'FO-DRE-01'!$A$7:$U$301,11,FALSE))","v":""},{"$f":"IF($R46=\"\",\"\",VLOOKUP($R46,'FO-DRE-01'!$A$7:$U$301,12,FALSE))","v":""},{"$f":"IF($R46=\"\",\"\",VLOOKUP($R46,'FO-DRE-01'!$A$7:$U$301,13,FALSE))","v":""},{"$f":"IF($R46=\"\",\"\",VLOOKUP($R46,'FO-DRE-01'!$A$7:$U$301,14,FALSE))","v":""},{"$f":"IF($R46=\"\",\"\",VLOOKUP($R46,'FO-DRE-01'!$A$7:$U$301,15,FALSE))","v":""},{"$f":"IF($S46=\"\",\"\",VLOOKUP($S46,'FO-DRE-04'!$A$6:$L$301,2,FALSE))","v":""},{"$f":"IF($S46=\"\",\"\",VLOOKUP($S46,'FO-DRE-04'!$A$6:$L$301,3,FALSE))","v":""},{"$f":"IF($S46=\"\",\"\",VLOOKUP($S46,'FO-DRE-04'!$A$6:$L$301,4,FALSE))","v":""},{"$f":"IF($S46=\"\",\"\",VLOOKUP($S46,'FO-DRE-04'!$A$6:$L$301,6,FALSE))","v":""},{"$f":"IF($S46=\"\",\"\",VLOOKUP($S46,'FO-DRE-04'!$A$6:$L$301,11,FALSE))","v":""},{"$f":"IF($T46=\"\",\"\",VLOOKUP($T46,'FO-DRE-02'!$A$6:$M$101,2,FALSE))","v":""},{"$f":"IF($T46=\"\",\"\",VLOOKUP($T46,'FO-DRE-02'!$A$6:$M$101,3,FALSE))","v":""},{"$f":"IF($T46=\"\",\"\",VLOOKUP($T46,'FO-DRE-02'!$A$6:$M$101,6,FALSE))","v":""},{"$f":"IF($T46=\"\",\"\",VLOOKUP($T46,'FO-DRE-02'!$A$6:$M$101,4,FALSE))","v":""},{"$f":"IF($T46=\"\",\"\",VLOOKUP($T46,'FO-DRE-02'!$A$6:$M$101,5,FALSE))","v":""},{"$f":"IF($T46=\"\",\"\",VLOOKUP($T46,'FO-DRE-02'!$A$6:$M$101,8,FALSE))","v":""},{"$f":"IF($T46=\"\",\"\",VLOOKUP($T46,'FO-DRE-02'!$A$6:$M$101,7,FALSE))","v":""},{"$f":"IF($T46=\"\",\"\",VLOOKUP($T46,'FO-DRE-02'!$A$6:$M$101,9,FALSE))","v":""},{"$f":"IF($T46=\"\",\"\",VLOOKUP($T46,'FO-DRE-02'!$A$6:$M$101,11,FALSE))","v":""},{"$f":"IF($T46=\"\",\"\",VLOOKUP($T46,'FO-DRE-02'!$A$6:$M$101,12,FALSE))","v":""},{"$f":"IF($T46=\"\",\"\",VLOOKUP($T46,'FO-DRE-02'!$A$6:$M$101,13,FALSE))","v":""},null,856,null,37,"","F/D","F/D","","","","","","","","","","","","","","",""]
[null,null,null,null,null,null,null,null,{"$f":"IF(H47=\"1a\",Hoja1!$B$126,IF(H47=\"1b\",Hoja1!$B$127,IF(H47=\"2a\",Hoja1!$B$128,IF(H47=\"2b\",Hoja1!$B$129,IF(H47=\"3 \",Hoja1!$B$130,IF(H47=\"4 \",Hoja1!$B$131,IF(H47=\"5 \",Hoja1!$B$132,IF(H47=\"6 \",Hoja1!$B$133,IF(H47=\"7 \",Hoja1!$B$134,IF(H47=\"8 \",Hoja1!$B$135,\" \"))))))))))","v":" "},{"$f":"CONCATENATE(#REF!,\"-\",\"TX\")","v":{"$error":"#REF!"}},{"$f":"CONCATENATE(#REF!,\"-\",\"RX\")","v":{"$error":"#REF!"}},null,null,null,null,0,null,null,null,null,null,{"$f":"IF($R47=\"\",\"\",VLOOKUP($R47,'FO-DRE-01'!$A$7:$U$301,18,FALSE))","v":""},{"$f":"IF($R47=\"\",\"\",VLOOKUP($R47,'FO-DRE-01'!$A$7:$U$301,16,FALSE))","v":""},{"$f":"IF($R47=\"\",\"\",VLOOKUP($R47,'FO-DRE-01'!$A$7:$U$301,17,FALSE))","v":""},{"$f":"IF($R47=\"\",\"\",VLOOKUP($R47,'FO-DRE-01'!$A$7:$U$301,3,FALSE))","v":""},{"$f":"IF($R47=\"\",\"\",VLOOKUP($R47,'FO-DRE-01'!$A$7:$U$301,4,FALSE))","v":""},{"$f":"IF($R47=\"\",\"\",VLOOKUP($R47,'FO-DRE-01'!$A$7:$U$301,5,FALSE))","v":""},{"$f":"IF($R47=\"\",\"\",VLOOKUP($R47,'FO-DRE-01'!$A$7:$U$301,7,FALSE))","v":""},{"$f":"IF($R47=\"\",\"\",VLOOKUP($R47,'FO-DRE-01'!$A$7:$U$301,8,FALSE))","v":""},{"$f":"IF($R47=\"\",\"\",VLOOKUP($R47,'FO-DRE-01'!$A$7:$U$301,9,FALSE))","v":""},{"$f":"IF($R47=\"\",\"\",VLOOKUP($R47,'FO-DRE-01'!$A$7:$U$301,10,FALSE))","v":""},{"$f":"IF($R47=\"\",\"\",VLOOKUP($R47,'FO-DRE-01'!$A$7:$U$301,11,FALSE))","v":""},{"$f":"IF($R47=\"\",\"\",VLOOKUP($R47,'FO-DRE-01'!$A$7:$U$301,12,FALSE))","v":""},{"$f":"IF($R47=\"\",\"\",VLOOKUP($R47,'FO-DRE-01'!$A$7:$U$301,13,FALSE))","v":""},{"$f":"IF($R47=\"\",\"\",VLOOKUP($R47,'FO-DRE-01'!$A$7:$U$301,14,FALSE))","v":""},{"$f":"IF($R47=\"\",\"\",VLOOKUP($R47,'FO-DRE-01'!$A$7:$U$301,15,FALSE))","v":""},{"$f":"IF($S47=\"\",\"\",VLOOKUP($S47,'FO-DRE-04'!$A$6:$L$301,2,FALSE))","v":""},{"$f":"IF($S47=\"\",\"\",VLOOKUP($S47,'FO-DRE-04'!$A$6:$L$301,3,FALSE))","v":""},{"$f":"IF($S47=\"\",\"\",VLOOKUP($S47,'FO-DRE-04'!$A$6:$L$301,4,FALSE))","v":""},{"$f":"IF($S47=\"\",\"\",VLOOKUP($S47,'FO-DRE-04'!$A$6:$L$301,6,FALSE))","v":""},{"$f":"IF($S47=\"\",\"\",VLOOKUP($S47,'FO-DRE-04'!$A$6:$L$301,11,FALSE))","v":""},{"$f":"IF($T47=\"\",\"\",VLOOKUP($T47,'FO-DRE-02'!$A$6:$M$101,2,FALSE))","v":""},{"$f":"IF($T47=\"\",\"\",VLOOKUP($T47,'FO-DRE-02'!$A$6:$M$101,3,FALSE))","v":""},{"$f":"IF($T47=\"\",\"\",VLOOKUP($T47,'FO-DRE-02'!$A$6:$M$101,6,FALSE))","v":""},{"$f":"IF($T47=\"\",\"\",VLOOKUP($T47,'FO-DRE-02'!$A$6:$M$101,4,FALSE))","v":""},{"$f":"IF($T47=\"\",\"\",VLOOKUP($T47,'FO-DRE-02'!$A$6:$M$101,5,FALSE))","v":""},{"$f":"IF($T47=\"\",\"\",VLOOKUP($T47,'FO-DRE-02'!$A$6:$M$101,8,FALSE))","v":""},{"$f":"IF($T47=\"\",\"\",VLOOKUP($T47,'FO-DRE-02'!$A$6:$M$101,7,FALSE))","v":""},{"$f":"IF($T47=\"\",\"\",VLOOKUP($T47,'FO-DRE-02'!$A$6:$M$101,9,FALSE))","v":""},{"$f":"IF($T47=\"\",\"\",VLOOKUP($T47,'FO-DRE-02'!$A$6:$M$101,11,FALSE))","v":""},{"$f":"IF($T47=\"\",\"\",VLOOKUP($T47,'FO-DRE-02'!$A$6:$M$101,12,FALSE))","v":""},{"$f":"IF($T47=\"\",\"\",VLOOKUP($T47,'FO-DRE-02'!$A$6:$M$101,13,FALSE))","v":""},null,856,null,38,"","F/D","F/D","","","","","","","","","","","","","","",""]
[null,null,null,null,null,null,null,null,{"$f":"IF(H48=\"1a\",Hoja1!$B$126,IF(H48=\"1b\",Hoja1!$B$127,IF(H48=\"2a\",Hoja1!$B$128,IF(H48=\"2b\",Hoja1!$B$129,IF(H48=\"3 \",Hoja1!$B$130,IF(H48=\"4 \",Hoja1!$B$131,IF(H48=\"5 \",Hoja1!$B$132,IF(H48=\"6 \",Hoja1!$B$133,IF(H48=\"7 \",Hoja1!$B$134,IF(H48=\"8 \",Hoja1!$B$135,\" \"))))))))))","v":" "},{"$f":"CONCATENATE(#REF!,\"-\",\"TX\")","v":{"$error":"#REF!"}},{"$f":"CONCATENATE(#REF!,\"-\",\"RX\")","v":{"$error":"#REF!"}},null,null,null,null,0,null,null,null,null,null,{"$f":"IF($R48=\"\",\"\",VLOOKUP($R48,'FO-DRE-01'!$A$7:$U$301,18,FALSE))","v":""},{"$f":"IF($R48=\"\",\"\",VLOOKUP($R48,'FO-DRE-01'!$A$7:$U$301,16,FALSE))","v":""},{"$f":"IF($R48=\"\",\"\",VLOOKUP($R48,'FO-DRE-01'!$A$7:$U$301,17,FALSE))","v":""},{"$f":"IF($R48=\"\",\"\",VLOOKUP($R48,'FO-DRE-01'!$A$7:$U$301,3,FALSE))","v":""},{"$f":"IF($R48=\"\",\"\",VLOOKUP($R48,'FO-DRE-01'!$A$7:$U$301,4,FALSE))","v":""},{"$f":"IF($R48=\"\",\"\",VLOOKUP($R48,'FO-DRE-01'!$A$7:$U$301,5,FALSE))","v":""},{"$f":"IF($R48=\"\",\"\",VLOOKUP($R48,'FO-DRE-01'!$A$7:$U$301,7,FALSE))","v":""},{"$f":"IF($R48=\"\",\"\",VLOOKUP($R48,'FO-DRE-01'!$A$7:$U$301,8,FALSE))","v":""},{"$f":"IF($R48=\"\",\"\",VLOOKUP($R48,'FO-DRE-01'!$A$7:$U$301,9,FALSE))","v":""},{"$f":"IF($R48=\"\",\"\",VLOOKUP($R48,'FO-DRE-01'!$A$7:$U$301,10,FALSE))","v":""},{"$f":"IF($R48=\"\",\"\",VLOOKUP($R48,'FO-DRE-01'!$A$7:$U$301,11,FALSE))","v":""},{"$f":"IF($R48=\"\",\"\",VLOOKUP($R48,'FO-DRE-01'!$A$7:$U$301,12,FALSE))","v":""},{"$f":"IF($R48=\"\",\"\",VLOOKUP($R48,'FO-DRE-01'!$A$7:$U$301,13,FALSE))","v":""},{"$f":"IF($R48=\"\",\"\",VLOOKUP($R48,'FO-DRE-01'!$A$7:$U$301,14,FALSE))","v":""},{"$f":"IF($R48=\"\",\"\",VLOOKUP($R48,'FO-DRE-01'!$A$7:$U$301,15,FALSE))","v":""},{"$f":"IF($S48=\"\",\"\",VLOOKUP($S48,'FO-DRE-04'!$A$6:$L$301,2,FALSE))","v":""},{"$f":"IF($S48=\"\",\"\",VLOOKUP($S48,'FO-DRE-04'!$A$6:$L$301,3,FALSE))","v":""},{"$f":"IF($S48=\"\",\"\",VLOOKUP($S48,'FO-DRE-04'!$A$6:$L$301,4,FALSE))","v":""},{"$f":"IF($S48=\"\",\"\",VLOOKUP($S48,'FO-DRE-04'!$A$6:$L$301,6,FALSE))","v":""},{"$f":"IF($S48=\"\",\"\",VLOOKUP($S48,'FO-DRE-04'!$A$6:$L$301,11,FALSE))","v":""},{"$f":"IF($T48=\"\",\"\",VLOOKUP($T48,'FO-DRE-02'!$A$6:$M$101,2,FALSE))","v":""},{"$f":"IF($T48=\"\",\"\",VLOOKUP($T48,'FO-DRE-02'!$A$6:$M$101,3,FALSE))","v":""},{"$f":"IF($T48=\"\",\"\",VLOOKUP($T48,'FO-DRE-02'!$A$6:$M$101,6,FALSE))","v":""},{"$f":"IF($T48=\"\",\"\",VLOOKUP($T48,'FO-DRE-02'!$A$6:$M$101,4,FALSE))","v":""},{"$f":"IF($T48=\"\",\"\",VLOOKUP($T48,'FO-DRE-02'!$A$6:$M$101,5,FALSE))","v":""},{"$f":"IF($T48=\"\",\"\",VLOOKUP($T48,'FO-DRE-02'!$A$6:$M$101,8,FALSE))","v":""},{"$f":"IF($T48=\"\",\"\",VLOOKUP($T48,'FO-DRE-02'!$A$6:$M$101,7,FALSE))","v":""},{"$f":"IF($T48=\"\",\"\",VLOOKUP($T48,'FO-DRE-02'!$A$6:$M$101,9,FALSE))","v":""},{"$f":"IF($T48=\"\",\"\",VLOOKUP($T48,'FO-DRE-02'!$A$6:$M$101,11,FALSE))","v":""},{"$f":"IF($T48=\"\",\"\",VLOOKUP($T48,'FO-DRE-02'!$A$6:$M$101,12,FALSE))","v":""},{"$f":"IF($T48=\"\",\"\",VLOOKUP($T48,'FO-DRE-02'!$A$6:$M$101,13,FALSE))","v":""},null,856,null,39,"","F/D","F/D","","","","","","","","","","","","","","",""]
[null,null,null,null,null,null,null,null,{"$f":"IF(H49=\"1a\",Hoja1!$B$126,IF(H49=\"1b\",Hoja1!$B$127,IF(H49=\"2a\",Hoja1!$B$128,IF(H49=\"2b\",Hoja1!$B$129,IF(H49=\"3 \",Hoja1!$B$130,IF(H49=\"4 \",Hoja1!$B$131,IF(H49=\"5 \",Hoja1!$B$132,IF(H49=\"6 \",Hoja1!$B$133,IF(H49=\"7 \",Hoja1!$B$134,IF(H49=\"8 \",Hoja1!$B$135,\" \"))))))))))","v":" "},{"$f":"CONCATENATE(#REF!,\"-\",\"TX\")","v":{"$error":"#REF!"}},{"$f":"CONCATENATE(#REF!,\"-\",\"RX\")","v":{"$error":"#REF!"}},null,null,null,null,0,null,null,null,null,null,{"$f":"IF($R49=\"\",\"\",VLOOKUP($R49,'FO-DRE-01'!$A$7:$U$301,18,FALSE))","v":""},{"$f":"IF($R49=\"\",\"\",VLOOKUP($R49,'FO-DRE-01'!$A$7:$U$301,16,FALSE))","v":""},{"$f":"IF($R49=\"\",\"\",VLOOKUP($R49,'FO-DRE-01'!$A$7:$U$301,17,FALSE))","v":""},{"$f":"IF($R49=\"\",\"\",VLOOKUP($R49,'FO-DRE-01'!$A$7:$U$301,3,FALSE))","v":""},{"$f":"IF($R49=\"\",\"\",VLOOKUP($R49,'FO-DRE-01'!$A$7:$U$301,4,FALSE))","v":""},{"$f":"IF($R49=\"\",\"\",VLOOKUP($R49,'FO-DRE-01'!$A$7:$U$301,5,FALSE))","v":""},{"$f":"IF($R49=\"\",\"\",VLOOKUP($R49,'FO-DRE-01'!$A$7:$U$301,7,FALSE))","v":""},{"$f":"IF($R49=\"\",\"\",VLOOKUP($R49,'FO-DRE-01'!$A$7:$U$301,8,FALSE))","v":""},{"$f":"IF($R49=\"\",\"\",VLOOKUP($R49,'FO-DRE-01'!$A$7:$U$301,9,FALSE))","v":""},{"$f":"IF($R49=\"\",\"\",VLOOKUP($R49,'FO-DRE-01'!$A$7:$U$301,10,FALSE))","v":""},{"$f":"IF($R49=\"\",\"\",VLOOKUP($R49,'FO-DRE-01'!$A$7:$U$301,11,FALSE))","v":""},{"$f":"IF($R49=\"\",\"\",VLOOKUP($R49,'FO-DRE-01'!$A$7:$U$301,12,FALSE))","v":""},{"$f":"IF($R49=\"\",\"\",VLOOKUP($R49,'FO-DRE-01'!$A$7:$U$301,13,FALSE))","v":""},{"$f":"IF($R49=\"\",\"\",VLOOKUP($R49,'FO-DRE-01'!$A$7:$U$301,14,FALSE))","v":""},{"$f":"IF($R49=\"\",\"\",VLOOKUP($R49,'FO-DRE-01'!$A$7:$U$301,15,FALSE))","v":""},{"$f":"IF($S49=\"\",\"\",VLOOKUP($S49,'FO-DRE-04'!$A$6:$L$301,2,FALSE))","v":""},{"$f":"IF($S49=\"\",\"\",VLOOKUP($S49,'FO-DRE-04'!$A$6:$L$301,3,FALSE))","v":""},{"$f":"IF($S49=\"\",\"\",VLOOKUP($S49,'FO-DRE-04'!$A$6:$L$301,4,FALSE))","v":""},{"$f":"IF($S49=\"\",\"\",VLOOKUP($S49,'FO-DRE-04'!$A$6:$L$301,6,FALSE))","v":""},{"$f":"IF($S49=\"\",\"\",VLOOKUP($S49,'FO-DRE-04'!$A$6:$L$301,11,FALSE))","v":""},{"$f":"IF($T49=\"\",\"\",VLOOKUP($T49,'FO-DRE-02'!$A$6:$M$101,2,FALSE))","v":""},{"$f":"IF($T49=\"\",\"\",VLOOKUP($T49,'FO-DRE-02'!$A$6:$M$101,3,FALSE))","v":""},{"$f":"IF($T49=\"\",\"\",VLOOKUP($T49,'FO-DRE-02'!$A$6:$M$101,6,FALSE))","v":""},{"$f":"IF($T49=\"\",\"\",VLOOKUP($T49,'FO-DRE-02'!$A$6:$M$101,4,FALSE))","v":""},{"$f":"IF($T49=\"\",\"\",VLOOKUP($T49,'FO-DRE-02'!$A$6:$M$101,5,FALSE))","v":""},{"$f":"IF($T49=\"\",\"\",VLOOKUP($T49,'FO-DRE-02'!$A$6:$M$101,8,FALSE))","v":""},{"$f":"IF($T49=\"\",\"\",VLOOKUP($T49,'FO-DRE-02'!$A$6:$M$101,7,FALSE))","v":""},{"$f":"IF($T49=\"\",\"\",VLOOKUP($T49,'FO-DRE-02'!$A$6:$M$101,9,FALSE))","v":""},{"$f":"IF($T49=\"\",\"\",VLOOKUP($T49,'FO-DRE-02'!$A$6:$M$101,11,FALSE))","v":""},{"$f":"IF($T49=\"\",\"\",VLOOKUP($T49,'FO-DRE-02'!$A$6:$M$101,12,FALSE))","v":""},{"$f":"IF($T49=\"\",\"\",VLOOKUP($T49,'FO-DRE-02'!$A$6:$M$101,13,FALSE))","v":""},null,856,null,40,"","F/D","F/D","","","","","","","","","","","","","","",""]
[null,null,null,null,null,null,null,null,{"$f":"IF(H50=\"1a\",Hoja1!$B$126,IF(H50=\"1b\",Hoja1!$B$127,IF(H50=\"2a\",Hoja1!$B$128,IF(H50=\"2b\",Hoja1!$B$129,IF(H50=\"3 \",Hoja1!$B$130,IF(H50=\"4 \",Hoja1!$B$131,IF(H50=\"5 \",Hoja1!$B$132,IF(H50=\"6 \",Hoja1!$B$133,IF(H50=\"7 \",Hoja1!$B$134,IF(H50=\"8 \",Hoja1!$B$135,\" \"))))))))))","v":" "},{"$f":"CONCATENATE(#REF!,\"-\",\"TX\")","v":{"$error":"#REF!"}},{"$f":"CONCATENATE(#REF!,\"-\",\"RX\")","v":{"$error":"#REF!"}},null,null,null,null,0,null,null,null,null,null,{"$f":"IF($R50=\"\",\"\",VLOOKUP($R50,'FO-DRE-01'!$A$7:$U$301,18,FALSE))","v":""},{"$f":"IF($R50=\"\",\"\",VLOOKUP($R50,'FO-DRE-01'!$A$7:$U$301,16,FALSE))","v":""},{"$f":"IF($R50=\"\",\"\",VLOOKUP($R50,'FO-DRE-01'!$A$7:$U$301,17,FALSE))","v":""},{"$f":"IF($R50=\"\",\"\",VLOOKUP($R50,'FO-DRE-01'!$A$7:$U$301,3,FALSE))","v":""},{"$f":"IF($R50=\"\",\"\",VLOOKUP($R50,'FO-DRE-01'!$A$7:$U$301,4,FALSE))","v":""},{"$f":"IF($R50=\"\",\"\",VLOOKUP($R50,'FO-DRE-01'!$A$7:$U$301,5,FALSE))","v":""},{"$f":"IF($R50=\"\",\"\",VLOOKUP($R50,'FO-DRE-01'!$A$7:$U$301,7,FALSE))","v":""},{"$f":"IF($R50=\"\",\"\",VLOOKUP($R50,'FO-DRE-01'!$A$7:$U$301,8,FALSE))","v":""},{"$f":"IF($R50=\"\",\"\",VLOOKUP($R50,'FO-DRE-01'!$A$7:$U$301,9,FALSE))","v":""},{"$f":"IF($R50=\"\",\"\",VLOOKUP($R50,'FO-DRE-01'!$A$7:$U$301,10,FALSE))","v":""},{"$f":"IF($R50=\"\",\"\",VLOOKUP($R50,'FO-DRE-01'!$A$7:$U$301,11,FALSE))","v":""},{"$f":"IF($R50=\"\",\"\",VLOOKUP($R50,'FO-DRE-01'!$A$7:$U$301,12,FALSE))","v":""},{"$f":"IF($R50=\"\",\"\",VLOOKUP($R50,'FO-DRE-01'!$A$7:$U$301,13,FALSE))","v":""},{"$f":"IF($R50=\"\",\"\",VLOOKUP($R50,'FO-DRE-01'!$A$7:$U$301,14,FALSE))","v":""},{"$f":"IF($R50=\"\",\"\",VLOOKUP($R50,'FO-DRE-01'!$A$7:$U$301,15,FALSE))","v":""},{"$f":"IF($S50=\"\",\"\",VLOOKUP($S50,'FO-DRE-04'!$A$6:$L$301,2,FALSE))","v":""},{"$f":"IF($S50=\"\",\"\",VLOOKUP($S50,'FO-DRE-04'!$A$6:$L$301,3,FALSE))","v":""},{"$f":"IF($S50=\"\",\"\",VLOOKUP($S50,'FO-DRE-04'!$A$6:$L$301,4,FALSE))","v":""},{"$f":"IF($S50=\"\",\"\",VLOOKUP($S50,'FO-DRE-04'!$A$6:$L$301,6,FALSE))","v":""},{"$f":"IF($S50=\"\",\"\",VLOOKUP($S50,'FO-DRE-04'!$A$6:$L$301,11,FALSE))","v":""},{"$f":"IF($T50=\"\",\"\",VLOOKUP($T50,'FO-DRE-02'!$A$6:$M$101,2,FALSE))","v":""},{"$f":"IF($T50=\"\",\"\",VLOOKUP($T50,'FO-DRE-02'!$A$6:$M$101,3,FALSE))","v":""},{"$f":"IF($T50=\"\",\"\",VLOOKUP($T50,'FO-DRE-02'!$A$6:$M$101,6,FALSE))","v":""},{"$f":"IF($T50=\"\",\"\",VLOOKUP($T50,'FO-DRE-02'!$A$6:$M$101,4,FALSE))","v":""},{"$f":"IF($T50=\"\",\"\",VLOOKUP($T50,'FO-DRE-02'!$A$6:$M$101,5,FALSE))","v":""},{"$f":"IF($T50=\"\",\"\",VLOOKUP($T50,'FO-DRE-02'!$A$6:$M$101,8,FALSE))","v":""},{"$f":"IF($T50=\"\",\"\",VLOOKUP($T50,'FO-DRE-02'!$A$6:$M$101,7,FALSE))","v":""},{"$f":"IF($T50=\"\",\"\",VLOOKUP($T50,'FO-DRE-02'!$A$6:$M$101,9,FALSE))","v":""},{"$f":"IF($T50=\"\",\"\",VLOOKUP($T50,'FO-DRE-02'!$A$6:$M$101,11,FALSE))","v":""},{"$f":"IF($T50=\"\",\"\",VLOOKUP($T50,'FO-DRE-02'!$A$6:$M$101,12,FALSE))","v":""},{"$f":"IF($T50=\"\",\"\",VLOOKUP($T50,'FO-DRE-02'!$A$6:$M$101,13,FALSE))","v":""},null,856,null,41,"","F/D","F/D","","","","","","","","","","","","","","",""]
[null,null,null,null,null,null,null,null,{"$f":"IF(H51=\"1a\",Hoja1!$B$126,IF(H51=\"1b\",Hoja1!$B$127,IF(H51=\"2a\",Hoja1!$B$128,IF(H51=\"2b\",Hoja1!$B$129,IF(H51=\"3 \",Hoja1!$B$130,IF(H51=\"4 \",Hoja1!$B$131,IF(H51=\"5 \",Hoja1!$B$132,IF(H51=\"6 \",Hoja1!$B$133,IF(H51=\"7 \",Hoja1!$B$134,IF(H51=\"8 \",Hoja1!$B$135,\" \"))))))))))","v":" "},{"$f":"CONCATENATE(#REF!,\"-\",\"TX\")","v":{"$error":"#REF!"}},{"$f":"CONCATENATE(#REF!,\"-\",\"RX\")","v":{"$error":"#REF!"}},null,null,null,null,0,null,null,null,null,null,{"$f":"IF($R51=\"\",\"\",VLOOKUP($R51,'FO-DRE-01'!$A$7:$U$301,18,FALSE))","v":""},{"$f":"IF($R51=\"\",\"\",VLOOKUP($R51,'FO-DRE-01'!$A$7:$U$301,16,FALSE))","v":""},{"$f":"IF($R51=\"\",\"\",VLOOKUP($R51,'FO-DRE-01'!$A$7:$U$301,17,FALSE))","v":""},{"$f":"IF($R51=\"\",\"\",VLOOKUP($R51,'FO-DRE-01'!$A$7:$U$301,3,FALSE))","v":""},{"$f":"IF($R51=\"\",\"\",VLOOKUP($R51,'FO-DRE-01'!$A$7:$U$301,4,FALSE))","v":""},{"$f":"IF($R51=\"\",\"\",VLOOKUP($R51,'FO-DRE-01'!$A$7:$U$301,5,FALSE))","v":""},{"$f":"IF($R51=\"\",\"\",VLOOKUP($R51,'FO-DRE-01'!$A$7:$U$301,7,FALSE))","v":""},{"$f":"IF($R51=\"\",\"\",VLOOKUP($R51,'FO-DRE-01'!$A$7:$U$301,8,FALSE))","v":""},{"$f":"IF($R51=\"\",\"\",VLOOKUP($R51,'FO-DRE-01'!$A$7:$U$301,9,FALSE))","v":""},{"$f":"IF($R51=\"\",\"\",VLOOKUP($R51,'FO-DRE-01'!$A$7:$U$301,10,FALSE))","v":""},{"$f":"IF($R51=\"\",\"\",VLOOKUP($R51,'FO-DRE-01'!$A$7:$U$301,11,FALSE))","v":""},{"$f":"IF($R51=\"\",\"\",VLOOKUP($R51,'FO-DRE-01'!$A$7:$U$301,12,FALSE))","v":""},{"$f":"IF($R51=\"\",\"\",VLOOKUP($R51,'FO-DRE-01'!$A$7:$U$301,13,FALSE))","v":""},{"$f":"IF($R51=\"\",\"\",VLOOKUP($R51,'FO-DRE-01'!$A$7:$U$301,14,FALSE))","v":""},{"$f":"IF($R51=\"\",\"\",VLOOKUP($R51,'FO-DRE-01'!$A$7:$U$301,15,FALSE))","v":""},{"$f":"IF($S51=\"\",\"\",VLOOKUP($S51,'FO-DRE-04'!$A$6:$L$301,2,FALSE))","v":""},{"$f":"IF($S51=\"\",\"\",VLOOKUP($S51,'FO-DRE-04'!$A$6:$L$301,3,FALSE))","v":""},{"$f":"IF($S51=\"\",\"\",VLOOKUP($S51,'FO-DRE-04'!$A$6:$L$301,4,FALSE))","v":""},{"$f":"IF($S51=\"\",\"\",VLOOKUP($S51,'FO-DRE-04'!$A$6:$L$301,6,FALSE))","v":""},{"$f":"IF($S51=\"\",\"\",VLOOKUP($S51,'FO-DRE-04'!$A$6:$L$301,11,FALSE))","v":""},{"$f":"IF($T51=\"\",\"\",VLOOKUP($T51,'FO-DRE-02'!$A$6:$M$101,2,FALSE))","v":""},{"$f":"IF($T51=\"\",\"\",VLOOKUP($T51,'FO-DRE-02'!$A$6:$M$101,3,FALSE))","v":""},{"$f":"IF($T51=\"\",\"\",VLOOKUP($T51,'FO-DRE-02'!$A$6:$M$101,6,FALSE))","v":""},{"$f":"IF($T51=\"\",\"\",VLOOKUP($T51,'FO-DRE-02'!$A$6:$M$101,4,FALSE))","v":""},{"$f":"IF($T51=\"\",\"\",VLOOKUP($T51,'FO-DRE-02'!$A$6:$M$101,5,FALSE))","v":""},{"$f":"IF($T51=\"\",\"\",VLOOKUP($T51,'FO-DRE-02'!$A$6:$M$101,8,FALSE))","v":""},{"$f":"IF($T51=\"\",\"\",VLOOKUP($T51,'FO-DRE-02'!$A$6:$M$101,7,FALSE))","v":""},{"$f":"IF($T51=\"\",\"\",VLOOKUP($T51,'FO-DRE-02'!$A$6:$M$101,9,FALSE))","v":""},{"$f":"IF($T51=\"\",\"\",VLOOKUP($T51,'FO-DRE-02'!$A$6:$M$101,11,FALSE))","v":""},{"$f":"IF($T51=\"\",\"\",VLOOKUP($T51,'FO-DRE-02'!$A$6:$M$101,12,FALSE))","v":""},{"$f":"IF($T51=\"\",\"\",VLOOKUP($T51,'FO-DRE-02'!$A$6:$M$101,13,FALSE))","v":""},null,856,null,42,"","F/D","F/D","","","","","","","","","","","","","","",""]
[null,null,null,null,null,null,null,null,{"$f":"IF(H52=\"1a\",Hoja1!$B$126,IF(H52=\"1b\",Hoja1!$B$127,IF(H52=\"2a\",Hoja1!$B$128,IF(H52=\"2b\",Hoja1!$B$129,IF(H52=\"3 \",Hoja1!$B$130,IF(H52=\"4 \",Hoja1!$B$131,IF(H52=\"5 \",Hoja1!$B$132,IF(H52=\"6 \",Hoja1!$B$133,IF(H52=\"7 \",Hoja1!$B$134,IF(H52=\"8 \",Hoja1!$B$135,\" \"))))))))))","v":" "},{"$f":"CONCATENATE(#REF!,\"-\",\"TX\")","v":{"$error":"#REF!"}},{"$f":"CONCATENATE(#REF!,\"-\",\"RX\")","v":{"$error":"#REF!"}},null,null,null,null,0,null,null,null,null,null,{"$f":"IF($R52=\"\",\"\",VLOOKUP($R52,'FO-DRE-01'!$A$7:$U$301,18,FALSE))","v":""},{"$f":"IF($R52=\"\",\"\",VLOOKUP($R52,'FO-DRE-01'!$A$7:$U$301,16,FALSE))","v":""},{"$f":"IF($R52=\"\",\"\",VLOOKUP($R52,'FO-DRE-01'!$A$7:$U$301,17,FALSE))","v":""},{"$f":"IF($R52=\"\",\"\",VLOOKUP($R52,'FO-DRE-01'!$A$7:$U$301,3,FALSE))","v":""},{"$f":"IF($R52=\"\",\"\",VLOOKUP($R52,'FO-DRE-01'!$A$7:$U$301,4,FALSE))","v":""},{"$f":"IF($R52=\"\",\"\",VLOOKUP($R52,'FO-DRE-01'!$A$7:$U$301,5,FALSE))","v":""},{"$f":"IF($R52=\"\",\"\",VLOOKUP($R52,'FO-DRE-01'!$A$7:$U$301,7,FALSE))","v":""},{"$f":"IF($R52=\"\",\"\",VLOOKUP($R52,'FO-DRE-01'!$A$7:$U$301,8,FALSE))","v":""},{"$f":"IF($R52=\"\",\"\",VLOOKUP($R52,'FO-DRE-01'!$A$7:$U$301,9,FALSE))","v":""},{"$f":"IF($R52=\"\",\"\",VLOOKUP($R52,'FO-DRE-01'!$A$7:$U$301,10,FALSE))","v":""},{"$f":"IF($R52=\"\",\"\",VLOOKUP($R52,'FO-DRE-01'!$A$7:$U$301,11,FALSE))","v":""},{"$f":"IF($R52=\"\",\"\",VLOOKUP($R52,'FO-DRE-01'!$A$7:$U$301,12,FALSE))","v":""},{"$f":"IF($R52=\"\",\"\",VLOOKUP($R52,'FO-DRE-01'!$A$7:$U$301,13,FALSE))","v":""},{"$f":"IF($R52=\"\",\"\",VLOOKUP($R52,'FO-DRE-01'!$A$7:$U$301,14,FALSE))","v":""},{"$f":"IF($R52=\"\",\"\",VLOOKUP($R52,'FO-DRE-01'!$A$7:$U$301,15,FALSE))","v":""},{"$f":"IF($S52=\"\",\"\",VLOOKUP($S52,'FO-DRE-04'!$A$6:$L$301,2,FALSE))","v":""},{"$f":"IF($S52=\"\",\"\",VLOOKUP($S52,'FO-DRE-04'!$A$6:$L$301,3,FALSE))","v":""},{"$f":"IF($S52=\"\",\"\",VLOOKUP($S52,'FO-DRE-04'!$A$6:$L$301,4,FALSE))","v":""},{"$f":"IF($S52=\"\",\"\",VLOOKUP($S52,'FO-DRE-04'!$A$6:$L$301,6,FALSE))","v":""},{"$f":"IF($S52=\"\",\"\",VLOOKUP($S52,'FO-DRE-04'!$A$6:$L$301,11,FALSE))","v":""},{"$f":"IF($T52=\"\",\"\",VLOOKUP($T52,'FO-DRE-02'!$A$6:$M$101,2,FALSE))","v":""},{"$f":"IF($T52=\"\",\"\",VLOOKUP($T52,'FO-DRE-02'!$A$6:$M$101,3,FALSE))","v":""},{"$f":"IF($T52=\"\",\"\",VLOOKUP($T52,'FO-DRE-02'!$A$6:$M$101,6,FALSE))","v":""},{"$f":"IF($T52=\"\",\"\",VLOOKUP($T52,'FO-DRE-02'!$A$6:$M$101,4,FALSE))","v":""},{"$f":"IF($T52=\"\",\"\",VLOOKUP($T52,'FO-DRE-02'!$A$6:$M$101,5,FALSE))","v":""},{"$f":"IF($T52=\"\",\"\",VLOOKUP($T52,'FO-DRE-02'!$A$6:$M$101,8,FALSE))","v":""},{"$f":"IF($T52=\"\",\"\",VLOOKUP($T52,'FO-DRE-02'!$A$6:$M$101,7,FALSE))","v":""},{"$f":"IF($T52=\"\",\"\",VLOOKUP($T52,'FO-DRE-02'!$A$6:$M$101,9,FALSE))","v":""},{"$f":"IF($T52=\"\",\"\",VLOOKUP($T52,'FO-DRE-02'!$A$6:$M$101,11,FALSE))","v":""},{"$f":"IF($T52=\"\",\"\",VLOOKUP($T52,'FO-DRE-02'!$A$6:$M$101,12,FALSE))","v":""},{"$f":"IF($T52=\"\",\"\",VLOOKUP($T52,'FO-DRE-02'!$A$6:$M$101,13,FALSE))","v":""},null,856,null,43,"","F/D","F/D","","","","","","","","","","","","","","",""]
[null,null,null,null,null,null,null,null,{"$f":"IF(H53=\"1a\",Hoja1!$B$126,IF(H53=\"1b\",Hoja1!$B$127,IF(H53=\"2a\",Hoja1!$B$128,IF(H53=\"2b\",Hoja1!$B$129,IF(H53=\"3 \",Hoja1!$B$130,IF(H53=\"4 \",Hoja1!$B$131,IF(H53=\"5 \",Hoja1!$B$132,IF(H53=\"6 \",Hoja1!$B$133,IF(H53=\"7 \",Hoja1!$B$134,IF(H53=\"8 \",Hoja1!$B$135,\" \"))))))))))","v":" "},{"$f":"CONCATENATE(#REF!,\"-\",\"TX\")","v":{"$error":"#REF!"}},{"$f":"CONCATENATE(#REF!,\"-\",\"RX\")","v":{"$error":"#REF!"}},null,null,null,null,0,null,null,null,null,null,{"$f":"IF($R53=\"\",\"\",VLOOKUP($R53,'FO-DRE-01'!$A$7:$U$301,18,FALSE))","v":""},{"$f":"IF($R53=\"\",\"\",VLOOKUP($R53,'FO-DRE-01'!$A$7:$U$301,16,FALSE))","v":""},{"$f":"IF($R53=\"\",\"\",VLOOKUP($R53,'FO-DRE-01'!$A$7:$U$301,17,FALSE))","v":""},{"$f":"IF($R53=\"\",\"\",VLOOKUP($R53,'FO-DRE-01'!$A$7:$U$301,3,FALSE))","v":""},{"$f":"IF($R53=\"\",\"\",VLOOKUP($R53,'FO-DRE-01'!$A$7:$U$301,4,FALSE))","v":""},{"$f":"IF($R53=\"\",\"\",VLOOKUP($R53,'FO-DRE-01'!$A$7:$U$301,5,FALSE))","v":""},{"$f":"IF($R53=\"\",\"\",VLOOKUP($R53,'FO-DRE-01'!$A$7:$U$301,7,FALSE))","v":""},{"$f":"IF($R53=\"\",\"\",VLOOKUP($R53,'FO-DRE-01'!$A$7:$U$301,8,FALSE))","v":""},{"$f":"IF($R53=\"\",\"\",VLOOKUP($R53,'FO-DRE-01'!$A$7:$U$301,9,FALSE))","v":""},{"$f":"IF($R53=\"\",\"\",VLOOKUP($R53,'FO-DRE-01'!$A$7:$U$301,10,FALSE))","v":""},{"$f":"IF($R53=\"\",\"\",VLOOKUP($R53,'FO-DRE-01'!$A$7:$U$301,11,FALSE))","v":""},{"$f":"IF($R53=\"\",\"\",VLOOKUP($R53,'FO-DRE-01'!$A$7:$U$301,12,FALSE))","v":""},{"$f":"IF($R53=\"\",\"\",VLOOKUP($R53,'FO-DRE-01'!$A$7:$U$301,13,FALSE))","v":""},{"$f":"IF($R53=\"\",\"\",VLOOKUP($R53,'FO-DRE-01'!$A$7:$U$301,14,FALSE))","v":""},{"$f":"IF($R53=\"\",\"\",VLOOKUP($R53,'FO-DRE-01'!$A$7:$U$301,15,FALSE))","v":""},{"$f":"IF($S53=\"\",\"\",VLOOKUP($S53,'FO-DRE-04'!$A$6:$L$301,2,FALSE))","v":""},{"$f":"IF($S53=\"\",\"\",VLOOKUP($S53,'FO-DRE-04'!$A$6:$L$301,3,FALSE))","v":""},{"$f":"IF($S53=\"\",\"\",VLOOKUP($S53,'FO-DRE-04'!$A$6:$L$301,4,FALSE))","v":""},{"$f":"IF($S53=\"\",\"\",VLOOKUP($S53,'FO-DRE-04'!$A$6:$L$301,6,FALSE))","v":""},{"$f":"IF($S53=\"\",\"\",VLOOKUP($S53,'FO-DRE-04'!$A$6:$L$301,11,FALSE))","v":""},{"$f":"IF($T53=\"\",\"\",VLOOKUP($T53,'FO-DRE-02'!$A$6:$M$101,2,FALSE))","v":""},{"$f":"IF($T53=\"\",\"\",VLOOKUP($T53,'FO-DRE-02'!$A$6:$M$101,3,FALSE))","v":""},{"$f":"IF($T53=\"\",\"\",VLOOKUP($T53,'FO-DRE-02'!$A$6:$M$101,6,FALSE))","v":""},{"$f":"IF($T53=\"\",\"\",VLOOKUP($T53,'FO-DRE-02'!$A$6:$M$101,4,FALSE))","v":""},{"$f":"IF($T53=\"\",\"\",VLOOKUP($T53,'FO-DRE-02'!$A$6:$M$101,5,FALSE))","v":""},{"$f":"IF($T53=\"\",\"\",VLOOKUP($T53,'FO-DRE-02'!$A$6:$M$101,8,FALSE))","v":""},{"$f":"IF($T53=\"\",\"\",VLOOKUP($T53,'FO-DRE-02'!$A$6:$M$101,7,FALSE))","v":""},{"$f":"IF($T53=\"\",\"\",VLOOKUP($T53,'FO-DRE-02'!$A$6:$M$101,9,FALSE))","v":""},{"$f":"IF($T53=\"\",\"\",VLOOKUP($T53,'FO-DRE-02'!$A$6:$M$101,11,FALSE))","v":""},{"$f":"IF($T53=\"\",\"\",VLOOKUP($T53,'FO-DRE-02'!$A$6:$M$101,12,FALSE))","v":""},{"$f":"IF($T53=\"\",\"\",VLOOKUP($T53,'FO-DRE-02'!$A$6:$M$101,13,FALSE))","v":""},null,856,null,44,"","F/D","F/D","","","","","","","","","","","","","","",""]
[null,null,null,null,null,null,null,null,{"$f":"IF(H54=\"1a\",Hoja1!$B$126,IF(H54=\"1b\",Hoja1!$B$127,IF(H54=\"2a\",Hoja1!$B$128,IF(H54=\"2b\",Hoja1!$B$129,IF(H54=\"3 \",Hoja1!$B$130,IF(H54=\"4 \",Hoja1!$B$131,IF(H54=\"5 \",Hoja1!$B$132,IF(H54=\"6 \",Hoja1!$B$133,IF(H54=\"7 \",Hoja1!$B$134,IF(H54=\"8 \",Hoja1!$B$135,\" \"))))))))))","v":" "},{"$f":"CONCATENATE(#REF!,\"-\",\"TX\")","v":{"$error":"#REF!"}},{"$f":"CONCATENATE(#REF!,\"-\",\"RX\")","v":{"$error":"#REF!"}},null,null,null,null,0,null,null,null,null,null,{"$f":"IF($R54=\"\",\"\",VLOOKUP($R54,'FO-DRE-01'!$A$7:$U$301,18,FALSE))","v":""},{"$f":"IF($R54=\"\",\"\",VLOOKUP($R54,'FO-DRE-01'!$A$7:$U$301,16,FALSE))","v":""},{"$f":"IF($R54=\"\",\"\",VLOOKUP($R54,'FO-DRE-01'!$A$7:$U$301,17,FALSE))","v":""},{"$f":"IF($R54=\"\",\"\",VLOOKUP($R54,'FO-DRE-01'!$A$7:$U$301,3,FALSE))","v":""},{"$f":"IF($R54=\"\",\"\",VLOOKUP($R54,'FO-DRE-01'!$A$7:$U$301,4,FALSE))","v":""},{"$f":"IF($R54=\"\",\"\",VLOOKUP($R54,'FO-DRE-01'!$A$7:$U$301,5,FALSE))","v":""},{"$f":"IF($R54=\"\",\"\",VLOOKUP($R54,'FO-DRE-01'!$A$7:$U$301,7,FALSE))","v":""},{"$f":"IF($R54=\"\",\"\",VLOOKUP($R54,'FO-DRE-01'!$A$7:$U$301,8,FALSE))","v":""},{"$f":"IF($R54=\"\",\"\",VLOOKUP($R54,'FO-DRE-01'!$A$7:$U$301,9,FALSE))","v":""},{"$f":"IF($R54=\"\",\"\",VLOOKUP($R54,'FO-DRE-01'!$A$7:$U$301,10,FALSE))","v":""},{"$f":"IF($R54=\"\",\"\",VLOOKUP($R54,'FO-DRE-01'!$A$7:$U$301,11,FALSE))","v":""},{"$f":"IF($R54=\"\",\"\",VLOOKUP($R54,'FO-DRE-01'!$A$7:$U$301,12,FALSE))","v":""},{"$f":"IF($R54=\"\",\"\",VLOOKUP($R54,'FO-DRE-01'!$A$7:$U$301,13,FALSE))","v":""},{"$f":"IF($R54=\"\",\"\",VLOOKUP($R54,'FO-DRE-01'!$A$7:$U$301,14,FALSE))","v":""},{"$f":"IF($R54=\"\",\"\",VLOOKUP($R54,'FO-DRE-01'!$A$7:$U$301,15,FALSE))","v":""},{"$f":"IF($S54=\"\",\"\",VLOOKUP($S54,'FO-DRE-04'!$A$6:$L$301,2,FALSE))","v":""},{"$f":"IF($S54=\"\",\"\",VLOOKUP($S54,'FO-DRE-04'!$A$6:$L$301,3,FALSE))","v":""},{"$f":"IF($S54=\"\",\"\",VLOOKUP($S54,'FO-DRE-04'!$A$6:$L$301,4,FALSE))","v":""},{"$f":"IF($S54=\"\",\"\",VLOOKUP($S54,'FO-DRE-04'!$A$6:$L$301,6,FALSE))","v":""},{"$f":"IF($S54=\"\",\"\",VLOOKUP($S54,'FO-DRE-04'!$A$6:$L$301,11,FALSE))","v":""},{"$f":"IF($T54=\"\",\"\",VLOOKUP($T54,'FO-DRE-02'!$A$6:$M$101,2,FALSE))","v":""},{"$f":"IF($T54=\"\",\"\",VLOOKUP($T54,'FO-DRE-02'!$A$6:$M$101,3,FALSE))","v":""},{"$f":"IF($T54=\"\",\"\",VLOOKUP($T54,'FO-DRE-02'!$A$6:$M$101,6,FALSE))","v":""},{"$f":"IF($T54=\"\",\"\",VLOOKUP($T54,'FO-DRE-02'!$A$6:$M$101,4,FALSE))","v":""},{"$f":"IF($T54=\"\",\"\",VLOOKUP($T54,'FO-DRE-02'!$A$6:$M$101,5,FALSE))","v":""},{"$f":"IF($T54=\"\",\"\",VLOOKUP($T54,'FO-DRE-02'!$A$6:$M$101,8,FALSE))","v":""},{"$f":"IF($T54=\"\",\"\",VLOOKUP($T54,'FO-DRE-02'!$A$6:$M$101,7,FALSE))","v":""},{"$f":"IF($T54=\"\",\"\",VLOOKUP($T54,'FO-DRE-02'!$A$6:$M$101,9,FALSE))","v":""},{"$f":"IF($T54=\"\",\"\",VLOOKUP($T54,'FO-DRE-02'!$A$6:$M$101,11,FALSE))","v":""},{"$f":"IF($T54=\"\",\"\",VLOOKUP($T54,'FO-DRE-02'!$A$6:$M$101,12,FALSE))","v":""},{"$f":"IF($T54=\"\",\"\",VLOOKUP($T54,'FO-DRE-02'!$A$6:$M$101,13,FALSE))","v":""},null,856,null,45,"","F/D","F/D","","","","","","","","","","","","","","",""]
[null,null,null,null,null,null,null,null,{"$f":"IF(H55=\"1a\",Hoja1!$B$126,IF(H55=\"1b\",Hoja1!$B$127,IF(H55=\"2a\",Hoja1!$B$128,IF(H55=\"2b\",Hoja1!$B$129,IF(H55=\"3 \",Hoja1!$B$130,IF(H55=\"4 \",Hoja1!$B$131,IF(H55=\"5 \",Hoja1!$B$132,IF(H55=\"6 \",Hoja1!$B$133,IF(H55=\"7 \",Hoja1!$B$134,IF(H55=\"8 \",Hoja1!$B$135,\" \"))))))))))","v":" "},{"$f":"CONCATENATE(#REF!,\"-\",\"TX\")","v":{"$error":"#REF!"}},{"$f":"CONCATENATE(#REF!,\"-\",\"RX\")","v":{"$error":"#REF!"}},null,null,null,null,0,null,null,null,null,null,{"$f":"IF($R55=\"\",\"\",VLOOKUP($R55,'FO-DRE-01'!$A$7:$U$301,18,FALSE))","v":""},{"$f":"IF($R55=\"\",\"\",VLOOKUP($R55,'FO-DRE-01'!$A$7:$U$301,16,FALSE))","v":""},{"$f":"IF($R55=\"\",\"\",VLOOKUP($R55,'FO-DRE-01'!$A$7:$U$301,17,FALSE))","v":""},{"$f":"IF($R55=\"\",\"\",VLOOKUP($R55,'FO-DRE-01'!$A$7:$U$301,3,FALSE))","v":""},{"$f":"IF($R55=\"\",\"\",VLOOKUP($R55,'FO-DRE-01'!$A$7:$U$301,4,FALSE))","v":""},{"$f":"IF($R55=\"\",\"\",VLOOKUP($R55,'FO-DRE-01'!$A$7:$U$301,5,FALSE))","v":""},{"$f":"IF($R55=\"\",\"\",VLOOKUP($R55,'FO-DRE-01'!$A$7:$U$301,7,FALSE))","v":""},{"$f":"IF($R55=\"\",\"\",VLOOKUP($R55,'FO-DRE-01'!$A$7:$U$301,8,FALSE))","v":""},{"$f":"IF($R55=\"\",\"\",VLOOKUP($R55,'FO-DRE-01'!$A$7:$U$301,9,FALSE))","v":""},{"$f":"IF($R55=\"\",\"\",VLOOKUP($R55,'FO-DRE-01'!$A$7:$U$301,10,FALSE))","v":""},{"$f":"IF($R55=\"\",\"\",VLOOKUP($R55,'FO-DRE-01'!$A$7:$U$301,11,FALSE))","v":""},{"$f":"IF($R55=\"\",\"\",VLOOKUP($R55,'FO-DRE-01'!$A$7:$U$301,12,FALSE))","v":""},{"$f":"IF($R55=\"\",\"\",VLOOKUP($R55,'FO-DRE-01'!$A$7:$U$301,13,FALSE))","v":""},{"$f":"IF($R55=\"\",\"\",VLOOKUP($R55,'FO-DRE-01'!$A$7:$U$301,14,FALSE))","v":""},{"$f":"IF($R55=\"\",\"\",VLOOKUP($R55,'FO-DRE-01'!$A$7:$U$301,15,FALSE))","v":""},{"$f":"IF($S55=\"\",\"\",VLOOKUP($S55,'FO-DRE-04'!$A$6:$L$301,2,FALSE))","v":""},{"$f":"IF($S55=\"\",\"\",VLOOKUP($S55,'FO-DRE-04'!$A$6:$L$301,3,FALSE))","v":""},{"$f":"IF($S55=\"\",\"\",VLOOKUP($S55,'FO-DRE-04'!$A$6:$L$301,4,FALSE))","v":""},{"$f":"IF($S55=\"\",\"\",VLOOKUP($S55,'FO-DRE-04'!$A$6:$L$301,6,FALSE))","v":""},{"$f":"IF($S55=\"\",\"\",VLOOKUP($S55,'FO-DRE-04'!$A$6:$L$301,11,FALSE))","v":""},{"$f":"IF($T55=\"\",\"\",VLOOKUP($T55,'FO-DRE-02'!$A$6:$M$101,2,FALSE))","v":""},{"$f":"IF($T55=\"\",\"\",VLOOKUP($T55,'FO-DRE-02'!$A$6:$M$101,3,FALSE))","v":""},{"$f":"IF($T55=\"\",\"\",VLOOKUP($T55,'FO-DRE-02'!$A$6:$M$101,6,FALSE))","v":""},{"$f":"IF($T55=\"\",\"\",VLOOKUP($T55,'FO-DRE-02'!$A$6:$M$101,4,FALSE))","v":""},{"$f":"IF($T55=\"\",\"\",VLOOKUP($T55,'FO-DRE-02'!$A$6:$M$101,5,FALSE))","v":""},{"$f":"IF($T55=\"\",\"\",VLOOKUP($T55,'FO-DRE-02'!$A$6:$M$101,8,FALSE))","v":""},{"$f":"IF($T55=\"\",\"\",VLOOKUP($T55,'FO-DRE-02'!$A$6:$M$101,7,FALSE))","v":""},{"$f":"IF($T55=\"\",\"\",VLOOKUP($T55,'FO-DRE-02'!$A$6:$M$101,9,FALSE))","v":""},{"$f":"IF($T55=\"\",\"\",VLOOKUP($T55,'FO-DRE-02'!$A$6:$M$101,11,FALSE))","v":""},{"$f":"IF($T55=\"\",\"\",VLOOKUP($T55,'FO-DRE-02'!$A$6:$M$101,12,FALSE))","v":""},{"$f":"IF($T55=\"\",\"\",VLOOKUP($T55,'FO-DRE-02'!$A$6:$M$101,13,FALSE))","v":""},null,856,null,46,"","F/D","F/D","","","","","","","","","","","","","","",""]
[null,null,null,null,null,null,null,null,{"$f":"IF(H56=\"1a\",Hoja1!$B$126,IF(H56=\"1b\",Hoja1!$B$127,IF(H56=\"2a\",Hoja1!$B$128,IF(H56=\"2b\",Hoja1!$B$129,IF(H56=\"3 \",Hoja1!$B$130,IF(H56=\"4 \",Hoja1!$B$131,IF(H56=\"5 \",Hoja1!$B$132,IF(H56=\"6 \",Hoja1!$B$133,IF(H56=\"7 \",Hoja1!$B$134,IF(H56=\"8 \",Hoja1!$B$135,\" \"))))))))))","v":" "},{"$f":"CONCATENATE(#REF!,\"-\",\"TX\")","v":{"$error":"#REF!"}},{"$f":"CONCATENATE(#REF!,\"-\",\"RX\")","v":{"$error":"#REF!"}},null,null,null,null,0,null,null,null,null,null,{"$f":"IF($R56=\"\",\"\",VLOOKUP($R56,'FO-DRE-01'!$A$7:$U$301,18,FALSE))","v":""},{"$f":"IF($R56=\"\",\"\",VLOOKUP($R56,'FO-DRE-01'!$A$7:$U$301,16,FALSE))","v":""},{"$f":"IF($R56=\"\",\"\",VLOOKUP($R56,'FO-DRE-01'!$A$7:$U$301,17,FALSE))","v":""},{"$f":"IF($R56=\"\",\"\",VLOOKUP($R56,'FO-DRE-01'!$A$7:$U$301,3,FALSE))","v":""},{"$f":"IF($R56=\"\",\"\",VLOOKUP($R56,'FO-DRE-01'!$A$7:$U$301,4,FALSE))","v":""},{"$f":"IF($R56=\"\",\"\",VLOOKUP($R56,'FO-DRE-01'!$A$7:$U$301,5,FALSE))","v":""},{"$f":"IF($R56=\"\",\"\",VLOOKUP($R56,'FO-DRE-01'!$A$7:$U$301,7,FALSE))","v":""},{"$f":"IF($R56=\"\",\"\",VLOOKUP($R56,'FO-DRE-01'!$A$7:$U$301,8,FALSE))","v":""},{"$f":"IF($R56=\"\",\"\",VLOOKUP($R56,'FO-DRE-01'!$A$7:$U$301,9,FALSE))","v":""},{"$f":"IF($R56=\"\",\"\",VLOOKUP($R56,'FO-DRE-01'!$A$7:$U$301,10,FALSE))","v":""},{"$f":"IF($R56=\"\",\"\",VLOOKUP($R56,'FO-DRE-01'!$A$7:$U$301,11,FALSE))","v":""},{"$f":"IF($R56=\"\",\"\",VLOOKUP($R56,'FO-DRE-01'!$A$7:$U$301,12,FALSE))","v":""},{"$f":"IF($R56=\"\",\"\",VLOOKUP($R56,'FO-DRE-01'!$A$7:$U$301,13,FALSE))","v":""},{"$f":"IF($R56=\"\",\"\",VLOOKUP($R56,'FO-DRE-01'!$A$7:$U$301,14,FALSE))","v":""},{"$f":"IF($R56=\"\",\"\",VLOOKUP($R56,'FO-DRE-01'!$A$7:$U$301,15,FALSE))","v":""},{"$f":"IF($S56=\"\",\"\",VLOOKUP($S56,'FO-DRE-04'!$A$6:$L$301,2,FALSE))","v":""},{"$f":"IF($S56=\"\",\"\",VLOOKUP($S56,'FO-DRE-04'!$A$6:$L$301,3,FALSE))","v":""},{"$f":"IF($S56=\"\",\"\",VLOOKUP($S56,'FO-DRE-04'!$A$6:$L$301,4,FALSE))","v":""},{"$f":"IF($S56=\"\",\"\",VLOOKUP($S56,'FO-DRE-04'!$A$6:$L$301,6,FALSE))","v":""},{"$f":"IF($S56=\"\",\"\",VLOOKUP($S56,'FO-DRE-04'!$A$6:$L$301,11,FALSE))","v":""},{"$f":"IF($T56=\"\",\"\",VLOOKUP($T56,'FO-DRE-02'!$A$6:$M$101,2,FALSE))","v":""},{"$f":"IF($T56=\"\",\"\",VLOOKUP($T56,'FO-DRE-02'!$A$6:$M$101,3,FALSE))","v":""},{"$f":"IF($T56=\"\",\"\",VLOOKUP($T56,'FO-DRE-02'!$A$6:$M$101,6,FALSE))","v":""},{"$f":"IF($T56=\"\",\"\",VLOOKUP($T56,'FO-DRE-02'!$A$6:$M$101,4,FALSE))","v":""},{"$f":"IF($T56=\"\",\"\",VLOOKUP($T56,'FO-DRE-02'!$A$6:$M$101,5,FALSE))","v":""},{"$f":"IF($T56=\"\",\"\",VLOOKUP($T56,'FO-DRE-02'!$A$6:$M$101,8,FALSE))","v":""},{"$f":"IF($T56=\"\",\"\",VLOOKUP($T56,'FO-DRE-02'!$A$6:$M$101,7,FALSE))","v":""},{"$f":"IF($T56=\"\",\"\",VLOOKUP($T56,'FO-DRE-02'!$A$6:$M$101,9,FALSE))","v":""},{"$f":"IF($T56=\"\",\"\",VLOOKUP($T56,'FO-DRE-02'!$A$6:$M$101,11,FALSE))","v":""},{"$f":"IF($T56=\"\",\"\",VLOOKUP($T56,'FO-DRE-02'!$A$6:$M$101,12,FALSE))","v":""},{"$f":"IF($T56=\"\",\"\",VLOOKUP($T56,'FO-DRE-02'!$A$6:$M$101,13,FALSE))","v":""},null,856,null,47,"","F/D","F/D","","","","","","","","","","","","","","",""]
[null,null,null,null,null,null,null,null,{"$f":"IF(H57=\"1a\",Hoja1!$B$126,IF(H57=\"1b\",Hoja1!$B$127,IF(H57=\"2a\",Hoja1!$B$128,IF(H57=\"2b\",Hoja1!$B$129,IF(H57=\"3 \",Hoja1!$B$130,IF(H57=\"4 \",Hoja1!$B$131,IF(H57=\"5 \",Hoja1!$B$132,IF(H57=\"6 \",Hoja1!$B$133,IF(H57=\"7 \",Hoja1!$B$134,IF(H57=\"8 \",Hoja1!$B$135,\" \"))))))))))","v":" "},{"$f":"CONCATENATE(#REF!,\"-\",\"TX\")","v":{"$error":"#REF!"}},{"$f":"CONCATENATE(#REF!,\"-\",\"RX\")","v":{"$error":"#REF!"}},null,null,null,null,0,null,null,null,null,null,{"$f":"IF($R57=\"\",\"\",VLOOKUP($R57,'FO-DRE-01'!$A$7:$U$301,18,FALSE))","v":""},{"$f":"IF($R57=\"\",\"\",VLOOKUP($R57,'FO-DRE-01'!$A$7:$U$301,16,FALSE))","v":""},{"$f":"IF($R57=\"\",\"\",VLOOKUP($R57,'FO-DRE-01'!$A$7:$U$301,17,FALSE))","v":""},{"$f":"IF($R57=\"\",\"\",VLOOKUP($R57,'FO-DRE-01'!$A$7:$U$301,3,FALSE))","v":""},{"$f":"IF($R57=\"\",\"\",VLOOKUP($R57,'FO-DRE-01'!$A$7:$U$301,4,FALSE))","v":""},{"$f":"IF($R57=\"\",\"\",VLOOKUP($R57,'FO-DRE-01'!$A$7:$U$301,5,FALSE))","v":""},{"$f":"IF($R57=\"\",\"\",VLOOKUP($R57,'FO-DRE-01'!$A$7:$U$301,7,FALSE))","v":""},{"$f":"IF($R57=\"\",\"\",VLOOKUP($R57,'FO-DRE-01'!$A$7:$U$301,8,FALSE))","v":""},{"$f":"IF($R57=\"\",\"\",VLOOKUP($R57,'FO-DRE-01'!$A$7:$U$301,9,FALSE))","v":""},{"$f":"IF($R57=\"\",\"\",VLOOKUP($R57,'FO-DRE-01'!$A$7:$U$301,10,FALSE))","v":""},{"$f":"IF($R57=\"\",\"\",VLOOKUP($R57,'FO-DRE-01'!$A$7:$U$301,11,FALSE))","v":""},{"$f":"IF($R57=\"\",\"\",VLOOKUP($R57,'FO-DRE-01'!$A$7:$U$301,12,FALSE))","v":""},{"$f":"IF($R57=\"\",\"\",VLOOKUP($R57,'FO-DRE-01'!$A$7:$U$301,13,FALSE))","v":""},{"$f":"IF($R57=\"\",\"\",VLOOKUP($R57,'FO-DRE-01'!$A$7:$U$301,14,FALSE))","v":""},{"$f":"IF($R57=\"\",\"\",VLOOKUP($R57,'FO-DRE-01'!$A$7:$U$301,15,FALSE))","v":""},{"$f":"IF($S57=\"\",\"\",VLOOKUP($S57,'FO-DRE-04'!$A$6:$L$301,2,FALSE))","v":""},{"$f":"IF($S57=\"\",\"\",VLOOKUP($S57,'FO-DRE-04'!$A$6:$L$301,3,FALSE))","v":""},{"$f":"IF($S57=\"\",\"\",VLOOKUP($S57,'FO-DRE-04'!$A$6:$L$301,4,FALSE))","v":""},{"$f":"IF($S57=\"\",\"\",VLOOKUP($S57,'FO-DRE-04'!$A$6:$L$301,6,FALSE))","v":""},{"$f":"IF($S57=\"\",\"\",VLOOKUP($S57,'FO-DRE-04'!$A$6:$L$301,11,FALSE))","v":""},{"$f":"IF($T57=\"\",\"\",VLOOKUP($T57,'FO-DRE-02'!$A$6:$M$101,2,FALSE))","v":""},{"$f":"IF($T57=\"\",\"\",VLOOKUP($T57,'FO-DRE-02'!$A$6:$M$101,3,FALSE))","v":""},{"$f":"IF($T57=\"\",\"\",VLOOKUP($T57,'FO-DRE-02'!$A$6:$M$101,6,FALSE))","v":""},{"$f":"IF($T57=\"\",\"\",VLOOKUP($T57,'FO-DRE-02'!$A$6:$M$101,4,FALSE))","v":""},{"$f":"IF($T57=\"\",\"\",VLOOKUP($T57,'FO-DRE-02'!$A$6:$M$101,5,FALSE))","v":""},{"$f":"IF($T57=\"\",\"\",VLOOKUP($T57,'FO-DRE-02'!$A$6:$M$101,8,FALSE))","v":""},{"$f":"IF($T57=\"\",\"\",VLOOKUP($T57,'FO-DRE-02'!$A$6:$M$101,7,FALSE))","v":""},{"$f":"IF($T57=\"\",\"\",VLOOKUP($T57,'FO-DRE-02'!$A$6:$M$101,9,FALSE))","v":""},{"$f":"IF($T57=\"\",\"\",VLOOKUP($T57,'FO-DRE-02'!$A$6:$M$101,11,FALSE))","v":""},{"$f":"IF($T57=\"\",\"\",VLOOKUP($T57,'FO-DRE-02'!$A$6:$M$101,12,FALSE))","v":""},{"$f":"IF($T57=\"\",\"\",VLOOKUP($T57,'FO-DRE-02'!$A$6:$M$101,13,FALSE))","v":""},null,856,null,48,"","F/D","F/D","","","","","","","","","","","","","","",""]
[null,null,null,null,null,null,null,null,{"$f":"IF(H58=\"1a\",Hoja1!$B$126,IF(H58=\"1b\",Hoja1!$B$127,IF(H58=\"2a\",Hoja1!$B$128,IF(H58=\"2b\",Hoja1!$B$129,IF(H58=\"3 \",Hoja1!$B$130,IF(H58=\"4 \",Hoja1!$B$131,IF(H58=\"5 \",Hoja1!$B$132,IF(H58=\"6 \",Hoja1!$B$133,IF(H58=\"7 \",Hoja1!$B$134,IF(H58=\"8 \",Hoja1!$B$135,\" \"))))))))))","v":" "},{"$f":"CONCATENATE(#REF!,\"-\",\"TX\")","v":{"$error":"#REF!"}},{"$f":"CONCATENATE(#REF!,\"-\",\"RX\")","v":{"$error":"#REF!"}},null,null,null,null,0,null,null,null,null,null,{"$f":"IF($R58=\"\",\"\",VLOOKUP($R58,'FO-DRE-01'!$A$7:$U$301,18,FALSE))","v":""},{"$f":"IF($R58=\"\",\"\",VLOOKUP($R58,'FO-DRE-01'!$A$7:$U$301,16,FALSE))","v":""},{"$f":"IF($R58=\"\",\"\",VLOOKUP($R58,'FO-DRE-01'!$A$7:$U$301,17,FALSE))","v":""},{"$f":"IF($R58=\"\",\"\",VLOOKUP($R58,'FO-DRE-01'!$A$7:$U$301,3,FALSE))","v":""},{"$f":"IF($R58=\"\",\"\",VLOOKUP($R58,'FO-DRE-01'!$A$7:$U$301,4,FALSE))","v":""},{"$f":"IF($R58=\"\",\"\",VLOOKUP($R58,'FO-DRE-01'!$A$7:$U$301,5,FALSE))","v":""},{"$f":"IF($R58=\"\",\"\",VLOOKUP($R58,'FO-DRE-01'!$A$7:$U$301,7,FALSE))","v":""},{"$f":"IF($R58=\"\",\"\",VLOOKUP($R58,'FO-DRE-01'!$A$7:$U$301,8,FALSE))","v":""},{"$f":"IF($R58=\"\",\"\",VLOOKUP($R58,'FO-DRE-01'!$A$7:$U$301,9,FALSE))","v":""},{"$f":"IF($R58=\"\",\"\",VLOOKUP($R58,'FO-DRE-01'!$A$7:$U$301,10,FALSE))","v":""},{"$f":"IF($R58=\"\",\"\",VLOOKUP($R58,'FO-DRE-01'!$A$7:$U$301,11,FALSE))","v":""},{"$f":"IF($R58=\"\",\"\",VLOOKUP($R58,'FO-DRE-01'!$A$7:$U$301,12,FALSE))","v":""},{"$f":"IF($R58=\"\",\"\",VLOOKUP($R58,'FO-DRE-01'!$A$7:$U$301,13,FALSE))","v":""},{"$f":"IF($R58=\"\",\"\",VLOOKUP($R58,'FO-DRE-01'!$A$7:$U$301,14,FALSE))","v":""},{"$f":"IF($R58=\"\",\"\",VLOOKUP($R58,'FO-DRE-01'!$A$7:$U$301,15,FALSE))","v":""},{"$f":"IF($S58=\"\",\"\",VLOOKUP($S58,'FO-DRE-04'!$A$6:$L$301,2,FALSE))","v":""},{"$f":"IF($S58=\"\",\"\",VLOOKUP($S58,'FO-DRE-04'!$A$6:$L$301,3,FALSE))","v":""},{"$f":"IF($S58=\"\",\"\",VLOOKUP($S58,'FO-DRE-04'!$A$6:$L$301,4,FALSE))","v":""},{"$f":"IF($S58=\"\",\"\",VLOOKUP($S58,'FO-DRE-04'!$A$6:$L$301,6,FALSE))","v":""},{"$f":"IF($S58=\"\",\"\",VLOOKUP($S58,'FO-DRE-04'!$A$6:$L$301,11,FALSE))","v":""},{"$f":"IF($T58=\"\",\"\",VLOOKUP($T58,'FO-DRE-02'!$A$6:$M$101,2,FALSE))","v":""},{"$f":"IF($T58=\"\",\"\",VLOOKUP($T58,'FO-DRE-02'!$A$6:$M$101,3,FALSE))","v":""},{"$f":"IF($T58=\"\",\"\",VLOOKUP($T58,'FO-DRE-02'!$A$6:$M$101,6,FALSE))","v":""},{"$f":"IF($T58=\"\",\"\",VLOOKUP($T58,'FO-DRE-02'!$A$6:$M$101,4,FALSE))","v":""},{"$f":"IF($T58=\"\",\"\",VLOOKUP($T58,'FO-DRE-02'!$A$6:$M$101,5,FALSE))","v":""},{"$f":"IF($T58=\"\",\"\",VLOOKUP($T58,'FO-DRE-02'!$A$6:$M$101,8,FALSE))","v":""},{"$f":"IF($T58=\"\",\"\",VLOOKUP($T58,'FO-DRE-02'!$A$6:$M$101,7,FALSE))","v":""},{"$f":"IF($T58=\"\",\"\",VLOOKUP($T58,'FO-DRE-02'!$A$6:$M$101,9,FALSE))","v":""},{"$f":"IF($T58=\"\",\"\",VLOOKUP($T58,'FO-DRE-02'!$A$6:$M$101,11,FALSE))","v":""},{"$f":"IF($T58=\"\",\"\",VLOOKUP($T58,'FO-DRE-02'!$A$6:$M$101,12,FALSE))","v":""},{"$f":"IF($T58=\"\",\"\",VLOOKUP($T58,'FO-DRE-02'!$A$6:$M$101,13,FALSE))","v":""},null,856,null,49,"","F/D","F/D","","","","","","","","","","","","","","",""]
[null,null,null,null,null,null,null,null,{"$f":"IF(H59=\"1a\",Hoja1!$B$126,IF(H59=\"1b\",Hoja1!$B$127,IF(H59=\"2a\",Hoja1!$B$128,IF(H59=\"2b\",Hoja1!$B$129,IF(H59=\"3 \",Hoja1!$B$130,IF(H59=\"4 \",Hoja1!$B$131,IF(H59=\"5 \",Hoja1!$B$132,IF(H59=\"6 \",Hoja1!$B$133,IF(H59=\"7 \",Hoja1!$B$134,IF(H59=\"8 \",Hoja1!$B$135,\" \"))))))))))","v":" "},{"$f":"CONCATENATE(#REF!,\"-\",\"TX\")","v":{"$error":"#REF!"}},{"$f":"CONCATENATE(#REF!,\"-\",\"RX\")","v":{"$error":"#REF!"}},null,null,null,null,0,null,null,null,null,null,{"$f":"IF($R59=\"\",\"\",VLOOKUP($R59,'FO-DRE-01'!$A$7:$U$301,18,FALSE))","v":""},{"$f":"IF($R59=\"\",\"\",VLOOKUP($R59,'FO-DRE-01'!$A$7:$U$301,16,FALSE))","v":""},{"$f":"IF($R59=\"\",\"\",VLOOKUP($R59,'FO-DRE-01'!$A$7:$U$301,17,FALSE))","v":""},{"$f":"IF($R59=\"\",\"\",VLOOKUP($R59,'FO-DRE-01'!$A$7:$U$301,3,FALSE))","v":""},{"$f":"IF($R59=\"\",\"\",VLOOKUP($R59,'FO-DRE-01'!$A$7:$U$301,4,FALSE))","v":""},{"$f":"IF($R59=\"\",\"\",VLOOKUP($R59,'FO-DRE-01'!$A$7:$U$301,5,FALSE))","v":""},{"$f":"IF($R59=\"\",\"\",VLOOKUP($R59,'FO-DRE-01'!$A$7:$U$301,7,FALSE))","v":""},{"$f":"IF($R59=\"\",\"\",VLOOKUP($R59,'FO-DRE-01'!$A$7:$U$301,8,FALSE))","v":""},{"$f":"IF($R59=\"\",\"\",VLOOKUP($R59,'FO-DRE-01'!$A$7:$U$301,9,FALSE))","v":""},{"$f":"IF($R59=\"\",\"\",VLOOKUP($R59,'FO-DRE-01'!$A$7:$U$301,10,FALSE))","v":""},{"$f":"IF($R59=\"\",\"\",VLOOKUP($R59,'FO-DRE-01'!$A$7:$U$301,11,FALSE))","v":""},{"$f":"IF($R59=\"\",\"\",VLOOKUP($R59,'FO-DRE-01'!$A$7:$U$301,12,FALSE))","v":""},{"$f":"IF($R59=\"\",\"\",VLOOKUP($R59,'FO-DRE-01'!$A$7:$U$301,13,FALSE))","v":""},{"$f":"IF($R59=\"\",\"\",VLOOKUP($R59,'FO-DRE-01'!$A$7:$U$301,14,FALSE))","v":""},{"$f":"IF($R59=\"\",\"\",VLOOKUP($R59,'FO-DRE-01'!$A$7:$U$301,15,FALSE))","v":""},{"$f":"IF($S59=\"\",\"\",VLOOKUP($S59,'FO-DRE-04'!$A$6:$L$301,2,FALSE))","v":""},{"$f":"IF($S59=\"\",\"\",VLOOKUP($S59,'FO-DRE-04'!$A$6:$L$301,3,FALSE))","v":""},{"$f":"IF($S59=\"\",\"\",VLOOKUP($S59,'FO-DRE-04'!$A$6:$L$301,4,FALSE))","v":""},{"$f":"IF($S59=\"\",\"\",VLOOKUP($S59,'FO-DRE-04'!$A$6:$L$301,6,FALSE))","v":""},{"$f":"IF($S59=\"\",\"\",VLOOKUP($S59,'FO-DRE-04'!$A$6:$L$301,11,FALSE))","v":""},{"$f":"IF($T59=\"\",\"\",VLOOKUP($T59,'FO-DRE-02'!$A$6:$M$101,2,FALSE))","v":""},{"$f":"IF($T59=\"\",\"\",VLOOKUP($T59,'FO-DRE-02'!$A$6:$M$101,3,FALSE))","v":""},{"$f":"IF($T59=\"\",\"\",VLOOKUP($T59,'FO-DRE-02'!$A$6:$M$101,6,FALSE))","v":""},{"$f":"IF($T59=\"\",\"\",VLOOKUP($T59,'FO-DRE-02'!$A$6:$M$101,4,FALSE))","v":""},{"$f":"IF($T59=\"\",\"\",VLOOKUP($T59,'FO-DRE-02'!$A$6:$M$101,5,FALSE))","v":""},{"$f":"IF($T59=\"\",\"\",VLOOKUP($T59,'FO-DRE-02'!$A$6:$M$101,8,FALSE))","v":""},{"$f":"IF($T59=\"\",\"\",VLOOKUP($T59,'FO-DRE-02'!$A$6:$M$101,7,FALSE))","v":""},{"$f":"IF($T59=\"\",\"\",VLOOKUP($T59,'FO-DRE-02'!$A$6:$M$101,9,FALSE))","v":""},{"$f":"IF($T59=\"\",\"\",VLOOKUP($T59,'FO-DRE-02'!$A$6:$M$101,11,FALSE))","v":""},{"$f":"IF($T59=\"\",\"\",VLOOKUP($T59,'FO-DRE-02'!$A$6:$M$101,12,FALSE))","v":""},{"$f":"IF($T59=\"\",\"\",VLOOKUP($T59,'FO-DRE-02'!$A$6:$M$101,13,FALSE))","v":""},null,856,null,50,"","F/D","F/D","","","","","","","","","","","","","","",""]
[null,null,null,null,null,null,null,null,{"$f":"IF(H60=\"1a\",Hoja1!$B$126,IF(H60=\"1b\",Hoja1!$B$127,IF(H60=\"2a\",Hoja1!$B$128,IF(H60=\"2b\",Hoja1!$B$129,IF(H60=\"3 \",Hoja1!$B$130,IF(H60=\"4 \",Hoja1!$B$131,IF(H60=\"5 \",Hoja1!$B$132,IF(H60=\"6 \",Hoja1!$B$133,IF(H60=\"7 \",Hoja1!$B$134,IF(H60=\"8 \",Hoja1!$B$135,\" \"))))))))))","v":" "},{"$f":"CONCATENATE(#REF!,\"-\",\"TX\")","v":{"$error":"#REF!"}},{"$f":"CONCATENATE(#REF!,\"-\",\"RX\")","v":{"$error":"#REF!"}},null,null,null,null,0,null,null,null,null,null,{"$f":"IF($R60=\"\",\"\",VLOOKUP($R60,'FO-DRE-01'!$A$7:$U$301,18,FALSE))","v":""},{"$f":"IF($R60=\"\",\"\",VLOOKUP($R60,'FO-DRE-01'!$A$7:$U$301,16,FALSE))","v":""},{"$f":"IF($R60=\"\",\"\",VLOOKUP($R60,'FO-DRE-01'!$A$7:$U$301,17,FALSE))","v":""},{"$f":"IF($R60=\"\",\"\",VLOOKUP($R60,'FO-DRE-01'!$A$7:$U$301,3,FALSE))","v":""},{"$f":"IF($R60=\"\",\"\",VLOOKUP($R60,'FO-DRE-01'!$A$7:$U$301,4,FALSE))","v":""},{"$f":"IF($R60=\"\",\"\",VLOOKUP($R60,'FO-DRE-01'!$A$7:$U$301,5,FALSE))","v":""},{"$f":"IF($R60=\"\",\"\",VLOOKUP($R60,'FO-DRE-01'!$A$7:$U$301,7,FALSE))","v":""},{"$f":"IF($R60=\"\",\"\",VLOOKUP($R60,'FO-DRE-01'!$A$7:$U$301,8,FALSE))","v":""},{"$f":"IF($R60=\"\",\"\",VLOOKUP($R60,'FO-DRE-01'!$A$7:$U$301,9,FALSE))","v":""},{"$f":"IF($R60=\"\",\"\",VLOOKUP($R60,'FO-DRE-01'!$A$7:$U$301,10,FALSE))","v":""},{"$f":"IF($R60=\"\",\"\",VLOOKUP($R60,'FO-DRE-01'!$A$7:$U$301,11,FALSE))","v":""},{"$f":"IF($R60=\"\",\"\",VLOOKUP($R60,'FO-DRE-01'!$A$7:$U$301,12,FALSE))","v":""},{"$f":"IF($R60=\"\",\"\",VLOOKUP($R60,'FO-DRE-01'!$A$7:$U$301,13,FALSE))","v":""},{"$f":"IF($R60=\"\",\"\",VLOOKUP($R60,'FO-DRE-01'!$A$7:$U$301,14,FALSE))","v":""},{"$f":"IF($R60=\"\",\"\",VLOOKUP($R60,'FO-DRE-01'!$A$7:$U$301,15,FALSE))","v":""},{"$f":"IF($S60=\"\",\"\",VLOOKUP($S60,'FO-DRE-04'!$A$6:$L$301,2,FALSE))","v":""},{"$f":"IF($S60=\"\",\"\",VLOOKUP($S60,'FO-DRE-04'!$A$6:$L$301,3,FALSE))","v":""},{"$f":"IF($S60=\"\",\"\",VLOOKUP($S60,'FO-DRE-04'!$A$6:$L$301,4,FALSE))","v":""},{"$f":"IF($S60=\"\",\"\",VLOOKUP($S60,'FO-DRE-04'!$A$6:$L$301,6,FALSE))","v":""},{"$f":"IF($S60=\"\",\"\",VLOOKUP($S60,'FO-DRE-04'!$A$6:$L$301,11,FALSE))","v":""},{"$f":"IF($T60=\"\",\"\",VLOOKUP($T60,'FO-DRE-02'!$A$6:$M$101,2,FALSE))","v":""},{"$f":"IF($T60=\"\",\"\",VLOOKUP($T60,'FO-DRE-02'!$A$6:$M$101,3,FALSE))","v":""},{"$f":"IF($T60=\"\",\"\",VLOOKUP($T60,'FO-DRE-02'!$A$6:$M$101,6,FALSE))","v":""},{"$f":"IF($T60=\"\",\"\",VLOOKUP($T60,'FO-DRE-02'!$A$6:$M$101,4,FALSE))","v":""},{"$f":"IF($T60=\"\",\"\",VLOOKUP($T60,'FO-DRE-02'!$A$6:$M$101,5,FALSE))","v":""},{"$f":"IF($T60=\"\",\"\",VLOOKUP($T60,'FO-DRE-02'!$A$6:$M$101,8,FALSE))","v":""},{"$f":"IF($T60=\"\",\"\",VLOOKUP($T60,'FO-DRE-02'!$A$6:$M$101,7,FALSE))","v":""},{"$f":"IF($T60=\"\",\"\",VLOOKUP($T60,'FO-DRE-02'!$A$6:$M$101,9,FALSE))","v":""},{"$f":"IF($T60=\"\",\"\",VLOOKUP($T60,'FO-DRE-02'!$A$6:$M$101,11,FALSE))","v":""},{"$f":"IF($T60=\"\",\"\",VLOOKUP($T60,'FO-DRE-02'!$A$6:$M$101,12,FALSE))","v":""},{"$f":"IF($T60=\"\",\"\",VLOOKUP($T60,'FO-DRE-02'!$A$6:$M$101,13,FALSE))","v":""},null,856,null,51,"","F/D","F/D","","","","","","","","","","","","","","",""]
[null,null,null,null,null,null,null,null,{"$f":"IF(H61=\"1a\",Hoja1!$B$126,IF(H61=\"1b\",Hoja1!$B$127,IF(H61=\"2a\",Hoja1!$B$128,IF(H61=\"2b\",Hoja1!$B$129,IF(H61=\"3 \",Hoja1!$B$130,IF(H61=\"4 \",Hoja1!$B$131,IF(H61=\"5 \",Hoja1!$B$132,IF(H61=\"6 \",Hoja1!$B$133,IF(H61=\"7 \",Hoja1!$B$134,IF(H61=\"8 \",Hoja1!$B$135,\" \"))))))))))","v":" "},{"$f":"CONCATENATE(#REF!,\"-\",\"TX\")","v":{"$error":"#REF!"}},{"$f":"CONCATENATE(#REF!,\"-\",\"RX\")","v":{"$error":"#REF!"}},null,null,null,null,0,null,null,null,null,null,{"$f":"IF($R61=\"\",\"\",VLOOKUP($R61,'FO-DRE-01'!$A$7:$U$301,18,FALSE))","v":""},{"$f":"IF($R61=\"\",\"\",VLOOKUP($R61,'FO-DRE-01'!$A$7:$U$301,16,FALSE))","v":""},{"$f":"IF($R61=\"\",\"\",VLOOKUP($R61,'FO-DRE-01'!$A$7:$U$301,17,FALSE))","v":""},{"$f":"IF($R61=\"\",\"\",VLOOKUP($R61,'FO-DRE-01'!$A$7:$U$301,3,FALSE))","v":""},{"$f":"IF($R61=\"\",\"\",VLOOKUP($R61,'FO-DRE-01'!$A$7:$U$301,4,FALSE))","v":""},{"$f":"IF($R61=\"\",\"\",VLOOKUP($R61,'FO-DRE-01'!$A$7:$U$301,5,FALSE))","v":""},{"$f":"IF($R61=\"\",\"\",VLOOKUP($R61,'FO-DRE-01'!$A$7:$U$301,7,FALSE))","v":""},{"$f":"IF($R61=\"\",\"\",VLOOKUP($R61,'FO-DRE-01'!$A$7:$U$301,8,FALSE))","v":""},{"$f":"IF($R61=\"\",\"\",VLOOKUP($R61,'FO-DRE-01'!$A$7:$U$301,9,FALSE))","v":""},{"$f":"IF($R61=\"\",\"\",VLOOKUP($R61,'FO-DRE-01'!$A$7:$U$301,10,FALSE))","v":""},{"$f":"IF($R61=\"\",\"\",VLOOKUP($R61,'FO-DRE-01'!$A$7:$U$301,11,FALSE))","v":""},{"$f":"IF($R61=\"\",\"\",VLOOKUP($R61,'FO-DRE-01'!$A$7:$U$301,12,FALSE))","v":""},{"$f":"IF($R61=\"\",\"\",VLOOKUP($R61,'FO-DRE-01'!$A$7:$U$301,13,FALSE))","v":""},{"$f":"IF($R61=\"\",\"\",VLOOKUP($R61,'FO-DRE-01'!$A$7:$U$301,14,FALSE))","v":""},{"$f":"IF($R61=\"\",\"\",VLOOKUP($R61,'FO-DRE-01'!$A$7:$U$301,15,FALSE))","v":""},{"$f":"IF($S61=\"\",\"\",VLOOKUP($S61,'FO-DRE-04'!$A$6:$L$301,2,FALSE))","v":""},{"$f":"IF($S61=\"\",\"\",VLOOKUP($S61,'FO-DRE-04'!$A$6:$L$301,3,FALSE))","v":""},{"$f":"IF($S61=\"\",\"\",VLOOKUP($S61,'FO-DRE-04'!$A$6:$L$301,4,FALSE))","v":""},{"$f":"IF($S61=\"\",\"\",VLOOKUP($S61,'FO-DRE-04'!$A$6:$L$301,6,FALSE))","v":""},{"$f":"IF($S61=\"\",\"\",VLOOKUP($S61,'FO-DRE-04'!$A$6:$L$301,11,FALSE))","v":""},{"$f":"IF($T61=\"\",\"\",VLOOKUP($T61,'FO-DRE-02'!$A$6:$M$101,2,FALSE))","v":""},{"$f":"IF($T61=\"\",\"\",VLOOKUP($T61,'FO-DRE-02'!$A$6:$M$101,3,FALSE))","v":""},{"$f":"IF($T61=\"\",\"\",VLOOKUP($T61,'FO-DRE-02'!$A$6:$M$101,6,FALSE))","v":""},{"$f":"IF($T61=\"\",\"\",VLOOKUP($T61,'FO-DRE-02'!$A$6:$M$101,4,FALSE))","v":""},{"$f":"IF($T61=\"\",\"\",VLOOKUP($T61,'FO-DRE-02'!$A$6:$M$101,5,FALSE))","v":""},{"$f":"IF($T61=\"\",\"\",VLOOKUP($T61,'FO-DRE-02'!$A$6:$M$101,8,FALSE))","v":""},{"$f":"IF($T61=\"\",\"\",VLOOKUP($T61,'FO-DRE-02'!$A$6:$M$101,7,FALSE))","v":""},{"$f":"IF($T61=\"\",\"\",VLOOKUP($T61,'FO-DRE-02'!$A$6:$M$101,9,FALSE))","v":""},{"$f":"IF($T61=\"\",\"\",VLOOKUP($T61,'FO-DRE-02'!$A$6:$M$101,11,FALSE))","v":""},{"$f":"IF($T61=\"\",\"\",VLOOKUP($T61,'FO-DRE-02'!$A$6:$M$101,12,FALSE))","v":""},{"$f":"IF($T61=\"\",\"\",VLOOKUP($T61,'FO-DRE-02'!$A$6:$M$101,13,FALSE))","v":""},null,856,null,52,"","F/D","F/D","","","","","","","","","","","","","","",""]
[null,null,null,null,null,null,null,null,{"$f":"IF(H62=\"1a\",Hoja1!$B$126,IF(H62=\"1b\",Hoja1!$B$127,IF(H62=\"2a\",Hoja1!$B$128,IF(H62=\"2b\",Hoja1!$B$129,IF(H62=\"3 \",Hoja1!$B$130,IF(H62=\"4 \",Hoja1!$B$131,IF(H62=\"5 \",Hoja1!$B$132,IF(H62=\"6 \",Hoja1!$B$133,IF(H62=\"7 \",Hoja1!$B$134,IF(H62=\"8 \",Hoja1!$B$135,\" \"))))))))))","v":" "},{"$f":"CONCATENATE(#REF!,\"-\",\"TX\")","v":{"$error":"#REF!"}},{"$f":"CONCATENATE(#REF!,\"-\",\"RX\")","v":{"$error":"#REF!"}},null,null,null,null,0,null,null,null,null,null,{"$f":"IF($R62=\"\",\"\",VLOOKUP($R62,'FO-DRE-01'!$A$7:$U$301,18,FALSE))","v":""},{"$f":"IF($R62=\"\",\"\",VLOOKUP($R62,'FO-DRE-01'!$A$7:$U$301,16,FALSE))","v":""},{"$f":"IF($R62=\"\",\"\",VLOOKUP($R62,'FO-DRE-01'!$A$7:$U$301,17,FALSE))","v":""},{"$f":"IF($R62=\"\",\"\",VLOOKUP($R62,'FO-DRE-01'!$A$7:$U$301,3,FALSE))","v":""},{"$f":"IF($R62=\"\",\"\",VLOOKUP($R62,'FO-DRE-01'!$A$7:$U$301,4,FALSE))","v":""},{"$f":"IF($R62=\"\",\"\",VLOOKUP($R62,'FO-DRE-01'!$A$7:$U$301,5,FALSE))","v":""},{"$f":"IF($R62=\"\",\"\",VLOOKUP($R62,'FO-DRE-01'!$A$7:$U$301,7,FALSE))","v":""},{"$f":"IF($R62=\"\",\"\",VLOOKUP($R62,'FO-DRE-01'!$A$7:$U$301,8,FALSE))","v":""},{"$f":"IF($R62=\"\",\"\",VLOOKUP($R62,'FO-DRE-01'!$A$7:$U$301,9,FALSE))","v":""},{"$f":"IF($R62=\"\",\"\",VLOOKUP($R62,'FO-DRE-01'!$A$7:$U$301,10,FALSE))","v":""},{"$f":"IF($R62=\"\",\"\",VLOOKUP($R62,'FO-DRE-01'!$A$7:$U$301,11,FALSE))","v":""},{"$f":"IF($R62=\"\",\"\",VLOOKUP($R62,'FO-DRE-01'!$A$7:$U$301,12,FALSE))","v":""},{"$f":"IF($R62=\"\",\"\",VLOOKUP($R62,'FO-DRE-01'!$A$7:$U$301,13,FALSE))","v":""},{"$f":"IF($R62=\"\",\"\",VLOOKUP($R62,'FO-DRE-01'!$A$7:$U$301,14,FALSE))","v":""},{"$f":"IF($R62=\"\",\"\",VLOOKUP($R62,'FO-DRE-01'!$A$7:$U$301,15,FALSE))","v":""},{"$f":"IF($S62=\"\",\"\",VLOOKUP($S62,'FO-DRE-04'!$A$6:$L$301,2,FALSE))","v":""},{"$f":"IF($S62=\"\",\"\",VLOOKUP($S62,'FO-DRE-04'!$A$6:$L$301,3,FALSE))","v":""},{"$f":"IF($S62=\"\",\"\",VLOOKUP($S62,'FO-DRE-04'!$A$6:$L$301,4,FALSE))","v":""},{"$f":"IF($S62=\"\",\"\",VLOOKUP($S62,'FO-DRE-04'!$A$6:$L$301,6,FALSE))","v":""},{"$f":"IF($S62=\"\",\"\",VLOOKUP($S62,'FO-DRE-04'!$A$6:$L$301,11,FALSE))","v":""},{"$f":"IF($T62=\"\",\"\",VLOOKUP($T62,'FO-DRE-02'!$A$6:$M$101,2,FALSE))","v":""},{"$f":"IF($T62=\"\",\"\",VLOOKUP($T62,'FO-DRE-02'!$A$6:$M$101,3,FALSE))","v":""},{"$f":"IF($T62=\"\",\"\",VLOOKUP($T62,'FO-DRE-02'!$A$6:$M$101,6,FALSE))","v":""},{"$f":"IF($T62=\"\",\"\",VLOOKUP($T62,'FO-DRE-02'!$A$6:$M$101,4,FALSE))","v":""},{"$f":"IF($T62=\"\",\"\",VLOOKUP($T62,'FO-DRE-02'!$A$6:$M$101,5,FALSE))","v":""},{"$f":"IF($T62=\"\",\"\",VLOOKUP($T62,'FO-DRE-02'!$A$6:$M$101,8,FALSE))","v":""},{"$f":"IF($T62=\"\",\"\",VLOOKUP($T62,'FO-DRE-02'!$A$6:$M$101,7,FALSE))","v":""},{"$f":"IF($T62=\"\",\"\",VLOOKUP($T62,'FO-DRE-02'!$A$6:$M$101,9,FALSE))","v":""},{"$f":"IF($T62=\"\",\"\",VLOOKUP($T62,'FO-DRE-02'!$A$6:$M$101,11,FALSE))","v":""},{"$f":"IF($T62=\"\",\"\",VLOOKUP($T62,'FO-DRE-02'!$A$6:$M$101,12,FALSE))","v":""},{"$f":"IF($T62=\"\",\"\",VLOOKUP($T62,'FO-DRE-02'!$A$6:$M$101,13,FALSE))","v":""},null,856,null,53,"","F/D","F/D","","","","","","","","","","","","","","",""]
[null,null,null,null,null,null,null,null,{"$f":"IF(H63=\"1a\",Hoja1!$B$126,IF(H63=\"1b\",Hoja1!$B$127,IF(H63=\"2a\",Hoja1!$B$128,IF(H63=\"2b\",Hoja1!$B$129,IF(H63=\"3 \",Hoja1!$B$130,IF(H63=\"4 \",Hoja1!$B$131,IF(H63=\"5 \",Hoja1!$B$132,IF(H63=\"6 \",Hoja1!$B$133,IF(H63=\"7 \",Hoja1!$B$134,IF(H63=\"8 \",Hoja1!$B$135,\" \"))))))))))","v":" "},{"$f":"CONCATENATE(#REF!,\"-\",\"TX\")","v":{"$error":"#REF!"}},{"$f":"CONCATENATE(#REF!,\"-\",\"RX\")","v":{"$error":"#REF!"}},null,null,null,null,0,null,null,null,null,null,{"$f":"IF($R63=\"\",\"\",VLOOKUP($R63,'FO-DRE-01'!$A$7:$U$301,18,FALSE))","v":""},{"$f":"IF($R63=\"\",\"\",VLOOKUP($R63,'FO-DRE-01'!$A$7:$U$301,16,FALSE))","v":""},{"$f":"IF($R63=\"\",\"\",VLOOKUP($R63,'FO-DRE-01'!$A$7:$U$301,17,FALSE))","v":""},{"$f":"IF($R63=\"\",\"\",VLOOKUP($R63,'FO-DRE-01'!$A$7:$U$301,3,FALSE))","v":""},{"$f":"IF($R63=\"\",\"\",VLOOKUP($R63,'FO-DRE-01'!$A$7:$U$301,4,FALSE))","v":""},{"$f":"IF($R63=\"\",\"\",VLOOKUP($R63,'FO-DRE-01'!$A$7:$U$301,5,FALSE))","v":""},{"$f":"IF($R63=\"\",\"\",VLOOKUP($R63,'FO-DRE-01'!$A$7:$U$301,7,FALSE))","v":""},{"$f":"IF($R63=\"\",\"\",VLOOKUP($R63,'FO-DRE-01'!$A$7:$U$301,8,FALSE))","v":""},{"$f":"IF($R63=\"\",\"\",VLOOKUP($R63,'FO-DRE-01'!$A$7:$U$301,9,FALSE))","v":""},{"$f":"IF($R63=\"\",\"\",VLOOKUP($R63,'FO-DRE-01'!$A$7:$U$301,10,FALSE))","v":""},{"$f":"IF($R63=\"\",\"\",VLOOKUP($R63,'FO-DRE-01'!$A$7:$U$301,11,FALSE))","v":""},{"$f":"IF($R63=\"\",\"\",VLOOKUP($R63,'FO-DRE-01'!$A$7:$U$301,12,FALSE))","v":""},{"$f":"IF($R63=\"\",\"\",VLOOKUP($R63,'FO-DRE-01'!$A$7:$U$301,13,FALSE))","v":""},{"$f":"IF($R63=\"\",\"\",VLOOKUP($R63,'FO-DRE-01'!$A$7:$U$301,14,FALSE))","v":""},{"$f":"IF($R63=\"\",\"\",VLOOKUP($R63,'FO-DRE-01'!$A$7:$U$301,15,FALSE))","v":""},{"$f":"IF($S63=\"\",\"\",VLOOKUP($S63,'FO-DRE-04'!$A$6:$L$301,2,FALSE))","v":""},{"$f":"IF($S63=\"\",\"\",VLOOKUP($S63,'FO-DRE-04'!$A$6:$L$301,3,FALSE))","v":""},{"$f":"IF($S63=\"\",\"\",VLOOKUP($S63,'FO-DRE-04'!$A$6:$L$301,4,FALSE))","v":""},{"$f":"IF($S63=\"\",\"\",VLOOKUP($S63,'FO-DRE-04'!$A$6:$L$301,6,FALSE))","v":""},{"$f":"IF($S63=\"\",\"\",VLOOKUP($S63,'FO-DRE-04'!$A$6:$L$301,11,FALSE))","v":""},{"$f":"IF($T63=\"\",\"\",VLOOKUP($T63,'FO-DRE-02'!$A$6:$M$101,2,FALSE))","v":""},{"$f":"IF($T63=\"\",\"\",VLOOKUP($T63,'FO-DRE-02'!$A$6:$M$101,3,FALSE))","v":""},{"$f":"IF($T63=\"\",\"\",VLOOKUP($T63,'FO-DRE-02'!$A$6:$M$101,6,FALSE))","v":""},{"$f":"IF($T63=\"\",\"\",VLOOKUP($T63,'FO-DRE-02'!$A$6:$M$101,4,FALSE))","v":""},{"$f":"IF($T63=\"\",\"\",VLOOKUP($T63,'FO-DRE-02'!$A$6:$M$101,5,FALSE))","v":""},{"$f":"IF($T63=\"\",\"\",VLOOKUP($T63,'FO-DRE-02'!$A$6:$M$101,8,FALSE))","v":""},{"$f":"IF($T63=\"\",\"\",VLOOKUP($T63,'FO-DRE-02'!$A$6:$M$101,7,FALSE))","v":""},{"$f":"IF($T63=\"\",\"\",VLOOKUP($T63,'FO-DRE-02'!$A$6:$M$101,9,FALSE))","v":""},{"$f":"IF($T63=\"\",\"\",VLOOKUP($T63,'FO-DRE-02'!$A$6:$M$101,11,FALSE))","v":""},{"$f":"IF($T63=\"\",\"\",VLOOKUP($T63,'FO-DRE-02'!$A$6:$M$101,12,FALSE))","v":""},{"$f":"IF($T63=\"\",\"\",VLOOKUP($T63,'FO-DRE-02'!$A$6:$M$101,13,FALSE))","v":""},null,856,null,54,"","F/D","F/D","","","","","","","","","","","","","","",""]
[null,null,null,null,null,null,null,null,{"$f":"IF(H64=\"1a\",Hoja1!$B$126,IF(H64=\"1b\",Hoja1!$B$127,IF(H64=\"2a\",Hoja1!$B$128,IF(H64=\"2b\",Hoja1!$B$129,IF(H64=\"3 \",Hoja1!$B$130,IF(H64=\"4 \",Hoja1!$B$131,IF(H64=\"5 \",Hoja1!$B$132,IF(H64=\"6 \",Hoja1!$B$133,IF(H64=\"7 \",Hoja1!$B$134,IF(H64=\"8 \",Hoja1!$B$135,\" \"))))))))))","v":" "},{"$f":"CONCATENATE(#REF!,\"-\",\"TX\")","v":{"$error":"#REF!"}},{"$f":"CONCATENATE(#REF!,\"-\",\"RX\")","v":{"$error":"#REF!"}},null,null,null,null,0,null,null,null,null,null,{"$f":"IF($R64=\"\",\"\",VLOOKUP($R64,'FO-DRE-01'!$A$7:$U$301,18,FALSE))","v":""},{"$f":"IF($R64=\"\",\"\",VLOOKUP($R64,'FO-DRE-01'!$A$7:$U$301,16,FALSE))","v":""},{"$f":"IF($R64=\"\",\"\",VLOOKUP($R64,'FO-DRE-01'!$A$7:$U$301,17,FALSE))","v":""},{"$f":"IF($R64=\"\",\"\",VLOOKUP($R64,'FO-DRE-01'!$A$7:$U$301,3,FALSE))","v":""},{"$f":"IF($R64=\"\",\"\",VLOOKUP($R64,'FO-DRE-01'!$A$7:$U$301,4,FALSE))","v":""},{"$f":"IF($R64=\"\",\"\",VLOOKUP($R64,'FO-DRE-01'!$A$7:$U$301,5,FALSE))","v":""},{"$f":"IF($R64=\"\",\"\",VLOOKUP($R64,'FO-DRE-01'!$A$7:$U$301,7,FALSE))","v":""},{"$f":"IF($R64=\"\",\"\",VLOOKUP($R64,'FO-DRE-01'!$A$7:$U$301,8,FALSE))","v":""},{"$f":"IF($R64=\"\",\"\",VLOOKUP($R64,'FO-DRE-01'!$A$7:$U$301,9,FALSE))","v":""},{"$f":"IF($R64=\"\",\"\",VLOOKUP($R64,'FO-DRE-01'!$A$7:$U$301,10,FALSE))","v":""},{"$f":"IF($R64=\"\",\"\",VLOOKUP($R64,'FO-DRE-01'!$A$7:$U$301,11,FALSE))","v":""},{"$f":"IF($R64=\"\",\"\",VLOOKUP($R64,'FO-DRE-01'!$A$7:$U$301,12,FALSE))","v":""},{"$f":"IF($R64=\"\",\"\",VLOOKUP($R64,'FO-DRE-01'!$A$7:$U$301,13,FALSE))","v":""},{"$f":"IF($R64=\"\",\"\",VLOOKUP($R64,'FO-DRE-01'!$A$7:$U$301,14,FALSE))","v":""},{"$f":"IF($R64=\"\",\"\",VLOOKUP($R64,'FO-DRE-01'!$A$7:$U$301,15,FALSE))","v":""},{"$f":"IF($S64=\"\",\"\",VLOOKUP($S64,'FO-DRE-04'!$A$6:$L$301,2,FALSE))","v":""},{"$f":"IF($S64=\"\",\"\",VLOOKUP($S64,'FO-DRE-04'!$A$6:$L$301,3,FALSE))","v":""},{"$f":"IF($S64=\"\",\"\",VLOOKUP($S64,'FO-DRE-04'!$A$6:$L$301,4,FALSE))","v":""},{"$f":"IF($S64=\"\",\"\",VLOOKUP($S64,'FO-DRE-04'!$A$6:$L$301,6,FALSE))","v":""},{"$f":"IF($S64=\"\",\"\",VLOOKUP($S64,'FO-DRE-04'!$A$6:$L$301,11,FALSE))","v":""},{"$f":"IF($T64=\"\",\"\",VLOOKUP($T64,'FO-DRE-02'!$A$6:$M$101,2,FALSE))","v":""},{"$f":"IF($T64=\"\",\"\",VLOOKUP($T64,'FO-DRE-02'!$A$6:$M$101,3,FALSE))","v":""},{"$f":"IF($T64=\"\",\"\",VLOOKUP($T64,'FO-DRE-02'!$A$6:$M$101,6,FALSE))","v":""},{"$f":"IF($T64=\"\",\"\",VLOOKUP($T64,'FO-DRE-02'!$A$6:$M$101,4,FALSE))","v":""},{"$f":"IF($T64=\"\",\"\",VLOOKUP($T64,'FO-DRE-02'!$A$6:$M$101,5,FALSE))","v":""},{"$f":"IF($T64=\"\",\"\",VLOOKUP($T64,'FO-DRE-02'!$A$6:$M$101,8,FALSE))","v":""},{"$f":"IF($T64=\"\",\"\",VLOOKUP($T64,'FO-DRE-02'!$A$6:$M$101,7,FALSE))","v":""},{"$f":"IF($T64=\"\",\"\",VLOOKUP($T64,'FO-DRE-02'!$A$6:$M$101,9,FALSE))","v":""},{"$f":"IF($T64=\"\",\"\",VLOOKUP($T64,'FO-DRE-02'!$A$6:$M$101,11,FALSE))","v":""},{"$f":"IF($T64=\"\",\"\",VLOOKUP($T64,'FO-DRE-02'!$A$6:$M$101,12,FALSE))","v":""},{"$f":"IF($T64=\"\",\"\",VLOOKUP($T64,'FO-DRE-02'!$A$6:$M$101,13,FALSE))","v":""},null,856,null,55,"","F/D","F/D","","","","","","","","","","","","","","",""]
[null,null,null,null,null,null,null,null,{"$f":"IF(H65=\"1a\",Hoja1!$B$126,IF(H65=\"1b\",Hoja1!$B$127,IF(H65=\"2a\",Hoja1!$B$128,IF(H65=\"2b\",Hoja1!$B$129,IF(H65=\"3 \",Hoja1!$B$130,IF(H65=\"4 \",Hoja1!$B$131,IF(H65=\"5 \",Hoja1!$B$132,IF(H65=\"6 \",Hoja1!$B$133,IF(H65=\"7 \",Hoja1!$B$134,IF(H65=\"8 \",Hoja1!$B$135,\" \"))))))))))","v":" "},{"$f":"CONCATENATE(#REF!,\"-\",\"TX\")","v":{"$error":"#REF!"}},{"$f":"CONCATENATE(#REF!,\"-\",\"RX\")","v":{"$error":"#REF!"}},null,null,null,null,0,null,null,null,null,null,{"$f":"IF($R65=\"\",\"\",VLOOKUP($R65,'FO-DRE-01'!$A$7:$U$301,18,FALSE))","v":""},{"$f":"IF($R65=\"\",\"\",VLOOKUP($R65,'FO-DRE-01'!$A$7:$U$301,16,FALSE))","v":""},{"$f":"IF($R65=\"\",\"\",VLOOKUP($R65,'FO-DRE-01'!$A$7:$U$301,17,FALSE))","v":""},{"$f":"IF($R65=\"\",\"\",VLOOKUP($R65,'FO-DRE-01'!$A$7:$U$301,3,FALSE))","v":""},{"$f":"IF($R65=\"\",\"\",VLOOKUP($R65,'FO-DRE-01'!$A$7:$U$301,4,FALSE))","v":""},{"$f":"IF($R65=\"\",\"\",VLOOKUP($R65,'FO-DRE-01'!$A$7:$U$301,5,FALSE))","v":""},{"$f":"IF($R65=\"\",\"\",VLOOKUP($R65,'FO-DRE-01'!$A$7:$U$301,7,FALSE))","v":""},{"$f":"IF($R65=\"\",\"\",VLOOKUP($R65,'FO-DRE-01'!$A$7:$U$301,8,FALSE))","v":""},{"$f":"IF($R65=\"\",\"\",VLOOKUP($R65,'FO-DRE-01'!$A$7:$U$301,9,FALSE))","v":""},{"$f":"IF($R65=\"\",\"\",VLOOKUP($R65,'FO-DRE-01'!$A$7:$U$301,10,FALSE))","v":""},{"$f":"IF($R65=\"\",\"\",VLOOKUP($R65,'FO-DRE-01'!$A$7:$U$301,11,FALSE))","v":""},{"$f":"IF($R65=\"\",\"\",VLOOKUP($R65,'FO-DRE-01'!$A$7:$U$301,12,FALSE))","v":""},{"$f":"IF($R65=\"\",\"\",VLOOKUP($R65,'FO-DRE-01'!$A$7:$U$301,13,FALSE))","v":""},{"$f":"IF($R65=\"\",\"\",VLOOKUP($R65,'FO-DRE-01'!$A$7:$U$301,14,FALSE))","v":""},{"$f":"IF($R65=\"\",\"\",VLOOKUP($R65,'FO-DRE-01'!$A$7:$U$301,15,FALSE))","v":""},{"$f":"IF($S65=\"\",\"\",VLOOKUP($S65,'FO-DRE-04'!$A$6:$L$301,2,FALSE))","v":""},{"$f":"IF($S65=\"\",\"\",VLOOKUP($S65,'FO-DRE-04'!$A$6:$L$301,3,FALSE))","v":""},{"$f":"IF($S65=\"\",\"\",VLOOKUP($S65,'FO-DRE-04'!$A$6:$L$301,4,FALSE))","v":""},{"$f":"IF($S65=\"\",\"\",VLOOKUP($S65,'FO-DRE-04'!$A$6:$L$301,6,FALSE))","v":""},{"$f":"IF($S65=\"\",\"\",VLOOKUP($S65,'FO-DRE-04'!$A$6:$L$301,11,FALSE))","v":""},{"$f":"IF($T65=\"\",\"\",VLOOKUP($T65,'FO-DRE-02'!$A$6:$M$101,2,FALSE))","v":""},{"$f":"IF($T65=\"\",\"\",VLOOKUP($T65,'FO-DRE-02'!$A$6:$M$101,3,FALSE))","v":""},{"$f":"IF($T65=\"\",\"\",VLOOKUP($T65,'FO-DRE-02'!$A$6:$M$101,6,FALSE))","v":""},{"$f":"IF($T65=\"\",\"\",VLOOKUP($T65,'FO-DRE-02'!$A$6:$M$101,4,FALSE))","v":""},{"$f":"IF($T65=\"\",\"\",VLOOKUP($T65,'FO-DRE-02'!$A$6:$M$101,5,FALSE))","v":""},{"$f":"IF($T65=\"\",\"\",VLOOKUP($T65,'FO-DRE-02'!$A$6:$M$101,8,FALSE))","v":""},{"$f":"IF($T65=\"\",\"\",VLOOKUP($T65,'FO-DRE-02'!$A$6:$M$101,7,FALSE))","v":""},{"$f":"IF($T65=\"\",\"\",VLOOKUP($T65,'FO-DRE-02'!$A$6:$M$101,9,FALSE))","v":""},{"$f":"IF($T65=\"\",\"\",VLOOKUP($T65,'FO-DRE-02'!$A$6:$M$101,11,FALSE))","v":""},{"$f":"IF($T65=\"\",\"\",VLOOKUP($T65,'FO-DRE-02'!$A$6:$M$101,12,FALSE))","v":""},{"$f":"IF($T65=\"\",\"\",VLOOKUP($T65,'FO-DRE-02'!$A$6:$M$101,13,FALSE))","v":""},null,856,null,56,"","F/D","F/D","","","","","","","","","","","","","","",""]
[null,null,null,null,null,null,null,null,{"$f":"IF(H66=\"1a\",Hoja1!$B$126,IF(H66=\"1b\",Hoja1!$B$127,IF(H66=\"2a\",Hoja1!$B$128,IF(H66=\"2b\",Hoja1!$B$129,IF(H66=\"3 \",Hoja1!$B$130,IF(H66=\"4 \",Hoja1!$B$131,IF(H66=\"5 \",Hoja1!$B$132,IF(H66=\"6 \",Hoja1!$B$133,IF(H66=\"7 \",Hoja1!$B$134,IF(H66=\"8 \",Hoja1!$B$135,\" \"))))))))))","v":" "},{"$f":"CONCATENATE(#REF!,\"-\",\"TX\")","v":{"$error":"#REF!"}},{"$f":"CONCATENATE(#REF!,\"-\",\"RX\")","v":{"$error":"#REF!"}},null,null,null,null,0,null,null,null,null,null,{"$f":"IF($R66=\"\",\"\",VLOOKUP($R66,'FO-DRE-01'!$A$7:$U$301,18,FALSE))","v":""},{"$f":"IF($R66=\"\",\"\",VLOOKUP($R66,'FO-DRE-01'!$A$7:$U$301,16,FALSE))","v":""},{"$f":"IF($R66=\"\",\"\",VLOOKUP($R66,'FO-DRE-01'!$A$7:$U$301,17,FALSE))","v":""},{"$f":"IF($R66=\"\",\"\",VLOOKUP($R66,'FO-DRE-01'!$A$7:$U$301,3,FALSE))","v":""},{"$f":"IF($R66=\"\",\"\",VLOOKUP($R66,'FO-DRE-01'!$A$7:$U$301,4,FALSE))","v":""},{"$f":"IF($R66=\"\",\"\",VLOOKUP($R66,'FO-DRE-01'!$A$7:$U$301,5,FALSE))","v":""},{"$f":"IF($R66=\"\",\"\",VLOOKUP($R66,'FO-DRE-01'!$A$7:$U$301,7,FALSE))","v":""},{"$f":"IF($R66=\"\",\"\",VLOOKUP($R66,'FO-DRE-01'!$A$7:$U$301,8,FALSE))","v":""},{"$f":"IF($R66=\"\",\"\",VLOOKUP($R66,'FO-DRE-01'!$A$7:$U$301,9,FALSE))","v":""},{"$f":"IF($R66=\"\",\"\",VLOOKUP($R66,'FO-DRE-01'!$A$7:$U$301,10,FALSE))","v":""},{"$f":"IF($R66=\"\",\"\",VLOOKUP($R66,'FO-DRE-01'!$A$7:$U$301,11,FALSE))","v":""},{"$f":"IF($R66=\"\",\"\",VLOOKUP($R66,'FO-DRE-01'!$A$7:$U$301,12,FALSE))","v":""},{"$f":"IF($R66=\"\",\"\",VLOOKUP($R66,'FO-DRE-01'!$A$7:$U$301,13,FALSE))","v":""},{"$f":"IF($R66=\"\",\"\",VLOOKUP($R66,'FO-DRE-01'!$A$7:$U$301,14,FALSE))","v":""},{"$f":"IF($R66=\"\",\"\",VLOOKUP($R66,'FO-DRE-01'!$A$7:$U$301,15,FALSE))","v":""},{"$f":"IF($S66=\"\",\"\",VLOOKUP($S66,'FO-DRE-04'!$A$6:$L$301,2,FALSE))","v":""},{"$f":"IF($S66=\"\",\"\",VLOOKUP($S66,'FO-DRE-04'!$A$6:$L$301,3,FALSE))","v":""},{"$f":"IF($S66=\"\",\"\",VLOOKUP($S66,'FO-DRE-04'!$A$6:$L$301,4,FALSE))","v":""},{"$f":"IF($S66=\"\",\"\",VLOOKUP($S66,'FO-DRE-04'!$A$6:$L$301,6,FALSE))","v":""},{"$f":"IF($S66=\"\",\"\",VLOOKUP($S66,'FO-DRE-04'!$A$6:$L$301,11,FALSE))","v":""},{"$f":"IF($T66=\"\",\"\",VLOOKUP($T66,'FO-DRE-02'!$A$6:$M$101,2,FALSE))","v":""},{"$f":"IF($T66=\"\",\"\",VLOOKUP($T66,'FO-DRE-02'!$A$6:$M$101,3,FALSE))","v":""},{"$f":"IF($T66=\"\",\"\",VLOOKUP($T66,'FO-DRE-02'!$A$6:$M$101,6,FALSE))","v":""},{"$f":"IF($T66=\"\",\"\",VLOOKUP($T66,'FO-DRE-02'!$A$6:$M$101,4,FALSE))","v":""},{"$f":"IF($T66=\"\",\"\",VLOOKUP($T66,'FO-DRE-02'!$A$6:$M$101,5,FALSE))","v":""},{"$f":"IF($T66=\"\",\"\",VLOOKUP($T66,'FO-DRE-02'!$A$6:$M$101,8,FALSE))","v":""},{"$f":"IF($T66=\"\",\"\",VLOOKUP($T66,'FO-DRE-02'!$A$6:$M$101,7,FALSE))","v":""},{"$f":"IF($T66=\"\",\"\",VLOOKUP($T66,'FO-DRE-02'!$A$6:$M$101,9,FALSE))","v":""},{"$f":"IF($T66=\"\",\"\",VLOOKUP($T66,'FO-DRE-02'!$A$6:$M$101,11,FALSE))","v":""},{"$f":"IF($T66=\"\",\"\",VLOOKUP($T66,'FO-DRE-02'!$A$6:$M$101,12,FALSE))","v":""},{"$f":"IF($T66=\"\",\"\",VLOOKUP($T66,'FO-DRE-02'!$A$6:$M$101,13,FALSE))","v":""},null,856,null,57,"","F/D","F/D","","","","","","","","","","","","","","",""]
[null,null,null,null,null,null,null,null,{"$f":"IF(H67=\"1a\",Hoja1!$B$126,IF(H67=\"1b\",Hoja1!$B$127,IF(H67=\"2a\",Hoja1!$B$128,IF(H67=\"2b\",Hoja1!$B$129,IF(H67=\"3 \",Hoja1!$B$130,IF(H67=\"4 \",Hoja1!$B$131,IF(H67=\"5 \",Hoja1!$B$132,IF(H67=\"6 \",Hoja1!$B$133,IF(H67=\"7 \",Hoja1!$B$134,IF(H67=\"8 \",Hoja1!$B$135,\" \"))))))))))","v":" "},{"$f":"CONCATENATE(#REF!,\"-\",\"TX\")","v":{"$error":"#REF!"}},{"$f":"CONCATENATE(#REF!,\"-\",\"RX\")","v":{"$error":"#REF!"}},null,null,null,null,0,null,null,null,null,null,{"$f":"IF($R67=\"\",\"\",VLOOKUP($R67,'FO-DRE-01'!$A$7:$U$301,18,FALSE))","v":""},{"$f":"IF($R67=\"\",\"\",VLOOKUP($R67,'FO-DRE-01'!$A$7:$U$301,16,FALSE))","v":""},{"$f":"IF($R67=\"\",\"\",VLOOKUP($R67,'FO-DRE-01'!$A$7:$U$301,17,FALSE))","v":""},{"$f":"IF($R67=\"\",\"\",VLOOKUP($R67,'FO-DRE-01'!$A$7:$U$301,3,FALSE))","v":""},{"$f":"IF($R67=\"\",\"\",VLOOKUP($R67,'FO-DRE-01'!$A$7:$U$301,4,FALSE))","v":""},{"$f":"IF($R67=\"\",\"\",VLOOKUP($R67,'FO-DRE-01'!$A$7:$U$301,5,FALSE))","v":""},{"$f":"IF($R67=\"\",\"\",VLOOKUP($R67,'FO-DRE-01'!$A$7:$U$301,7,FALSE))","v":""},{"$f":"IF($R67=\"\",\"\",VLOOKUP($R67,'FO-DRE-01'!$A$7:$U$301,8,FALSE))","v":""},{"$f":"IF($R67=\"\",\"\",VLOOKUP($R67,'FO-DRE-01'!$A$7:$U$301,9,FALSE))","v":""},{"$f":"IF($R67=\"\",\"\",VLOOKUP($R67,'FO-DRE-01'!$A$7:$U$301,10,FALSE))","v":""},{"$f":"IF($R67=\"\",\"\",VLOOKUP($R67,'FO-DRE-01'!$A$7:$U$301,11,FALSE))","v":""},{"$f":"IF($R67=\"\",\"\",VLOOKUP($R67,'FO-DRE-01'!$A$7:$U$301,12,FALSE))","v":""},{"$f":"IF($R67=\"\",\"\",VLOOKUP($R67,'FO-DRE-01'!$A$7:$U$301,13,FALSE))","v":""},{"$f":"IF($R67=\"\",\"\",VLOOKUP($R67,'FO-DRE-01'!$A$7:$U$301,14,FALSE))","v":""},{"$f":"IF($R67=\"\",\"\",VLOOKUP($R67,'FO-DRE-01'!$A$7:$U$301,15,FALSE))","v":""},{"$f":"IF($S67=\"\",\"\",VLOOKUP($S67,'FO-DRE-04'!$A$6:$L$301,2,FALSE))","v":""},{"$f":"IF($S67=\"\",\"\",VLOOKUP($S67,'FO-DRE-04'!$A$6:$L$301,3,FALSE))","v":""},{"$f":"IF($S67=\"\",\"\",VLOOKUP($S67,'FO-DRE-04'!$A$6:$L$301,4,FALSE))","v":""},{"$f":"IF($S67=\"\",\"\",VLOOKUP($S67,'FO-DRE-04'!$A$6:$L$301,6,FALSE))","v":""},{"$f":"IF($S67=\"\",\"\",VLOOKUP($S67,'FO-DRE-04'!$A$6:$L$301,11,FALSE))","v":""},{"$f":"IF($T67=\"\",\"\",VLOOKUP($T67,'FO-DRE-02'!$A$6:$M$101,2,FALSE))","v":""},{"$f":"IF($T67=\"\",\"\",VLOOKUP($T67,'FO-DRE-02'!$A$6:$M$101,3,FALSE))","v":""},{"$f":"IF($T67=\"\",\"\",VLOOKUP($T67,'FO-DRE-02'!$A$6:$M$101,6,FALSE))","v":""},{"$f":"IF($T67=\"\",\"\",VLOOKUP($T67,'FO-DRE-02'!$A$6:$M$101,4,FALSE))","v":""},{"$f":"IF($T67=\"\",\"\",VLOOKUP($T67,'FO-DRE-02'!$A$6:$M$101,5,FALSE))","v":""},{"$f":"IF($T67=\"\",\"\",VLOOKUP($T67,'FO-DRE-02'!$A$6:$M$101,8,FALSE))","v":""},{"$f":"IF($T67=\"\",\"\",VLOOKUP($T67,'FO-DRE-02'!$A$6:$M$101,7,FALSE))","v":""},{"$f":"IF($T67=\"\",\"\",VLOOKUP($T67,'FO-DRE-02'!$A$6:$M$101,9,FALSE))","v":""},{"$f":"IF($T67=\"\",\"\",VLOOKUP($T67,'FO-DRE-02'!$A$6:$M$101,11,FALSE))","v":""},{"$f":"IF($T67=\"\",\"\",VLOOKUP($T67,'FO-DRE-02'!$A$6:$M$101,12,FALSE))","v":""},{"$f":"IF($T67=\"\",\"\",VLOOKUP($T67,'FO-DRE-02'!$A$6:$M$101,13,FALSE))","v":""},null,856,null,58,"","F/D","F/D","","","","","","","","","","","","","","",""]
[null,null,null,null,null,null,null,null,{"$f":"IF(H68=\"1a\",Hoja1!$B$126,IF(H68=\"1b\",Hoja1!$B$127,IF(H68=\"2a\",Hoja1!$B$128,IF(H68=\"2b\",Hoja1!$B$129,IF(H68=\"3 \",Hoja1!$B$130,IF(H68=\"4 \",Hoja1!$B$131,IF(H68=\"5 \",Hoja1!$B$132,IF(H68=\"6 \",Hoja1!$B$133,IF(H68=\"7 \",Hoja1!$B$134,IF(H68=\"8 \",Hoja1!$B$135,\" \"))))))))))","v":" "},{"$f":"CONCATENATE(#REF!,\"-\",\"TX\")","v":{"$error":"#REF!"}},{"$f":"CONCATENATE(#REF!,\"-\",\"RX\")","v":{"$error":"#REF!"}},null,null,null,null,0,null,null,null,null,null,{"$f":"IF($R68=\"\",\"\",VLOOKUP($R68,'FO-DRE-01'!$A$7:$U$301,18,FALSE))","v":""},{"$f":"IF($R68=\"\",\"\",VLOOKUP($R68,'FO-DRE-01'!$A$7:$U$301,16,FALSE))","v":""},{"$f":"IF($R68=\"\",\"\",VLOOKUP($R68,'FO-DRE-01'!$A$7:$U$301,17,FALSE))","v":""},{"$f":"IF($R68=\"\",\"\",VLOOKUP($R68,'FO-DRE-01'!$A$7:$U$301,3,FALSE))","v":""},{"$f":"IF($R68=\"\",\"\",VLOOKUP($R68,'FO-DRE-01'!$A$7:$U$301,4,FALSE))","v":""},{"$f":"IF($R68=\"\",\"\",VLOOKUP($R68,'FO-DRE-01'!$A$7:$U$301,5,FALSE))","v":""},{"$f":"IF($R68=\"\",\"\",VLOOKUP($R68,'FO-DRE-01'!$A$7:$U$301,7,FALSE))","v":""},{"$f":"IF($R68=\"\",\"\",VLOOKUP($R68,'FO-DRE-01'!$A$7:$U$301,8,FALSE))","v":""},{"$f":"IF($R68=\"\",\"\",VLOOKUP($R68,'FO-DRE-01'!$A$7:$U$301,9,FALSE))","v":""},{"$f":"IF($R68=\"\",\"\",VLOOKUP($R68,'FO-DRE-01'!$A$7:$U$301,10,FALSE))","v":""},{"$f":"IF($R68=\"\",\"\",VLOOKUP($R68,'FO-DRE-01'!$A$7:$U$301,11,FALSE))","v":""},{"$f":"IF($R68=\"\",\"\",VLOOKUP($R68,'FO-DRE-01'!$A$7:$U$301,12,FALSE))","v":""},{"$f":"IF($R68=\"\",\"\",VLOOKUP($R68,'FO-DRE-01'!$A$7:$U$301,13,FALSE))","v":""},{"$f":"IF($R68=\"\",\"\",VLOOKUP($R68,'FO-DRE-01'!$A$7:$U$301,14,FALSE))","v":""},{"$f":"IF($R68=\"\",\"\",VLOOKUP($R68,'FO-DRE-01'!$A$7:$U$301,15,FALSE))","v":""},{"$f":"IF($S68=\"\",\"\",VLOOKUP($S68,'FO-DRE-04'!$A$6:$L$301,2,FALSE))","v":""},{"$f":"IF($S68=\"\",\"\",VLOOKUP($S68,'FO-DRE-04'!$A$6:$L$301,3,FALSE))","v":""},{"$f":"IF($S68=\"\",\"\",VLOOKUP($S68,'FO-DRE-04'!$A$6:$L$301,4,FALSE))","v":""},{"$f":"IF($S68=\"\",\"\",VLOOKUP($S68,'FO-DRE-04'!$A$6:$L$301,6,FALSE))","v":""},{"$f":"IF($S68=\"\",\"\",VLOOKUP($S68,'FO-DRE-04'!$A$6:$L$301,11,FALSE))","v":""},{"$f":"IF($T68=\"\",\"\",VLOOKUP($T68,'FO-DRE-02'!$A$6:$M$101,2,FALSE))","v":""},{"$f":"IF($T68=\"\",\"\",VLOOKUP($T68,'FO-DRE-02'!$A$6:$M$101,3,FALSE))","v":""},{"$f":"IF($T68=\"\",\"\",VLOOKUP($T68,'FO-DRE-02'!$A$6:$M$101,6,FALSE))","v":""},{"$f":"IF($T68=\"\",\"\",VLOOKUP($T68,'FO-DRE-02'!$A$6:$M$101,4,FALSE))","v":""},{"$f":"IF($T68=\"\",\"\",VLOOKUP($T68,'FO-DRE-02'!$A$6:$M$101,5,FALSE))","v":""},{"$f":"IF($T68=\"\",\"\",VLOOKUP($T68,'FO-DRE-02'!$A$6:$M$101,8,FALSE))","v":""},{"$f":"IF($T68=\"\",\"\",VLOOKUP($T68,'FO-DRE-02'!$A$6:$M$101,7,FALSE))","v":""},{"$f":"IF($T68=\"\",\"\",VLOOKUP($T68,'FO-DRE-02'!$A$6:$M$101,9,FALSE))","v":""},{"$f":"IF($T68=\"\",\"\",VLOOKUP($T68,'FO-DRE-02'!$A$6:$M$101,11,FALSE))","v":""},{"$f":"IF($T68=\"\",\"\",VLOOKUP($T68,'FO-DRE-02'!$A$6:$M$101,12,FALSE))","v":""},{"$f":"IF($T68=\"\",\"\",VLOOKUP($T68,'FO-DRE-02'!$A$6:$M$101,13,FALSE))","v":""},null,856,null,59,"","F/D","F/D","","","","","","","","","","","","","","",""]
[null,null,null,null,null,null,null,null,{"$f":"IF(H69=\"1a\",Hoja1!$B$126,IF(H69=\"1b\",Hoja1!$B$127,IF(H69=\"2a\",Hoja1!$B$128,IF(H69=\"2b\",Hoja1!$B$129,IF(H69=\"3 \",Hoja1!$B$130,IF(H69=\"4 \",Hoja1!$B$131,IF(H69=\"5 \",Hoja1!$B$132,IF(H69=\"6 \",Hoja1!$B$133,IF(H69=\"7 \",Hoja1!$B$134,IF(H69=\"8 \",Hoja1!$B$135,\" \"))))))))))","v":" "},{"$f":"CONCATENATE(#REF!,\"-\",\"TX\")","v":{"$error":"#REF!"}},{"$f":"CONCATENATE(#REF!,\"-\",\"RX\")","v":{"$error":"#REF!"}},null,null,null,null,0,null,null,null,null,null,{"$f":"IF($R69=\"\",\"\",VLOOKUP($R69,'FO-DRE-01'!$A$7:$U$301,18,FALSE))","v":""},{"$f":"IF($R69=\"\",\"\",VLOOKUP($R69,'FO-DRE-01'!$A$7:$U$301,16,FALSE))","v":""},{"$f":"IF($R69=\"\",\"\",VLOOKUP($R69,'FO-DRE-01'!$A$7:$U$301,17,FALSE))","v":""},{"$f":"IF($R69=\"\",\"\",VLOOKUP($R69,'FO-DRE-01'!$A$7:$U$301,3,FALSE))","v":""},{"$f":"IF($R69=\"\",\"\",VLOOKUP($R69,'FO-DRE-01'!$A$7:$U$301,4,FALSE))","v":""},{"$f":"IF($R69=\"\",\"\",VLOOKUP($R69,'FO-DRE-01'!$A$7:$U$301,5,FALSE))","v":""},{"$f":"IF($R69=\"\",\"\",VLOOKUP($R69,'FO-DRE-01'!$A$7:$U$301,7,FALSE))","v":""},{"$f":"IF($R69=\"\",\"\",VLOOKUP($R69,'FO-DRE-01'!$A$7:$U$301,8,FALSE))","v":""},{"$f":"IF($R69=\"\",\"\",VLOOKUP($R69,'FO-DRE-01'!$A$7:$U$301,9,FALSE))","v":""},{"$f":"IF($R69=\"\",\"\",VLOOKUP($R69,'FO-DRE-01'!$A$7:$U$301,10,FALSE))","v":""},{"$f":"IF($R69=\"\",\"\",VLOOKUP($R69,'FO-DRE-01'!$A$7:$U$301,11,FALSE))","v":""},{"$f":"IF($R69=\"\",\"\",VLOOKUP($R69,'FO-DRE-01'!$A$7:$U$301,12,FALSE))","v":""},{"$f":"IF($R69=\"\",\"\",VLOOKUP($R69,'FO-DRE-01'!$A$7:$U$301,13,FALSE))","v":""},{"$f":"IF($R69=\"\",\"\",VLOOKUP($R69,'FO-DRE-01'!$A$7:$U$301,14,FALSE))","v":""},{"$f":"IF($R69=\"\",\"\",VLOOKUP($R69,'FO-DRE-01'!$A$7:$U$301,15,FALSE))","v":""},{"$f":"IF($S69=\"\",\"\",VLOOKUP($S69,'FO-DRE-04'!$A$6:$L$301,2,FALSE))","v":""},{"$f":"IF($S69=\"\",\"\",VLOOKUP($S69,'FO-DRE-04'!$A$6:$L$301,3,FALSE))","v":""},{"$f":"IF($S69=\"\",\"\",VLOOKUP($S69,'FO-DRE-04'!$A$6:$L$301,4,FALSE))","v":""},{"$f":"IF($S69=\"\",\"\",VLOOKUP($S69,'FO-DRE-04'!$A$6:$L$301,6,FALSE))","v":""},{"$f":"IF($S69=\"\",\"\",VLOOKUP($S69,'FO-DRE-04'!$A$6:$L$301,11,FALSE))","v":""},{"$f":"IF($T69=\"\",\"\",VLOOKUP($T69,'FO-DRE-02'!$A$6:$M$101,2,FALSE))","v":""},{"$f":"IF($T69=\"\",\"\",VLOOKUP($T69,'FO-DRE-02'!$A$6:$M$101,3,FALSE))","v":""},{"$f":"IF($T69=\"\",\"\",VLOOKUP($T69,'FO-DRE-02'!$A$6:$M$101,6,FALSE))","v":""},{"$f":"IF($T69=\"\",\"\",VLOOKUP($T69,'FO-DRE-02'!$A$6:$M$101,4,FALSE))","v":""},{"$f":"IF($T69=\"\",\"\",VLOOKUP($T69,'FO-DRE-02'!$A$6:$M$101,5,FALSE))","v":""},{"$f":"IF($T69=\"\",\"\",VLOOKUP($T69,'FO-DRE-02'!$A$6:$M$101,8,FALSE))","v":""},{"$f":"IF($T69=\"\",\"\",VLOOKUP($T69,'FO-DRE-02'!$A$6:$M$101,7,FALSE))","v":""},{"$f":"IF($T69=\"\",\"\",VLOOKUP($T69,'FO-DRE-02'!$A$6:$M$101,9,FALSE))","v":""},{"$f":"IF($T69=\"\",\"\",VLOOKUP($T69,'FO-DRE-02'!$A$6:$M$101,11,FALSE))","v":""},{"$f":"IF($T69=\"\",\"\",VLOOKUP($T69,'FO-DRE-02'!$A$6:$M$101,12,FALSE))","v":""},{"$f":"IF($T69=\"\",\"\",VLOOKUP($T69,'FO-DRE-02'!$A$6:$M$101,13,FALSE))","v":""},null,856,null,60,"","F/D","F/D","","","","","","","","","","","","","","",""]
[null,null,null,null,null,null,null,null,{"$f":"IF(H70=\"1a\",Hoja1!$B$126,IF(H70=\"1b\",Hoja1!$B$127,IF(H70=\"2a\",Hoja1!$B$128,IF(H70=\"2b\",Hoja1!$B$129,IF(H70=\"3 \",Hoja1!$B$130,IF(H70=\"4 \",Hoja1!$B$131,IF(H70=\"5 \",Hoja1!$B$132,IF(H70=\"6 \",Hoja1!$B$133,IF(H70=\"7 \",Hoja1!$B$134,IF(H70=\"8 \",Hoja1!$B$135,\" \"))))))))))","v":" "},{"$f":"CONCATENATE(#REF!,\"-\",\"TX\")","v":{"$error":"#REF!"}},{"$f":"CONCATENATE(#REF!,\"-\",\"RX\")","v":{"$error":"#REF!"}},null,null,null,null,0,null,null,null,null,null,{"$f":"IF($R70=\"\",\"\",VLOOKUP($R70,'FO-DRE-01'!$A$7:$U$301,18,FALSE))","v":""},{"$f":"IF($R70=\"\",\"\",VLOOKUP($R70,'FO-DRE-01'!$A$7:$U$301,16,FALSE))","v":""},{"$f":"IF($R70=\"\",\"\",VLOOKUP($R70,'FO-DRE-01'!$A$7:$U$301,17,FALSE))","v":""},{"$f":"IF($R70=\"\",\"\",VLOOKUP($R70,'FO-DRE-01'!$A$7:$U$301,3,FALSE))","v":""},{"$f":"IF($R70=\"\",\"\",VLOOKUP($R70,'FO-DRE-01'!$A$7:$U$301,4,FALSE))","v":""},{"$f":"IF($R70=\"\",\"\",VLOOKUP($R70,'FO-DRE-01'!$A$7:$U$301,5,FALSE))","v":""},{"$f":"IF($R70=\"\",\"\",VLOOKUP($R70,'FO-DRE-01'!$A$7:$U$301,7,FALSE))","v":""},{"$f":"IF($R70=\"\",\"\",VLOOKUP($R70,'FO-DRE-01'!$A$7:$U$301,8,FALSE))","v":""},{"$f":"IF($R70=\"\",\"\",VLOOKUP($R70,'FO-DRE-01'!$A$7:$U$301,9,FALSE))","v":""},{"$f":"IF($R70=\"\",\"\",VLOOKUP($R70,'FO-DRE-01'!$A$7:$U$301,10,FALSE))","v":""},{"$f":"IF($R70=\"\",\"\",VLOOKUP($R70,'FO-DRE-01'!$A$7:$U$301,11,FALSE))","v":""},{"$f":"IF($R70=\"\",\"\",VLOOKUP($R70,'FO-DRE-01'!$A$7:$U$301,12,FALSE))","v":""},{"$f":"IF($R70=\"\",\"\",VLOOKUP($R70,'FO-DRE-01'!$A$7:$U$301,13,FALSE))","v":""},{"$f":"IF($R70=\"\",\"\",VLOOKUP($R70,'FO-DRE-01'!$A$7:$U$301,14,FALSE))","v":""},{"$f":"IF($R70=\"\",\"\",VLOOKUP($R70,'FO-DRE-01'!$A$7:$U$301,15,FALSE))","v":""},{"$f":"IF($S70=\"\",\"\",VLOOKUP($S70,'FO-DRE-04'!$A$6:$L$301,2,FALSE))","v":""},{"$f":"IF($S70=\"\",\"\",VLOOKUP($S70,'FO-DRE-04'!$A$6:$L$301,3,FALSE))","v":""},{"$f":"IF($S70=\"\",\"\",VLOOKUP($S70,'FO-DRE-04'!$A$6:$L$301,4,FALSE))","v":""},{"$f":"IF($S70=\"\",\"\",VLOOKUP($S70,'FO-DRE-04'!$A$6:$L$301,6,FALSE))","v":""},{"$f":"IF($S70=\"\",\"\",VLOOKUP($S70,'FO-DRE-04'!$A$6:$L$301,11,FALSE))","v":""},{"$f":"IF($T70=\"\",\"\",VLOOKUP($T70,'FO-DRE-02'!$A$6:$M$101,2,FALSE))","v":""},{"$f":"IF($T70=\"\",\"\",VLOOKUP($T70,'FO-DRE-02'!$A$6:$M$101,3,FALSE))","v":""},{"$f":"IF($T70=\"\",\"\",VLOOKUP($T70,'FO-DRE-02'!$A$6:$M$101,6,FALSE))","v":""},{"$f":"IF($T70=\"\",\"\",VLOOKUP($T70,'FO-DRE-02'!$A$6:$M$101,4,FALSE))","v":""},{"$f":"IF($T70=\"\",\"\",VLOOKUP($T70,'FO-DRE-02'!$A$6:$M$101,5,FALSE))","v":""},{"$f":"IF($T70=\"\",\"\",VLOOKUP($T70,'FO-DRE-02'!$A$6:$M$101,8,FALSE))","v":""},{"$f":"IF($T70=\"\",\"\",VLOOKUP($T70,'FO-DRE-02'!$A$6:$M$101,7,FALSE))","v":""},{"$f":"IF($T70=\"\",\"\",VLOOKUP($T70,'FO-DRE-02'!$A$6:$M$101,9,FALSE))","v":""},{"$f":"IF($T70=\"\",\"\",VLOOKUP($T70,'FO-DRE-02'!$A$6:$M$101,11,FALSE))","v":""},{"$f":"IF($T70=\"\",\"\",VLOOKUP($T70,'FO-DRE-02'!$A$6:$M$101,12,FALSE))","v":""},{"$f":"IF($T70=\"\",\"\",VLOOKUP($T70,'FO-DRE-02'!$A$6:$M$101,13,FALSE))","v":""},null,856,null,61,"","F/D","F/D","","","","","","","","","","","","","","",""]
[null,null,null,null,null,null,null,null,{"$f":"IF(H71=\"1a\",Hoja1!$B$126,IF(H71=\"1b\",Hoja1!$B$127,IF(H71=\"2a\",Hoja1!$B$128,IF(H71=\"2b\",Hoja1!$B$129,IF(H71=\"3 \",Hoja1!$B$130,IF(H71=\"4 \",Hoja1!$B$131,IF(H71=\"5 \",Hoja1!$B$132,IF(H71=\"6 \",Hoja1!$B$133,IF(H71=\"7 \",Hoja1!$B$134,IF(H71=\"8 \",Hoja1!$B$135,\" \"))))))))))","v":" "},{"$f":"CONCATENATE(#REF!,\"-\",\"TX\")","v":{"$error":"#REF!"}},{"$f":"CONCATENATE(#REF!,\"-\",\"RX\")","v":{"$error":"#REF!"}},null,null,null,null,0,null,null,null,null,null,{"$f":"IF($R71=\"\",\"\",VLOOKUP($R71,'FO-DRE-01'!$A$7:$U$301,18,FALSE))","v":""},{"$f":"IF($R71=\"\",\"\",VLOOKUP($R71,'FO-DRE-01'!$A$7:$U$301,16,FALSE))","v":""},{"$f":"IF($R71=\"\",\"\",VLOOKUP($R71,'FO-DRE-01'!$A$7:$U$301,17,FALSE))","v":""},{"$f":"IF($R71=\"\",\"\",VLOOKUP($R71,'FO-DRE-01'!$A$7:$U$301,3,FALSE))","v":""},{"$f":"IF($R71=\"\",\"\",VLOOKUP($R71,'FO-DRE-01'!$A$7:$U$301,4,FALSE))","v":""},{"$f":"IF($R71=\"\",\"\",VLOOKUP($R71,'FO-DRE-01'!$A$7:$U$301,5,FALSE))","v":""},{"$f":"IF($R71=\"\",\"\",VLOOKUP($R71,'FO-DRE-01'!$A$7:$U$301,7,FALSE))","v":""},{"$f":"IF($R71=\"\",\"\",VLOOKUP($R71,'FO-DRE-01'!$A$7:$U$301,8,FALSE))","v":""},{"$f":"IF($R71=\"\",\"\",VLOOKUP($R71,'FO-DRE-01'!$A$7:$U$301,9,FALSE))","v":""},{"$f":"IF($R71=\"\",\"\",VLOOKUP($R71,'FO-DRE-01'!$A$7:$U$301,10,FALSE))","v":""},{"$f":"IF($R71=\"\",\"\",VLOOKUP($R71,'FO-DRE-01'!$A$7:$U$301,11,FALSE))","v":""},{"$f":"IF($R71=\"\",\"\",VLOOKUP($R71,'FO-DRE-01'!$A$7:$U$301,12,FALSE))","v":""},{"$f":"IF($R71=\"\",\"\",VLOOKUP($R71,'FO-DRE-01'!$A$7:$U$301,13,FALSE))","v":""},{"$f":"IF($R71=\"\",\"\",VLOOKUP($R71,'FO-DRE-01'!$A$7:$U$301,14,FALSE))","v":""},{"$f":"IF($R71=\"\",\"\",VLOOKUP($R71,'FO-DRE-01'!$A$7:$U$301,15,FALSE))","v":""},{"$f":"IF($S71=\"\",\"\",VLOOKUP($S71,'FO-DRE-04'!$A$6:$L$301,2,FALSE))","v":""},{"$f":"IF($S71=\"\",\"\",VLOOKUP($S71,'FO-DRE-04'!$A$6:$L$301,3,FALSE))","v":""},{"$f":"IF($S71=\"\",\"\",VLOOKUP($S71,'FO-DRE-04'!$A$6:$L$301,4,FALSE))","v":""},{"$f":"IF($S71=\"\",\"\",VLOOKUP($S71,'FO-DRE-04'!$A$6:$L$301,6,FALSE))","v":""},{"$f":"IF($S71=\"\",\"\",VLOOKUP($S71,'FO-DRE-04'!$A$6:$L$301,11,FALSE))","v":""},{"$f":"IF($T71=\"\",\"\",VLOOKUP($T71,'FO-DRE-02'!$A$6:$M$101,2,FALSE))","v":""},{"$f":"IF($T71=\"\",\"\",VLOOKUP($T71,'FO-DRE-02'!$A$6:$M$101,3,FALSE))","v":""},{"$f":"IF($T71=\"\",\"\",VLOOKUP($T71,'FO-DRE-02'!$A$6:$M$101,6,FALSE))","v":""},{"$f":"IF($T71=\"\",\"\",VLOOKUP($T71,'FO-DRE-02'!$A$6:$M$101,4,FALSE))","v":""},{"$f":"IF($T71=\"\",\"\",VLOOKUP($T71,'FO-DRE-02'!$A$6:$M$101,5,FALSE))","v":""},{"$f":"IF($T71=\"\",\"\",VLOOKUP($T71,'FO-DRE-02'!$A$6:$M$101,8,FALSE))","v":""},{"$f":"IF($T71=\"\",\"\",VLOOKUP($T71,'FO-DRE-02'!$A$6:$M$101,7,FALSE))","v":""},{"$f":"IF($T71=\"\",\"\",VLOOKUP($T71,'FO-DRE-02'!$A$6:$M$101,9,FALSE))","v":""},{"$f":"IF($T71=\"\",\"\",VLOOKUP($T71,'FO-DRE-02'!$A$6:$M$101,11,FALSE))","v":""},{"$f":"IF($T71=\"\",\"\",VLOOKUP($T71,'FO-DRE-02'!$A$6:$M$101,12,FALSE))","v":""},{"$f":"IF($T71=\"\",\"\",VLOOKUP($T71,'FO-DRE-02'!$A$6:$M$101,13,FALSE))","v":""},null,856,null,62,"","F/D","F/D","","","","","","","","","","","","","","",""]
[null,null,null,null,null,null,null,null,{"$f":"IF(H72=\"1a\",Hoja1!$B$126,IF(H72=\"1b\",Hoja1!$B$127,IF(H72=\"2a\",Hoja1!$B$128,IF(H72=\"2b\",Hoja1!$B$129,IF(H72=\"3 \",Hoja1!$B$130,IF(H72=\"4 \",Hoja1!$B$131,IF(H72=\"5 \",Hoja1!$B$132,IF(H72=\"6 \",Hoja1!$B$133,IF(H72=\"7 \",Hoja1!$B$134,IF(H72=\"8 \",Hoja1!$B$135,\" \"))))))))))","v":" "},{"$f":"CONCATENATE(#REF!,\"-\",\"TX\")","v":{"$error":"#REF!"}},{"$f":"CONCATENATE(#REF!,\"-\",\"RX\")","v":{"$error":"#REF!"}},null,null,null,null,0,null,null,null,null,null,{"$f":"IF($R72=\"\",\"\",VLOOKUP($R72,'FO-DRE-01'!$A$7:$U$301,18,FALSE))","v":""},{"$f":"IF($R72=\"\",\"\",VLOOKUP($R72,'FO-DRE-01'!$A$7:$U$301,16,FALSE))","v":""},{"$f":"IF($R72=\"\",\"\",VLOOKUP($R72,'FO-DRE-01'!$A$7:$U$301,17,FALSE))","v":""},{"$f":"IF($R72=\"\",\"\",VLOOKUP($R72,'FO-DRE-01'!$A$7:$U$301,3,FALSE))","v":""},{"$f":"IF($R72=\"\",\"\",VLOOKUP($R72,'FO-DRE-01'!$A$7:$U$301,4,FALSE))","v":""},{"$f":"IF($R72=\"\",\"\",VLOOKUP($R72,'FO-DRE-01'!$A$7:$U$301,5,FALSE))","v":""},{"$f":"IF($R72=\"\",\"\",VLOOKUP($R72,'FO-DRE-01'!$A$7:$U$301,7,FALSE))","v":""},{"$f":"IF($R72=\"\",\"\",VLOOKUP($R72,'FO-DRE-01'!$A$7:$U$301,8,FALSE))","v":""},{"$f":"IF($R72=\"\",\"\",VLOOKUP($R72,'FO-DRE-01'!$A$7:$U$301,9,FALSE))","v":""},{"$f":"IF($R72=\"\",\"\",VLOOKUP($R72,'FO-DRE-01'!$A$7:$U$301,10,FALSE))","v":""},{"$f":"IF($R72=\"\",\"\",VLOOKUP($R72,'FO-DRE-01'!$A$7:$U$301,11,FALSE))","v":""},{"$f":"IF($R72=\"\",\"\",VLOOKUP($R72,'FO-DRE-01'!$A$7:$U$301,12,FALSE))","v":""},{"$f":"IF($R72=\"\",\"\",VLOOKUP($R72,'FO-DRE-01'!$A$7:$U$301,13,FALSE))","v":""},{"$f":"IF($R72=\"\",\"\",VLOOKUP($R72,'FO-DRE-01'!$A$7:$U$301,14,FALSE))","v":""},{"$f":"IF($R72=\"\",\"\",VLOOKUP($R72,'FO-DRE-01'!$A$7:$U$301,15,FALSE))","v":""},{"$f":"IF($S72=\"\",\"\",VLOOKUP($S72,'FO-DRE-04'!$A$6:$L$301,2,FALSE))","v":""},{"$f":"IF($S72=\"\",\"\",VLOOKUP($S72,'FO-DRE-04'!$A$6:$L$301,3,FALSE))","v":""},{"$f":"IF($S72=\"\",\"\",VLOOKUP($S72,'FO-DRE-04'!$A$6:$L$301,4,FALSE))","v":""},{"$f":"IF($S72=\"\",\"\",VLOOKUP($S72,'FO-DRE-04'!$A$6:$L$301,6,FALSE))","v":""},{"$f":"IF($S72=\"\",\"\",VLOOKUP($S72,'FO-DRE-04'!$A$6:$L$301,11,FALSE))","v":""},{"$f":"IF($T72=\"\",\"\",VLOOKUP($T72,'FO-DRE-02'!$A$6:$M$101,2,FALSE))","v":""},{"$f":"IF($T72=\"\",\"\",VLOOKUP($T72,'FO-DRE-02'!$A$6:$M$101,3,FALSE))","v":""},{"$f":"IF($T72=\"\",\"\",VLOOKUP($T72,'FO-DRE-02'!$A$6:$M$101,6,FALSE))","v":""},{"$f":"IF($T72=\"\",\"\",VLOOKUP($T72,'FO-DRE-02'!$A$6:$M$101,4,FALSE))","v":""},{"$f":"IF($T72=\"\",\"\",VLOOKUP($T72,'FO-DRE-02'!$A$6:$M$101,5,FALSE))","v":""},{"$f":"IF($T72=\"\",\"\",VLOOKUP($T72,'FO-DRE-02'!$A$6:$M$101,8,FALSE))","v":""},{"$f":"IF($T72=\"\",\"\",VLOOKUP($T72,'FO-DRE-02'!$A$6:$M$101,7,FALSE))","v":""},{"$f":"IF($T72=\"\",\"\",VLOOKUP($T72,'FO-DRE-02'!$A$6:$M$101,9,FALSE))","v":""},{"$f":"IF($T72=\"\",\"\",VLOOKUP($T72,'FO-DRE-02'!$A$6:$M$101,11,FALSE))","v":""},{"$f":"IF($T72=\"\",\"\",VLOOKUP($T72,'FO-DRE-02'!$A$6:$M$101,12,FALSE))","v":""},{"$f":"IF($T72=\"\",\"\",VLOOKUP($T72,'FO-DRE-02'!$A$6:$M$101,13,FALSE))","v":""},null,856,null,63,"","F/D","F/D","","","","","","","","","","","","","","",""]
[null,null,null,null,null,null,null,null,{"$f":"IF(H73=\"1a\",Hoja1!$B$126,IF(H73=\"1b\",Hoja1!$B$127,IF(H73=\"2a\",Hoja1!$B$128,IF(H73=\"2b\",Hoja1!$B$129,IF(H73=\"3 \",Hoja1!$B$130,IF(H73=\"4 \",Hoja1!$B$131,IF(H73=\"5 \",Hoja1!$B$132,IF(H73=\"6 \",Hoja1!$B$133,IF(H73=\"7 \",Hoja1!$B$134,IF(H73=\"8 \",Hoja1!$B$135,\" \"))))))))))","v":" "},{"$f":"CONCATENATE(#REF!,\"-\",\"TX\")","v":{"$error":"#REF!"}},{"$f":"CONCATENATE(#REF!,\"-\",\"RX\")","v":{"$error":"#REF!"}},null,null,null,null,0,null,null,null,null,null,{"$f":"IF($R73=\"\",\"\",VLOOKUP($R73,'FO-DRE-01'!$A$7:$U$301,18,FALSE))","v":""},{"$f":"IF($R73=\"\",\"\",VLOOKUP($R73,'FO-DRE-01'!$A$7:$U$301,16,FALSE))","v":""},{"$f":"IF($R73=\"\",\"\",VLOOKUP($R73,'FO-DRE-01'!$A$7:$U$301,17,FALSE))","v":""},{"$f":"IF($R73=\"\",\"\",VLOOKUP($R73,'FO-DRE-01'!$A$7:$U$301,3,FALSE))","v":""},{"$f":"IF($R73=\"\",\"\",VLOOKUP($R73,'FO-DRE-01'!$A$7:$U$301,4,FALSE))","v":""},{"$f":"IF($R73=\"\",\"\",VLOOKUP($R73,'FO-DRE-01'!$A$7:$U$301,5,FALSE))","v":""},{"$f":"IF($R73=\"\",\"\",VLOOKUP($R73,'FO-DRE-01'!$A$7:$U$301,7,FALSE))","v":""},{"$f":"IF($R73=\"\",\"\",VLOOKUP($R73,'FO-DRE-01'!$A$7:$U$301,8,FALSE))","v":""},{"$f":"IF($R73=\"\",\"\",VLOOKUP($R73,'FO-DRE-01'!$A$7:$U$301,9,FALSE))","v":""},{"$f":"IF($R73=\"\",\"\",VLOOKUP($R73,'FO-DRE-01'!$A$7:$U$301,10,FALSE))","v":""},{"$f":"IF($R73=\"\",\"\",VLOOKUP($R73,'FO-DRE-01'!$A$7:$U$301,11,FALSE))","v":""},{"$f":"IF($R73=\"\",\"\",VLOOKUP($R73,'FO-DRE-01'!$A$7:$U$301,12,FALSE))","v":""},{"$f":"IF($R73=\"\",\"\",VLOOKUP($R73,'FO-DRE-01'!$A$7:$U$301,13,FALSE))","v":""},{"$f":"IF($R73=\"\",\"\",VLOOKUP($R73,'FO-DRE-01'!$A$7:$U$301,14,FALSE))","v":""},{"$f":"IF($R73=\"\",\"\",VLOOKUP($R73,'FO-DRE-01'!$A$7:$U$301,15,FALSE))","v":""},{"$f":"IF($S73=\"\",\"\",VLOOKUP($S73,'FO-DRE-04'!$A$6:$L$301,2,FALSE))","v":""},{"$f":"IF($S73=\"\",\"\",VLOOKUP($S73,'FO-DRE-04'!$A$6:$L$301,3,FALSE))","v":""},{"$f":"IF($S73=\"\",\"\",VLOOKUP($S73,'FO-DRE-04'!$A$6:$L$301,4,FALSE))","v":""},{"$f":"IF($S73=\"\",\"\",VLOOKUP($S73,'FO-DRE-04'!$A$6:$L$301,6,FALSE))","v":""},{"$f":"IF($S73=\"\",\"\",VLOOKUP($S73,'FO-DRE-04'!$A$6:$L$301,11,FALSE))","v":""},{"$f":"IF($T73=\"\",\"\",VLOOKUP($T73,'FO-DRE-02'!$A$6:$M$101,2,FALSE))","v":""},{"$f":"IF($T73=\"\",\"\",VLOOKUP($T73,'FO-DRE-02'!$A$6:$M$101,3,FALSE))","v":""},{"$f":"IF($T73=\"\",\"\",VLOOKUP($T73,'FO-DRE-02'!$A$6:$M$101,6,FALSE))","v":""},{"$f":"IF($T73=\"\",\"\",VLOOKUP($T73,'FO-DRE-02'!$A$6:$M$101,4,FALSE))","v":""},{"$f":"IF($T73=\"\",\"\",VLOOKUP($T73,'FO-DRE-02'!$A$6:$M$101,5,FALSE))","v":""},{"$f":"IF($T73=\"\",\"\",VLOOKUP($T73,'FO-DRE-02'!$A$6:$M$101,8,FALSE))","v":""},{"$f":"IF($T73=\"\",\"\",VLOOKUP($T73,'FO-DRE-02'!$A$6:$M$101,7,FALSE))","v":""},{"$f":"IF($T73=\"\",\"\",VLOOKUP($T73,'FO-DRE-02'!$A$6:$M$101,9,FALSE))","v":""},{"$f":"IF($T73=\"\",\"\",VLOOKUP($T73,'FO-DRE-02'!$A$6:$M$101,11,FALSE))","v":""},{"$f":"IF($T73=\"\",\"\",VLOOKUP($T73,'FO-DRE-02'!$A$6:$M$101,12,FALSE))","v":""},{"$f":"IF($T73=\"\",\"\",VLOOKUP($T73,'FO-DRE-02'!$A$6:$M$101,13,FALSE))","v":""},null,856,null,64,"","F/D","F/D","","","","","","","","","","","","","","",""]
[null,null,null,null,null,null,null,null,{"$f":"IF(H74=\"1a\",Hoja1!$B$126,IF(H74=\"1b\",Hoja1!$B$127,IF(H74=\"2a\",Hoja1!$B$128,IF(H74=\"2b\",Hoja1!$B$129,IF(H74=\"3 \",Hoja1!$B$130,IF(H74=\"4 \",Hoja1!$B$131,IF(H74=\"5 \",Hoja1!$B$132,IF(H74=\"6 \",Hoja1!$B$133,IF(H74=\"7 \",Hoja1!$B$134,IF(H74=\"8 \",Hoja1!$B$135,\" \"))))))))))","v":" "},{"$f":"CONCATENATE(#REF!,\"-\",\"TX\")","v":{"$error":"#REF!"}},{"$f":"CONCATENATE(#REF!,\"-\",\"RX\")","v":{"$error":"#REF!"}},null,null,null,null,0,null,null,null,null,null,{"$f":"IF($R74=\"\",\"\",VLOOKUP($R74,'FO-DRE-01'!$A$7:$U$301,18,FALSE))","v":""},{"$f":"IF($R74=\"\",\"\",VLOOKUP($R74,'FO-DRE-01'!$A$7:$U$301,16,FALSE))","v":""},{"$f":"IF($R74=\"\",\"\",VLOOKUP($R74,'FO-DRE-01'!$A$7:$U$301,17,FALSE))","v":""},{"$f":"IF($R74=\"\",\"\",VLOOKUP($R74,'FO-DRE-01'!$A$7:$U$301,3,FALSE))","v":""},{"$f":"IF($R74=\"\",\"\",VLOOKUP($R74,'FO-DRE-01'!$A$7:$U$301,4,FALSE))","v":""},{"$f":"IF($R74=\"\",\"\",VLOOKUP($R74,'FO-DRE-01'!$A$7:$U$301,5,FALSE))","v":""},{"$f":"IF($R74=\"\",\"\",VLOOKUP($R74,'FO-DRE-01'!$A$7:$U$301,7,FALSE))","v":""},{"$f":"IF($R74=\"\",\"\",VLOOKUP($R74,'FO-DRE-01'!$A$7:$U$301,8,FALSE))","v":""},{"$f":"IF($R74=\"\",\"\",VLOOKUP($R74,'FO-DRE-01'!$A$7:$U$301,9,FALSE))","v":""},{"$f":"IF($R74=\"\",\"\",VLOOKUP($R74,'FO-DRE-01'!$A$7:$U$301,10,FALSE))","v":""},{"$f":"IF($R74=\"\",\"\",VLOOKUP($R74,'FO-DRE-01'!$A$7:$U$301,11,FALSE))","v":""},{"$f":"IF($R74=\"\",\"\",VLOOKUP($R74,'FO-DRE-01'!$A$7:$U$301,12,FALSE))","v":""},{"$f":"IF($R74=\"\",\"\",VLOOKUP($R74,'FO-DRE-01'!$A$7:$U$301,13,FALSE))","v":""},{"$f":"IF($R74=\"\",\"\",VLOOKUP($R74,'FO-DRE-01'!$A$7:$U$301,14,FALSE))","v":""},{"$f":"IF($R74=\"\",\"\",VLOOKUP($R74,'FO-DRE-01'!$A$7:$U$301,15,FALSE))","v":""},{"$f":"IF($S74=\"\",\"\",VLOOKUP($S74,'FO-DRE-04'!$A$6:$L$301,2,FALSE))","v":""},{"$f":"IF($S74=\"\",\"\",VLOOKUP($S74,'FO-DRE-04'!$A$6:$L$301,3,FALSE))","v":""},{"$f":"IF($S74=\"\",\"\",VLOOKUP($S74,'FO-DRE-04'!$A$6:$L$301,4,FALSE))","v":""},{"$f":"IF($S74=\"\",\"\",VLOOKUP($S74,'FO-DRE-04'!$A$6:$L$301,6,FALSE))","v":""},{"$f":"IF($S74=\"\",\"\",VLOOKUP($S74,'FO-DRE-04'!$A$6:$L$301,11,FALSE))","v":""},{"$f":"IF($T74=\"\",\"\",VLOOKUP($T74,'FO-DRE-02'!$A$6:$M$101,2,FALSE))","v":""},{"$f":"IF($T74=\"\",\"\",VLOOKUP($T74,'FO-DRE-02'!$A$6:$M$101,3,FALSE))","v":""},{"$f":"IF($T74=\"\",\"\",VLOOKUP($T74,'FO-DRE-02'!$A$6:$M$101,6,FALSE))","v":""},{"$f":"IF($T74=\"\",\"\",VLOOKUP($T74,'FO-DRE-02'!$A$6:$M$101,4,FALSE))","v":""},{"$f":"IF($T74=\"\",\"\",VLOOKUP($T74,'FO-DRE-02'!$A$6:$M$101,5,FALSE))","v":""},{"$f":"IF($T74=\"\",\"\",VLOOKUP($T74,'FO-DRE-02'!$A$6:$M$101,8,FALSE))","v":""},{"$f":"IF($T74=\"\",\"\",VLOOKUP($T74,'FO-DRE-02'!$A$6:$M$101,7,FALSE))","v":""},{"$f":"IF($T74=\"\",\"\",VLOOKUP($T74,'FO-DRE-02'!$A$6:$M$101,9,FALSE))","v":""},{"$f":"IF($T74=\"\",\"\",VLOOKUP($T74,'FO-DRE-02'!$A$6:$M$101,11,FALSE))","v":""},{"$f":"IF($T74=\"\",\"\",VLOOKUP($T74,'FO-DRE-02'!$A$6:$M$101,12,FALSE))","v":""},{"$f":"IF($T74=\"\",\"\",VLOOKUP($T74,'FO-DRE-02'!$A$6:$M$101,13,FALSE))","v":""},null,{"$f":"IF(C74=\"811-824 / 856-869\",869,856)","v":856},null,65,"",{"$f":"IF(OR($C74=\"\",$AN74=\"\",$AW74=\"\"),\"F/D\",IF(BR74>BH74,\"SI\",\"\"))","v":"F/D"},{"$f":"IF(OR($C74=\"\",$AN74=\"\",$AW74=\"\"),\"F/D\",IF(BR74>BI74,\"SI\",\"\"))","v":"F/D"},{"$f":"IF(D74=\"\",\"\",IF(AND(10<BB74,BB74<=400),10,IF(AND(400<BB74,BB74<=2000),(BB74/40),IF(AND(2000<BB74,B74<=300000),50,0))))","v":""},{"$f":"IF(D74=\"\",\"\",IF(AND(10<BB74,BB74<=400),2,IF(AND(400<BB74,BB74<=2000),(BB74/200),IF(AND(2000<BB74,BB74<=300000),10,0))))","v":""},{"$f":"IF(M74=\"\",\"\",SQRT(POWER($BJ$9,2)+POWER((AZ74-1.5),2)))","v":""},{"$f":"IF(M74=\"\",\"\",SQRT(POWER($BK$9,2)+POWER((AZ74-1.5),2)))","v":""},{"$f":"IF(M74=\"\",\"\",SQRT(POWER($BL$9,2)+POWER((AZ74-1.5),2)))","v":""},{"$f":"IF(M74=\"\",\"\",SQRT(POWER($BM$9,2)+POWER((AZ74-1.5),2)))","v":""},{"$f":"IF(M74=\"\",\"\",SQRT(POWER($BN$9,2)+POWER((AZ74-1.5),2)))","v":""},"",{"$f":"IF(M74=\"\",\"\",POWER(10,(AW74+2.15)/10))","v":""},"",{"$f":"IF(M74=\"\",\"\",$BQ74/(PI()*BJ74^2))","v":""},{"$f":"IF(M74=\"\",\"\",$BQ74/(PI()*BK74^2))","v":""},{"$f":"IF(M74=\"\",\"\",$BQ74/(PI()*BL74^2))","v":""},{"$f":"IF(M74=\"\",\"\",$BQ74/(PI()*BM74^2))","v":""},{"$f":"IF(M74=\"\",\"\",$BQ74/(PI()*BN74^2))","v":""}]
[null,null,null,null,null,null,null,null,{"$f":"IF(H75=\"1a\",Hoja1!$B$126,IF(H75=\"1b\",Hoja1!$B$127,IF(H75=\"2a\",Hoja1!$B$128,IF(H75=\"2b\",Hoja1!$B$129,IF(H75=\"3 \",Hoja1!$B$130,IF(H75=\"4 \",Hoja1!$B$131,IF(H75=\"5 \",Hoja1!$B$132,IF(H75=\"6 \",Hoja1!$B$133,IF(H75=\"7 \",Hoja1!$B$134,IF(H75=\"8 \",Hoja1!$B$135,\" \"))))))))))","v":" "},{"$f":"CONCATENATE(#REF!,\"-\",\"TX\")","v":{"$error":"#REF!"}},{"$f":"CONCATENATE(#REF!,\"-\",\"RX\")","v":{"$error":"#REF!"}},null,null,null,null,0,null,null,null,null,null,{"$f":"IF($R75=\"\",\"\",VLOOKUP($R75,'FO-DRE-01'!$A$7:$U$301,18,FALSE))","v":""},{"$f":"IF($R75=\"\",\"\",VLOOKUP($R75,'FO-DRE-01'!$A$7:$U$301,16,FALSE))","v":""},{"$f":"IF($R75=\"\",\"\",VLOOKUP($R75,'FO-DRE-01'!$A$7:$U$301,17,FALSE))","v":""},{"$f":"IF($R75=\"\",\"\",VLOOKUP($R75,'FO-DRE-01'!$A$7:$U$301,3,FALSE))","v":""},{"$f":"IF($R75=\"\",\"\",VLOOKUP($R75,'FO-DRE-01'!$A$7:$U$301,4,FALSE))","v":""},{"$f":"IF($R75=\"\",\"\",VLOOKUP($R75,'FO-DRE-01'!$A$7:$U$301,5,FALSE))","v":""},{"$f":"IF($R75=\"\",\"\",VLOOKUP($R75,'FO-DRE-01'!$A$7:$U$301,7,FALSE))","v":""},{"$f":"IF($R75=\"\",\"\",VLOOKUP($R75,'FO-DRE-01'!$A$7:$U$301,8,FALSE))","v":""},{"$f":"IF($R75=\"\",\"\",VLOOKUP($R75,'FO-DRE-01'!$A$7:$U$301,9,FALSE))","v":""},{"$f":"IF($R75=\"\",\"\",VLOOKUP($R75,'FO-DRE-01'!$A$7:$U$301,10,FALSE))","v":""},{"$f":"IF($R75=\"\",\"\",VLOOKUP($R75,'FO-DRE-01'!$A$7:$U$301,11,FALSE))","v":""},{"$f":"IF($R75=\"\",\"\",VLOOKUP($R75,'FO-DRE-01'!$A$7:$U$301,12,FALSE))","v":""},{"$f":"IF($R75=\"\",\"\",VLOOKUP($R75,'FO-DRE-01'!$A$7:$U$301,13,FALSE))","v":""},{"$f":"IF($R75=\"\",\"\",VLOOKUP($R75,'FO-DRE-01'!$A$7:$U$301,14,FALSE))","v":""},{"$f":"IF($R75=\"\",\"\",VLOOKUP($R75,'FO-DRE-01'!$A$7:$U$301,15,FALSE))","v":""},{"$f":"IF($S75=\"\",\"\",VLOOKUP($S75,'FO-DRE-04'!$A$6:$L$301,2,FALSE))","v":""},{"$f":"IF($S75=\"\",\"\",VLOOKUP($S75,'FO-DRE-04'!$A$6:$L$301,3,FALSE))","v":""},{"$f":"IF($S75=\"\",\"\",VLOOKUP($S75,'FO-DRE-04'!$A$6:$L$301,4,FALSE))","v":""},{"$f":"IF($S75=\"\",\"\",VLOOKUP($S75,'FO-DRE-04'!$A$6:$L$301,6,FALSE))","v":""},{"$f":"IF($S75=\"\",\"\",VLOOKUP($S75,'FO-DRE-04'!$A$6:$L$301,11,FALSE))","v":""},{"$f":"IF($T75=\"\",\"\",VLOOKUP($T75,'FO-DRE-02'!$A$6:$M$101,2,FALSE))","v":""},{"$f":"IF($T75=\"\",\"\",VLOOKUP($T75,'FO-DRE-02'!$A$6:$M$101,3,FALSE))","v":""},{"$f":"IF($T75=\"\",\"\",VLOOKUP($T75,'FO-DRE-02'!$A$6:$M$101,6,FALSE))","v":""},{"$f":"IF($T75=\"\",\"\",VLOOKUP($T75,'FO-DRE-02'!$A$6:$M$101,4,FALSE))","v":""},{"$f":"IF($T75=\"\",\"\",VLOOKUP($T75,'FO-DRE-02'!$A$6:$M$101,5,FALSE))","v":""},{"$f":"IF($T75=\"\",\"\",VLOOKUP($T75,'FO-DRE-02'!$A$6:$M$101,8,FALSE))","v":""},{"$f":"IF($T75=\"\",\"\",VLOOKUP($T75,'FO-DRE-02'!$A$6:$M$101,7,FALSE))","v":""},{"$f":"IF($T75=\"\",\"\",VLOOKUP($T75,'FO-DRE-02'!$A$6:$M$101,9,FALSE))","v":""},{"$f":"IF($T75=\"\",\"\",VLOOKUP($T75,'FO-DRE-02'!$A$6:$M$101,11,FALSE))","v":""},{"$f":"IF($T75=\"\",\"\",VLOOKUP($T75,'FO-DRE-02'!$A$6:$M$101,12,FALSE))","v":""},{"$f":"IF($T75=\"\",\"\",VLOOKUP($T75,'FO-DRE-02'!$A$6:$M$101,13,FALSE))","v":""},null,856,null,66,"","F/D","F/D","","","","","","","","","","","","","","",""]
[null,null,null,null,null,null,null,null,{"$f":"IF(H76=\"1a\",Hoja1!$B$126,IF(H76=\"1b\",Hoja1!$B$127,IF(H76=\"2a\",Hoja1!$B$128,IF(H76=\"2b\",Hoja1!$B$129,IF(H76=\"3 \",Hoja1!$B$130,IF(H76=\"4 \",Hoja1!$B$131,IF(H76=\"5 \",Hoja1!$B$132,IF(H76=\"6 \",Hoja1!$B$133,IF(H76=\"7 \",Hoja1!$B$134,IF(H76=\"8 \",Hoja1!$B$135,\" \"))))))))))","v":" "},{"$f":"CONCATENATE(#REF!,\"-\",\"TX\")","v":{"$error":"#REF!"}},{"$f":"CONCATENATE(#REF!,\"-\",\"RX\")","v":{"$error":"#REF!"}},null,null,null,null,{"$f":"B76","v":0},null,null,null,null,null,{"$f":"IF($R76=\"\",\"\",VLOOKUP($R76,'FO-DRE-01'!$A$7:$U$301,18,FALSE))","v":""},{"$f":"IF($R76=\"\",\"\",VLOOKUP($R76,'FO-DRE-01'!$A$7:$U$301,16,FALSE))","v":""},{"$f":"IF($R76=\"\",\"\",VLOOKUP($R76,'FO-DRE-01'!$A$7:$U$301,17,FALSE))","v":""},{"$f":"IF($R76=\"\",\"\",VLOOKUP($R76,'FO-DRE-01'!$A$7:$U$301,3,FALSE))","v":""},{"$f":"IF($R76=\"\",\"\",VLOOKUP($R76,'FO-DRE-01'!$A$7:$U$301,4,FALSE))","v":""},{"$f":"IF($R76=\"\",\"\",VLOOKUP($R76,'FO-DRE-01'!$A$7:$U$301,5,FALSE))","v":""},{"$f":"IF($R76=\"\",\"\",VLOOKUP($R76,'FO-DRE-01'!$A$7:$U$301,7,FALSE))","v":""},{"$f":"IF($R76=\"\",\"\",VLOOKUP($R76,'FO-DRE-01'!$A$7:$U$301,8,FALSE))","v":""},{"$f":"IF($R76=\"\",\"\",VLOOKUP($R76,'FO-DRE-01'!$A$7:$U$301,9,FALSE))","v":""},{"$f":"IF($R76=\"\",\"\",VLOOKUP($R76,'FO-DRE-01'!$A$7:$U$301,10,FALSE))","v":""},{"$f":"IF($R76=\"\",\"\",VLOOKUP($R76,'FO-DRE-01'!$A$7:$U$301,11,FALSE))","v":""},{"$f":"IF($R76=\"\",\"\",VLOOKUP($R76,'FO-DRE-01'!$A$7:$U$301,12,FALSE))","v":""},{"$f":"IF($R76=\"\",\"\",VLOOKUP($R76,'FO-DRE-01'!$A$7:$U$301,13,FALSE))","v":""},{"$f":"IF($R76=\"\",\"\",VLOOKUP($R76,'FO-DRE-01'!$A$7:$U$301,14,FALSE))","v":""},{"$f":"IF($R76=\"\",\"\",VLOOKUP($R76,'FO-DRE-01'!$A$7:$U$301,15,FALSE))","v":""},{"$f":"IF($S76=\"\",\"\",VLOOKUP($S76,'FO-DRE-04'!$A$6:$L$301,2,FALSE))","v":""},{"$f":"IF($S76=\"\",\"\",VLOOKUP($S76,'FO-DRE-04'!$A$6:$L$301,3,FALSE))","v":""},{"$f":"IF($S76=\"\",\"\",VLOOKUP($S76,'FO-DRE-04'!$A$6:$L$301,4,FALSE))","v":""},{"$f":"IF($S76=\"\",\"\",VLOOKUP($S76,'FO-DRE-04'!$A$6:$L$301,6,FALSE))","v":""},{"$f":"IF($S76=\"\",\"\",VLOOKUP($S76,'FO-DRE-04'!$A$6:$L$301,11,FALSE))","v":""},{"$f":"IF($T76=\"\",\"\",VLOOKUP($T76,'FO-DRE-02'!$A$6:$M$101,2,FALSE))","v":""},{"$f":"IF($T76=\"\",\"\",VLOOKUP($T76,'FO-DRE-02'!$A$6:$M$101,3,FALSE))","v":""},{"$f":"IF($T76=\"\",\"\",VLOOKUP($T76,'FO-DRE-02'!$A$6:$M$101,6,FALSE))","v":""},{"$f":"IF($T76=\"\",\"\",VLOOKUP($T76,'FO-DRE-02'!$A$6:$M$101,4,FALSE))","v":""},{"$f":"IF($T76=\"\",\"\",VLOOKUP($T76,'FO-DRE-02'!$A$6:$M$101,5,FALSE))","v":""},{"$f":"IF($T76=\"\",\"\",VLOOKUP($T76,'FO-DRE-02'!$A$6:$M$101,8,FALSE))","v":""},{"$f":"IF($T76=\"\",\"\",VLOOKUP($T76,'FO-DRE-02'!$A$6:$M$101,7,FALSE))","v":""},{"$f":"IF($T76=\"\",\"\",VLOOKUP($T76,'FO-DRE-02'!$A$6:$M$101,9,FALSE))","v":""},{"$f":"IF($T76=\"\",\"\",VLOOKUP($T76,'FO-DRE-02'!$A$6:$M$101,11,FALSE))","v":""},{"$f":"IF($T76=\"\",\"\",VLOOKUP($T76,'FO-DRE-02'!$A$6:$M$101,12,FALSE))","v":""},{"$f":"IF($T76=\"\",\"\",VLOOKUP($T76,'FO-DRE-02'!$A$6:$M$101,13,FALSE))","v":""},null,856,null,67,"","F/D","F/D","","","","","","","","","","","","","","",""]
[null,null,null,null,null,null,null,null,{"$f":"IF(H77=\"1a\",Hoja1!$B$126,IF(H77=\"1b\",Hoja1!$B$127,IF(H77=\"2a\",Hoja1!$B$128,IF(H77=\"2b\",Hoja1!$B$129,IF(H77=\"3 \",Hoja1!$B$130,IF(H77=\"4 \",Hoja1!$B$131,IF(H77=\"5 \",Hoja1!$B$132,IF(H77=\"6 \",Hoja1!$B$133,IF(H77=\"7 \",Hoja1!$B$134,IF(H77=\"8 \",Hoja1!$B$135,\" \"))))))))))","v":" "},{"$f":"CONCATENATE(#REF!,\"-\",\"TX\")","v":{"$error":"#REF!"}},{"$f":"CONCATENATE(#REF!,\"-\",\"RX\")","v":{"$error":"#REF!"}},null,null,null,null,0,null,null,null,null,null,{"$f":"IF($R77=\"\",\"\",VLOOKUP($R77,'FO-DRE-01'!$A$7:$U$301,18,FALSE))","v":""},{"$f":"IF($R77=\"\",\"\",VLOOKUP($R77,'FO-DRE-01'!$A$7:$U$301,16,FALSE))","v":""},{"$f":"IF($R77=\"\",\"\",VLOOKUP($R77,'FO-DRE-01'!$A$7:$U$301,17,FALSE))","v":""},{"$f":"IF($R77=\"\",\"\",VLOOKUP($R77,'FO-DRE-01'!$A$7:$U$301,3,FALSE))","v":""},{"$f":"IF($R77=\"\",\"\",VLOOKUP($R77,'FO-DRE-01'!$A$7:$U$301,4,FALSE))","v":""},{"$f":"IF($R77=\"\",\"\",VLOOKUP($R77,'FO-DRE-01'!$A$7:$U$301,5,FALSE))","v":""},{"$f":"IF($R77=\"\",\"\",VLOOKUP($R77,'FO-DRE-01'!$A$7:$U$301,7,FALSE))","v":""},{"$f":"IF($R77=\"\",\"\",VLOOKUP($R77,'FO-DRE-01'!$A$7:$U$301,8,FALSE))","v":""},{"$f":"IF($R77=\"\",\"\",VLOOKUP($R77,'FO-DRE-01'!$A$7:$U$301,9,FALSE))","v":""},{"$f":"IF($R77=\"\",\"\",VLOOKUP($R77,'FO-DRE-01'!$A$7:$U$301,10,FALSE))","v":""},{"$f":"IF($R77=\"\",\"\",VLOOKUP($R77,'FO-DRE-01'!$A$7:$U$301,11,FALSE))","v":""},{"$f":"IF($R77=\"\",\"\",VLOOKUP($R77,'FO-DRE-01'!$A$7:$U$301,12,FALSE))","v":""},{"$f":"IF($R77=\"\",\"\",VLOOKUP($R77,'FO-DRE-01'!$A$7:$U$301,13,FALSE))","v":""},{"$f":"IF($R77=\"\",\"\",VLOOKUP($R77,'FO-DRE-01'!$A$7:$U$301,14,FALSE))","v":""},{"$f":"IF($R77=\"\",\"\",VLOOKUP($R77,'FO-DRE-01'!$A$7:$U$301,15,FALSE))","v":""},{"$f":"IF($S77=\"\",\"\",VLOOKUP($S77,'FO-DRE-04'!$A$6:$L$301,2,FALSE))","v":""},{"$f":"IF($S77=\"\",\"\",VLOOKUP($S77,'FO-DRE-04'!$A$6:$L$301,3,FALSE))","v":""},{"$f":"IF($S77=\"\",\"\",VLOOKUP($S77,'FO-DRE-04'!$A$6:$L$301,4,FALSE))","v":""},{"$f":"IF($S77=\"\",\"\",VLOOKUP($S77,'FO-DRE-04'!$A$6:$L$301,6,FALSE))","v":""},{"$f":"IF($S77=\"\",\"\",VLOOKUP($S77,'FO-DRE-04'!$A$6:$L$301,11,FALSE))","v":""},{"$f":"IF($T77=\"\",\"\",VLOOKUP($T77,'FO-DRE-02'!$A$6:$M$101,2,FALSE))","v":""},{"$f":"IF($T77=\"\",\"\",VLOOKUP($T77,'FO-DRE-02'!$A$6:$M$101,3,FALSE))","v":""},{"$f":"IF($T77=\"\",\"\",VLOOKUP($T77,'FO-DRE-02'!$A$6:$M$101,6,FALSE))","v":""},{"$f":"IF($T77=\"\",\"\",VLOOKUP($T77,'FO-DRE-02'!$A$6:$M$101,4,FALSE))","v":""},{"$f":"IF($T77=\"\",\"\",VLOOKUP($T77,'FO-DRE-02'!$A$6:$M$101,5,FALSE))","v":""},{"$f":"IF($T77=\"\",\"\",VLOOKUP($T77,'FO-DRE-02'!$A$6:$M$101,8,FALSE))","v":""},{"$f":"IF($T77=\"\",\"\",VLOOKUP($T77,'FO-DRE-02'!$A$6:$M$101,7,FALSE))","v":""},{"$f":"IF($T77=\"\",\"\",VLOOKUP($T77,'FO-DRE-02'!$A$6:$M$101,9,FALSE))","v":""},{"$f":"IF($T77=\"\",\"\",VLOOKUP($T77,'FO-DRE-02'!$A$6:$M$101,11,FALSE))","v":""},{"$f":"IF($T77=\"\",\"\",VLOOKUP($T77,'FO-DRE-02'!$A$6:$M$101,12,FALSE))","v":""},{"$f":"IF($T77=\"\",\"\",VLOOKUP($T77,'FO-DRE-02'!$A$6:$M$101,13,FALSE))","v":""},null,856,null,68,"","F/D","F/D","","","","","","","","","","","","","","",""]
[null,null,null,null,null,null,null,null,{"$f":"IF(H78=\"1a\",Hoja1!$B$126,IF(H78=\"1b\",Hoja1!$B$127,IF(H78=\"2a\",Hoja1!$B$128,IF(H78=\"2b\",Hoja1!$B$129,IF(H78=\"3 \",Hoja1!$B$130,IF(H78=\"4 \",Hoja1!$B$131,IF(H78=\"5 \",Hoja1!$B$132,IF(H78=\"6 \",Hoja1!$B$133,IF(H78=\"7 \",Hoja1!$B$134,IF(H78=\"8 \",Hoja1!$B$135,\" \"))))))))))","v":" "},{"$f":"CONCATENATE(#REF!,\"-\",\"TX\")","v":{"$error":"#REF!"}},{"$f":"CONCATENATE(#REF!,\"-\",\"RX\")","v":{"$error":"#REF!"}},null,null,null,null,0,null,null,null,null,null,{"$f":"IF($R78=\"\",\"\",VLOOKUP($R78,'FO-DRE-01'!$A$7:$U$301,18,FALSE))","v":""},{"$f":"IF($R78=\"\",\"\",VLOOKUP($R78,'FO-DRE-01'!$A$7:$U$301,16,FALSE))","v":""},{"$f":"IF($R78=\"\",\"\",VLOOKUP($R78,'FO-DRE-01'!$A$7:$U$301,17,FALSE))","v":""},{"$f":"IF($R78=\"\",\"\",VLOOKUP($R78,'FO-DRE-01'!$A$7:$U$301,3,FALSE))","v":""},{"$f":"IF($R78=\"\",\"\",VLOOKUP($R78,'FO-DRE-01'!$A$7:$U$301,4,FALSE))","v":""},{"$f":"IF($R78=\"\",\"\",VLOOKUP($R78,'FO-DRE-01'!$A$7:$U$301,5,FALSE))","v":""},{"$f":"IF($R78=\"\",\"\",VLOOKUP($R78,'FO-DRE-01'!$A$7:$U$301,7,FALSE))","v":""},{"$f":"IF($R78=\"\",\"\",VLOOKUP($R78,'FO-DRE-01'!$A$7:$U$301,8,FALSE))","v":""},{"$f":"IF($R78=\"\",\"\",VLOOKUP($R78,'FO-DRE-01'!$A$7:$U$301,9,FALSE))","v":""},{"$f":"IF($R78=\"\",\"\",VLOOKUP($R78,'FO-DRE-01'!$A$7:$U$301,10,FALSE))","v":""},{"$f":"IF($R78=\"\",\"\",VLOOKUP($R78,'FO-DRE-01'!$A$7:$U$301,11,FALSE))","v":""},{"$f":"IF($R78=\"\",\"\",VLOOKUP($R78,'FO-DRE-01'!$A$7:$U$301,12,FALSE))","v":""},{"$f":"IF($R78=\"\",\"\",VLOOKUP($R78,'FO-DRE-01'!$A$7:$U$301,13,FALSE))","v":""},{"$f":"IF($R78=\"\",\"\",VLOOKUP($R78,'FO-DRE-01'!$A$7:$U$301,14,FALSE))","v":""},{"$f":"IF($R78=\"\",\"\",VLOOKUP($R78,'FO-DRE-01'!$A$7:$U$301,15,FALSE))","v":""},{"$f":"IF($S78=\"\",\"\",VLOOKUP($S78,'FO-DRE-04'!$A$6:$L$301,2,FALSE))","v":""},{"$f":"IF($S78=\"\",\"\",VLOOKUP($S78,'FO-DRE-04'!$A$6:$L$301,3,FALSE))","v":""},{"$f":"IF($S78=\"\",\"\",VLOOKUP($S78,'FO-DRE-04'!$A$6:$L$301,4,FALSE))","v":""},{"$f":"IF($S78=\"\",\"\",VLOOKUP($S78,'FO-DRE-04'!$A$6:$L$301,6,FALSE))","v":""},{"$f":"IF($S78=\"\",\"\",VLOOKUP($S78,'FO-DRE-04'!$A$6:$L$301,11,FALSE))","v":""},{"$f":"IF($T78=\"\",\"\",VLOOKUP($T78,'FO-DRE-02'!$A$6:$M$101,2,FALSE))","v":""},{"$f":"IF($T78=\"\",\"\",VLOOKUP($T78,'FO-DRE-02'!$A$6:$M$101,3,FALSE))","v":""},{"$f":"IF($T78=\"\",\"\",VLOOKUP($T78,'FO-DRE-02'!$A$6:$M$101,6,FALSE))","v":""},{"$f":"IF($T78=\"\",\"\",VLOOKUP($T78,'FO-DRE-02'!$A$6:$M$101,4,FALSE))","v":""},{"$f":"IF($T78=\"\",\"\",VLOOKUP($T78,'FO-DRE-02'!$A$6:$M$101,5,FALSE))","v":""},{"$f":"IF($T78=\"\",\"\",VLOOKUP($T78,'FO-DRE-02'!$A$6:$M$101,8,FALSE))","v":""},{"$f":"IF($T78=\"\",\"\",VLOOKUP($T78,'FO-DRE-02'!$A$6:$M$101,7,FALSE))","v":""},{"$f":"IF($T78=\"\",\"\",VLOOKUP($T78,'FO-DRE-02'!$A$6:$M$101,9,FALSE))","v":""},{"$f":"IF($T78=\"\",\"\",VLOOKUP($T78,'FO-DRE-02'!$A$6:$M$101,11,FALSE))","v":""},{"$f":"IF($T78=\"\",\"\",VLOOKUP($T78,'FO-DRE-02'!$A$6:$M$101,12,FALSE))","v":""},{"$f":"IF($T78=\"\",\"\",VLOOKUP($T78,'FO-DRE-02'!$A$6:$M$101,13,FALSE))","v":""},null,856,null,69,{"$f":"IF($R78=\"\",\"\",$R78)","v":""},"F/D","F/D","","","","","","","","","","","","","","",""]
[null,null,null,null,null,null,null,null,{"$f":"IF(H79=\"1a\",Hoja1!$B$126,IF(H79=\"1b\",Hoja1!$B$127,IF(H79=\"2a\",Hoja1!$B$128,IF(H79=\"2b\",Hoja1!$B$129,IF(H79=\"3 \",Hoja1!$B$130,IF(H79=\"4 \",Hoja1!$B$131,IF(H79=\"5 \",Hoja1!$B$132,IF(H79=\"6 \",Hoja1!$B$133,IF(H79=\"7 \",Hoja1!$B$134,IF(H79=\"8 \",Hoja1!$B$135,\" \"))))))))))","v":" "},{"$f":"CONCATENATE(#REF!,\"-\",\"TX\")","v":{"$error":"#REF!"}},{"$f":"CONCATENATE(#REF!,\"-\",\"RX\")","v":{"$error":"#REF!"}},null,null,null,null,0,null,null,null,null,null,{"$f":"IF($R79=\"\",\"\",VLOOKUP($R79,'FO-DRE-01'!$A$7:$U$301,18,FALSE))","v":""},{"$f":"IF($R79=\"\",\"\",VLOOKUP($R79,'FO-DRE-01'!$A$7:$U$301,16,FALSE))","v":""},{"$f":"IF($R79=\"\",\"\",VLOOKUP($R79,'FO-DRE-01'!$A$7:$U$301,17,FALSE))","v":""},{"$f":"IF($R79=\"\",\"\",VLOOKUP($R79,'FO-DRE-01'!$A$7:$U$301,3,FALSE))","v":""},{"$f":"IF($R79=\"\",\"\",VLOOKUP($R79,'FO-DRE-01'!$A$7:$U$301,4,FALSE))","v":""},{"$f":"IF($R79=\"\",\"\",VLOOKUP($R79,'FO-DRE-01'!$A$7:$U$301,5,FALSE))","v":""},{"$f":"IF($R79=\"\",\"\",VLOOKUP($R79,'FO-DRE-01'!$A$7:$U$301,7,FALSE))","v":""},{"$f":"IF($R79=\"\",\"\",VLOOKUP($R79,'FO-DRE-01'!$A$7:$U$301,8,FALSE))","v":""},{"$f":"IF($R79=\"\",\"\",VLOOKUP($R79,'FO-DRE-01'!$A$7:$U$301,9,FALSE))","v":""},{"$f":"IF($R79=\"\",\"\",VLOOKUP($R79,'FO-DRE-01'!$A$7:$U$301,10,FALSE))","v":""},{"$f":"IF($R79=\"\",\"\",VLOOKUP($R79,'FO-DRE-01'!$A$7:$U$301,11,FALSE))","v":""},{"$f":"IF($R79=\"\",\"\",VLOOKUP($R79,'FO-DRE-01'!$A$7:$U$301,12,FALSE))","v":""},{"$f":"IF($R79=\"\",\"\",VLOOKUP($R79,'FO-DRE-01'!$A$7:$U$301,13,FALSE))","v":""},{"$f":"IF($R79=\"\",\"\",VLOOKUP($R79,'FO-DRE-01'!$A$7:$U$301,14,FALSE))","v":""},{"$f":"IF($R79=\"\",\"\",VLOOKUP($R79,'FO-DRE-01'!$A$7:$U$301,15,FALSE))","v":""},{"$f":"IF($S79=\"\",\"\",VLOOKUP($S79,'FO-DRE-04'!$A$6:$L$301,2,FALSE))","v":""},{"$f":"IF($S79=\"\",\"\",VLOOKUP($S79,'FO-DRE-04'!$A$6:$L$301,3,FALSE))","v":""},{"$f":"IF($S79=\"\",\"\",VLOOKUP($S79,'FO-DRE-04'!$A$6:$L$301,4,FALSE))","v":""},{"$f":"IF($S79=\"\",\"\",VLOOKUP($S79,'FO-DRE-04'!$A$6:$L$301,6,FALSE))","v":""},{"$f":"IF($S79=\"\",\"\",VLOOKUP($S79,'FO-DRE-04'!$A$6:$L$301,11,FALSE))","v":""},{"$f":"IF($T79=\"\",\"\",VLOOKUP($T79,'FO-DRE-02'!$A$6:$M$101,2,FALSE))","v":""},{"$f":"IF($T79=\"\",\"\",VLOOKUP($T79,'FO-DRE-02'!$A$6:$M$101,3,FALSE))","v":""},{"$f":"IF($T79=\"\",\"\",VLOOKUP($T79,'FO-DRE-02'!$A$6:$M$101,6,FALSE))","v":""},{"$f":"IF($T79=\"\",\"\",VLOOKUP($T79,'FO-DRE-02'!$A$6:$M$101,4,FALSE))","v":""},{"$f":"IF($T79=\"\",\"\",VLOOKUP($T79,'FO-DRE-02'!$A$6:$M$101,5,FALSE))","v":""},{"$f":"IF($T79=\"\",\"\",VLOOKUP($T79,'FO-DRE-02'!$A$6:$M$101,8,FALSE))","v":""},{"$f":"IF($T79=\"\",\"\",VLOOKUP($T79,'FO-DRE-02'!$A$6:$M$101,7,FALSE))","v":""},{"$f":"IF($T79=\"\",\"\",VLOOKUP($T79,'FO-DRE-02'!$A$6:$M$101,9,FALSE))","v":""},{"$f":"IF($T79=\"\",\"\",VLOOKUP($T79,'FO-DRE-02'!$A$6:$M$101,11,FALSE))","v":""},{"$f":"IF($T79=\"\",\"\",VLOOKUP($T79,'FO-DRE-02'!$A$6:$M$101,12,FALSE))","v":""},{"$f":"IF($T79=\"\",\"\",VLOOKUP($T79,'FO-DRE-02'!$A$6:$M$101,13,FALSE))","v":""},null,856,null,70,"","F/D","F/D","","","","","","","","","","","","","","",""]
[null,null,null,null,null,null,null,null,{"$f":"IF(H80=\"1a\",Hoja1!$B$126,IF(H80=\"1b\",Hoja1!$B$127,IF(H80=\"2a\",Hoja1!$B$128,IF(H80=\"2b\",Hoja1!$B$129,IF(H80=\"3 \",Hoja1!$B$130,IF(H80=\"4 \",Hoja1!$B$131,IF(H80=\"5 \",Hoja1!$B$132,IF(H80=\"6 \",Hoja1!$B$133,IF(H80=\"7 \",Hoja1!$B$134,IF(H80=\"8 \",Hoja1!$B$135,\" \"))))))))))","v":" "},{"$f":"CONCATENATE(#REF!,\"-\",\"TX\")","v":{"$error":"#REF!"}},{"$f":"CONCATENATE(#REF!,\"-\",\"RX\")","v":{"$error":"#REF!"}},null,null,null,null,0,null,null,null,null,null,{"$f":"IF($R80=\"\",\"\",VLOOKUP($R80,'FO-DRE-01'!$A$7:$U$301,18,FALSE))","v":""},{"$f":"IF($R80=\"\",\"\",VLOOKUP($R80,'FO-DRE-01'!$A$7:$U$301,16,FALSE))","v":""},{"$f":"IF($R80=\"\",\"\",VLOOKUP($R80,'FO-DRE-01'!$A$7:$U$301,17,FALSE))","v":""},{"$f":"IF($R80=\"\",\"\",VLOOKUP($R80,'FO-DRE-01'!$A$7:$U$301,3,FALSE))","v":""},{"$f":"IF($R80=\"\",\"\",VLOOKUP($R80,'FO-DRE-01'!$A$7:$U$301,4,FALSE))","v":""},{"$f":"IF($R80=\"\",\"\",VLOOKUP($R80,'FO-DRE-01'!$A$7:$U$301,5,FALSE))","v":""},{"$f":"IF($R80=\"\",\"\",VLOOKUP($R80,'FO-DRE-01'!$A$7:$U$301,7,FALSE))","v":""},{"$f":"IF($R80=\"\",\"\",VLOOKUP($R80,'FO-DRE-01'!$A$7:$U$301,8,FALSE))","v":""},{"$f":"IF($R80=\"\",\"\",VLOOKUP($R80,'FO-DRE-01'!$A$7:$U$301,9,FALSE))","v":""},{"$f":"IF($R80=\"\",\"\",VLOOKUP($R80,'FO-DRE-01'!$A$7:$U$301,10,FALSE))","v":""},{"$f":"IF($R80=\"\",\"\",VLOOKUP($R80,'FO-DRE-01'!$A$7:$U$301,11,FALSE))","v":""},{"$f":"IF($R80=\"\",\"\",VLOOKUP($R80,'FO-DRE-01'!$A$7:$U$301,12,FALSE))","v":""},{"$f":"IF($R80=\"\",\"\",VLOOKUP($R80,'FO-DRE-01'!$A$7:$U$301,13,FALSE))","v":""},{"$f":"IF($R80=\"\",\"\",VLOOKUP($R80,'FO-DRE-01'!$A$7:$U$301,14,FALSE))","v":""},{"$f":"IF($R80=\"\",\"\",VLOOKUP($R80,'FO-DRE-01'!$A$7:$U$301,15,FALSE))","v":""},{"$f":"IF($S80=\"\",\"\",VLOOKUP($S80,'FO-DRE-04'!$A$6:$L$301,2,FALSE))","v":""},{"$f":"IF($S80=\"\",\"\",VLOOKUP($S80,'FO-DRE-04'!$A$6:$L$301,3,FALSE))","v":""},{"$f":"IF($S80=\"\",\"\",VLOOKUP($S80,'FO-DRE-04'!$A$6:$L$301,4,FALSE))","v":""},{"$f":"IF($S80=\"\",\"\",VLOOKUP($S80,'FO-DRE-04'!$A$6:$L$301,6,FALSE))","v":""},{"$f":"IF($S80=\"\",\"\",VLOOKUP($S80,'FO-DRE-04'!$A$6:$L$301,11,FALSE))","v":""},{"$f":"IF($T80=\"\",\"\",VLOOKUP($T80,'FO-DRE-02'!$A$6:$M$101,2,FALSE))","v":""},{"$f":"IF($T80=\"\",\"\",VLOOKUP($T80,'FO-DRE-02'!$A$6:$M$101,3,FALSE))","v":""},{"$f":"IF($T80=\"\",\"\",VLOOKUP($T80,'FO-DRE-02'!$A$6:$M$101,6,FALSE))","v":""},{"$f":"IF($T80=\"\",\"\",VLOOKUP($T80,'FO-DRE-02'!$A$6:$M$101,4,FALSE))","v":""},{"$f":"IF($T80=\"\",\"\",VLOOKUP($T80,'FO-DRE-02'!$A$6:$M$101,5,FALSE))","v":""},{"$f":"IF($T80=\"\",\"\",VLOOKUP($T80,'FO-DRE-02'!$A$6:$M$101,8,FALSE))","v":""},{"$f":"IF($T80=\"\",\"\",VLOOKUP($T80,'FO-DRE-02'!$A$6:$M$101,7,FALSE))","v":""},{"$f":"IF($T80=\"\",\"\",VLOOKUP($T80,'FO-DRE-02'!$A$6:$M$101,9,FALSE))","v":""},{"$f":"IF($T80=\"\",\"\",VLOOKUP($T80,'FO-DRE-02'!$A$6:$M$101,11,FALSE))","v":""},{"$f":"IF($T80=\"\",\"\",VLOOKUP($T80,'FO-DRE-02'!$A$6:$M$101,12,FALSE))","v":""},{"$f":"IF($T80=\"\",\"\",VLOOKUP($T80,'FO-DRE-02'!$A$6:$M$101,13,FALSE))","v":""},null,856,null,71,"","F/D","F/D","","","","","","","","","","","","","","",""]
[null,null,null,null,null,null,null,null,{"$f":"IF(H81=\"1a\",Hoja1!$B$126,IF(H81=\"1b\",Hoja1!$B$127,IF(H81=\"2a\",Hoja1!$B$128,IF(H81=\"2b\",Hoja1!$B$129,IF(H81=\"3 \",Hoja1!$B$130,IF(H81=\"4 \",Hoja1!$B$131,IF(H81=\"5 \",Hoja1!$B$132,IF(H81=\"6 \",Hoja1!$B$133,IF(H81=\"7 \",Hoja1!$B$134,IF(H81=\"8 \",Hoja1!$B$135,\" \"))))))))))","v":" "},{"$f":"CONCATENATE(#REF!,\"-\",\"TX\")","v":{"$error":"#REF!"}},{"$f":"CONCATENATE(#REF!,\"-\",\"RX\")","v":{"$error":"#REF!"}},null,null,null,null,0,null,null,null,null,null,{"$f":"IF($R81=\"\",\"\",VLOOKUP($R81,'FO-DRE-01'!$A$7:$U$301,18,FALSE))","v":""},{"$f":"IF($R81=\"\",\"\",VLOOKUP($R81,'FO-DRE-01'!$A$7:$U$301,16,FALSE))","v":""},{"$f":"IF($R81=\"\",\"\",VLOOKUP($R81,'FO-DRE-01'!$A$7:$U$301,17,FALSE))","v":""},{"$f":"IF($R81=\"\",\"\",VLOOKUP($R81,'FO-DRE-01'!$A$7:$U$301,3,FALSE))","v":""},{"$f":"IF($R81=\"\",\"\",VLOOKUP($R81,'FO-DRE-01'!$A$7:$U$301,4,FALSE))","v":""},{"$f":"IF($R81=\"\",\"\",VLOOKUP($R81,'FO-DRE-01'!$A$7:$U$301,5,FALSE))","v":""},{"$f":"IF($R81=\"\",\"\",VLOOKUP($R81,'FO-DRE-01'!$A$7:$U$301,7,FALSE))","v":""},{"$f":"IF($R81=\"\",\"\",VLOOKUP($R81,'FO-DRE-01'!$A$7:$U$301,8,FALSE))","v":""},{"$f":"IF($R81=\"\",\"\",VLOOKUP($R81,'FO-DRE-01'!$A$7:$U$301,9,FALSE))","v":""},{"$f":"IF($R81=\"\",\"\",VLOOKUP($R81,'FO-DRE-01'!$A$7:$U$301,10,FALSE))","v":""},{"$f":"IF($R81=\"\",\"\",VLOOKUP($R81,'FO-DRE-01'!$A$7:$U$301,11,FALSE))","v":""},{"$f":"IF($R81=\"\",\"\",VLOOKUP($R81,'FO-DRE-01'!$A$7:$U$301,12,FALSE))","v":""},{"$f":"IF($R81=\"\",\"\",VLOOKUP($R81,'FO-DRE-01'!$A$7:$U$301,13,FALSE))","v":""},{"$f":"IF($R81=\"\",\"\",VLOOKUP($R81,'FO-DRE-01'!$A$7:$U$301,14,FALSE))","v":""},{"$f":"IF($R81=\"\",\"\",VLOOKUP($R81,'FO-DRE-01'!$A$7:$U$301,15,FALSE))","v":""},{"$f":"IF($S81=\"\",\"\",VLOOKUP($S81,'FO-DRE-04'!$A$6:$L$301,2,FALSE))","v":""},{"$f":"IF($S81=\"\",\"\",VLOOKUP($S81,'FO-DRE-04'!$A$6:$L$301,3,FALSE))","v":""},{"$f":"IF($S81=\"\",\"\",VLOOKUP($S81,'FO-DRE-04'!$A$6:$L$301,4,FALSE))","v":""},{"$f":"IF($S81=\"\",\"\",VLOOKUP($S81,'FO-DRE-04'!$A$6:$L$301,6,FALSE))","v":""},{"$f":"IF($S81=\"\",\"\",VLOOKUP($S81,'FO-DRE-04'!$A$6:$L$301,11,FALSE))","v":""},{"$f":"IF($T81=\"\",\"\",VLOOKUP($T81,'FO-DRE-02'!$A$6:$M$101,2,FALSE))","v":""},{"$f":"IF($T81=\"\",\"\",VLOOKUP($T81,'FO-DRE-02'!$A$6:$M$101,3,FALSE))","v":""},{"$f":"IF($T81=\"\",\"\",VLOOKUP($T81,'FO-DRE-02'!$A$6:$M$101,6,FALSE))","v":""},{"$f":"IF($T81=\"\",\"\",VLOOKUP($T81,'FO-DRE-02'!$A$6:$M$101,4,FALSE))","v":""},{"$f":"IF($T81=\"\",\"\",VLOOKUP($T81,'FO-DRE-02'!$A$6:$M$101,5,FALSE))","v":""},{"$f":"IF($T81=\"\",\"\",VLOOKUP($T81,'FO-DRE-02'!$A$6:$M$101,8,FALSE))","v":""},{"$f":"IF($T81=\"\",\"\",VLOOKUP($T81,'FO-DRE-02'!$A$6:$M$101,7,FALSE))","v":""},{"$f":"IF($T81=\"\",\"\",VLOOKUP($T81,'FO-DRE-02'!$A$6:$M$101,9,FALSE))","v":""},{"$f":"IF($T81=\"\",\"\",VLOOKUP($T81,'FO-DRE-02'!$A$6:$M$101,11,FALSE))","v":""},{"$f":"IF($T81=\"\",\"\",VLOOKUP($T81,'FO-DRE-02'!$A$6:$M$101,12,FALSE))","v":""},{"$f":"IF($T81=\"\",\"\",VLOOKUP($T81,'FO-DRE-02'!$A$6:$M$101,13,FALSE))","v":""},null,856,null,72,"","F/D","F/D","","","","","","","","","","","","","","",""]
[null,null,null,null,null,null,null,null,{"$f":"IF(H82=\"1a\",Hoja1!$B$126,IF(H82=\"1b\",Hoja1!$B$127,IF(H82=\"2a\",Hoja1!$B$128,IF(H82=\"2b\",Hoja1!$B$129,IF(H82=\"3 \",Hoja1!$B$130,IF(H82=\"4 \",Hoja1!$B$131,IF(H82=\"5 \",Hoja1!$B$132,IF(H82=\"6 \",Hoja1!$B$133,IF(H82=\"7 \",Hoja1!$B$134,IF(H82=\"8 \",Hoja1!$B$135,\" \"))))))))))","v":" "},{"$f":"CONCATENATE(#REF!,\"-\",\"TX\")","v":{"$error":"#REF!"}},{"$f":"CONCATENATE(#REF!,\"-\",\"RX\")","v":{"$error":"#REF!"}},null,null,null,null,0,null,null,null,null,null,{"$f":"IF($R82=\"\",\"\",VLOOKUP($R82,'FO-DRE-01'!$A$7:$U$301,18,FALSE))","v":""},{"$f":"IF($R82=\"\",\"\",VLOOKUP($R82,'FO-DRE-01'!$A$7:$U$301,16,FALSE))","v":""},{"$f":"IF($R82=\"\",\"\",VLOOKUP($R82,'FO-DRE-01'!$A$7:$U$301,17,FALSE))","v":""},{"$f":"IF($R82=\"\",\"\",VLOOKUP($R82,'FO-DRE-01'!$A$7:$U$301,3,FALSE))","v":""},{"$f":"IF($R82=\"\",\"\",VLOOKUP($R82,'FO-DRE-01'!$A$7:$U$301,4,FALSE))","v":""},{"$f":"IF($R82=\"\",\"\",VLOOKUP($R82,'FO-DRE-01'!$A$7:$U$301,5,FALSE))","v":""},{"$f":"IF($R82=\"\",\"\",VLOOKUP($R82,'FO-DRE-01'!$A$7:$U$301,7,FALSE))","v":""},{"$f":"IF($R82=\"\",\"\",VLOOKUP($R82,'FO-DRE-01'!$A$7:$U$301,8,FALSE))","v":""},{"$f":"IF($R82=\"\",\"\",VLOOKUP($R82,'FO-DRE-01'!$A$7:$U$301,9,FALSE))","v":""},{"$f":"IF($R82=\"\",\"\",VLOOKUP($R82,'FO-DRE-01'!$A$7:$U$301,10,FALSE))","v":""},{"$f":"IF($R82=\"\",\"\",VLOOKUP($R82,'FO-DRE-01'!$A$7:$U$301,11,FALSE))","v":""},{"$f":"IF($R82=\"\",\"\",VLOOKUP($R82,'FO-DRE-01'!$A$7:$U$301,12,FALSE))","v":""},{"$f":"IF($R82=\"\",\"\",VLOOKUP($R82,'FO-DRE-01'!$A$7:$U$301,13,FALSE))","v":""},{"$f":"IF($R82=\"\",\"\",VLOOKUP($R82,'FO-DRE-01'!$A$7:$U$301,14,FALSE))","v":""},{"$f":"IF($R82=\"\",\"\",VLOOKUP($R82,'FO-DRE-01'!$A$7:$U$301,15,FALSE))","v":""},{"$f":"IF($S82=\"\",\"\",VLOOKUP($S82,'FO-DRE-04'!$A$6:$L$301,2,FALSE))","v":""},{"$f":"IF($S82=\"\",\"\",VLOOKUP($S82,'FO-DRE-04'!$A$6:$L$301,3,FALSE))","v":""},{"$f":"IF($S82=\"\",\"\",VLOOKUP($S82,'FO-DRE-04'!$A$6:$L$301,4,FALSE))","v":""},{"$f":"IF($S82=\"\",\"\",VLOOKUP($S82,'FO-DRE-04'!$A$6:$L$301,6,FALSE))","v":""},{"$f":"IF($S82=\"\",\"\",VLOOKUP($S82,'FO-DRE-04'!$A$6:$L$301,11,FALSE))","v":""},{"$f":"IF($T82=\"\",\"\",VLOOKUP($T82,'FO-DRE-02'!$A$6:$M$101,2,FALSE))","v":""},{"$f":"IF($T82=\"\",\"\",VLOOKUP($T82,'FO-DRE-02'!$A$6:$M$101,3,FALSE))","v":""},{"$f":"IF($T82=\"\",\"\",VLOOKUP($T82,'FO-DRE-02'!$A$6:$M$101,6,FALSE))","v":""},{"$f":"IF($T82=\"\",\"\",VLOOKUP($T82,'FO-DRE-02'!$A$6:$M$101,4,FALSE))","v":""},{"$f":"IF($T82=\"\",\"\",VLOOKUP($T82,'FO-DRE-02'!$A$6:$M$101,5,FALSE))","v":""},{"$f":"IF($T82=\"\",\"\",VLOOKUP($T82,'FO-DRE-02'!$A$6:$M$101,8,FALSE))","v":""},{"$f":"IF($T82=\"\",\"\",VLOOKUP($T82,'FO-DRE-02'!$A$6:$M$101,7,FALSE))","v":""},{"$f":"IF($T82=\"\",\"\",VLOOKUP($T82,'FO-DRE-02'!$A$6:$M$101,9,FALSE))","v":""},{"$f":"IF($T82=\"\",\"\",VLOOKUP($T82,'FO-DRE-02'!$A$6:$M$101,11,FALSE))","v":""},{"$f":"IF($T82=\"\",\"\",VLOOKUP($T82,'FO-DRE-02'!$A$6:$M$101,12,FALSE))","v":""},{"$f":"IF($T82=\"\",\"\",VLOOKUP($T82,'FO-DRE-02'!$A$6:$M$101,13,FALSE))","v":""},null,856,null,73,"","F/D","F/D","","","","","","","","","","","","","","",""]
[null,null,null,null,null,null,null,null,{"$f":"IF(H83=\"1a\",Hoja1!$B$126,IF(H83=\"1b\",Hoja1!$B$127,IF(H83=\"2a\",Hoja1!$B$128,IF(H83=\"2b\",Hoja1!$B$129,IF(H83=\"3 \",Hoja1!$B$130,IF(H83=\"4 \",Hoja1!$B$131,IF(H83=\"5 \",Hoja1!$B$132,IF(H83=\"6 \",Hoja1!$B$133,IF(H83=\"7 \",Hoja1!$B$134,IF(H83=\"8 \",Hoja1!$B$135,\" \"))))))))))","v":" "},{"$f":"CONCATENATE(#REF!,\"-\",\"TX\")","v":{"$error":"#REF!"}},{"$f":"CONCATENATE(#REF!,\"-\",\"RX\")","v":{"$error":"#REF!"}},null,null,null,null,0,null,null,null,null,null,{"$f":"IF($R83=\"\",\"\",VLOOKUP($R83,'FO-DRE-01'!$A$7:$U$301,18,FALSE))","v":""},{"$f":"IF($R83=\"\",\"\",VLOOKUP($R83,'FO-DRE-01'!$A$7:$U$301,16,FALSE))","v":""},{"$f":"IF($R83=\"\",\"\",VLOOKUP($R83,'FO-DRE-01'!$A$7:$U$301,17,FALSE))","v":""},{"$f":"IF($R83=\"\",\"\",VLOOKUP($R83,'FO-DRE-01'!$A$7:$U$301,3,FALSE))","v":""},{"$f":"IF($R83=\"\",\"\",VLOOKUP($R83,'FO-DRE-01'!$A$7:$U$301,4,FALSE))","v":""},{"$f":"IF($R83=\"\",\"\",VLOOKUP($R83,'FO-DRE-01'!$A$7:$U$301,5,FALSE))","v":""},{"$f":"IF($R83=\"\",\"\",VLOOKUP($R83,'FO-DRE-01'!$A$7:$U$301,7,FALSE))","v":""},{"$f":"IF($R83=\"\",\"\",VLOOKUP($R83,'FO-DRE-01'!$A$7:$U$301,8,FALSE))","v":""},{"$f":"IF($R83=\"\",\"\",VLOOKUP($R83,'FO-DRE-01'!$A$7:$U$301,9,FALSE))","v":""},{"$f":"IF($R83=\"\",\"\",VLOOKUP($R83,'FO-DRE-01'!$A$7:$U$301,10,FALSE))","v":""},{"$f":"IF($R83=\"\",\"\",VLOOKUP($R83,'FO-DRE-01'!$A$7:$U$301,11,FALSE))","v":""},{"$f":"IF($R83=\"\",\"\",VLOOKUP($R83,'FO-DRE-01'!$A$7:$U$301,12,FALSE))","v":""},{"$f":"IF($R83=\"\",\"\",VLOOKUP($R83,'FO-DRE-01'!$A$7:$U$301,13,FALSE))","v":""},{"$f":"IF($R83=\"\",\"\",VLOOKUP($R83,'FO-DRE-01'!$A$7:$U$301,14,FALSE))","v":""},{"$f":"IF($R83=\"\",\"\",VLOOKUP($R83,'FO-DRE-01'!$A$7:$U$301,15,FALSE))","v":""},{"$f":"IF($S83=\"\",\"\",VLOOKUP($S83,'FO-DRE-04'!$A$6:$L$301,2,FALSE))","v":""},{"$f":"IF($S83=\"\",\"\",VLOOKUP($S83,'FO-DRE-04'!$A$6:$L$301,3,FALSE))","v":""},{"$f":"IF($S83=\"\",\"\",VLOOKUP($S83,'FO-DRE-04'!$A$6:$L$301,4,FALSE))","v":""},{"$f":"IF($S83=\"\",\"\",VLOOKUP($S83,'FO-DRE-04'!$A$6:$L$301,6,FALSE))","v":""},{"$f":"IF($S83=\"\",\"\",VLOOKUP($S83,'FO-DRE-04'!$A$6:$L$301,11,FALSE))","v":""},{"$f":"IF($T83=\"\",\"\",VLOOKUP($T83,'FO-DRE-02'!$A$6:$M$101,2,FALSE))","v":""},{"$f":"IF($T83=\"\",\"\",VLOOKUP($T83,'FO-DRE-02'!$A$6:$M$101,3,FALSE))","v":""},{"$f":"IF($T83=\"\",\"\",VLOOKUP($T83,'FO-DRE-02'!$A$6:$M$101,6,FALSE))","v":""},{"$f":"IF($T83=\"\",\"\",VLOOKUP($T83,'FO-DRE-02'!$A$6:$M$101,4,FALSE))","v":""},{"$f":"IF($T83=\"\",\"\",VLOOKUP($T83,'FO-DRE-02'!$A$6:$M$101,5,FALSE))","v":""},{"$f":"IF($T83=\"\",\"\",VLOOKUP($T83,'FO-DRE-02'!$A$6:$M$101,8,FALSE))","v":""},{"$f":"IF($T83=\"\",\"\",VLOOKUP($T83,'FO-DRE-02'!$A$6:$M$101,7,FALSE))","v":""},{"$f":"IF($T83=\"\",\"\",VLOOKUP($T83,'FO-DRE-02'!$A$6:$M$101,9,FALSE))","v":""},{"$f":"IF($T83=\"\",\"\",VLOOKUP($T83,'FO-DRE-02'!$A$6:$M$101,11,FALSE))","v":""},{"$f":"IF($T83=\"\",\"\",VLOOKUP($T83,'FO-DRE-02'!$A$6:$M$101,12,FALSE))","v":""},{"$f":"IF($T83=\"\",\"\",VLOOKUP($T83,'FO-DRE-02'!$A$6:$M$101,13,FALSE))","v":""},null,856,null,74,"","F/D","F/D","","","","","","","","","","","","","","",""]
[null,null,null,null,null,null,null,null,{"$f":"IF(H84=\"1a\",Hoja1!$B$126,IF(H84=\"1b\",Hoja1!$B$127,IF(H84=\"2a\",Hoja1!$B$128,IF(H84=\"2b\",Hoja1!$B$129,IF(H84=\"3 \",Hoja1!$B$130,IF(H84=\"4 \",Hoja1!$B$131,IF(H84=\"5 \",Hoja1!$B$132,IF(H84=\"6 \",Hoja1!$B$133,IF(H84=\"7 \",Hoja1!$B$134,IF(H84=\"8 \",Hoja1!$B$135,\" \"))))))))))","v":" "},{"$f":"CONCATENATE(#REF!,\"-\",\"TX\")","v":{"$error":"#REF!"}},{"$f":"CONCATENATE(#REF!,\"-\",\"RX\")","v":{"$error":"#REF!"}},null,null,null,null,0,null,null,null,null,null,{"$f":"IF($R84=\"\",\"\",VLOOKUP($R84,'FO-DRE-01'!$A$7:$U$301,18,FALSE))","v":""},{"$f":"IF($R84=\"\",\"\",VLOOKUP($R84,'FO-DRE-01'!$A$7:$U$301,16,FALSE))","v":""},{"$f":"IF($R84=\"\",\"\",VLOOKUP($R84,'FO-DRE-01'!$A$7:$U$301,17,FALSE))","v":""},{"$f":"IF($R84=\"\",\"\",VLOOKUP($R84,'FO-DRE-01'!$A$7:$U$301,3,FALSE))","v":""},{"$f":"IF($R84=\"\",\"\",VLOOKUP($R84,'FO-DRE-01'!$A$7:$U$301,4,FALSE))","v":""},{"$f":"IF($R84=\"\",\"\",VLOOKUP($R84,'FO-DRE-01'!$A$7:$U$301,5,FALSE))","v":""},{"$f":"IF($R84=\"\",\"\",VLOOKUP($R84,'FO-DRE-01'!$A$7:$U$301,7,FALSE))","v":""},{"$f":"IF($R84=\"\",\"\",VLOOKUP($R84,'FO-DRE-01'!$A$7:$U$301,8,FALSE))","v":""},{"$f":"IF($R84=\"\",\"\",VLOOKUP($R84,'FO-DRE-01'!$A$7:$U$301,9,FALSE))","v":""},{"$f":"IF($R84=\"\",\"\",VLOOKUP($R84,'FO-DRE-01'!$A$7:$U$301,10,FALSE))","v":""},{"$f":"IF($R84=\"\",\"\",VLOOKUP($R84,'FO-DRE-01'!$A$7:$U$301,11,FALSE))","v":""},{"$f":"IF($R84=\"\",\"\",VLOOKUP($R84,'FO-DRE-01'!$A$7:$U$301,12,FALSE))","v":""},{"$f":"IF($R84=\"\",\"\",VLOOKUP($R84,'FO-DRE-01'!$A$7:$U$301,13,FALSE))","v":""},{"$f":"IF($R84=\"\",\"\",VLOOKUP($R84,'FO-DRE-01'!$A$7:$U$301,14,FALSE))","v":""},{"$f":"IF($R84=\"\",\"\",VLOOKUP($R84,'FO-DRE-01'!$A$7:$U$301,15,FALSE))","v":""},{"$f":"IF($S84=\"\",\"\",VLOOKUP($S84,'FO-DRE-04'!$A$6:$L$301,2,FALSE))","v":""},{"$f":"IF($S84=\"\",\"\",VLOOKUP($S84,'FO-DRE-04'!$A$6:$L$301,3,FALSE))","v":""},{"$f":"IF($S84=\"\",\"\",VLOOKUP($S84,'FO-DRE-04'!$A$6:$L$301,4,FALSE))","v":""},{"$f":"IF($S84=\"\",\"\",VLOOKUP($S84,'FO-DRE-04'!$A$6:$L$301,6,FALSE))","v":""},{"$f":"IF($S84=\"\",\"\",VLOOKUP($S84,'FO-DRE-04'!$A$6:$L$301,11,FALSE))","v":""},{"$f":"IF($T84=\"\",\"\",VLOOKUP($T84,'FO-DRE-02'!$A$6:$M$101,2,FALSE))","v":""},{"$f":"IF($T84=\"\",\"\",VLOOKUP($T84,'FO-DRE-02'!$A$6:$M$101,3,FALSE))","v":""},{"$f":"IF($T84=\"\",\"\",VLOOKUP($T84,'FO-DRE-02'!$A$6:$M$101,6,FALSE))","v":""},{"$f":"IF($T84=\"\",\"\",VLOOKUP($T84,'FO-DRE-02'!$A$6:$M$101,4,FALSE))","v":""},{"$f":"IF($T84=\"\",\"\",VLOOKUP($T84,'FO-DRE-02'!$A$6:$M$101,5,FALSE))","v":""},{"$f":"IF($T84=\"\",\"\",VLOOKUP($T84,'FO-DRE-02'!$A$6:$M$101,8,FALSE))","v":""},{"$f":"IF($T84=\"\",\"\",VLOOKUP($T84,'FO-DRE-02'!$A$6:$M$101,7,FALSE))","v":""},{"$f":"IF($T84=\"\",\"\",VLOOKUP($T84,'FO-DRE-02'!$A$6:$M$101,9,FALSE))","v":""},{"$f":"IF($T84=\"\",\"\",VLOOKUP($T84,'FO-DRE-02'!$A$6:$M$101,11,FALSE))","v":""},{"$f":"IF($T84=\"\",\"\",VLOOKUP($T84,'FO-DRE-02'!$A$6:$M$101,12,FALSE))","v":""},{"$f":"IF($T84=\"\",\"\",VLOOKUP($T84,'FO-DRE-02'!$A$6:$M$101,13,FALSE))","v":""},null,856,null,75,"","F/D","F/D","","","","","","","","","","","","","","",""]
[null,null,null,null,null,null,null,null,{"$f":"IF(H85=\"1a\",Hoja1!$B$126,IF(H85=\"1b\",Hoja1!$B$127,IF(H85=\"2a\",Hoja1!$B$128,IF(H85=\"2b\",Hoja1!$B$129,IF(H85=\"3 \",Hoja1!$B$130,IF(H85=\"4 \",Hoja1!$B$131,IF(H85=\"5 \",Hoja1!$B$132,IF(H85=\"6 \",Hoja1!$B$133,IF(H85=\"7 \",Hoja1!$B$134,IF(H85=\"8 \",Hoja1!$B$135,\" \"))))))))))","v":" "},{"$f":"CONCATENATE(#REF!,\"-\",\"TX\")","v":{"$error":"#REF!"}},{"$f":"CONCATENATE(#REF!,\"-\",\"RX\")","v":{"$error":"#REF!"}},null,null,null,null,0,null,null,null,null,null,{"$f":"IF($R85=\"\",\"\",VLOOKUP($R85,'FO-DRE-01'!$A$7:$U$301,18,FALSE))","v":""},{"$f":"IF($R85=\"\",\"\",VLOOKUP($R85,'FO-DRE-01'!$A$7:$U$301,16,FALSE))","v":""},{"$f":"IF($R85=\"\",\"\",VLOOKUP($R85,'FO-DRE-01'!$A$7:$U$301,17,FALSE))","v":""},{"$f":"IF($R85=\"\",\"\",VLOOKUP($R85,'FO-DRE-01'!$A$7:$U$301,3,FALSE))","v":""},{"$f":"IF($R85=\"\",\"\",VLOOKUP($R85,'FO-DRE-01'!$A$7:$U$301,4,FALSE))","v":""},{"$f":"IF($R85=\"\",\"\",VLOOKUP($R85,'FO-DRE-01'!$A$7:$U$301,5,FALSE))","v":""},{"$f":"IF($R85=\"\",\"\",VLOOKUP($R85,'FO-DRE-01'!$A$7:$U$301,7,FALSE))","v":""},{"$f":"IF($R85=\"\",\"\",VLOOKUP($R85,'FO-DRE-01'!$A$7:$U$301,8,FALSE))","v":""},{"$f":"IF($R85=\"\",\"\",VLOOKUP($R85,'FO-DRE-01'!$A$7:$U$301,9,FALSE))","v":""},{"$f":"IF($R85=\"\",\"\",VLOOKUP($R85,'FO-DRE-01'!$A$7:$U$301,10,FALSE))","v":""},{"$f":"IF($R85=\"\",\"\",VLOOKUP($R85,'FO-DRE-01'!$A$7:$U$301,11,FALSE))","v":""},{"$f":"IF($R85=\"\",\"\",VLOOKUP($R85,'FO-DRE-01'!$A$7:$U$301,12,FALSE))","v":""},{"$f":"IF($R85=\"\",\"\",VLOOKUP($R85,'FO-DRE-01'!$A$7:$U$301,13,FALSE))","v":""},{"$f":"IF($R85=\"\",\"\",VLOOKUP($R85,'FO-DRE-01'!$A$7:$U$301,14,FALSE))","v":""},{"$f":"IF($R85=\"\",\"\",VLOOKUP($R85,'FO-DRE-01'!$A$7:$U$301,15,FALSE))","v":""},{"$f":"IF($S85=\"\",\"\",VLOOKUP($S85,'FO-DRE-04'!$A$6:$L$301,2,FALSE))","v":""},{"$f":"IF($S85=\"\",\"\",VLOOKUP($S85,'FO-DRE-04'!$A$6:$L$301,3,FALSE))","v":""},{"$f":"IF($S85=\"\",\"\",VLOOKUP($S85,'FO-DRE-04'!$A$6:$L$301,4,FALSE))","v":""},{"$f":"IF($S85=\"\",\"\",VLOOKUP($S85,'FO-DRE-04'!$A$6:$L$301,6,FALSE))","v":""},{"$f":"IF($S85=\"\",\"\",VLOOKUP($S85,'FO-DRE-04'!$A$6:$L$301,11,FALSE))","v":""},{"$f":"IF($T85=\"\",\"\",VLOOKUP($T85,'FO-DRE-02'!$A$6:$M$101,2,FALSE))","v":""},{"$f":"IF($T85=\"\",\"\",VLOOKUP($T85,'FO-DRE-02'!$A$6:$M$101,3,FALSE))","v":""},{"$f":"IF($T85=\"\",\"\",VLOOKUP($T85,'FO-DRE-02'!$A$6:$M$101,6,FALSE))","v":""},{"$f":"IF($T85=\"\",\"\",VLOOKUP($T85,'FO-DRE-02'!$A$6:$M$101,4,FALSE))","v":""},{"$f":"IF($T85=\"\",\"\",VLOOKUP($T85,'FO-DRE-02'!$A$6:$M$101,5,FALSE))","v":""},{"$f":"IF($T85=\"\",\"\",VLOOKUP($T85,'FO-DRE-02'!$A$6:$M$101,8,FALSE))","v":""},{"$f":"IF($T85=\"\",\"\",VLOOKUP($T85,'FO-DRE-02'!$A$6:$M$101,7,FALSE))","v":""},{"$f":"IF($T85=\"\",\"\",VLOOKUP($T85,'FO-DRE-02'!$A$6:$M$101,9,FALSE))","v":""},{"$f":"IF($T85=\"\",\"\",VLOOKUP($T85,'FO-DRE-02'!$A$6:$M$101,11,FALSE))","v":""},{"$f":"IF($T85=\"\",\"\",VLOOKUP($T85,'FO-DRE-02'!$A$6:$M$101,12,FALSE))","v":""},{"$f":"IF($T85=\"\",\"\",VLOOKUP($T85,'FO-DRE-02'!$A$6:$M$101,13,FALSE))","v":""},null,856,null,76,"","F/D","F/D","","","","","","","","","","","","","","",""]
[null,null,null,null,null,null,null,null,{"$f":"IF(H86=\"1a\",Hoja1!$B$126,IF(H86=\"1b\",Hoja1!$B$127,IF(H86=\"2a\",Hoja1!$B$128,IF(H86=\"2b\",Hoja1!$B$129,IF(H86=\"3 \",Hoja1!$B$130,IF(H86=\"4 \",Hoja1!$B$131,IF(H86=\"5 \",Hoja1!$B$132,IF(H86=\"6 \",Hoja1!$B$133,IF(H86=\"7 \",Hoja1!$B$134,IF(H86=\"8 \",Hoja1!$B$135,\" \"))))))))))","v":" "},{"$f":"CONCATENATE(#REF!,\"-\",\"TX\")","v":{"$error":"#REF!"}},{"$f":"CONCATENATE(#REF!,\"-\",\"RX\")","v":{"$error":"#REF!"}},null,null,null,null,0,null,null,null,null,null,{"$f":"IF($R86=\"\",\"\",VLOOKUP($R86,'FO-DRE-01'!$A$7:$U$301,18,FALSE))","v":""},{"$f":"IF($R86=\"\",\"\",VLOOKUP($R86,'FO-DRE-01'!$A$7:$U$301,16,FALSE))","v":""},{"$f":"IF($R86=\"\",\"\",VLOOKUP($R86,'FO-DRE-01'!$A$7:$U$301,17,FALSE))","v":""},{"$f":"IF($R86=\"\",\"\",VLOOKUP($R86,'FO-DRE-01'!$A$7:$U$301,3,FALSE))","v":""},{"$f":"IF($R86=\"\",\"\",VLOOKUP($R86,'FO-DRE-01'!$A$7:$U$301,4,FALSE))","v":""},{"$f":"IF($R86=\"\",\"\",VLOOKUP($R86,'FO-DRE-01'!$A$7:$U$301,5,FALSE))","v":""},{"$f":"IF($R86=\"\",\"\",VLOOKUP($R86,'FO-DRE-01'!$A$7:$U$301,7,FALSE))","v":""},{"$f":"IF($R86=\"\",\"\",VLOOKUP($R86,'FO-DRE-01'!$A$7:$U$301,8,FALSE))","v":""},{"$f":"IF($R86=\"\",\"\",VLOOKUP($R86,'FO-DRE-01'!$A$7:$U$301,9,FALSE))","v":""},{"$f":"IF($R86=\"\",\"\",VLOOKUP($R86,'FO-DRE-01'!$A$7:$U$301,10,FALSE))","v":""},{"$f":"IF($R86=\"\",\"\",VLOOKUP($R86,'FO-DRE-01'!$A$7:$U$301,11,FALSE))","v":""},{"$f":"IF($R86=\"\",\"\",VLOOKUP($R86,'FO-DRE-01'!$A$7:$U$301,12,FALSE))","v":""},{"$f":"IF($R86=\"\",\"\",VLOOKUP($R86,'FO-DRE-01'!$A$7:$U$301,13,FALSE))","v":""},{"$f":"IF($R86=\"\",\"\",VLOOKUP($R86,'FO-DRE-01'!$A$7:$U$301,14,FALSE))","v":""},{"$f":"IF($R86=\"\",\"\",VLOOKUP($R86,'FO-DRE-01'!$A$7:$U$301,15,FALSE))","v":""},{"$f":"IF($S86=\"\",\"\",VLOOKUP($S86,'FO-DRE-04'!$A$6:$L$301,2,FALSE))","v":""},{"$f":"IF($S86=\"\",\"\",VLOOKUP($S86,'FO-DRE-04'!$A$6:$L$301,3,FALSE))","v":""},{"$f":"IF($S86=\"\",\"\",VLOOKUP($S86,'FO-DRE-04'!$A$6:$L$301,4,FALSE))","v":""},{"$f":"IF($S86=\"\",\"\",VLOOKUP($S86,'FO-DRE-04'!$A$6:$L$301,6,FALSE))","v":""},{"$f":"IF($S86=\"\",\"\",VLOOKUP($S86,'FO-DRE-04'!$A$6:$L$301,11,FALSE))","v":""},{"$f":"IF($T86=\"\",\"\",VLOOKUP($T86,'FO-DRE-02'!$A$6:$M$101,2,FALSE))","v":""},{"$f":"IF($T86=\"\",\"\",VLOOKUP($T86,'FO-DRE-02'!$A$6:$M$101,3,FALSE))","v":""},{"$f":"IF($T86=\"\",\"\",VLOOKUP($T86,'FO-DRE-02'!$A$6:$M$101,6,FALSE))","v":""},{"$f":"IF($T86=\"\",\"\",VLOOKUP($T86,'FO-DRE-02'!$A$6:$M$101,4,FALSE))","v":""},{"$f":"IF($T86=\"\",\"\",VLOOKUP($T86,'FO-DRE-02'!$A$6:$M$101,5,FALSE))","v":""},{"$f":"IF($T86=\"\",\"\",VLOOKUP($T86,'FO-DRE-02'!$A$6:$M$101,8,FALSE))","v":""},{"$f":"IF($T86=\"\",\"\",VLOOKUP($T86,'FO-DRE-02'!$A$6:$M$101,7,FALSE))","v":""},{"$f":"IF($T86=\"\",\"\",VLOOKUP($T86,'FO-DRE-02'!$A$6:$M$101,9,FALSE))","v":""},{"$f":"IF($T86=\"\",\"\",VLOOKUP($T86,'FO-DRE-02'!$A$6:$M$101,11,FALSE))","v":""},{"$f":"IF($T86=\"\",\"\",VLOOKUP($T86,'FO-DRE-02'!$A$6:$M$101,12,FALSE))","v":""},{"$f":"IF($T86=\"\",\"\",VLOOKUP($T86,'FO-DRE-02'!$A$6:$M$101,13,FALSE))","v":""},null,856,null,77,"","F/D","F/D","","","","","","","","","","","","","","",""]
[null,null,null,null,null,null,null,null,{"$f":"IF(H87=\"1a\",Hoja1!$B$126,IF(H87=\"1b\",Hoja1!$B$127,IF(H87=\"2a\",Hoja1!$B$128,IF(H87=\"2b\",Hoja1!$B$129,IF(H87=\"3 \",Hoja1!$B$130,IF(H87=\"4 \",Hoja1!$B$131,IF(H87=\"5 \",Hoja1!$B$132,IF(H87=\"6 \",Hoja1!$B$133,IF(H87=\"7 \",Hoja1!$B$134,IF(H87=\"8 \",Hoja1!$B$135,\" \"))))))))))","v":" "},{"$f":"CONCATENATE(#REF!,\"-\",\"TX\")","v":{"$error":"#REF!"}},{"$f":"CONCATENATE(#REF!,\"-\",\"RX\")","v":{"$error":"#REF!"}},null,null,null,null,0,null,null,null,null,null,{"$f":"IF($R87=\"\",\"\",VLOOKUP($R87,'FO-DRE-01'!$A$7:$U$301,18,FALSE))","v":""},{"$f":"IF($R87=\"\",\"\",VLOOKUP($R87,'FO-DRE-01'!$A$7:$U$301,16,FALSE))","v":""},{"$f":"IF($R87=\"\",\"\",VLOOKUP($R87,'FO-DRE-01'!$A$7:$U$301,17,FALSE))","v":""},{"$f":"IF($R87=\"\",\"\",VLOOKUP($R87,'FO-DRE-01'!$A$7:$U$301,3,FALSE))","v":""},{"$f":"IF($R87=\"\",\"\",VLOOKUP($R87,'FO-DRE-01'!$A$7:$U$301,4,FALSE))","v":""},{"$f":"IF($R87=\"\",\"\",VLOOKUP($R87,'FO-DRE-01'!$A$7:$U$301,5,FALSE))","v":""},{"$f":"IF($R87=\"\",\"\",VLOOKUP($R87,'FO-DRE-01'!$A$7:$U$301,7,FALSE))","v":""},{"$f":"IF($R87=\"\",\"\",VLOOKUP($R87,'FO-DRE-01'!$A$7:$U$301,8,FALSE))","v":""},{"$f":"IF($R87=\"\",\"\",VLOOKUP($R87,'FO-DRE-01'!$A$7:$U$301,9,FALSE))","v":""},{"$f":"IF($R87=\"\",\"\",VLOOKUP($R87,'FO-DRE-01'!$A$7:$U$301,10,FALSE))","v":""},{"$f":"IF($R87=\"\",\"\",VLOOKUP($R87,'FO-DRE-01'!$A$7:$U$301,11,FALSE))","v":""},{"$f":"IF($R87=\"\",\"\",VLOOKUP($R87,'FO-DRE-01'!$A$7:$U$301,12,FALSE))","v":""},{"$f":"IF($R87=\"\",\"\",VLOOKUP($R87,'FO-DRE-01'!$A$7:$U$301,13,FALSE))","v":""},{"$f":"IF($R87=\"\",\"\",VLOOKUP($R87,'FO-DRE-01'!$A$7:$U$301,14,FALSE))","v":""},{"$f":"IF($R87=\"\",\"\",VLOOKUP($R87,'FO-DRE-01'!$A$7:$U$301,15,FALSE))","v":""},{"$f":"IF($S87=\"\",\"\",VLOOKUP($S87,'FO-DRE-04'!$A$6:$L$301,2,FALSE))","v":""},{"$f":"IF($S87=\"\",\"\",VLOOKUP($S87,'FO-DRE-04'!$A$6:$L$301,3,FALSE))","v":""},{"$f":"IF($S87=\"\",\"\",VLOOKUP($S87,'FO-DRE-04'!$A$6:$L$301,4,FALSE))","v":""},{"$f":"IF($S87=\"\",\"\",VLOOKUP($S87,'FO-DRE-04'!$A$6:$L$301,6,FALSE))","v":""},{"$f":"IF($S87=\"\",\"\",VLOOKUP($S87,'FO-DRE-04'!$A$6:$L$301,11,FALSE))","v":""},{"$f":"IF($T87=\"\",\"\",VLOOKUP($T87,'FO-DRE-02'!$A$6:$M$101,2,FALSE))","v":""},{"$f":"IF($T87=\"\",\"\",VLOOKUP($T87,'FO-DRE-02'!$A$6:$M$101,3,FALSE))","v":""},{"$f":"IF($T87=\"\",\"\",VLOOKUP($T87,'FO-DRE-02'!$A$6:$M$101,6,FALSE))","v":""},{"$f":"IF($T87=\"\",\"\",VLOOKUP($T87,'FO-DRE-02'!$A$6:$M$101,4,FALSE))","v":""},{"$f":"IF($T87=\"\",\"\",VLOOKUP($T87,'FO-DRE-02'!$A$6:$M$101,5,FALSE))","v":""},{"$f":"IF($T87=\"\",\"\",VLOOKUP($T87,'FO-DRE-02'!$A$6:$M$101,8,FALSE))","v":""},{"$f":"IF($T87=\"\",\"\",VLOOKUP($T87,'FO-DRE-02'!$A$6:$M$101,7,FALSE))","v":""},{"$f":"IF($T87=\"\",\"\",VLOOKUP($T87,'FO-DRE-02'!$A$6:$M$101,9,FALSE))","v":""},{"$f":"IF($T87=\"\",\"\",VLOOKUP($T87,'FO-DRE-02'!$A$6:$M$101,11,FALSE))","v":""},{"$f":"IF($T87=\"\",\"\",VLOOKUP($T87,'FO-DRE-02'!$A$6:$M$101,12,FALSE))","v":""},{"$f":"IF($T87=\"\",\"\",VLOOKUP($T87,'FO-DRE-02'!$A$6:$M$101,13,FALSE))","v":""},null,856,null,78,"","F/D","F/D","","","","","","","","","","","","","","",""]
[null,null,null,null,null,null,null,null,{"$f":"IF(H88=\"1a\",Hoja1!$B$126,IF(H88=\"1b\",Hoja1!$B$127,IF(H88=\"2a\",Hoja1!$B$128,IF(H88=\"2b\",Hoja1!$B$129,IF(H88=\"3 \",Hoja1!$B$130,IF(H88=\"4 \",Hoja1!$B$131,IF(H88=\"5 \",Hoja1!$B$132,IF(H88=\"6 \",Hoja1!$B$133,IF(H88=\"7 \",Hoja1!$B$134,IF(H88=\"8 \",Hoja1!$B$135,\" \"))))))))))","v":" "},{"$f":"CONCATENATE(#REF!,\"-\",\"TX\")","v":{"$error":"#REF!"}},{"$f":"CONCATENATE(#REF!,\"-\",\"RX\")","v":{"$error":"#REF!"}},null,null,null,null,0,null,null,null,null,null,{"$f":"IF($R88=\"\",\"\",VLOOKUP($R88,'FO-DRE-01'!$A$7:$U$301,18,FALSE))","v":""},{"$f":"IF($R88=\"\",\"\",VLOOKUP($R88,'FO-DRE-01'!$A$7:$U$301,16,FALSE))","v":""},{"$f":"IF($R88=\"\",\"\",VLOOKUP($R88,'FO-DRE-01'!$A$7:$U$301,17,FALSE))","v":""},{"$f":"IF($R88=\"\",\"\",VLOOKUP($R88,'FO-DRE-01'!$A$7:$U$301,3,FALSE))","v":""},{"$f":"IF($R88=\"\",\"\",VLOOKUP($R88,'FO-DRE-01'!$A$7:$U$301,4,FALSE))","v":""},{"$f":"IF($R88=\"\",\"\",VLOOKUP($R88,'FO-DRE-01'!$A$7:$U$301,5,FALSE))","v":""},{"$f":"IF($R88=\"\",\"\",VLOOKUP($R88,'FO-DRE-01'!$A$7:$U$301,7,FALSE))","v":""},{"$f":"IF($R88=\"\",\"\",VLOOKUP($R88,'FO-DRE-01'!$A$7:$U$301,8,FALSE))","v":""},{"$f":"IF($R88=\"\",\"\",VLOOKUP($R88,'FO-DRE-01'!$A$7:$U$301,9,FALSE))","v":""},{"$f":"IF($R88=\"\",\"\",VLOOKUP($R88,'FO-DRE-01'!$A$7:$U$301,10,FALSE))","v":""},{"$f":"IF($R88=\"\",\"\",VLOOKUP($R88,'FO-DRE-01'!$A$7:$U$301,11,FALSE))","v":""},{"$f":"IF($R88=\"\",\"\",VLOOKUP($R88,'FO-DRE-01'!$A$7:$U$301,12,FALSE))","v":""},{"$f":"IF($R88=\"\",\"\",VLOOKUP($R88,'FO-DRE-01'!$A$7:$U$301,13,FALSE))","v":""},{"$f":"IF($R88=\"\",\"\",VLOOKUP($R88,'FO-DRE-01'!$A$7:$U$301,14,FALSE))","v":""},{"$f":"IF($R88=\"\",\"\",VLOOKUP($R88,'FO-DRE-01'!$A$7:$U$301,15,FALSE))","v":""},{"$f":"IF($S88=\"\",\"\",VLOOKUP($S88,'FO-DRE-04'!$A$6:$L$301,2,FALSE))","v":""},{"$f":"IF($S88=\"\",\"\",VLOOKUP($S88,'FO-DRE-04'!$A$6:$L$301,3,FALSE))","v":""},{"$f":"IF($S88=\"\",\"\",VLOOKUP($S88,'FO-DRE-04'!$A$6:$L$301,4,FALSE))","v":""},{"$f":"IF($S88=\"\",\"\",VLOOKUP($S88,'FO-DRE-04'!$A$6:$L$301,6,FALSE))","v":""},{"$f":"IF($S88=\"\",\"\",VLOOKUP($S88,'FO-DRE-04'!$A$6:$L$301,11,FALSE))","v":""},{"$f":"IF($T88=\"\",\"\",VLOOKUP($T88,'FO-DRE-02'!$A$6:$M$101,2,FALSE))","v":""},{"$f":"IF($T88=\"\",\"\",VLOOKUP($T88,'FO-DRE-02'!$A$6:$M$101,3,FALSE))","v":""},{"$f":"IF($T88=\"\",\"\",VLOOKUP($T88,'FO-DRE-02'!$A$6:$M$101,6,FALSE))","v":""},{"$f":"IF($T88=\"\",\"\",VLOOKUP($T88,'FO-DRE-02'!$A$6:$M$101,4,FALSE))","v":""},{"$f":"IF($T88=\"\",\"\",VLOOKUP($T88,'FO-DRE-02'!$A$6:$M$101,5,FALSE))","v":""},{"$f":"IF($T88=\"\",\"\",VLOOKUP($T88,'FO-DRE-02'!$A$6:$M$101,8,FALSE))","v":""},{"$f":"IF($T88=\"\",\"\",VLOOKUP($T88,'FO-DRE-02'!$A$6:$M$101,7,FALSE))","v":""},{"$f":"IF($T88=\"\",\"\",VLOOKUP($T88,'FO-DRE-02'!$A$6:$M$101,9,FALSE))","v":""},{"$f":"IF($T88=\"\",\"\",VLOOKUP($T88,'FO-DRE-02'!$A$6:$M$101,11,FALSE))","v":""},{"$f":"IF($T88=\"\",\"\",VLOOKUP($T88,'FO-DRE-02'!$A$6:$M$101,12,FALSE))","v":""},{"$f":"IF($T88=\"\",\"\",VLOOKUP($T88,'FO-DRE-02'!$A$6:$M$101,13,FALSE))","v":""},null,856,null,79,"","F/D","F/D","","","","","","","","","","","","","","",""]
[null,null,null,null,null,null,null,null,{"$f":"IF(H89=\"1a\",Hoja1!$B$126,IF(H89=\"1b\",Hoja1!$B$127,IF(H89=\"2a\",Hoja1!$B$128,IF(H89=\"2b\",Hoja1!$B$129,IF(H89=\"3 \",Hoja1!$B$130,IF(H89=\"4 \",Hoja1!$B$131,IF(H89=\"5 \",Hoja1!$B$132,IF(H89=\"6 \",Hoja1!$B$133,IF(H89=\"7 \",Hoja1!$B$134,IF(H89=\"8 \",Hoja1!$B$135,\" \"))))))))))","v":" "},{"$f":"CONCATENATE(#REF!,\"-\",\"TX\")","v":{"$error":"#REF!"}},{"$f":"CONCATENATE(#REF!,\"-\",\"RX\")","v":{"$error":"#REF!"}},null,null,null,null,0,null,null,null,null,null,{"$f":"IF($R89=\"\",\"\",VLOOKUP($R89,'FO-DRE-01'!$A$7:$U$301,18,FALSE))","v":""},{"$f":"IF($R89=\"\",\"\",VLOOKUP($R89,'FO-DRE-01'!$A$7:$U$301,16,FALSE))","v":""},{"$f":"IF($R89=\"\",\"\",VLOOKUP($R89,'FO-DRE-01'!$A$7:$U$301,17,FALSE))","v":""},{"$f":"IF($R89=\"\",\"\",VLOOKUP($R89,'FO-DRE-01'!$A$7:$U$301,3,FALSE))","v":""},{"$f":"IF($R89=\"\",\"\",VLOOKUP($R89,'FO-DRE-01'!$A$7:$U$301,4,FALSE))","v":""},{"$f":"IF($R89=\"\",\"\",VLOOKUP($R89,'FO-DRE-01'!$A$7:$U$301,5,FALSE))","v":""},{"$f":"IF($R89=\"\",\"\",VLOOKUP($R89,'FO-DRE-01'!$A$7:$U$301,7,FALSE))","v":""},{"$f":"IF($R89=\"\",\"\",VLOOKUP($R89,'FO-DRE-01'!$A$7:$U$301,8,FALSE))","v":""},{"$f":"IF($R89=\"\",\"\",VLOOKUP($R89,'FO-DRE-01'!$A$7:$U$301,9,FALSE))","v":""},{"$f":"IF($R89=\"\",\"\",VLOOKUP($R89,'FO-DRE-01'!$A$7:$U$301,10,FALSE))","v":""},{"$f":"IF($R89=\"\",\"\",VLOOKUP($R89,'FO-DRE-01'!$A$7:$U$301,11,FALSE))","v":""},{"$f":"IF($R89=\"\",\"\",VLOOKUP($R89,'FO-DRE-01'!$A$7:$U$301,12,FALSE))","v":""},{"$f":"IF($R89=\"\",\"\",VLOOKUP($R89,'FO-DRE-01'!$A$7:$U$301,13,FALSE))","v":""},{"$f":"IF($R89=\"\",\"\",VLOOKUP($R89,'FO-DRE-01'!$A$7:$U$301,14,FALSE))","v":""},{"$f":"IF($R89=\"\",\"\",VLOOKUP($R89,'FO-DRE-01'!$A$7:$U$301,15,FALSE))","v":""},{"$f":"IF($S89=\"\",\"\",VLOOKUP($S89,'FO-DRE-04'!$A$6:$L$301,2,FALSE))","v":""},{"$f":"IF($S89=\"\",\"\",VLOOKUP($S89,'FO-DRE-04'!$A$6:$L$301,3,FALSE))","v":""},{"$f":"IF($S89=\"\",\"\",VLOOKUP($S89,'FO-DRE-04'!$A$6:$L$301,4,FALSE))","v":""},{"$f":"IF($S89=\"\",\"\",VLOOKUP($S89,'FO-DRE-04'!$A$6:$L$301,6,FALSE))","v":""},{"$f":"IF($S89=\"\",\"\",VLOOKUP($S89,'FO-DRE-04'!$A$6:$L$301,11,FALSE))","v":""},{"$f":"IF($T89=\"\",\"\",VLOOKUP($T89,'FO-DRE-02'!$A$6:$M$101,2,FALSE))","v":""},{"$f":"IF($T89=\"\",\"\",VLOOKUP($T89,'FO-DRE-02'!$A$6:$M$101,3,FALSE))","v":""},{"$f":"IF($T89=\"\",\"\",VLOOKUP($T89,'FO-DRE-02'!$A$6:$M$101,6,FALSE))","v":""},{"$f":"IF($T89=\"\",\"\",VLOOKUP($T89,'FO-DRE-02'!$A$6:$M$101,4,FALSE))","v":""},{"$f":"IF($T89=\"\",\"\",VLOOKUP($T89,'FO-DRE-02'!$A$6:$M$101,5,FALSE))","v":""},{"$f":"IF($T89=\"\",\"\",VLOOKUP($T89,'FO-DRE-02'!$A$6:$M$101,8,FALSE))","v":""},{"$f":"IF($T89=\"\",\"\",VLOOKUP($T89,'FO-DRE-02'!$A$6:$M$101,7,FALSE))","v":""},{"$f":"IF($T89=\"\",\"\",VLOOKUP($T89,'FO-DRE-02'!$A$6:$M$101,9,FALSE))","v":""},{"$f":"IF($T89=\"\",\"\",VLOOKUP($T89,'FO-DRE-02'!$A$6:$M$101,11,FALSE))","v":""},{"$f":"IF($T89=\"\",\"\",VLOOKUP($T89,'FO-DRE-02'!$A$6:$M$101,12,FALSE))","v":""},{"$f":"IF($T89=\"\",\"\",VLOOKUP($T89,'FO-DRE-02'!$A$6:$M$101,13,FALSE))","v":""},null,856,null,80,"","F/D","F/D","","","","","","","",{"$f":"IF(OR(AK89=\"MOVIL\",AK89=\"PORTATIL\"),\"\",IF(AN89=\"\",\"\",AN89))","v":""},"",{"$f":"IF(OR(BO89=\"\",BP89=\"\"),\"\",BP89*BO89)","v":""},"","","","",""]
[null,null,null,null,null,null,null,null,{"$f":"IF(H90=\"1a\",Hoja1!$B$126,IF(H90=\"1b\",Hoja1!$B$127,IF(H90=\"2a\",Hoja1!$B$128,IF(H90=\"2b\",Hoja1!$B$129,IF(H90=\"3 \",Hoja1!$B$130,IF(H90=\"4 \",Hoja1!$B$131,IF(H90=\"5 \",Hoja1!$B$132,IF(H90=\"6 \",Hoja1!$B$133,IF(H90=\"7 \",Hoja1!$B$134,IF(H90=\"8 \",Hoja1!$B$135,\" \"))))))))))","v":" "},{"$f":"CONCATENATE(#REF!,\"-\",\"TX\")","v":{"$error":"#REF!"}},{"$f":"CONCATENATE(#REF!,\"-\",\"RX\")","v":{"$error":"#REF!"}},null,null,null,null,0,null,null,null,null,null,{"$f":"IF($R90=\"\",\"\",VLOOKUP($R90,'FO-DRE-01'!$A$7:$U$301,18,FALSE))","v":""},{"$f":"IF($R90=\"\",\"\",VLOOKUP($R90,'FO-DRE-01'!$A$7:$U$301,16,FALSE))","v":""},{"$f":"IF($R90=\"\",\"\",VLOOKUP($R90,'FO-DRE-01'!$A$7:$U$301,17,FALSE))","v":""},{"$f":"IF($R90=\"\",\"\",VLOOKUP($R90,'FO-DRE-01'!$A$7:$U$301,3,FALSE))","v":""},{"$f":"IF($R90=\"\",\"\",VLOOKUP($R90,'FO-DRE-01'!$A$7:$U$301,4,FALSE))","v":""},{"$f":"IF($R90=\"\",\"\",VLOOKUP($R90,'FO-DRE-01'!$A$7:$U$301,5,FALSE))","v":""},{"$f":"IF($R90=\"\",\"\",VLOOKUP($R90,'FO-DRE-01'!$A$7:$U$301,7,FALSE))","v":""},{"$f":"IF($R90=\"\",\"\",VLOOKUP($R90,'FO-DRE-01'!$A$7:$U$301,8,FALSE))","v":""},{"$f":"IF($R90=\"\",\"\",VLOOKUP($R90,'FO-DRE-01'!$A$7:$U$301,9,FALSE))","v":""},{"$f":"IF($R90=\"\",\"\",VLOOKUP($R90,'FO-DRE-01'!$A$7:$U$301,10,FALSE))","v":""},{"$f":"IF($R90=\"\",\"\",VLOOKUP($R90,'FO-DRE-01'!$A$7:$U$301,11,FALSE))","v":""},{"$f":"IF($R90=\"\",\"\",VLOOKUP($R90,'FO-DRE-01'!$A$7:$U$301,12,FALSE))","v":""},{"$f":"IF($R90=\"\",\"\",VLOOKUP($R90,'FO-DRE-01'!$A$7:$U$301,13,FALSE))","v":""},{"$f":"IF($R90=\"\",\"\",VLOOKUP($R90,'FO-DRE-01'!$A$7:$U$301,14,FALSE))","v":""},{"$f":"IF($R90=\"\",\"\",VLOOKUP($R90,'FO-DRE-01'!$A$7:$U$301,15,FALSE))","v":""},{"$f":"IF($S90=\"\",\"\",VLOOKUP($S90,'FO-DRE-04'!$A$6:$L$301,2,FALSE))","v":""},{"$f":"IF($S90=\"\",\"\",VLOOKUP($S90,'FO-DRE-04'!$A$6:$L$301,3,FALSE))","v":""},{"$f":"IF($S90=\"\",\"\",VLOOKUP($S90,'FO-DRE-04'!$A$6:$L$301,4,FALSE))","v":""},{"$f":"IF($S90=\"\",\"\",VLOOKUP($S90,'FO-DRE-04'!$A$6:$L$301,6,FALSE))","v":""},{"$f":"IF($S90=\"\",\"\",VLOOKUP($S90,'FO-DRE-04'!$A$6:$L$301,11,FALSE))","v":""},{"$f":"IF($T90=\"\",\"\",VLOOKUP($T90,'FO-DRE-02'!$A$6:$M$101,2,FALSE))","v":""},{"$f":"IF($T90=\"\",\"\",VLOOKUP($T90,'FO-DRE-02'!$A$6:$M$101,3,FALSE))","v":""},{"$f":"IF($T90=\"\",\"\",VLOOKUP($T90,'FO-DRE-02'!$A$6:$M$101,6,FALSE))","v":""},{"$f":"IF($T90=\"\",\"\",VLOOKUP($T90,'FO-DRE-02'!$A$6:$M$101,4,FALSE))","v":""},{"$f":"IF($T90=\"\",\"\",VLOOKUP($T90,'FO-DRE-02'!$A$6:$M$101,5,FALSE))","v":""},{"$f":"IF($T90=\"\",\"\",VLOOKUP($T90,'FO-DRE-02'!$A$6:$M$101,8,FALSE))","v":""},{"$f":"IF($T90=\"\",\"\",VLOOKUP($T90,'FO-DRE-02'!$A$6:$M$101,7,FALSE))","v":""},{"$f":"IF($T90=\"\",\"\",VLOOKUP($T90,'FO-DRE-02'!$A$6:$M$101,9,FALSE))","v":""},{"$f":"IF($T90=\"\",\"\",VLOOKUP($T90,'FO-DRE-02'!$A$6:$M$101,11,FALSE))","v":""},{"$f":"IF($T90=\"\",\"\",VLOOKUP($T90,'FO-DRE-02'!$A$6:$M$101,12,FALSE))","v":""},{"$f":"IF($T90=\"\",\"\",VLOOKUP($T90,'FO-DRE-02'!$A$6:$M$101,13,FALSE))","v":""},null,856,null,81,"","F/D","F/D","","","","","","","","","","","","","","",""]
[null,null,null,null,null,null,null,null,{"$f":"IF(H91=\"1a\",Hoja1!$B$126,IF(H91=\"1b\",Hoja1!$B$127,IF(H91=\"2a\",Hoja1!$B$128,IF(H91=\"2b\",Hoja1!$B$129,IF(H91=\"3 \",Hoja1!$B$130,IF(H91=\"4 \",Hoja1!$B$131,IF(H91=\"5 \",Hoja1!$B$132,IF(H91=\"6 \",Hoja1!$B$133,IF(H91=\"7 \",Hoja1!$B$134,IF(H91=\"8 \",Hoja1!$B$135,\" \"))))))))))","v":" "},{"$f":"CONCATENATE(#REF!,\"-\",\"TX\")","v":{"$error":"#REF!"}},{"$f":"CONCATENATE(#REF!,\"-\",\"RX\")","v":{"$error":"#REF!"}},null,null,null,null,0,null,null,null,null,null,{"$f":"IF($R91=\"\",\"\",VLOOKUP($R91,'FO-DRE-01'!$A$7:$U$301,18,FALSE))","v":""},{"$f":"IF($R91=\"\",\"\",VLOOKUP($R91,'FO-DRE-01'!$A$7:$U$301,16,FALSE))","v":""},{"$f":"IF($R91=\"\",\"\",VLOOKUP($R91,'FO-DRE-01'!$A$7:$U$301,17,FALSE))","v":""},{"$f":"IF($R91=\"\",\"\",VLOOKUP($R91,'FO-DRE-01'!$A$7:$U$301,3,FALSE))","v":""},{"$f":"IF($R91=\"\",\"\",VLOOKUP($R91,'FO-DRE-01'!$A$7:$U$301,4,FALSE))","v":""},{"$f":"IF($R91=\"\",\"\",VLOOKUP($R91,'FO-DRE-01'!$A$7:$U$301,5,FALSE))","v":""},{"$f":"IF($R91=\"\",\"\",VLOOKUP($R91,'FO-DRE-01'!$A$7:$U$301,7,FALSE))","v":""},{"$f":"IF($R91=\"\",\"\",VLOOKUP($R91,'FO-DRE-01'!$A$7:$U$301,8,FALSE))","v":""},{"$f":"IF($R91=\"\",\"\",VLOOKUP($R91,'FO-DRE-01'!$A$7:$U$301,9,FALSE))","v":""},{"$f":"IF($R91=\"\",\"\",VLOOKUP($R91,'FO-DRE-01'!$A$7:$U$301,10,FALSE))","v":""},{"$f":"IF($R91=\"\",\"\",VLOOKUP($R91,'FO-DRE-01'!$A$7:$U$301,11,FALSE))","v":""},{"$f":"IF($R91=\"\",\"\",VLOOKUP($R91,'FO-DRE-01'!$A$7:$U$301,12,FALSE))","v":""},{"$f":"IF($R91=\"\",\"\",VLOOKUP($R91,'FO-DRE-01'!$A$7:$U$301,13,FALSE))","v":""},{"$f":"IF($R91=\"\",\"\",VLOOKUP($R91,'FO-DRE-01'!$A$7:$U$301,14,FALSE))","v":""},{"$f":"IF($R91=\"\",\"\",VLOOKUP($R91,'FO-DRE-01'!$A$7:$U$301,15,FALSE))","v":""},{"$f":"IF($S91=\"\",\"\",VLOOKUP($S91,'FO-DRE-04'!$A$6:$L$301,2,FALSE))","v":""},{"$f":"IF($S91=\"\",\"\",VLOOKUP($S91,'FO-DRE-04'!$A$6:$L$301,3,FALSE))","v":""},{"$f":"IF($S91=\"\",\"\",VLOOKUP($S91,'FO-DRE-04'!$A$6:$L$301,4,FALSE))","v":""},{"$f":"IF($S91=\"\",\"\",VLOOKUP($S91,'FO-DRE-04'!$A$6:$L$301,6,FALSE))","v":""},{"$f":"IF($S91=\"\",\"\",VLOOKUP($S91,'FO-DRE-04'!$A$6:$L$301,11,FALSE))","v":""},{"$f":"IF($T91=\"\",\"\",VLOOKUP($T91,'FO-DRE-02'!$A$6:$M$101,2,FALSE))","v":""},{"$f":"IF($T91=\"\",\"\",VLOOKUP($T91,'FO-DRE-02'!$A$6:$M$101,3,FALSE))","v":""},{"$f":"IF($T91=\"\",\"\",VLOOKUP($T91,'FO-DRE-02'!$A$6:$M$101,6,FALSE))","v":""},{"$f":"IF($T91=\"\",\"\",VLOOKUP($T91,'FO-DRE-02'!$A$6:$M$101,4,FALSE))","v":""},{"$f":"IF($T91=\"\",\"\",VLOOKUP($T91,'FO-DRE-02'!$A$6:$M$101,5,FALSE))","v":""},{"$f":"IF($T91=\"\",\"\",VLOOKUP($T91,'FO-DRE-02'!$A$6:$M$101,8,FALSE))","v":""},{"$f":"IF($T91=\"\",\"\",VLOOKUP($T91,'FO-DRE-02'!$A$6:$M$101,7,FALSE))","v":""},{"$f":"IF($T91=\"\",\"\",VLOOKUP($T91,'FO-DRE-02'!$A$6:$M$101,9,FALSE))","v":""},{"$f":"IF($T91=\"\",\"\",VLOOKUP($T91,'FO-DRE-02'!$A$6:$M$101,11,FALSE))","v":""},{"$f":"IF($T91=\"\",\"\",VLOOKUP($T91,'FO-DRE-02'!$A$6:$M$101,12,FALSE))","v":""},{"$f":"IF($T91=\"\",\"\",VLOOKUP($T91,'FO-DRE-02'!$A$6:$M$101,13,FALSE))","v":""},null,856,null,82,"","F/D","F/D","","","","","","","","","","","","","","",""]
[null,null,null,null,null,null,null,null,{"$f":"IF(H92=\"1a\",Hoja1!$B$126,IF(H92=\"1b\",Hoja1!$B$127,IF(H92=\"2a\",Hoja1!$B$128,IF(H92=\"2b\",Hoja1!$B$129,IF(H92=\"3 \",Hoja1!$B$130,IF(H92=\"4 \",Hoja1!$B$131,IF(H92=\"5 \",Hoja1!$B$132,IF(H92=\"6 \",Hoja1!$B$133,IF(H92=\"7 \",Hoja1!$B$134,IF(H92=\"8 \",Hoja1!$B$135,\" \"))))))))))","v":" "},{"$f":"CONCATENATE(#REF!,\"-\",\"TX\")","v":{"$error":"#REF!"}},{"$f":"CONCATENATE(#REF!,\"-\",\"RX\")","v":{"$error":"#REF!"}},null,null,null,null,0,null,null,null,null,null,{"$f":"IF($R92=\"\",\"\",VLOOKUP($R92,'FO-DRE-01'!$A$7:$U$301,18,FALSE))","v":""},{"$f":"IF($R92=\"\",\"\",VLOOKUP($R92,'FO-DRE-01'!$A$7:$U$301,16,FALSE))","v":""},{"$f":"IF($R92=\"\",\"\",VLOOKUP($R92,'FO-DRE-01'!$A$7:$U$301,17,FALSE))","v":""},{"$f":"IF($R92=\"\",\"\",VLOOKUP($R92,'FO-DRE-01'!$A$7:$U$301,3,FALSE))","v":""},{"$f":"IF($R92=\"\",\"\",VLOOKUP($R92,'FO-DRE-01'!$A$7:$U$301,4,FALSE))","v":""},{"$f":"IF($R92=\"\",\"\",VLOOKUP($R92,'FO-DRE-01'!$A$7:$U$301,5,FALSE))","v":""},{"$f":"IF($R92=\"\",\"\",VLOOKUP($R92,'FO-DRE-01'!$A$7:$U$301,7,FALSE))","v":""},{"$f":"IF($R92=\"\",\"\",VLOOKUP($R92,'FO-DRE-01'!$A$7:$U$301,8,FALSE))","v":""},{"$f":"IF($R92=\"\",\"\",VLOOKUP($R92,'FO-DRE-01'!$A$7:$U$301,9,FALSE))","v":""},{"$f":"IF($R92=\"\",\"\",VLOOKUP($R92,'FO-DRE-01'!$A$7:$U$301,10,FALSE))","v":""},{"$f":"IF($R92=\"\",\"\",VLOOKUP($R92,'FO-DRE-01'!$A$7:$U$301,11,FALSE))","v":""},{"$f":"IF($R92=\"\",\"\",VLOOKUP($R92,'FO-DRE-01'!$A$7:$U$301,12,FALSE))","v":""},{"$f":"IF($R92=\"\",\"\",VLOOKUP($R92,'FO-DRE-01'!$A$7:$U$301,13,FALSE))","v":""},{"$f":"IF($R92=\"\",\"\",VLOOKUP($R92,'FO-DRE-01'!$A$7:$U$301,14,FALSE))","v":""},{"$f":"IF($R92=\"\",\"\",VLOOKUP($R92,'FO-DRE-01'!$A$7:$U$301,15,FALSE))","v":""},{"$f":"IF($S92=\"\",\"\",VLOOKUP($S92,'FO-DRE-04'!$A$6:$L$301,2,FALSE))","v":""},{"$f":"IF($S92=\"\",\"\",VLOOKUP($S92,'FO-DRE-04'!$A$6:$L$301,3,FALSE))","v":""},{"$f":"IF($S92=\"\",\"\",VLOOKUP($S92,'FO-DRE-04'!$A$6:$L$301,4,FALSE))","v":""},{"$f":"IF($S92=\"\",\"\",VLOOKUP($S92,'FO-DRE-04'!$A$6:$L$301,6,FALSE))","v":""},{"$f":"IF($S92=\"\",\"\",VLOOKUP($S92,'FO-DRE-04'!$A$6:$L$301,11,FALSE))","v":""},{"$f":"IF($T92=\"\",\"\",VLOOKUP($T92,'FO-DRE-02'!$A$6:$M$101,2,FALSE))","v":""},{"$f":"IF($T92=\"\",\"\",VLOOKUP($T92,'FO-DRE-02'!$A$6:$M$101,3,FALSE))","v":""},{"$f":"IF($T92=\"\",\"\",VLOOKUP($T92,'FO-DRE-02'!$A$6:$M$101,6,FALSE))","v":""},{"$f":"IF($T92=\"\",\"\",VLOOKUP($T92,'FO-DRE-02'!$A$6:$M$101,4,FALSE))","v":""},{"$f":"IF($T92=\"\",\"\",VLOOKUP($T92,'FO-DRE-02'!$A$6:$M$101,5,FALSE))","v":""},{"$f":"IF($T92=\"\",\"\",VLOOKUP($T92,'FO-DRE-02'!$A$6:$M$101,8,FALSE))","v":""},{"$f":"IF($T92=\"\",\"\",VLOOKUP($T92,'FO-DRE-02'!$A$6:$M$101,7,FALSE))","v":""},{"$f":"IF($T92=\"\",\"\",VLOOKUP($T92,'FO-DRE-02'!$A$6:$M$101,9,FALSE))","v":""},{"$f":"IF($T92=\"\",\"\",VLOOKUP($T92,'FO-DRE-02'!$A$6:$M$101,11,FALSE))","v":""},{"$f":"IF($T92=\"\",\"\",VLOOKUP($T92,'FO-DRE-02'!$A$6:$M$101,12,FALSE))","v":""},{"$f":"IF($T92=\"\",\"\",VLOOKUP($T92,'FO-DRE-02'!$A$6:$M$101,13,FALSE))","v":""},null,856,null,83,"","F/D","F/D","","","","","","","",{"$f":"IF(OR(AK92=\"MOVIL\",AK92=\"PORTATIL\"),\"\",IF(AN92=\"\",\"\",AN92))","v":""},"",{"$f":"IF(OR(BO92=\"\",BP92=\"\"),\"\",BP92*BO92)","v":""},"","","","",""]
[null,null,null,null,null,null,null,null,{"$f":"IF(H93=\"1a\",Hoja1!$B$126,IF(H93=\"1b\",Hoja1!$B$127,IF(H93=\"2a\",Hoja1!$B$128,IF(H93=\"2b\",Hoja1!$B$129,IF(H93=\"3 \",Hoja1!$B$130,IF(H93=\"4 \",Hoja1!$B$131,IF(H93=\"5 \",Hoja1!$B$132,IF(H93=\"6 \",Hoja1!$B$133,IF(H93=\"7 \",Hoja1!$B$134,IF(H93=\"8 \",Hoja1!$B$135,\" \"))))))))))","v":" "},{"$f":"CONCATENATE(#REF!,\"-\",\"TX\")","v":{"$error":"#REF!"}},{"$f":"CONCATENATE(#REF!,\"-\",\"RX\")","v":{"$error":"#REF!"}},null,null,null,null,0,null,null,null,null,null,{"$f":"IF($R93=\"\",\"\",VLOOKUP($R93,'FO-DRE-01'!$A$7:$U$301,18,FALSE))","v":""},{"$f":"IF($R93=\"\",\"\",VLOOKUP($R93,'FO-DRE-01'!$A$7:$U$301,16,FALSE))","v":""},{"$f":"IF($R93=\"\",\"\",VLOOKUP($R93,'FO-DRE-01'!$A$7:$U$301,17,FALSE))","v":""},{"$f":"IF($R93=\"\",\"\",VLOOKUP($R93,'FO-DRE-01'!$A$7:$U$301,3,FALSE))","v":""},{"$f":"IF($R93=\"\",\"\",VLOOKUP($R93,'FO-DRE-01'!$A$7:$U$301,4,FALSE))","v":""},{"$f":"IF($R93=\"\",\"\",VLOOKUP($R93,'FO-DRE-01'!$A$7:$U$301,5,FALSE))","v":""},{"$f":"IF($R93=\"\",\"\",VLOOKUP($R93,'FO-DRE-01'!$A$7:$U$301,7,FALSE))","v":""},{"$f":"IF($R93=\"\",\"\",VLOOKUP($R93,'FO-DRE-01'!$A$7:$U$301,8,FALSE))","v":""},{"$f":"IF($R93=\"\",\"\",VLOOKUP($R93,'FO-DRE-01'!$A$7:$U$301,9,FALSE))","v":""},{"$f":"IF($R93=\"\",\"\",VLOOKUP($R93,'FO-DRE-01'!$A$7:$U$301,10,FALSE))","v":""},{"$f":"IF($R93=\"\",\"\",VLOOKUP($R93,'FO-DRE-01'!$A$7:$U$301,11,FALSE))","v":""},{"$f":"IF($R93=\"\",\"\",VLOOKUP($R93,'FO-DRE-01'!$A$7:$U$301,12,FALSE))","v":""},{"$f":"IF($R93=\"\",\"\",VLOOKUP($R93,'FO-DRE-01'!$A$7:$U$301,13,FALSE))","v":""},{"$f":"IF($R93=\"\",\"\",VLOOKUP($R93,'FO-DRE-01'!$A$7:$U$301,14,FALSE))","v":""},{"$f":"IF($R93=\"\",\"\",VLOOKUP($R93,'FO-DRE-01'!$A$7:$U$301,15,FALSE))","v":""},{"$f":"IF($S93=\"\",\"\",VLOOKUP($S93,'FO-DRE-04'!$A$6:$L$301,2,FALSE))","v":""},{"$f":"IF($S93=\"\",\"\",VLOOKUP($S93,'FO-DRE-04'!$A$6:$L$301,3,FALSE))","v":""},{"$f":"IF($S93=\"\",\"\",VLOOKUP($S93,'FO-DRE-04'!$A$6:$L$301,4,FALSE))","v":""},{"$f":"IF($S93=\"\",\"\",VLOOKUP($S93,'FO-DRE-04'!$A$6:$L$301,6,FALSE))","v":""},{"$f":"IF($S93=\"\",\"\",VLOOKUP($S93,'FO-DRE-04'!$A$6:$L$301,11,FALSE))","v":""},{"$f":"IF($T93=\"\",\"\",VLOOKUP($T93,'FO-DRE-02'!$A$6:$M$101,2,FALSE))","v":""},{"$f":"IF($T93=\"\",\"\",VLOOKUP($T93,'FO-DRE-02'!$A$6:$M$101,3,FALSE))","v":""},{"$f":"IF($T93=\"\",\"\",VLOOKUP($T93,'FO-DRE-02'!$A$6:$M$101,6,FALSE))","v":""},{"$f":"IF($T93=\"\",\"\",VLOOKUP($T93,'FO-DRE-02'!$A$6:$M$101,4,FALSE))","v":""},{"$f":"IF($T93=\"\",\"\",VLOOKUP($T93,'FO-DRE-02'!$A$6:$M$101,5,FALSE))","v":""},{"$f":"IF($T93=\"\",\"\",VLOOKUP($T93,'FO-DRE-02'!$A$6:$M$101,8,FALSE))","v":""},{"$f":"IF($T93=\"\",\"\",VLOOKUP($T93,'FO-DRE-02'!$A$6:$M$101,7,FALSE))","v":""},{"$f":"IF($T93=\"\",\"\",VLOOKUP($T93,'FO-DRE-02'!$A$6:$M$101,9,FALSE))","v":""},{"$f":"IF($T93=\"\",\"\",VLOOKUP($T93,'FO-DRE-02'!$A$6:$M$101,11,FALSE))","v":""},{"$f":"IF($T93=\"\",\"\",VLOOKUP($T93,'FO-DRE-02'!$A$6:$M$101,12,FALSE))","v":""},{"$f":"IF($T93=\"\",\"\",VLOOKUP($T93,'FO-DRE-02'!$A$6:$M$101,13,FALSE))","v":""},null,856,null,84,"","F/D","F/D","","","","","","","","","","","","","","",""]
[null,null,null,null,null,null,null,null,{"$f":"IF(H94=\"1a\",Hoja1!$B$126,IF(H94=\"1b\",Hoja1!$B$127,IF(H94=\"2a\",Hoja1!$B$128,IF(H94=\"2b\",Hoja1!$B$129,IF(H94=\"3 \",Hoja1!$B$130,IF(H94=\"4 \",Hoja1!$B$131,IF(H94=\"5 \",Hoja1!$B$132,IF(H94=\"6 \",Hoja1!$B$133,IF(H94=\"7 \",Hoja1!$B$134,IF(H94=\"8 \",Hoja1!$B$135,\" \"))))))))))","v":" "},{"$f":"CONCATENATE(#REF!,\"-\",\"TX\")","v":{"$error":"#REF!"}},{"$f":"CONCATENATE(#REF!,\"-\",\"RX\")","v":{"$error":"#REF!"}},null,null,null,null,0,null,null,null,null,null,{"$f":"IF($R94=\"\",\"\",VLOOKUP($R94,'FO-DRE-01'!$A$7:$U$301,18,FALSE))","v":""},{"$f":"IF($R94=\"\",\"\",VLOOKUP($R94,'FO-DRE-01'!$A$7:$U$301,16,FALSE))","v":""},{"$f":"IF($R94=\"\",\"\",VLOOKUP($R94,'FO-DRE-01'!$A$7:$U$301,17,FALSE))","v":""},{"$f":"IF($R94=\"\",\"\",VLOOKUP($R94,'FO-DRE-01'!$A$7:$U$301,3,FALSE))","v":""},{"$f":"IF($R94=\"\",\"\",VLOOKUP($R94,'FO-DRE-01'!$A$7:$U$301,4,FALSE))","v":""},{"$f":"IF($R94=\"\",\"\",VLOOKUP($R94,'FO-DRE-01'!$A$7:$U$301,5,FALSE))","v":""},{"$f":"IF($R94=\"\",\"\",VLOOKUP($R94,'FO-DRE-01'!$A$7:$U$301,7,FALSE))","v":""},{"$f":"IF($R94=\"\",\"\",VLOOKUP($R94,'FO-DRE-01'!$A$7:$U$301,8,FALSE))","v":""},{"$f":"IF($R94=\"\",\"\",VLOOKUP($R94,'FO-DRE-01'!$A$7:$U$301,9,FALSE))","v":""},{"$f":"IF($R94=\"\",\"\",VLOOKUP($R94,'FO-DRE-01'!$A$7:$U$301,10,FALSE))","v":""},{"$f":"IF($R94=\"\",\"\",VLOOKUP($R94,'FO-DRE-01'!$A$7:$U$301,11,FALSE))","v":""},{"$f":"IF($R94=\"\",\"\",VLOOKUP($R94,'FO-DRE-01'!$A$7:$U$301,12,FALSE))","v":""},{"$f":"IF($R94=\"\",\"\",VLOOKUP($R94,'FO-DRE-01'!$A$7:$U$301,13,FALSE))","v":""},{"$f":"IF($R94=\"\",\"\",VLOOKUP($R94,'FO-DRE-01'!$A$7:$U$301,14,FALSE))","v":""},{"$f":"IF($R94=\"\",\"\",VLOOKUP($R94,'FO-DRE-01'!$A$7:$U$301,15,FALSE))","v":""},{"$f":"IF($S94=\"\",\"\",VLOOKUP($S94,'FO-DRE-04'!$A$6:$L$301,2,FALSE))","v":""},{"$f":"IF($S94=\"\",\"\",VLOOKUP($S94,'FO-DRE-04'!$A$6:$L$301,3,FALSE))","v":""},{"$f":"IF($S94=\"\",\"\",VLOOKUP($S94,'FO-DRE-04'!$A$6:$L$301,4,FALSE))","v":""},{"$f":"IF($S94=\"\",\"\",VLOOKUP($S94,'FO-DRE-04'!$A$6:$L$301,6,FALSE))","v":""},{"$f":"IF($S94=\"\",\"\",VLOOKUP($S94,'FO-DRE-04'!$A$6:$L$301,11,FALSE))","v":""},{"$f":"IF($T94=\"\",\"\",VLOOKUP($T94,'FO-DRE-02'!$A$6:$M$101,2,FALSE))","v":""},{"$f":"IF($T94=\"\",\"\",VLOOKUP($T94,'FO-DRE-02'!$A$6:$M$101,3,FALSE))","v":""},{"$f":"IF($T94=\"\",\"\",VLOOKUP($T94,'FO-DRE-02'!$A$6:$M$101,6,FALSE))","v":""},{"$f":"IF($T94=\"\",\"\",VLOOKUP($T94,'FO-DRE-02'!$A$6:$M$101,4,FALSE))","v":""},{"$f":"IF($T94=\"\",\"\",VLOOKUP($T94,'FO-DRE-02'!$A$6:$M$101,5,FALSE))","v":""},{"$f":"IF($T94=\"\",\"\",VLOOKUP($T94,'FO-DRE-02'!$A$6:$M$101,8,FALSE))","v":""},{"$f":"IF($T94=\"\",\"\",VLOOKUP($T94,'FO-DRE-02'!$A$6:$M$101,7,FALSE))","v":""},{"$f":"IF($T94=\"\",\"\",VLOOKUP($T94,'FO-DRE-02'!$A$6:$M$101,9,FALSE))","v":""},{"$f":"IF($T94=\"\",\"\",VLOOKUP($T94,'FO-DRE-02'!$A$6:$M$101,11,FALSE))","v":""},{"$f":"IF($T94=\"\",\"\",VLOOKUP($T94,'FO-DRE-02'!$A$6:$M$101,12,FALSE))","v":""},{"$f":"IF($T94=\"\",\"\",VLOOKUP($T94,'FO-DRE-02'!$A$6:$M$101,13,FALSE))","v":""},null,856,null,85,"","F/D","F/D","","","","","","","","","","","","","","",""]
[null,null,null,null,null,null,null,null,{"$f":"IF(H95=\"1a\",Hoja1!$B$126,IF(H95=\"1b\",Hoja1!$B$127,IF(H95=\"2a\",Hoja1!$B$128,IF(H95=\"2b\",Hoja1!$B$129,IF(H95=\"3 \",Hoja1!$B$130,IF(H95=\"4 \",Hoja1!$B$131,IF(H95=\"5 \",Hoja1!$B$132,IF(H95=\"6 \",Hoja1!$B$133,IF(H95=\"7 \",Hoja1!$B$134,IF(H95=\"8 \",Hoja1!$B$135,\" \"))))))))))","v":" "},{"$f":"CONCATENATE(#REF!,\"-\",\"TX\")","v":{"$error":"#REF!"}},{"$f":"CONCATENATE(#REF!,\"-\",\"RX\")","v":{"$error":"#REF!"}},null,null,null,null,0,null,null,null,null,null,{"$f":"IF($R95=\"\",\"\",VLOOKUP($R95,'FO-DRE-01'!$A$7:$U$301,18,FALSE))","v":""},{"$f":"IF($R95=\"\",\"\",VLOOKUP($R95,'FO-DRE-01'!$A$7:$U$301,16,FALSE))","v":""},{"$f":"IF($R95=\"\",\"\",VLOOKUP($R95,'FO-DRE-01'!$A$7:$U$301,17,FALSE))","v":""},{"$f":"IF($R95=\"\",\"\",VLOOKUP($R95,'FO-DRE-01'!$A$7:$U$301,3,FALSE))","v":""},{"$f":"IF($R95=\"\",\"\",VLOOKUP($R95,'FO-DRE-01'!$A$7:$U$301,4,FALSE))","v":""},{"$f":"IF($R95=\"\",\"\",VLOOKUP($R95,'FO-DRE-01'!$A$7:$U$301,5,FALSE))","v":""},{"$f":"IF($R95=\"\",\"\",VLOOKUP($R95,'FO-DRE-01'!$A$7:$U$301,7,FALSE))","v":""},{"$f":"IF($R95=\"\",\"\",VLOOKUP($R95,'FO-DRE-01'!$A$7:$U$301,8,FALSE))","v":""},{"$f":"IF($R95=\"\",\"\",VLOOKUP($R95,'FO-DRE-01'!$A$7:$U$301,9,FALSE))","v":""},{"$f":"IF($R95=\"\",\"\",VLOOKUP($R95,'FO-DRE-01'!$A$7:$U$301,10,FALSE))","v":""},{"$f":"IF($R95=\"\",\"\",VLOOKUP($R95,'FO-DRE-01'!$A$7:$U$301,11,FALSE))","v":""},{"$f":"IF($R95=\"\",\"\",VLOOKUP($R95,'FO-DRE-01'!$A$7:$U$301,12,FALSE))","v":""},{"$f":"IF($R95=\"\",\"\",VLOOKUP($R95,'FO-DRE-01'!$A$7:$U$301,13,FALSE))","v":""},{"$f":"IF($R95=\"\",\"\",VLOOKUP($R95,'FO-DRE-01'!$A$7:$U$301,14,FALSE))","v":""},{"$f":"IF($R95=\"\",\"\",VLOOKUP($R95,'FO-DRE-01'!$A$7:$U$301,15,FALSE))","v":""},{"$f":"IF($S95=\"\",\"\",VLOOKUP($S95,'FO-DRE-04'!$A$6:$L$301,2,FALSE))","v":""},{"$f":"IF($S95=\"\",\"\",VLOOKUP($S95,'FO-DRE-04'!$A$6:$L$301,3,FALSE))","v":""},{"$f":"IF($S95=\"\",\"\",VLOOKUP($S95,'FO-DRE-04'!$A$6:$L$301,4,FALSE))","v":""},{"$f":"IF($S95=\"\",\"\",VLOOKUP($S95,'FO-DRE-04'!$A$6:$L$301,6,FALSE))","v":""},{"$f":"IF($S95=\"\",\"\",VLOOKUP($S95,'FO-DRE-04'!$A$6:$L$301,11,FALSE))","v":""},{"$f":"IF($T95=\"\",\"\",VLOOKUP($T95,'FO-DRE-02'!$A$6:$M$101,2,FALSE))","v":""},{"$f":"IF($T95=\"\",\"\",VLOOKUP($T95,'FO-DRE-02'!$A$6:$M$101,3,FALSE))","v":""},{"$f":"IF($T95=\"\",\"\",VLOOKUP($T95,'FO-DRE-02'!$A$6:$M$101,6,FALSE))","v":""},{"$f":"IF($T95=\"\",\"\",VLOOKUP($T95,'FO-DRE-02'!$A$6:$M$101,4,FALSE))","v":""},{"$f":"IF($T95=\"\",\"\",VLOOKUP($T95,'FO-DRE-02'!$A$6:$M$101,5,FALSE))","v":""},{"$f":"IF($T95=\"\",\"\",VLOOKUP($T95,'FO-DRE-02'!$A$6:$M$101,8,FALSE))","v":""},{"$f":"IF($T95=\"\",\"\",VLOOKUP($T95,'FO-DRE-02'!$A$6:$M$101,7,FALSE))","v":""},{"$f":"IF($T95=\"\",\"\",VLOOKUP($T95,'FO-DRE-02'!$A$6:$M$101,9,FALSE))","v":""},{"$f":"IF($T95=\"\",\"\",VLOOKUP($T95,'FO-DRE-02'!$A$6:$M$101,11,FALSE))","v":""},{"$f":"IF($T95=\"\",\"\",VLOOKUP($T95,'FO-DRE-02'!$A$6:$M$101,12,FALSE))","v":""},{"$f":"IF($T95=\"\",\"\",VLOOKUP($T95,'FO-DRE-02'!$A$6:$M$101,13,FALSE))","v":""},null,856,null,86,"","F/D","F/D","","","","","","","","","","","","","","",""]
[null,null,null,null,null,null,null,null,{"$f":"IF(H96=\"1a\",Hoja1!$B$126,IF(H96=\"1b\",Hoja1!$B$127,IF(H96=\"2a\",Hoja1!$B$128,IF(H96=\"2b\",Hoja1!$B$129,IF(H96=\"3 \",Hoja1!$B$130,IF(H96=\"4 \",Hoja1!$B$131,IF(H96=\"5 \",Hoja1!$B$132,IF(H96=\"6 \",Hoja1!$B$133,IF(H96=\"7 \",Hoja1!$B$134,IF(H96=\"8 \",Hoja1!$B$135,\" \"))))))))))","v":" "},{"$f":"CONCATENATE(#REF!,\"-\",\"TX\")","v":{"$error":"#REF!"}},{"$f":"CONCATENATE(#REF!,\"-\",\"RX\")","v":{"$error":"#REF!"}},null,null,null,null,0,null,null,null,null,null,{"$f":"IF($R96=\"\",\"\",VLOOKUP($R96,'FO-DRE-01'!$A$7:$U$301,18,FALSE))","v":""},{"$f":"IF($R96=\"\",\"\",VLOOKUP($R96,'FO-DRE-01'!$A$7:$U$301,16,FALSE))","v":""},{"$f":"IF($R96=\"\",\"\",VLOOKUP($R96,'FO-DRE-01'!$A$7:$U$301,17,FALSE))","v":""},{"$f":"IF($R96=\"\",\"\",VLOOKUP($R96,'FO-DRE-01'!$A$7:$U$301,3,FALSE))","v":""},{"$f":"IF($R96=\"\",\"\",VLOOKUP($R96,'FO-DRE-01'!$A$7:$U$301,4,FALSE))","v":""},{"$f":"IF($R96=\"\",\"\",VLOOKUP($R96,'FO-DRE-01'!$A$7:$U$301,5,FALSE))","v":""},{"$f":"IF($R96=\"\",\"\",VLOOKUP($R96,'FO-DRE-01'!$A$7:$U$301,7,FALSE))","v":""},{"$f":"IF($R96=\"\",\"\",VLOOKUP($R96,'FO-DRE-01'!$A$7:$U$301,8,FALSE))","v":""},{"$f":"IF($R96=\"\",\"\",VLOOKUP($R96,'FO-DRE-01'!$A$7:$U$301,9,FALSE))","v":""},{"$f":"IF($R96=\"\",\"\",VLOOKUP($R96,'FO-DRE-01'!$A$7:$U$301,10,FALSE))","v":""},{"$f":"IF($R96=\"\",\"\",VLOOKUP($R96,'FO-DRE-01'!$A$7:$U$301,11,FALSE))","v":""},{"$f":"IF($R96=\"\",\"\",VLOOKUP($R96,'FO-DRE-01'!$A$7:$U$301,12,FALSE))","v":""},{"$f":"IF($R96=\"\",\"\",VLOOKUP($R96,'FO-DRE-01'!$A$7:$U$301,13,FALSE))","v":""},{"$f":"IF($R96=\"\",\"\",VLOOKUP($R96,'FO-DRE-01'!$A$7:$U$301,14,FALSE))","v":""},{"$f":"IF($R96=\"\",\"\",VLOOKUP($R96,'FO-DRE-01'!$A$7:$U$301,15,FALSE))","v":""},{"$f":"IF($S96=\"\",\"\",VLOOKUP($S96,'FO-DRE-04'!$A$6:$L$301,2,FALSE))","v":""},{"$f":"IF($S96=\"\",\"\",VLOOKUP($S96,'FO-DRE-04'!$A$6:$L$301,3,FALSE))","v":""},{"$f":"IF($S96=\"\",\"\",VLOOKUP($S96,'FO-DRE-04'!$A$6:$L$301,4,FALSE))","v":""},{"$f":"IF($S96=\"\",\"\",VLOOKUP($S96,'FO-DRE-04'!$A$6:$L$301,6,FALSE))","v":""},{"$f":"IF($S96=\"\",\"\",VLOOKUP($S96,'FO-DRE-04'!$A$6:$L$301,11,FALSE))","v":""},{"$f":"IF($T96=\"\",\"\",VLOOKUP($T96,'FO-DRE-02'!$A$6:$M$101,2,FALSE))","v":""},{"$f":"IF($T96=\"\",\"\",VLOOKUP($T96,'FO-DRE-02'!$A$6:$M$101,3,FALSE))","v":""},{"$f":"IF($T96=\"\",\"\",VLOOKUP($T96,'FO-DRE-02'!$A$6:$M$101,6,FALSE))","v":""},{"$f":"IF($T96=\"\",\"\",VLOOKUP($T96,'FO-DRE-02'!$A$6:$M$101,4,FALSE))","v":""},{"$f":"IF($T96=\"\",\"\",VLOOKUP($T96,'FO-DRE-02'!$A$6:$M$101,5,FALSE))","v":""},{"$f":"IF($T96=\"\",\"\",VLOOKUP($T96,'FO-DRE-02'!$A$6:$M$101,8,FALSE))","v":""},{"$f":"IF($T96=\"\",\"\",VLOOKUP($T96,'FO-DRE-02'!$A$6:$M$101,7,FALSE))","v":""},{"$f":"IF($T96=\"\",\"\",VLOOKUP($T96,'FO-DRE-02'!$A$6:$M$101,9,FALSE))","v":""},{"$f":"IF($T96=\"\",\"\",VLOOKUP($T96,'FO-DRE-02'!$A$6:$M$101,11,FALSE))","v":""},{"$f":"IF($T96=\"\",\"\",VLOOKUP($T96,'FO-DRE-02'!$A$6:$M$101,12,FALSE))","v":""},{"$f":"IF($T96=\"\",\"\",VLOOKUP($T96,'FO-DRE-02'!$A$6:$M$101,13,FALSE))","v":""},null,856,null,87,"","F/D","F/D","","","","","","","","","","","","","","",""]
[null,null,null,null,null,null,null,null,{"$f":"IF(H97=\"1a\",Hoja1!$B$126,IF(H97=\"1b\",Hoja1!$B$127,IF(H97=\"2a\",Hoja1!$B$128,IF(H97=\"2b\",Hoja1!$B$129,IF(H97=\"3 \",Hoja1!$B$130,IF(H97=\"4 \",Hoja1!$B$131,IF(H97=\"5 \",Hoja1!$B$132,IF(H97=\"6 \",Hoja1!$B$133,IF(H97=\"7 \",Hoja1!$B$134,IF(H97=\"8 \",Hoja1!$B$135,\" \"))))))))))","v":" "},{"$f":"CONCATENATE(#REF!,\"-\",\"TX\")","v":{"$error":"#REF!"}},{"$f":"CONCATENATE(#REF!,\"-\",\"RX\")","v":{"$error":"#REF!"}},null,null,null,null,0,null,null,null,null,null,{"$f":"IF($R97=\"\",\"\",VLOOKUP($R97,'FO-DRE-01'!$A$7:$U$301,18,FALSE))","v":""},{"$f":"IF($R97=\"\",\"\",VLOOKUP($R97,'FO-DRE-01'!$A$7:$U$301,16,FALSE))","v":""},{"$f":"IF($R97=\"\",\"\",VLOOKUP($R97,'FO-DRE-01'!$A$7:$U$301,17,FALSE))","v":""},{"$f":"IF($R97=\"\",\"\",VLOOKUP($R97,'FO-DRE-01'!$A$7:$U$301,3,FALSE))","v":""},{"$f":"IF($R97=\"\",\"\",VLOOKUP($R97,'FO-DRE-01'!$A$7:$U$301,4,FALSE))","v":""},{"$f":"IF($R97=\"\",\"\",VLOOKUP($R97,'FO-DRE-01'!$A$7:$U$301,5,FALSE))","v":""},{"$f":"IF($R97=\"\",\"\",VLOOKUP($R97,'FO-DRE-01'!$A$7:$U$301,7,FALSE))","v":""},{"$f":"IF($R97=\"\",\"\",VLOOKUP($R97,'FO-DRE-01'!$A$7:$U$301,8,FALSE))","v":""},{"$f":"IF($R97=\"\",\"\",VLOOKUP($R97,'FO-DRE-01'!$A$7:$U$301,9,FALSE))","v":""},{"$f":"IF($R97=\"\",\"\",VLOOKUP($R97,'FO-DRE-01'!$A$7:$U$301,10,FALSE))","v":""},{"$f":"IF($R97=\"\",\"\",VLOOKUP($R97,'FO-DRE-01'!$A$7:$U$301,11,FALSE))","v":""},{"$f":"IF($R97=\"\",\"\",VLOOKUP($R97,'FO-DRE-01'!$A$7:$U$301,12,FALSE))","v":""},{"$f":"IF($R97=\"\",\"\",VLOOKUP($R97,'FO-DRE-01'!$A$7:$U$301,13,FALSE))","v":""},{"$f":"IF($R97=\"\",\"\",VLOOKUP($R97,'FO-DRE-01'!$A$7:$U$301,14,FALSE))","v":""},{"$f":"IF($R97=\"\",\"\",VLOOKUP($R97,'FO-DRE-01'!$A$7:$U$301,15,FALSE))","v":""},{"$f":"IF($S97=\"\",\"\",VLOOKUP($S97,'FO-DRE-04'!$A$6:$L$301,2,FALSE))","v":""},{"$f":"IF($S97=\"\",\"\",VLOOKUP($S97,'FO-DRE-04'!$A$6:$L$301,3,FALSE))","v":""},{"$f":"IF($S97=\"\",\"\",VLOOKUP($S97,'FO-DRE-04'!$A$6:$L$301,4,FALSE))","v":""},{"$f":"IF($S97=\"\",\"\",VLOOKUP($S97,'FO-DRE-04'!$A$6:$L$301,6,FALSE))","v":""},{"$f":"IF($S97=\"\",\"\",VLOOKUP($S97,'FO-DRE-04'!$A$6:$L$301,11,FALSE))","v":""},{"$f":"IF($T97=\"\",\"\",VLOOKUP($T97,'FO-DRE-02'!$A$6:$M$101,2,FALSE))","v":""},{"$f":"IF($T97=\"\",\"\",VLOOKUP($T97,'FO-DRE-02'!$A$6:$M$101,3,FALSE))","v":""},{"$f":"IF($T97=\"\",\"\",VLOOKUP($T97,'FO-DRE-02'!$A$6:$M$101,6,FALSE))","v":""},{"$f":"IF($T97=\"\",\"\",VLOOKUP($T97,'FO-DRE-02'!$A$6:$M$101,4,FALSE))","v":""},{"$f":"IF($T97=\"\",\"\",VLOOKUP($T97,'FO-DRE-02'!$A$6:$M$101,5,FALSE))","v":""},{"$f":"IF($T97=\"\",\"\",VLOOKUP($T97,'FO-DRE-02'!$A$6:$M$101,8,FALSE))","v":""},{"$f":"IF($T97=\"\",\"\",VLOOKUP($T97,'FO-DRE-02'!$A$6:$M$101,7,FALSE))","v":""},{"$f":"IF($T97=\"\",\"\",VLOOKUP($T97,'FO-DRE-02'!$A$6:$M$101,9,FALSE))","v":""},{"$f":"IF($T97=\"\",\"\",VLOOKUP($T97,'FO-DRE-02'!$A$6:$M$101,11,FALSE))","v":""},{"$f":"IF($T97=\"\",\"\",VLOOKUP($T97,'FO-DRE-02'!$A$6:$M$101,12,FALSE))","v":""},{"$f":"IF($T97=\"\",\"\",VLOOKUP($T97,'FO-DRE-02'!$A$6:$M$101,13,FALSE))","v":""},null,856,null,88,"","F/D","F/D","","","","","","","","","","","","","","",""]
[null,null,null,null,null,null,null,null,{"$f":"IF(H98=\"1a\",Hoja1!$B$126,IF(H98=\"1b\",Hoja1!$B$127,IF(H98=\"2a\",Hoja1!$B$128,IF(H98=\"2b\",Hoja1!$B$129,IF(H98=\"3 \",Hoja1!$B$130,IF(H98=\"4 \",Hoja1!$B$131,IF(H98=\"5 \",Hoja1!$B$132,IF(H98=\"6 \",Hoja1!$B$133,IF(H98=\"7 \",Hoja1!$B$134,IF(H98=\"8 \",Hoja1!$B$135,\" \"))))))))))","v":" "},{"$f":"CONCATENATE(#REF!,\"-\",\"TX\")","v":{"$error":"#REF!"}},{"$f":"CONCATENATE(#REF!,\"-\",\"RX\")","v":{"$error":"#REF!"}},null,null,null,null,0,null,null,null,null,null,{"$f":"IF($R98=\"\",\"\",VLOOKUP($R98,'FO-DRE-01'!$A$7:$U$301,18,FALSE))","v":""},{"$f":"IF($R98=\"\",\"\",VLOOKUP($R98,'FO-DRE-01'!$A$7:$U$301,16,FALSE))","v":""},{"$f":"IF($R98=\"\",\"\",VLOOKUP($R98,'FO-DRE-01'!$A$7:$U$301,17,FALSE))","v":""},{"$f":"IF($R98=\"\",\"\",VLOOKUP($R98,'FO-DRE-01'!$A$7:$U$301,3,FALSE))","v":""},{"$f":"IF($R98=\"\",\"\",VLOOKUP($R98,'FO-DRE-01'!$A$7:$U$301,4,FALSE))","v":""},{"$f":"IF($R98=\"\",\"\",VLOOKUP($R98,'FO-DRE-01'!$A$7:$U$301,5,FALSE))","v":""},{"$f":"IF($R98=\"\",\"\",VLOOKUP($R98,'FO-DRE-01'!$A$7:$U$301,7,FALSE))","v":""},{"$f":"IF($R98=\"\",\"\",VLOOKUP($R98,'FO-DRE-01'!$A$7:$U$301,8,FALSE))","v":""},{"$f":"IF($R98=\"\",\"\",VLOOKUP($R98,'FO-DRE-01'!$A$7:$U$301,9,FALSE))","v":""},{"$f":"IF($R98=\"\",\"\",VLOOKUP($R98,'FO-DRE-01'!$A$7:$U$301,10,FALSE))","v":""},{"$f":"IF($R98=\"\",\"\",VLOOKUP($R98,'FO-DRE-01'!$A$7:$U$301,11,FALSE))","v":""},{"$f":"IF($R98=\"\",\"\",VLOOKUP($R98,'FO-DRE-01'!$A$7:$U$301,12,FALSE))","v":""},{"$f":"IF($R98=\"\",\"\",VLOOKUP($R98,'FO-DRE-01'!$A$7:$U$301,13,FALSE))","v":""},{"$f":"IF($R98=\"\",\"\",VLOOKUP($R98,'FO-DRE-01'!$A$7:$U$301,14,FALSE))","v":""},{"$f":"IF($R98=\"\",\"\",VLOOKUP($R98,'FO-DRE-01'!$A$7:$U$301,15,FALSE))","v":""},{"$f":"IF($S98=\"\",\"\",VLOOKUP($S98,'FO-DRE-04'!$A$6:$L$301,2,FALSE))","v":""},{"$f":"IF($S98=\"\",\"\",VLOOKUP($S98,'FO-DRE-04'!$A$6:$L$301,3,FALSE))","v":""},{"$f":"IF($S98=\"\",\"\",VLOOKUP($S98,'FO-DRE-04'!$A$6:$L$301,4,FALSE))","v":""},{"$f":"IF($S98=\"\",\"\",VLOOKUP($S98,'FO-DRE-04'!$A$6:$L$301,6,FALSE))","v":""},{"$f":"IF($S98=\"\",\"\",VLOOKUP($S98,'FO-DRE-04'!$A$6:$L$301,11,FALSE))","v":""},{"$f":"IF($T98=\"\",\"\",VLOOKUP($T98,'FO-DRE-02'!$A$6:$M$101,2,FALSE))","v":""},{"$f":"IF($T98=\"\",\"\",VLOOKUP($T98,'FO-DRE-02'!$A$6:$M$101,3,FALSE))","v":""},{"$f":"IF($T98=\"\",\"\",VLOOKUP($T98,'FO-DRE-02'!$A$6:$M$101,6,FALSE))","v":""},{"$f":"IF($T98=\"\",\"\",VLOOKUP($T98,'FO-DRE-02'!$A$6:$M$101,4,FALSE))","v":""},{"$f":"IF($T98=\"\",\"\",VLOOKUP($T98,'FO-DRE-02'!$A$6:$M$101,5,FALSE))","v":""},{"$f":"IF($T98=\"\",\"\",VLOOKUP($T98,'FO-DRE-02'!$A$6:$M$101,8,FALSE))","v":""},{"$f":"IF($T98=\"\",\"\",VLOOKUP($T98,'FO-DRE-02'!$A$6:$M$101,7,FALSE))","v":""},{"$f":"IF($T98=\"\",\"\",VLOOKUP($T98,'FO-DRE-02'!$A$6:$M$101,9,FALSE))","v":""},{"$f":"IF($T98=\"\",\"\",VLOOKUP($T98,'FO-DRE-02'!$A$6:$M$101,11,FALSE))","v":""},{"$f":"IF($T98=\"\",\"\",VLOOKUP($T98,'FO-DRE-02'!$A$6:$M$101,12,FALSE))","v":""},{"$f":"IF($T98=\"\",\"\",VLOOKUP($T98,'FO-DRE-02'!$A$6:$M$101,13,FALSE))","v":""},null,856,null,89,"","F/D","F/D","","","","","","","",{"$f":"IF(OR(AK98=\"MOVIL\",AK98=\"PORTATIL\"),\"\",IF(AN98=\"\",\"\",AN98))","v":""},"",{"$f":"IF(OR(BO98=\"\",BP98=\"\"),\"\",BP98*BO98)","v":""},"","","","",""]
[null,null,null,null,null,null,null,null,{"$f":"IF(H99=\"1a\",Hoja1!$B$126,IF(H99=\"1b\",Hoja1!$B$127,IF(H99=\"2a\",Hoja1!$B$128,IF(H99=\"2b\",Hoja1!$B$129,IF(H99=\"3 \",Hoja1!$B$130,IF(H99=\"4 \",Hoja1!$B$131,IF(H99=\"5 \",Hoja1!$B$132,IF(H99=\"6 \",Hoja1!$B$133,IF(H99=\"7 \",Hoja1!$B$134,IF(H99=\"8 \",Hoja1!$B$135,\" \"))))))))))","v":" "},{"$f":"CONCATENATE(#REF!,\"-\",\"TX\")","v":{"$error":"#REF!"}},{"$f":"CONCATENATE(#REF!,\"-\",\"RX\")","v":{"$error":"#REF!"}},null,null,null,null,0,null,null,null,null,null,{"$f":"IF($R99=\"\",\"\",VLOOKUP($R99,'FO-DRE-01'!$A$7:$U$301,18,FALSE))","v":""},{"$f":"IF($R99=\"\",\"\",VLOOKUP($R99,'FO-DRE-01'!$A$7:$U$301,16,FALSE))","v":""},{"$f":"IF($R99=\"\",\"\",VLOOKUP($R99,'FO-DRE-01'!$A$7:$U$301,17,FALSE))","v":""},{"$f":"IF($R99=\"\",\"\",VLOOKUP($R99,'FO-DRE-01'!$A$7:$U$301,3,FALSE))","v":""},{"$f":"IF($R99=\"\",\"\",VLOOKUP($R99,'FO-DRE-01'!$A$7:$U$301,4,FALSE))","v":""},{"$f":"IF($R99=\"\",\"\",VLOOKUP($R99,'FO-DRE-01'!$A$7:$U$301,5,FALSE))","v":""},{"$f":"IF($R99=\"\",\"\",VLOOKUP($R99,'FO-DRE-01'!$A$7:$U$301,7,FALSE))","v":""},{"$f":"IF($R99=\"\",\"\",VLOOKUP($R99,'FO-DRE-01'!$A$7:$U$301,8,FALSE))","v":""},{"$f":"IF($R99=\"\",\"\",VLOOKUP($R99,'FO-DRE-01'!$A$7:$U$301,9,FALSE))","v":""},{"$f":"IF($R99=\"\",\"\",VLOOKUP($R99,'FO-DRE-01'!$A$7:$U$301,10,FALSE))","v":""},{"$f":"IF($R99=\"\",\"\",VLOOKUP($R99,'FO-DRE-01'!$A$7:$U$301,11,FALSE))","v":""},{"$f":"IF($R99=\"\",\"\",VLOOKUP($R99,'FO-DRE-01'!$A$7:$U$301,12,FALSE))","v":""},{"$f":"IF($R99=\"\",\"\",VLOOKUP($R99,'FO-DRE-01'!$A$7:$U$301,13,FALSE))","v":""},{"$f":"IF($R99=\"\",\"\",VLOOKUP($R99,'FO-DRE-01'!$A$7:$U$301,14,FALSE))","v":""},{"$f":"IF($R99=\"\",\"\",VLOOKUP($R99,'FO-DRE-01'!$A$7:$U$301,15,FALSE))","v":""},{"$f":"IF($S99=\"\",\"\",VLOOKUP($S99,'FO-DRE-04'!$A$6:$L$301,2,FALSE))","v":""},{"$f":"IF($S99=\"\",\"\",VLOOKUP($S99,'FO-DRE-04'!$A$6:$L$301,3,FALSE))","v":""},{"$f":"IF($S99=\"\",\"\",VLOOKUP($S99,'FO-DRE-04'!$A$6:$L$301,4,FALSE))","v":""},{"$f":"IF($S99=\"\",\"\",VLOOKUP($S99,'FO-DRE-04'!$A$6:$L$301,6,FALSE))","v":""},{"$f":"IF($S99=\"\",\"\",VLOOKUP($S99,'FO-DRE-04'!$A$6:$L$301,11,FALSE))","v":""},{"$f":"IF($T99=\"\",\"\",VLOOKUP($T99,'FO-DRE-02'!$A$6:$M$101,2,FALSE))","v":""},{"$f":"IF($T99=\"\",\"\",VLOOKUP($T99,'FO-DRE-02'!$A$6:$M$101,3,FALSE))","v":""},{"$f":"IF($T99=\"\",\"\",VLOOKUP($T99,'FO-DRE-02'!$A$6:$M$101,6,FALSE))","v":""},{"$f":"IF($T99=\"\",\"\",VLOOKUP($T99,'FO-DRE-02'!$A$6:$M$101,4,FALSE))","v":""},{"$f":"IF($T99=\"\",\"\",VLOOKUP($T99,'FO-DRE-02'!$A$6:$M$101,5,FALSE))","v":""},{"$f":"IF($T99=\"\",\"\",VLOOKUP($T99,'FO-DRE-02'!$A$6:$M$101,8,FALSE))","v":""},{"$f":"IF($T99=\"\",\"\",VLOOKUP($T99,'FO-DRE-02'!$A$6:$M$101,7,FALSE))","v":""},{"$f":"IF($T99=\"\",\"\",VLOOKUP($T99,'FO-DRE-02'!$A$6:$M$101,9,FALSE))","v":""},{"$f":"IF($T99=\"\",\"\",VLOOKUP($T99,'FO-DRE-02'!$A$6:$M$101,11,FALSE))","v":""},{"$f":"IF($T99=\"\",\"\",VLOOKUP($T99,'FO-DRE-02'!$A$6:$M$101,12,FALSE))","v":""},{"$f":"IF($T99=\"\",\"\",VLOOKUP($T99,'FO-DRE-02'!$A$6:$M$101,13,FALSE))","v":""},null,856,null,90,"","F/D","F/D","","","","","","","","","","","","","","",""]
[null,null,null,null,null,null,null,null,{"$f":"IF(H100=\"1a\",Hoja1!$B$126,IF(H100=\"1b\",Hoja1!$B$127,IF(H100=\"2a\",Hoja1!$B$128,IF(H100=\"2b\",Hoja1!$B$129,IF(H100=\"3 \",Hoja1!$B$130,IF(H100=\"4 \",Hoja1!$B$131,IF(H100=\"5 \",Hoja1!$B$132,IF(H100=\"6 \",Hoja1!$B$133,IF(H100=\"7 \",Hoja1!$B$134,IF(H100=\"8 \",Hoja1!$B$135,\" \"))))))))))","v":" "},{"$f":"CONCATENATE(#REF!,\"-\",\"TX\")","v":{"$error":"#REF!"}},{"$f":"CONCATENATE(#REF!,\"-\",\"RX\")","v":{"$error":"#REF!"}},null,null,null,null,0,null,null,null,null,null,{"$f":"IF($R100=\"\",\"\",VLOOKUP($R100,'FO-DRE-01'!$A$7:$U$301,18,FALSE))","v":""},{"$f":"IF($R100=\"\",\"\",VLOOKUP($R100,'FO-DRE-01'!$A$7:$U$301,16,FALSE))","v":""},{"$f":"IF($R100=\"\",\"\",VLOOKUP($R100,'FO-DRE-01'!$A$7:$U$301,17,FALSE))","v":""},{"$f":"IF($R100=\"\",\"\",VLOOKUP($R100,'FO-DRE-01'!$A$7:$U$301,3,FALSE))","v":""},{"$f":"IF($R100=\"\",\"\",VLOOKUP($R100,'FO-DRE-01'!$A$7:$U$301,4,FALSE))","v":""},{"$f":"IF($R100=\"\",\"\",VLOOKUP($R100,'FO-DRE-01'!$A$7:$U$301,5,FALSE))","v":""},{"$f":"IF($R100=\"\",\"\",VLOOKUP($R100,'FO-DRE-01'!$A$7:$U$301,7,FALSE))","v":""},{"$f":"IF($R100=\"\",\"\",VLOOKUP($R100,'FO-DRE-01'!$A$7:$U$301,8,FALSE))","v":""},{"$f":"IF($R100=\"\",\"\",VLOOKUP($R100,'FO-DRE-01'!$A$7:$U$301,9,FALSE))","v":""},{"$f":"IF($R100=\"\",\"\",VLOOKUP($R100,'FO-DRE-01'!$A$7:$U$301,10,FALSE))","v":""},{"$f":"IF($R100=\"\",\"\",VLOOKUP($R100,'FO-DRE-01'!$A$7:$U$301,11,FALSE))","v":""},{"$f":"IF($R100=\"\",\"\",VLOOKUP($R100,'FO-DRE-01'!$A$7:$U$301,12,FALSE))","v":""},{"$f":"IF($R100=\"\",\"\",VLOOKUP($R100,'FO-DRE-01'!$A$7:$U$301,13,FALSE))","v":""},{"$f":"IF($R100=\"\",\"\",VLOOKUP($R100,'FO-DRE-01'!$A$7:$U$301,14,FALSE))","v":""},{"$f":"IF($R100=\"\",\"\",VLOOKUP($R100,'FO-DRE-01'!$A$7:$U$301,15,FALSE))","v":""},{"$f":"IF($S100=\"\",\"\",VLOOKUP($S100,'FO-DRE-04'!$A$6:$L$301,2,FALSE))","v":""},{"$f":"IF($S100=\"\",\"\",VLOOKUP($S100,'FO-DRE-04'!$A$6:$L$301,3,FALSE))","v":""},{"$f":"IF($S100=\"\",\"\",VLOOKUP($S100,'FO-DRE-04'!$A$6:$L$301,4,FALSE))","v":""},{"$f":"IF($S100=\"\",\"\",VLOOKUP($S100,'FO-DRE-04'!$A$6:$L$301,6,FALSE))","v":""},{"$f":"IF($S100=\"\",\"\",VLOOKUP($S100,'FO-DRE-04'!$A$6:$L$301,11,FALSE))","v":""},{"$f":"IF($T100=\"\",\"\",VLOOKUP($T100,'FO-DRE-02'!$A$6:$M$101,2,FALSE))","v":""},{"$f":"IF($T100=\"\",\"\",VLOOKUP($T100,'FO-DRE-02'!$A$6:$M$101,3,FALSE))","v":""},{"$f":"IF($T100=\"\",\"\",VLOOKUP($T100,'FO-DRE-02'!$A$6:$M$101,6,FALSE))","v":""},{"$f":"IF($T100=\"\",\"\",VLOOKUP($T100,'FO-DRE-02'!$A$6:$M$101,4,FALSE))","v":""},{"$f":"IF($T100=\"\",\"\",VLOOKUP($T100,'FO-DRE-02'!$A$6:$M$101,5,FALSE))","v":""},{"$f":"IF($T100=\"\",\"\",VLOOKUP($T100,'FO-DRE-02'!$A$6:$M$101,8,FALSE))","v":""},{"$f":"IF($T100=\"\",\"\",VLOOKUP($T100,'FO-DRE-02'!$A$6:$M$101,7,FALSE))","v":""},{"$f":"IF($T100=\"\",\"\",VLOOKUP($T100,'FO-DRE-02'!$A$6:$M$101,9,FALSE))","v":""},{"$f":"IF($T100=\"\",\"\",VLOOKUP($T100,'FO-DRE-02'!$A$6:$M$101,11,FALSE))","v":""},{"$f":"IF($T100=\"\",\"\",VLOOKUP($T100,'FO-DRE-02'!$A$6:$M$101,12,FALSE))","v":""},{"$f":"IF($T100=\"\",\"\",VLOOKUP($T100,'FO-DRE-02'!$A$6:$M$101,13,FALSE))","v":""},null,856,null,91,"","F/D","F/D","","","","","","","","","","","","","","",""]
[null,null,null,null,null,null,null,null,{"$f":"IF(H101=\"1a\",Hoja1!$B$126,IF(H101=\"1b\",Hoja1!$B$127,IF(H101=\"2a\",Hoja1!$B$128,IF(H101=\"2b\",Hoja1!$B$129,IF(H101=\"3 \",Hoja1!$B$130,IF(H101=\"4 \",Hoja1!$B$131,IF(H101=\"5 \",Hoja1!$B$132,IF(H101=\"6 \",Hoja1!$B$133,IF(H101=\"7 \",Hoja1!$B$134,IF(H101=\"8 \",Hoja1!$B$135,\" \"))))))))))","v":" "},{"$f":"CONCATENATE(#REF!,\"-\",\"TX\")","v":{"$error":"#REF!"}},{"$f":"CONCATENATE(#REF!,\"-\",\"RX\")","v":{"$error":"#REF!"}},null,null,null,null,0,null,null,null,null,null,{"$f":"IF($R101=\"\",\"\",VLOOKUP($R101,'FO-DRE-01'!$A$7:$U$301,18,FALSE))","v":""},{"$f":"IF($R101=\"\",\"\",VLOOKUP($R101,'FO-DRE-01'!$A$7:$U$301,16,FALSE))","v":""},{"$f":"IF($R101=\"\",\"\",VLOOKUP($R101,'FO-DRE-01'!$A$7:$U$301,17,FALSE))","v":""},{"$f":"IF($R101=\"\",\"\",VLOOKUP($R101,'FO-DRE-01'!$A$7:$U$301,3,FALSE))","v":""},{"$f":"IF($R101=\"\",\"\",VLOOKUP($R101,'FO-DRE-01'!$A$7:$U$301,4,FALSE))","v":""},{"$f":"IF($R101=\"\",\"\",VLOOKUP($R101,'FO-DRE-01'!$A$7:$U$301,5,FALSE))","v":""},{"$f":"IF($R101=\"\",\"\",VLOOKUP($R101,'FO-DRE-01'!$A$7:$U$301,7,FALSE))","v":""},{"$f":"IF($R101=\"\",\"\",VLOOKUP($R101,'FO-DRE-01'!$A$7:$U$301,8,FALSE))","v":""},{"$f":"IF($R101=\"\",\"\",VLOOKUP($R101,'FO-DRE-01'!$A$7:$U$301,9,FALSE))","v":""},{"$f":"IF($R101=\"\",\"\",VLOOKUP($R101,'FO-DRE-01'!$A$7:$U$301,10,FALSE))","v":""},{"$f":"IF($R101=\"\",\"\",VLOOKUP($R101,'FO-DRE-01'!$A$7:$U$301,11,FALSE))","v":""},{"$f":"IF($R101=\"\",\"\",VLOOKUP($R101,'FO-DRE-01'!$A$7:$U$301,12,FALSE))","v":""},{"$f":"IF($R101=\"\",\"\",VLOOKUP($R101,'FO-DRE-01'!$A$7:$U$301,13,FALSE))","v":""},{"$f":"IF($R101=\"\",\"\",VLOOKUP($R101,'FO-DRE-01'!$A$7:$U$301,14,FALSE))","v":""},{"$f":"IF($R101=\"\",\"\",VLOOKUP($R101,'FO-DRE-01'!$A$7:$U$301,15,FALSE))","v":""},{"$f":"IF($S101=\"\",\"\",VLOOKUP($S101,'FO-DRE-04'!$A$6:$L$301,2,FALSE))","v":""},{"$f":"IF($S101=\"\",\"\",VLOOKUP($S101,'FO-DRE-04'!$A$6:$L$301,3,FALSE))","v":""},{"$f":"IF($S101=\"\",\"\",VLOOKUP($S101,'FO-DRE-04'!$A$6:$L$301,4,FALSE))","v":""},{"$f":"IF($S101=\"\",\"\",VLOOKUP($S101,'FO-DRE-04'!$A$6:$L$301,6,FALSE))","v":""},{"$f":"IF($S101=\"\",\"\",VLOOKUP($S101,'FO-DRE-04'!$A$6:$L$301,11,FALSE))","v":""},{"$f":"IF($T101=\"\",\"\",VLOOKUP($T101,'FO-DRE-02'!$A$6:$M$101,2,FALSE))","v":""},{"$f":"IF($T101=\"\",\"\",VLOOKUP($T101,'FO-DRE-02'!$A$6:$M$101,3,FALSE))","v":""},{"$f":"IF($T101=\"\",\"\",VLOOKUP($T101,'FO-DRE-02'!$A$6:$M$101,6,FALSE))","v":""},{"$f":"IF($T101=\"\",\"\",VLOOKUP($T101,'FO-DRE-02'!$A$6:$M$101,4,FALSE))","v":""},{"$f":"IF($T101=\"\",\"\",VLOOKUP($T101,'FO-DRE-02'!$A$6:$M$101,5,FALSE))","v":""},{"$f":"IF($T101=\"\",\"\",VLOOKUP($T101,'FO-DRE-02'!$A$6:$M$101,8,FALSE))","v":""},{"$f":"IF($T101=\"\",\"\",VLOOKUP($T101,'FO-DRE-02'!$A$6:$M$101,7,FALSE))","v":""},{"$f":"IF($T101=\"\",\"\",VLOOKUP($T101,'FO-DRE-02'!$A$6:$M$101,9,FALSE))","v":""},{"$f":"IF($T101=\"\",\"\",VLOOKUP($T101,'FO-DRE-02'!$A$6:$M$101,11,FALSE))","v":""},{"$f":"IF($T101=\"\",\"\",VLOOKUP($T101,'FO-DRE-02'!$A$6:$M$101,12,FALSE))","v":""},{"$f":"IF($T101=\"\",\"\",VLOOKUP($T101,'FO-DRE-02'!$A$6:$M$101,13,FALSE))","v":""},null,null,null,92,"","F/D","F/D","","","","","","","","","","","","","","",""]
[null,null,null,null,null,null,null,null,{"$f":"IF(H102=\"1a\",Hoja1!$B$126,IF(H102=\"1b\",Hoja1!$B$127,IF(H102=\"2a\",Hoja1!$B$128,IF(H102=\"2b\",Hoja1!$B$129,IF(H102=\"3 \",Hoja1!$B$130,IF(H102=\"4 \",Hoja1!$B$131,IF(H102=\"5 \",Hoja1!$B$132,IF(H102=\"6 \",Hoja1!$B$133,IF(H102=\"7 \",Hoja1!$B$134,IF(H102=\"8 \",Hoja1!$B$135,\" \"))))))))))","v":" "},{"$f":"CONCATENATE(#REF!,\"-\",\"TX\")","v":{"$error":"#REF!"}},{"$f":"CONCATENATE(#REF!,\"-\",\"RX\")","v":{"$error":"#REF!"}},null,null,null,null,0,null,null,null,null,null,{"$f":"IF($R102=\"\",\"\",VLOOKUP($R102,'FO-DRE-01'!$A$7:$U$301,18,FALSE))","v":""},{"$f":"IF($R102=\"\",\"\",VLOOKUP($R102,'FO-DRE-01'!$A$7:$U$301,16,FALSE))","v":""},{"$f":"IF($R102=\"\",\"\",VLOOKUP($R102,'FO-DRE-01'!$A$7:$U$301,17,FALSE))","v":""},{"$f":"IF($R102=\"\",\"\",VLOOKUP($R102,'FO-DRE-01'!$A$7:$U$301,3,FALSE))","v":""},{"$f":"IF($R102=\"\",\"\",VLOOKUP($R102,'FO-DRE-01'!$A$7:$U$301,4,FALSE))","v":""},{"$f":"IF($R102=\"\",\"\",VLOOKUP($R102,'FO-DRE-01'!$A$7:$U$301,5,FALSE))","v":""},{"$f":"IF($R102=\"\",\"\",VLOOKUP($R102,'FO-DRE-01'!$A$7:$U$301,7,FALSE))","v":""},{"$f":"IF($R102=\"\",\"\",VLOOKUP($R102,'FO-DRE-01'!$A$7:$U$301,8,FALSE))","v":""},{"$f":"IF($R102=\"\",\"\",VLOOKUP($R102,'FO-DRE-01'!$A$7:$U$301,9,FALSE))","v":""},{"$f":"IF($R102=\"\",\"\",VLOOKUP($R102,'FO-DRE-01'!$A$7:$U$301,10,FALSE))","v":""},{"$f":"IF($R102=\"\",\"\",VLOOKUP($R102,'FO-DRE-01'!$A$7:$U$301,11,FALSE))","v":""},{"$f":"IF($R102=\"\",\"\",VLOOKUP($R102,'FO-DRE-01'!$A$7:$U$301,12,FALSE))","v":""},{"$f":"IF($R102=\"\",\"\",VLOOKUP($R102,'FO-DRE-01'!$A$7:$U$301,13,FALSE))","v":""},{"$f":"IF($R102=\"\",\"\",VLOOKUP($R102,'FO-DRE-01'!$A$7:$U$301,14,FALSE))","v":""},{"$f":"IF($R102=\"\",\"\",VLOOKUP($R102,'FO-DRE-01'!$A$7:$U$301,15,FALSE))","v":""},{"$f":"IF($S102=\"\",\"\",VLOOKUP($S102,'FO-DRE-04'!$A$6:$L$301,2,FALSE))","v":""},{"$f":"IF($S102=\"\",\"\",VLOOKUP($S102,'FO-DRE-04'!$A$6:$L$301,3,FALSE))","v":""},{"$f":"IF($S102=\"\",\"\",VLOOKUP($S102,'FO-DRE-04'!$A$6:$L$301,4,FALSE))","v":""},{"$f":"IF($S102=\"\",\"\",VLOOKUP($S102,'FO-DRE-04'!$A$6:$L$301,6,FALSE))","v":""},{"$f":"IF($S102=\"\",\"\",VLOOKUP($S102,'FO-DRE-04'!$A$6:$L$301,11,FALSE))","v":""},{"$f":"IF($T102=\"\",\"\",VLOOKUP($T102,'FO-DRE-02'!$A$6:$M$101,2,FALSE))","v":""},{"$f":"IF($T102=\"\",\"\",VLOOKUP($T102,'FO-DRE-02'!$A$6:$M$101,3,FALSE))","v":""},{"$f":"IF($T102=\"\",\"\",VLOOKUP($T102,'FO-DRE-02'!$A$6:$M$101,6,FALSE))","v":""},{"$f":"IF($T102=\"\",\"\",VLOOKUP($T102,'FO-DRE-02'!$A$6:$M$101,4,FALSE))","v":""},{"$f":"IF($T102=\"\",\"\",VLOOKUP($T102,'FO-DRE-02'!$A$6:$M$101,5,FALSE))","v":""},{"$f":"IF($T102=\"\",\"\",VLOOKUP($T102,'FO-DRE-02'!$A$6:$M$101,8,FALSE))","v":""},{"$f":"IF($T102=\"\",\"\",VLOOKUP($T102,'FO-DRE-02'!$A$6:$M$101,7,FALSE))","v":""},{"$f":"IF($T102=\"\",\"\",VLOOKUP($T102,'FO-DRE-02'!$A$6:$M$101,9,FALSE))","v":""},{"$f":"IF($T102=\"\",\"\",VLOOKUP($T102,'FO-DRE-02'!$A$6:$M$101,11,FALSE))","v":""},{"$f":"IF($T102=\"\",\"\",VLOOKUP($T102,'FO-DRE-02'!$A$6:$M$101,12,FALSE))","v":""},{"$f":"IF($T102=\"\",\"\",VLOOKUP($T102,'FO-DRE-02'!$A$6:$M$101,13,FALSE))","v":""},null,null,null,93,"","F/D","F/D","","","","","","","","","","","","","","",""]
[null,null,null,null,null,null,null,null,{"$f":"IF(H103=\"1a\",Hoja1!$B$126,IF(H103=\"1b\",Hoja1!$B$127,IF(H103=\"2a\",Hoja1!$B$128,IF(H103=\"2b\",Hoja1!$B$129,IF(H103=\"3 \",Hoja1!$B$130,IF(H103=\"4 \",Hoja1!$B$131,IF(H103=\"5 \",Hoja1!$B$132,IF(H103=\"6 \",Hoja1!$B$133,IF(H103=\"7 \",Hoja1!$B$134,IF(H103=\"8 \",Hoja1!$B$135,\" \"))))))))))","v":" "},{"$f":"CONCATENATE(#REF!,\"-\",\"TX\")","v":{"$error":"#REF!"}},{"$f":"CONCATENATE(#REF!,\"-\",\"RX\")","v":{"$error":"#REF!"}},null,null,null,null,0,null,null,null,null,null,{"$f":"IF($R103=\"\",\"\",VLOOKUP($R103,'FO-DRE-01'!$A$7:$U$301,18,FALSE))","v":""},{"$f":"IF($R103=\"\",\"\",VLOOKUP($R103,'FO-DRE-01'!$A$7:$U$301,16,FALSE))","v":""},{"$f":"IF($R103=\"\",\"\",VLOOKUP($R103,'FO-DRE-01'!$A$7:$U$301,17,FALSE))","v":""},{"$f":"IF($R103=\"\",\"\",VLOOKUP($R103,'FO-DRE-01'!$A$7:$U$301,3,FALSE))","v":""},{"$f":"IF($R103=\"\",\"\",VLOOKUP($R103,'FO-DRE-01'!$A$7:$U$301,4,FALSE))","v":""},{"$f":"IF($R103=\"\",\"\",VLOOKUP($R103,'FO-DRE-01'!$A$7:$U$301,5,FALSE))","v":""},{"$f":"IF($R103=\"\",\"\",VLOOKUP($R103,'FO-DRE-01'!$A$7:$U$301,7,FALSE))","v":""},{"$f":"IF($R103=\"\",\"\",VLOOKUP($R103,'FO-DRE-01'!$A$7:$U$301,8,FALSE))","v":""},{"$f":"IF($R103=\"\",\"\",VLOOKUP($R103,'FO-DRE-01'!$A$7:$U$301,9,FALSE))","v":""},{"$f":"IF($R103=\"\",\"\",VLOOKUP($R103,'FO-DRE-01'!$A$7:$U$301,10,FALSE))","v":""},{"$f":"IF($R103=\"\",\"\",VLOOKUP($R103,'FO-DRE-01'!$A$7:$U$301,11,FALSE))","v":""},{"$f":"IF($R103=\"\",\"\",VLOOKUP($R103,'FO-DRE-01'!$A$7:$U$301,12,FALSE))","v":""},{"$f":"IF($R103=\"\",\"\",VLOOKUP($R103,'FO-DRE-01'!$A$7:$U$301,13,FALSE))","v":""},{"$f":"IF($R103=\"\",\"\",VLOOKUP($R103,'FO-DRE-01'!$A$7:$U$301,14,FALSE))","v":""},{"$f":"IF($R103=\"\",\"\",VLOOKUP($R103,'FO-DRE-01'!$A$7:$U$301,15,FALSE))","v":""},{"$f":"IF($S103=\"\",\"\",VLOOKUP($S103,'FO-DRE-04'!$A$6:$L$301,2,FALSE))","v":""},{"$f":"IF($S103=\"\",\"\",VLOOKUP($S103,'FO-DRE-04'!$A$6:$L$301,3,FALSE))","v":""},{"$f":"IF($S103=\"\",\"\",VLOOKUP($S103,'FO-DRE-04'!$A$6:$L$301,4,FALSE))","v":""},{"$f":"IF($S103=\"\",\"\",VLOOKUP($S103,'FO-DRE-04'!$A$6:$L$301,6,FALSE))","v":""},{"$f":"IF($S103=\"\",\"\",VLOOKUP($S103,'FO-DRE-04'!$A$6:$L$301,11,FALSE))","v":""},{"$f":"IF($T103=\"\",\"\",VLOOKUP($T103,'FO-DRE-02'!$A$6:$M$101,2,FALSE))","v":""},{"$f":"IF($T103=\"\",\"\",VLOOKUP($T103,'FO-DRE-02'!$A$6:$M$101,3,FALSE))","v":""},{"$f":"IF($T103=\"\",\"\",VLOOKUP($T103,'FO-DRE-02'!$A$6:$M$101,6,FALSE))","v":""},{"$f":"IF($T103=\"\",\"\",VLOOKUP($T103,'FO-DRE-02'!$A$6:$M$101,4,FALSE))","v":""},{"$f":"IF($T103=\"\",\"\",VLOOKUP($T103,'FO-DRE-02'!$A$6:$M$101,5,FALSE))","v":""},{"$f":"IF($T103=\"\",\"\",VLOOKUP($T103,'FO-DRE-02'!$A$6:$M$101,8,FALSE))","v":""},{"$f":"IF($T103=\"\",\"\",VLOOKUP($T103,'FO-DRE-02'!$A$6:$M$101,7,FALSE))","v":""},{"$f":"IF($T103=\"\",\"\",VLOOKUP($T103,'FO-DRE-02'!$A$6:$M$101,9,FALSE))","v":""},{"$f":"IF($T103=\"\",\"\",VLOOKUP($T103,'FO-DRE-02'!$A$6:$M$101,11,FALSE))","v":""},{"$f":"IF($T103=\"\",\"\",VLOOKUP($T103,'FO-DRE-02'!$A$6:$M$101,12,FALSE))","v":""},{"$f":"IF($T103=\"\",\"\",VLOOKUP($T103,'FO-DRE-02'!$A$6:$M$101,13,FALSE))","v":""},null,null,null,94,"","F/D","F/D","","","","","","","","","","","","","","",""]
[null,null,null,null,null,null,null,null,{"$f":"IF(H104=\"1a\",Hoja1!$B$126,IF(H104=\"1b\",Hoja1!$B$127,IF(H104=\"2a\",Hoja1!$B$128,IF(H104=\"2b\",Hoja1!$B$129,IF(H104=\"3 \",Hoja1!$B$130,IF(H104=\"4 \",Hoja1!$B$131,IF(H104=\"5 \",Hoja1!$B$132,IF(H104=\"6 \",Hoja1!$B$133,IF(H104=\"7 \",Hoja1!$B$134,IF(H104=\"8 \",Hoja1!$B$135,\" \"))))))))))","v":" "},{"$f":"CONCATENATE(#REF!,\"-\",\"TX\")","v":{"$error":"#REF!"}},{"$f":"CONCATENATE(#REF!,\"-\",\"RX\")","v":{"$error":"#REF!"}},null,null,null,null,0,null,null,null,null,null,{"$f":"IF($R104=\"\",\"\",VLOOKUP($R104,'FO-DRE-01'!$A$7:$U$301,18,FALSE))","v":""},{"$f":"IF($R104=\"\",\"\",VLOOKUP($R104,'FO-DRE-01'!$A$7:$U$301,16,FALSE))","v":""},{"$f":"IF($R104=\"\",\"\",VLOOKUP($R104,'FO-DRE-01'!$A$7:$U$301,17,FALSE))","v":""},{"$f":"IF($R104=\"\",\"\",VLOOKUP($R104,'FO-DRE-01'!$A$7:$U$301,3,FALSE))","v":""},{"$f":"IF($R104=\"\",\"\",VLOOKUP($R104,'FO-DRE-01'!$A$7:$U$301,4,FALSE))","v":""},{"$f":"IF($R104=\"\",\"\",VLOOKUP($R104,'FO-DRE-01'!$A$7:$U$301,5,FALSE))","v":""},{"$f":"IF($R104=\"\",\"\",VLOOKUP($R104,'FO-DRE-01'!$A$7:$U$301,7,FALSE))","v":""},{"$f":"IF($R104=\"\",\"\",VLOOKUP($R104,'FO-DRE-01'!$A$7:$U$301,8,FALSE))","v":""},{"$f":"IF($R104=\"\",\"\",VLOOKUP($R104,'FO-DRE-01'!$A$7:$U$301,9,FALSE))","v":""},{"$f":"IF($R104=\"\",\"\",VLOOKUP($R104,'FO-DRE-01'!$A$7:$U$301,10,FALSE))","v":""},{"$f":"IF($R104=\"\",\"\",VLOOKUP($R104,'FO-DRE-01'!$A$7:$U$301,11,FALSE))","v":""},{"$f":"IF($R104=\"\",\"\",VLOOKUP($R104,'FO-DRE-01'!$A$7:$U$301,12,FALSE))","v":""},{"$f":"IF($R104=\"\",\"\",VLOOKUP($R104,'FO-DRE-01'!$A$7:$U$301,13,FALSE))","v":""},{"$f":"IF($R104=\"\",\"\",VLOOKUP($R104,'FO-DRE-01'!$A$7:$U$301,14,FALSE))","v":""},{"$f":"IF($R104=\"\",\"\",VLOOKUP($R104,'FO-DRE-01'!$A$7:$U$301,15,FALSE))","v":""},{"$f":"IF($S104=\"\",\"\",VLOOKUP($S104,'FO-DRE-04'!$A$6:$L$301,2,FALSE))","v":""},{"$f":"IF($S104=\"\",\"\",VLOOKUP($S104,'FO-DRE-04'!$A$6:$L$301,3,FALSE))","v":""},{"$f":"IF($S104=\"\",\"\",VLOOKUP($S104,'FO-DRE-04'!$A$6:$L$301,4,FALSE))","v":""},{"$f":"IF($S104=\"\",\"\",VLOOKUP($S104,'FO-DRE-04'!$A$6:$L$301,6,FALSE))","v":""},{"$f":"IF($S104=\"\",\"\",VLOOKUP($S104,'FO-DRE-04'!$A$6:$L$301,11,FALSE))","v":""},{"$f":"IF($T104=\"\",\"\",VLOOKUP($T104,'FO-DRE-02'!$A$6:$M$101,2,FALSE))","v":""},{"$f":"IF($T104=\"\",\"\",VLOOKUP($T104,'FO-DRE-02'!$A$6:$M$101,3,FALSE))","v":""},{"$f":"IF($T104=\"\",\"\",VLOOKUP($T104,'FO-DRE-02'!$A$6:$M$101,6,FALSE))","v":""},{"$f":"IF($T104=\"\",\"\",VLOOKUP($T104,'FO-DRE-02'!$A$6:$M$101,4,FALSE))","v":""},{"$f":"IF($T104=\"\",\"\",VLOOKUP($T104,'FO-DRE-02'!$A$6:$M$101,5,FALSE))","v":""},{"$f":"IF($T104=\"\",\"\",VLOOKUP($T104,'FO-DRE-02'!$A$6:$M$101,8,FALSE))","v":""},{"$f":"IF($T104=\"\",\"\",VLOOKUP($T104,'FO-DRE-02'!$A$6:$M$101,7,FALSE))","v":""},{"$f":"IF($T104=\"\",\"\",VLOOKUP($T104,'FO-DRE-02'!$A$6:$M$101,9,FALSE))","v":""},{"$f":"IF($T104=\"\",\"\",VLOOKUP($T104,'FO-DRE-02'!$A$6:$M$101,11,FALSE))","v":""},{"$f":"IF($T104=\"\",\"\",VLOOKUP($T104,'FO-DRE-02'!$A$6:$M$101,12,FALSE))","v":""},{"$f":"IF($T104=\"\",\"\",VLOOKUP($T104,'FO-DRE-02'!$A$6:$M$101,13,FALSE))","v":""},null,null,null,95,"","F/D","F/D","","","","","","","","","","","","","","",""]
[null,null,null,null,null,null,null,null,{"$f":"IF(H105=\"1a\",Hoja1!$B$126,IF(H105=\"1b\",Hoja1!$B$127,IF(H105=\"2a\",Hoja1!$B$128,IF(H105=\"2b\",Hoja1!$B$129,IF(H105=\"3 \",Hoja1!$B$130,IF(H105=\"4 \",Hoja1!$B$131,IF(H105=\"5 \",Hoja1!$B$132,IF(H105=\"6 \",Hoja1!$B$133,IF(H105=\"7 \",Hoja1!$B$134,IF(H105=\"8 \",Hoja1!$B$135,\" \"))))))))))","v":" "},{"$f":"CONCATENATE(#REF!,\"-\",\"TX\")","v":{"$error":"#REF!"}},{"$f":"CONCATENATE(#REF!,\"-\",\"RX\")","v":{"$error":"#REF!"}},null,null,null,null,0,null,null,null,null,null,{"$f":"IF($R105=\"\",\"\",VLOOKUP($R105,'FO-DRE-01'!$A$7:$U$301,18,FALSE))","v":""},{"$f":"IF($R105=\"\",\"\",VLOOKUP($R105,'FO-DRE-01'!$A$7:$U$301,16,FALSE))","v":""},{"$f":"IF($R105=\"\",\"\",VLOOKUP($R105,'FO-DRE-01'!$A$7:$U$301,17,FALSE))","v":""},{"$f":"IF($R105=\"\",\"\",VLOOKUP($R105,'FO-DRE-01'!$A$7:$U$301,3,FALSE))","v":""},{"$f":"IF($R105=\"\",\"\",VLOOKUP($R105,'FO-DRE-01'!$A$7:$U$301,4,FALSE))","v":""},{"$f":"IF($R105=\"\",\"\",VLOOKUP($R105,'FO-DRE-01'!$A$7:$U$301,5,FALSE))","v":""},{"$f":"IF($R105=\"\",\"\",VLOOKUP($R105,'FO-DRE-01'!$A$7:$U$301,7,FALSE))","v":""},{"$f":"IF($R105=\"\",\"\",VLOOKUP($R105,'FO-DRE-01'!$A$7:$U$301,8,FALSE))","v":""},{"$f":"IF($R105=\"\",\"\",VLOOKUP($R105,'FO-DRE-01'!$A$7:$U$301,9,FALSE))","v":""},{"$f":"IF($R105=\"\",\"\",VLOOKUP($R105,'FO-DRE-01'!$A$7:$U$301,10,FALSE))","v":""},{"$f":"IF($R105=\"\",\"\",VLOOKUP($R105,'FO-DRE-01'!$A$7:$U$301,11,FALSE))","v":""},{"$f":"IF($R105=\"\",\"\",VLOOKUP($R105,'FO-DRE-01'!$A$7:$U$301,12,FALSE))","v":""},{"$f":"IF($R105=\"\",\"\",VLOOKUP($R105,'FO-DRE-01'!$A$7:$U$301,13,FALSE))","v":""},{"$f":"IF($R105=\"\",\"\",VLOOKUP($R105,'FO-DRE-01'!$A$7:$U$301,14,FALSE))","v":""},{"$f":"IF($R105=\"\",\"\",VLOOKUP($R105,'FO-DRE-01'!$A$7:$U$301,15,FALSE))","v":""},{"$f":"IF($S105=\"\",\"\",VLOOKUP($S105,'FO-DRE-04'!$A$6:$L$301,2,FALSE))","v":""},{"$f":"IF($S105=\"\",\"\",VLOOKUP($S105,'FO-DRE-04'!$A$6:$L$301,3,FALSE))","v":""},{"$f":"IF($S105=\"\",\"\",VLOOKUP($S105,'FO-DRE-04'!$A$6:$L$301,4,FALSE))","v":""},{"$f":"IF($S105=\"\",\"\",VLOOKUP($S105,'FO-DRE-04'!$A$6:$L$301,6,FALSE))","v":""},{"$f":"IF($S105=\"\",\"\",VLOOKUP($S105,'FO-DRE-04'!$A$6:$L$301,11,FALSE))","v":""},{"$f":"IF($T105=\"\",\"\",VLOOKUP($T105,'FO-DRE-02'!$A$6:$M$101,2,FALSE))","v":""},{"$f":"IF($T105=\"\",\"\",VLOOKUP($T105,'FO-DRE-02'!$A$6:$M$101,3,FALSE))","v":""},{"$f":"IF($T105=\"\",\"\",VLOOKUP($T105,'FO-DRE-02'!$A$6:$M$101,6,FALSE))","v":""},{"$f":"IF($T105=\"\",\"\",VLOOKUP($T105,'FO-DRE-02'!$A$6:$M$101,4,FALSE))","v":""},{"$f":"IF($T105=\"\",\"\",VLOOKUP($T105,'FO-DRE-02'!$A$6:$M$101,5,FALSE))","v":""},{"$f":"IF($T105=\"\",\"\",VLOOKUP($T105,'FO-DRE-02'!$A$6:$M$101,8,FALSE))","v":""},{"$f":"IF($T105=\"\",\"\",VLOOKUP($T105,'FO-DRE-02'!$A$6:$M$101,7,FALSE))","v":""},{"$f":"IF($T105=\"\",\"\",VLOOKUP($T105,'FO-DRE-02'!$A$6:$M$101,9,FALSE))","v":""},{"$f":"IF($T105=\"\",\"\",VLOOKUP($T105,'FO-DRE-02'!$A$6:$M$101,11,FALSE))","v":""},{"$f":"IF($T105=\"\",\"\",VLOOKUP($T105,'FO-DRE-02'!$A$6:$M$101,12,FALSE))","v":""},{"$f":"IF($T105=\"\",\"\",VLOOKUP($T105,'FO-DRE-02'!$A$6:$M$101,13,FALSE))","v":""},null,null,null,96,"","F/D","F/D","","","","","","","","","","","","","","",""]
[null,null,null,null,null,null,null,null,{"$f":"IF(H106=\"1a\",Hoja1!$B$126,IF(H106=\"1b\",Hoja1!$B$127,IF(H106=\"2a\",Hoja1!$B$128,IF(H106=\"2b\",Hoja1!$B$129,IF(H106=\"3 \",Hoja1!$B$130,IF(H106=\"4 \",Hoja1!$B$131,IF(H106=\"5 \",Hoja1!$B$132,IF(H106=\"6 \",Hoja1!$B$133,IF(H106=\"7 \",Hoja1!$B$134,IF(H106=\"8 \",Hoja1!$B$135,\" \"))))))))))","v":" "},{"$f":"CONCATENATE(#REF!,\"-\",\"TX\")","v":{"$error":"#REF!"}},{"$f":"CONCATENATE(#REF!,\"-\",\"RX\")","v":{"$error":"#REF!"}},null,null,null,null,0,null,null,null,null,null,{"$f":"IF($R106=\"\",\"\",VLOOKUP($R106,'FO-DRE-01'!$A$7:$U$301,18,FALSE))","v":""},{"$f":"IF($R106=\"\",\"\",VLOOKUP($R106,'FO-DRE-01'!$A$7:$U$301,16,FALSE))","v":""},{"$f":"IF($R106=\"\",\"\",VLOOKUP($R106,'FO-DRE-01'!$A$7:$U$301,17,FALSE))","v":""},{"$f":"IF($R106=\"\",\"\",VLOOKUP($R106,'FO-DRE-01'!$A$7:$U$301,3,FALSE))","v":""},{"$f":"IF($R106=\"\",\"\",VLOOKUP($R106,'FO-DRE-01'!$A$7:$U$301,4,FALSE))","v":""},{"$f":"IF($R106=\"\",\"\",VLOOKUP($R106,'FO-DRE-01'!$A$7:$U$301,5,FALSE))","v":""},{"$f":"IF($R106=\"\",\"\",VLOOKUP($R106,'FO-DRE-01'!$A$7:$U$301,7,FALSE))","v":""},{"$f":"IF($R106=\"\",\"\",VLOOKUP($R106,'FO-DRE-01'!$A$7:$U$301,8,FALSE))","v":""},{"$f":"IF($R106=\"\",\"\",VLOOKUP($R106,'FO-DRE-01'!$A$7:$U$301,9,FALSE))","v":""},{"$f":"IF($R106=\"\",\"\",VLOOKUP($R106,'FO-DRE-01'!$A$7:$U$301,10,FALSE))","v":""},{"$f":"IF($R106=\"\",\"\",VLOOKUP($R106,'FO-DRE-01'!$A$7:$U$301,11,FALSE))","v":""},{"$f":"IF($R106=\"\",\"\",VLOOKUP($R106,'FO-DRE-01'!$A$7:$U$301,12,FALSE))","v":""},{"$f":"IF($R106=\"\",\"\",VLOOKUP($R106,'FO-DRE-01'!$A$7:$U$301,13,FALSE))","v":""},{"$f":"IF($R106=\"\",\"\",VLOOKUP($R106,'FO-DRE-01'!$A$7:$U$301,14,FALSE))","v":""},{"$f":"IF($R106=\"\",\"\",VLOOKUP($R106,'FO-DRE-01'!$A$7:$U$301,15,FALSE))","v":""},{"$f":"IF($S106=\"\",\"\",VLOOKUP($S106,'FO-DRE-04'!$A$6:$L$301,2,FALSE))","v":""},{"$f":"IF($S106=\"\",\"\",VLOOKUP($S106,'FO-DRE-04'!$A$6:$L$301,3,FALSE))","v":""},{"$f":"IF($S106=\"\",\"\",VLOOKUP($S106,'FO-DRE-04'!$A$6:$L$301,4,FALSE))","v":""},{"$f":"IF($S106=\"\",\"\",VLOOKUP($S106,'FO-DRE-04'!$A$6:$L$301,6,FALSE))","v":""},{"$f":"IF($S106=\"\",\"\",VLOOKUP($S106,'FO-DRE-04'!$A$6:$L$301,11,FALSE))","v":""},{"$f":"IF($T106=\"\",\"\",VLOOKUP($T106,'FO-DRE-02'!$A$6:$M$101,2,FALSE))","v":""},{"$f":"IF($T106=\"\",\"\",VLOOKUP($T106,'FO-DRE-02'!$A$6:$M$101,3,FALSE))","v":""},{"$f":"IF($T106=\"\",\"\",VLOOKUP($T106,'FO-DRE-02'!$A$6:$M$101,6,FALSE))","v":""},{"$f":"IF($T106=\"\",\"\",VLOOKUP($T106,'FO-DRE-02'!$A$6:$M$101,4,FALSE))","v":""},{"$f":"IF($T106=\"\",\"\",VLOOKUP($T106,'FO-DRE-02'!$A$6:$M$101,5,FALSE))","v":""},{"$f":"IF($T106=\"\",\"\",VLOOKUP($T106,'FO-DRE-02'!$A$6:$M$101,8,FALSE))","v":""},{"$f":"IF($T106=\"\",\"\",VLOOKUP($T106,'FO-DRE-02'!$A$6:$M$101,7,FALSE))","v":""},{"$f":"IF($T106=\"\",\"\",VLOOKUP($T106,'FO-DRE-02'!$A$6:$M$101,9,FALSE))","v":""},{"$f":"IF($T106=\"\",\"\",VLOOKUP($T106,'FO-DRE-02'!$A$6:$M$101,11,FALSE))","v":""},{"$f":"IF($T106=\"\",\"\",VLOOKUP($T106,'FO-DRE-02'!$A$6:$M$101,12,FALSE))","v":""},{"$f":"IF($T106=\"\",\"\",VLOOKUP($T106,'FO-DRE-02'!$A$6:$M$101,13,FALSE))","v":""},null,null,null,97,"","F/D","F/D","","","","","","","","","","","","","","",""]
[null,null,null,null,null,null,null,null,{"$f":"IF(H107=\"1a\",Hoja1!$B$126,IF(H107=\"1b\",Hoja1!$B$127,IF(H107=\"2a\",Hoja1!$B$128,IF(H107=\"2b\",Hoja1!$B$129,IF(H107=\"3 \",Hoja1!$B$130,IF(H107=\"4 \",Hoja1!$B$131,IF(H107=\"5 \",Hoja1!$B$132,IF(H107=\"6 \",Hoja1!$B$133,IF(H107=\"7 \",Hoja1!$B$134,IF(H107=\"8 \",Hoja1!$B$135,\" \"))))))))))","v":" "},{"$f":"CONCATENATE(#REF!,\"-\",\"TX\")","v":{"$error":"#REF!"}},{"$f":"CONCATENATE(#REF!,\"-\",\"RX\")","v":{"$error":"#REF!"}},null,null,null,null,0,null,null,null,null,null,{"$f":"IF($R107=\"\",\"\",VLOOKUP($R107,'FO-DRE-01'!$A$7:$U$301,18,FALSE))","v":""},{"$f":"IF($R107=\"\",\"\",VLOOKUP($R107,'FO-DRE-01'!$A$7:$U$301,16,FALSE))","v":""},{"$f":"IF($R107=\"\",\"\",VLOOKUP($R107,'FO-DRE-01'!$A$7:$U$301,17,FALSE))","v":""},{"$f":"IF($R107=\"\",\"\",VLOOKUP($R107,'FO-DRE-01'!$A$7:$U$301,3,FALSE))","v":""},{"$f":"IF($R107=\"\",\"\",VLOOKUP($R107,'FO-DRE-01'!$A$7:$U$301,4,FALSE))","v":""},{"$f":"IF($R107=\"\",\"\",VLOOKUP($R107,'FO-DRE-01'!$A$7:$U$301,5,FALSE))","v":""},{"$f":"IF($R107=\"\",\"\",VLOOKUP($R107,'FO-DRE-01'!$A$7:$U$301,7,FALSE))","v":""},{"$f":"IF($R107=\"\",\"\",VLOOKUP($R107,'FO-DRE-01'!$A$7:$U$301,8,FALSE))","v":""},{"$f":"IF($R107=\"\",\"\",VLOOKUP($R107,'FO-DRE-01'!$A$7:$U$301,9,FALSE))","v":""},{"$f":"IF($R107=\"\",\"\",VLOOKUP($R107,'FO-DRE-01'!$A$7:$U$301,10,FALSE))","v":""},{"$f":"IF($R107=\"\",\"\",VLOOKUP($R107,'FO-DRE-01'!$A$7:$U$301,11,FALSE))","v":""},{"$f":"IF($R107=\"\",\"\",VLOOKUP($R107,'FO-DRE-01'!$A$7:$U$301,12,FALSE))","v":""},{"$f":"IF($R107=\"\",\"\",VLOOKUP($R107,'FO-DRE-01'!$A$7:$U$301,13,FALSE))","v":""},{"$f":"IF($R107=\"\",\"\",VLOOKUP($R107,'FO-DRE-01'!$A$7:$U$301,14,FALSE))","v":""},{"$f":"IF($R107=\"\",\"\",VLOOKUP($R107,'FO-DRE-01'!$A$7:$U$301,15,FALSE))","v":""},{"$f":"IF($S107=\"\",\"\",VLOOKUP($S107,'FO-DRE-04'!$A$6:$L$301,2,FALSE))","v":""},{"$f":"IF($S107=\"\",\"\",VLOOKUP($S107,'FO-DRE-04'!$A$6:$L$301,3,FALSE))","v":""},{"$f":"IF($S107=\"\",\"\",VLOOKUP($S107,'FO-DRE-04'!$A$6:$L$301,4,FALSE))","v":""},{"$f":"IF($S107=\"\",\"\",VLOOKUP($S107,'FO-DRE-04'!$A$6:$L$301,6,FALSE))","v":""},{"$f":"IF($S107=\"\",\"\",VLOOKUP($S107,'FO-DRE-04'!$A$6:$L$301,11,FALSE))","v":""},{"$f":"IF($T107=\"\",\"\",VLOOKUP($T107,'FO-DRE-02'!$A$6:$M$101,2,FALSE))","v":""},{"$f":"IF($T107=\"\",\"\",VLOOKUP($T107,'FO-DRE-02'!$A$6:$M$101,3,FALSE))","v":""},{"$f":"IF($T107=\"\",\"\",VLOOKUP($T107,'FO-DRE-02'!$A$6:$M$101,6,FALSE))","v":""},{"$f":"IF($T107=\"\",\"\",VLOOKUP($T107,'FO-DRE-02'!$A$6:$M$101,4,FALSE))","v":""},{"$f":"IF($T107=\"\",\"\",VLOOKUP($T107,'FO-DRE-02'!$A$6:$M$101,5,FALSE))","v":""},{"$f":"IF($T107=\"\",\"\",VLOOKUP($T107,'FO-DRE-02'!$A$6:$M$101,8,FALSE))","v":""},{"$f":"IF($T107=\"\",\"\",VLOOKUP($T107,'FO-DRE-02'!$A$6:$M$101,7,FALSE))","v":""},{"$f":"IF($T107=\"\",\"\",VLOOKUP($T107,'FO-DRE-02'!$A$6:$M$101,9,FALSE))","v":""},{"$f":"IF($T107=\"\",\"\",VLOOKUP($T107,'FO-DRE-02'!$A$6:$M$101,11,FALSE))","v":""},{"$f":"IF($T107=\"\",\"\",VLOOKUP($T107,'FO-DRE-02'!$A$6:$M$101,12,FALSE))","v":""},{"$f":"IF($T107=\"\",\"\",VLOOKUP($T107,'FO-DRE-02'!$A$6:$M$101,13,FALSE))","v":""},null,null,null,98,"","F/D","F/D","","","","","","","","","","","","","","",""]
[null,null,null,null,null,null,null,null,{"$f":"IF(H108=\"1a\",Hoja1!$B$126,IF(H108=\"1b\",Hoja1!$B$127,IF(H108=\"2a\",Hoja1!$B$128,IF(H108=\"2b\",Hoja1!$B$129,IF(H108=\"3 \",Hoja1!$B$130,IF(H108=\"4 \",Hoja1!$B$131,IF(H108=\"5 \",Hoja1!$B$132,IF(H108=\"6 \",Hoja1!$B$133,IF(H108=\"7 \",Hoja1!$B$134,IF(H108=\"8 \",Hoja1!$B$135,\" \"))))))))))","v":" "},{"$f":"CONCATENATE(#REF!,\"-\",\"TX\")","v":{"$error":"#REF!"}},{"$f":"CONCATENATE(#REF!,\"-\",\"RX\")","v":{"$error":"#REF!"}},null,null,null,null,0,null,null,null,null,null,{"$f":"IF($R108=\"\",\"\",VLOOKUP($R108,'FO-DRE-01'!$A$7:$U$301,18,FALSE))","v":""},{"$f":"IF($R108=\"\",\"\",VLOOKUP($R108,'FO-DRE-01'!$A$7:$U$301,16,FALSE))","v":""},{"$f":"IF($R108=\"\",\"\",VLOOKUP($R108,'FO-DRE-01'!$A$7:$U$301,17,FALSE))","v":""},{"$f":"IF($R108=\"\",\"\",VLOOKUP($R108,'FO-DRE-01'!$A$7:$U$301,3,FALSE))","v":""},{"$f":"IF($R108=\"\",\"\",VLOOKUP($R108,'FO-DRE-01'!$A$7:$U$301,4,FALSE))","v":""},{"$f":"IF($R108=\"\",\"\",VLOOKUP($R108,'FO-DRE-01'!$A$7:$U$301,5,FALSE))","v":""},{"$f":"IF($R108=\"\",\"\",VLOOKUP($R108,'FO-DRE-01'!$A$7:$U$301,7,FALSE))","v":""},{"$f":"IF($R108=\"\",\"\",VLOOKUP($R108,'FO-DRE-01'!$A$7:$U$301,8,FALSE))","v":""},{"$f":"IF($R108=\"\",\"\",VLOOKUP($R108,'FO-DRE-01'!$A$7:$U$301,9,FALSE))","v":""},{"$f":"IF($R108=\"\",\"\",VLOOKUP($R108,'FO-DRE-01'!$A$7:$U$301,10,FALSE))","v":""},{"$f":"IF($R108=\"\",\"\",VLOOKUP($R108,'FO-DRE-01'!$A$7:$U$301,11,FALSE))","v":""},{"$f":"IF($R108=\"\",\"\",VLOOKUP($R108,'FO-DRE-01'!$A$7:$U$301,12,FALSE))","v":""},{"$f":"IF($R108=\"\",\"\",VLOOKUP($R108,'FO-DRE-01'!$A$7:$U$301,13,FALSE))","v":""},{"$f":"IF($R108=\"\",\"\",VLOOKUP($R108,'FO-DRE-01'!$A$7:$U$301,14,FALSE))","v":""},{"$f":"IF($R108=\"\",\"\",VLOOKUP($R108,'FO-DRE-01'!$A$7:$U$301,15,FALSE))","v":""},{"$f":"IF($S108=\"\",\"\",VLOOKUP($S108,'FO-DRE-04'!$A$6:$L$301,2,FALSE))","v":""},{"$f":"IF($S108=\"\",\"\",VLOOKUP($S108,'FO-DRE-04'!$A$6:$L$301,3,FALSE))","v":""},{"$f":"IF($S108=\"\",\"\",VLOOKUP($S108,'FO-DRE-04'!$A$6:$L$301,4,FALSE))","v":""},{"$f":"IF($S108=\"\",\"\",VLOOKUP($S108,'FO-DRE-04'!$A$6:$L$301,6,FALSE))","v":""},{"$f":"IF($S108=\"\",\"\",VLOOKUP($S108,'FO-DRE-04'!$A$6:$L$301,11,FALSE))","v":""},{"$f":"IF($T108=\"\",\"\",VLOOKUP($T108,'FO-DRE-02'!$A$6:$M$101,2,FALSE))","v":""},{"$f":"IF($T108=\"\",\"\",VLOOKUP($T108,'FO-DRE-02'!$A$6:$M$101,3,FALSE))","v":""},{"$f":"IF($T108=\"\",\"\",VLOOKUP($T108,'FO-DRE-02'!$A$6:$M$101,6,FALSE))","v":""},{"$f":"IF($T108=\"\",\"\",VLOOKUP($T108,'FO-DRE-02'!$A$6:$M$101,4,FALSE))","v":""},{"$f":"IF($T108=\"\",\"\",VLOOKUP($T108,'FO-DRE-02'!$A$6:$M$101,5,FALSE))","v":""},{"$f":"IF($T108=\"\",\"\",VLOOKUP($T108,'FO-DRE-02'!$A$6:$M$101,8,FALSE))","v":""},{"$f":"IF($T108=\"\",\"\",VLOOKUP($T108,'FO-DRE-02'!$A$6:$M$101,7,FALSE))","v":""},{"$f":"IF($T108=\"\",\"\",VLOOKUP($T108,'FO-DRE-02'!$A$6:$M$101,9,FALSE))","v":""},{"$f":"IF($T108=\"\",\"\",VLOOKUP($T108,'FO-DRE-02'!$A$6:$M$101,11,FALSE))","v":""},{"$f":"IF($T108=\"\",\"\",VLOOKUP($T108,'FO-DRE-02'!$A$6:$M$101,12,FALSE))","v":""},{"$f":"IF($T108=\"\",\"\",VLOOKUP($T108,'FO-DRE-02'!$A$6:$M$101,13,FALSE))","v":""},null,null,null,99,"","F/D","F/D","","","","","","","","","","","","","","",""]
[null,null,null,null,null,null,null,null,{"$f":"IF(H109=\"1a\",Hoja1!$B$126,IF(H109=\"1b\",Hoja1!$B$127,IF(H109=\"2a\",Hoja1!$B$128,IF(H109=\"2b\",Hoja1!$B$129,IF(H109=\"3 \",Hoja1!$B$130,IF(H109=\"4 \",Hoja1!$B$131,IF(H109=\"5 \",Hoja1!$B$132,IF(H109=\"6 \",Hoja1!$B$133,IF(H109=\"7 \",Hoja1!$B$134,IF(H109=\"8 \",Hoja1!$B$135,\" \"))))))))))","v":" "},{"$f":"CONCATENATE(#REF!,\"-\",\"TX\")","v":{"$error":"#REF!"}},{"$f":"CONCATENATE(#REF!,\"-\",\"RX\")","v":{"$error":"#REF!"}},null,null,null,null,0,null,null,null,null,null,{"$f":"IF($R109=\"\",\"\",VLOOKUP($R109,'FO-DRE-01'!$A$7:$U$301,18,FALSE))","v":""},{"$f":"IF($R109=\"\",\"\",VLOOKUP($R109,'FO-DRE-01'!$A$7:$U$301,16,FALSE))","v":""},{"$f":"IF($R109=\"\",\"\",VLOOKUP($R109,'FO-DRE-01'!$A$7:$U$301,17,FALSE))","v":""},{"$f":"IF($R109=\"\",\"\",VLOOKUP($R109,'FO-DRE-01'!$A$7:$U$301,3,FALSE))","v":""},{"$f":"IF($R109=\"\",\"\",VLOOKUP($R109,'FO-DRE-01'!$A$7:$U$301,4,FALSE))","v":""},{"$f":"IF($R109=\"\",\"\",VLOOKUP($R109,'FO-DRE-01'!$A$7:$U$301,5,FALSE))","v":""},{"$f":"IF($R109=\"\",\"\",VLOOKUP($R109,'FO-DRE-01'!$A$7:$U$301,7,FALSE))","v":""},{"$f":"IF($R109=\"\",\"\",VLOOKUP($R109,'FO-DRE-01'!$A$7:$U$301,8,FALSE))","v":""},{"$f":"IF($R109=\"\",\"\",VLOOKUP($R109,'FO-DRE-01'!$A$7:$U$301,9,FALSE))","v":""},{"$f":"IF($R109=\"\",\"\",VLOOKUP($R109,'FO-DRE-01'!$A$7:$U$301,10,FALSE))","v":""},{"$f":"IF($R109=\"\",\"\",VLOOKUP($R109,'FO-DRE-01'!$A$7:$U$301,11,FALSE))","v":""},{"$f":"IF($R109=\"\",\"\",VLOOKUP($R109,'FO-DRE-01'!$A$7:$U$301,12,FALSE))","v":""},{"$f":"IF($R109=\"\",\"\",VLOOKUP($R109,'FO-DRE-01'!$A$7:$U$301,13,FALSE))","v":""},{"$f":"IF($R109=\"\",\"\",VLOOKUP($R109,'FO-DRE-01'!$A$7:$U$301,14,FALSE))","v":""},{"$f":"IF($R109=\"\",\"\",VLOOKUP($R109,'FO-DRE-01'!$A$7:$U$301,15,FALSE))","v":""},{"$f":"IF($S109=\"\",\"\",VLOOKUP($S109,'FO-DRE-04'!$A$6:$L$301,2,FALSE))","v":""},{"$f":"IF($S109=\"\",\"\",VLOOKUP($S109,'FO-DRE-04'!$A$6:$L$301,3,FALSE))","v":""},{"$f":"IF($S109=\"\",\"\",VLOOKUP($S109,'FO-DRE-04'!$A$6:$L$301,4,FALSE))","v":""},{"$f":"IF($S109=\"\",\"\",VLOOKUP($S109,'FO-DRE-04'!$A$6:$L$301,6,FALSE))","v":""},{"$f":"IF($S109=\"\",\"\",VLOOKUP($S109,'FO-DRE-04'!$A$6:$L$301,11,FALSE))","v":""},{"$f":"IF($T109=\"\",\"\",VLOOKUP($T109,'FO-DRE-02'!$A$6:$M$101,2,FALSE))","v":""},{"$f":"IF($T109=\"\",\"\",VLOOKUP($T109,'FO-DRE-02'!$A$6:$M$101,3,FALSE))","v":""},{"$f":"IF($T109=\"\",\"\",VLOOKUP($T109,'FO-DRE-02'!$A$6:$M$101,6,FALSE))","v":""},{"$f":"IF($T109=\"\",\"\",VLOOKUP($T109,'FO-DRE-02'!$A$6:$M$101,4,FALSE))","v":""},{"$f":"IF($T109=\"\",\"\",VLOOKUP($T109,'FO-DRE-02'!$A$6:$M$101,5,FALSE))","v":""},{"$f":"IF($T109=\"\",\"\",VLOOKUP($T109,'FO-DRE-02'!$A$6:$M$101,8,FALSE))","v":""},{"$f":"IF($T109=\"\",\"\",VLOOKUP($T109,'FO-DRE-02'!$A$6:$M$101,7,FALSE))","v":""},{"$f":"IF($T109=\"\",\"\",VLOOKUP($T109,'FO-DRE-02'!$A$6:$M$101,9,FALSE))","v":""},{"$f":"IF($T109=\"\",\"\",VLOOKUP($T109,'FO-DRE-02'!$A$6:$M$101,11,FALSE))","v":""},{"$f":"IF($T109=\"\",\"\",VLOOKUP($T109,'FO-DRE-02'!$A$6:$M$101,12,FALSE))","v":""},{"$f":"IF($T109=\"\",\"\",VLOOKUP($T109,'FO-DRE-02'!$A$6:$M$101,13,FALSE))","v":""},null,null,null,100,"","F/D","F/D","","","","","","","","","","","","","","",""]
[null,null,null,null,null,null,null,null,{"$f":"IF(H110=\"1a\",Hoja1!$B$126,IF(H110=\"1b\",Hoja1!$B$127,IF(H110=\"2a\",Hoja1!$B$128,IF(H110=\"2b\",Hoja1!$B$129,IF(H110=\"3 \",Hoja1!$B$130,IF(H110=\"4 \",Hoja1!$B$131,IF(H110=\"5 \",Hoja1!$B$132,IF(H110=\"6 \",Hoja1!$B$133,IF(H110=\"7 \",Hoja1!$B$134,IF(H110=\"8 \",Hoja1!$B$135,\" \"))))))))))","v":" "},{"$f":"CONCATENATE(#REF!,\"-\",\"TX\")","v":{"$error":"#REF!"}},{"$f":"CONCATENATE(#REF!,\"-\",\"RX\")","v":{"$error":"#REF!"}},null,null,null,null,0,null,null,null,null,null,{"$f":"IF($R110=\"\",\"\",VLOOKUP($R110,'FO-DRE-01'!$A$7:$U$301,18,FALSE))","v":""},{"$f":"IF($R110=\"\",\"\",VLOOKUP($R110,'FO-DRE-01'!$A$7:$U$301,16,FALSE))","v":""},{"$f":"IF($R110=\"\",\"\",VLOOKUP($R110,'FO-DRE-01'!$A$7:$U$301,17,FALSE))","v":""},{"$f":"IF($R110=\"\",\"\",VLOOKUP($R110,'FO-DRE-01'!$A$7:$U$301,3,FALSE))","v":""},{"$f":"IF($R110=\"\",\"\",VLOOKUP($R110,'FO-DRE-01'!$A$7:$U$301,4,FALSE))","v":""},{"$f":"IF($R110=\"\",\"\",VLOOKUP($R110,'FO-DRE-01'!$A$7:$U$301,5,FALSE))","v":""},{"$f":"IF($R110=\"\",\"\",VLOOKUP($R110,'FO-DRE-01'!$A$7:$U$301,7,FALSE))","v":""},{"$f":"IF($R110=\"\",\"\",VLOOKUP($R110,'FO-DRE-01'!$A$7:$U$301,8,FALSE))","v":""},{"$f":"IF($R110=\"\",\"\",VLOOKUP($R110,'FO-DRE-01'!$A$7:$U$301,9,FALSE))","v":""},{"$f":"IF($R110=\"\",\"\",VLOOKUP($R110,'FO-DRE-01'!$A$7:$U$301,10,FALSE))","v":""},{"$f":"IF($R110=\"\",\"\",VLOOKUP($R110,'FO-DRE-01'!$A$7:$U$301,11,FALSE))","v":""},{"$f":"IF($R110=\"\",\"\",VLOOKUP($R110,'FO-DRE-01'!$A$7:$U$301,12,FALSE))","v":""},{"$f":"IF($R110=\"\",\"\",VLOOKUP($R110,'FO-DRE-01'!$A$7:$U$301,13,FALSE))","v":""},{"$f":"IF($R110=\"\",\"\",VLOOKUP($R110,'FO-DRE-01'!$A$7:$U$301,14,FALSE))","v":""},{"$f":"IF($R110=\"\",\"\",VLOOKUP($R110,'FO-DRE-01'!$A$7:$U$301,15,FALSE))","v":""},{"$f":"IF($S110=\"\",\"\",VLOOKUP($S110,'FO-DRE-04'!$A$6:$L$301,2,FALSE))","v":""},{"$f":"IF($S110=\"\",\"\",VLOOKUP($S110,'FO-DRE-04'!$A$6:$L$301,3,FALSE))","v":""},{"$f":"IF($S110=\"\",\"\",VLOOKUP($S110,'FO-DRE-04'!$A$6:$L$301,4,FALSE))","v":""},{"$f":"IF($S110=\"\",\"\",VLOOKUP($S110,'FO-DRE-04'!$A$6:$L$301,6,FALSE))","v":""},{"$f":"IF($S110=\"\",\"\",VLOOKUP($S110,'FO-DRE-04'!$A$6:$L$301,11,FALSE))","v":""},{"$f":"IF($T110=\"\",\"\",VLOOKUP($T110,'FO-DRE-02'!$A$6:$M$101,2,FALSE))","v":""},{"$f":"IF($T110=\"\",\"\",VLOOKUP($T110,'FO-DRE-02'!$A$6:$M$101,3,FALSE))","v":""},{"$f":"IF($T110=\"\",\"\",VLOOKUP($T110,'FO-DRE-02'!$A$6:$M$101,6,FALSE))","v":""},{"$f":"IF($T110=\"\",\"\",VLOOKUP($T110,'FO-DRE-02'!$A$6:$M$101,4,FALSE))","v":""},{"$f":"IF($T110=\"\",\"\",VLOOKUP($T110,'FO-DRE-02'!$A$6:$M$101,5,FALSE))","v":""},{"$f":"IF($T110=\"\",\"\",VLOOKUP($T110,'FO-DRE-02'!$A$6:$M$101,8,FALSE))","v":""},{"$f":"IF($T110=\"\",\"\",VLOOKUP($T110,'FO-DRE-02'!$A$6:$M$101,7,FALSE))","v":""},{"$f":"IF($T110=\"\",\"\",VLOOKUP($T110,'FO-DRE-02'!$A$6:$M$101,9,FALSE))","v":""},{"$f":"IF($T110=\"\",\"\",VLOOKUP($T110,'FO-DRE-02'!$A$6:$M$101,11,FALSE))","v":""},{"$f":"IF($T110=\"\",\"\",VLOOKUP($T110,'FO-DRE-02'!$A$6:$M$101,12,FALSE))","v":""},{"$f":"IF($T110=\"\",\"\",VLOOKUP($T110,'FO-DRE-02'!$A$6:$M$101,13,FALSE))","v":""},null,null,null,101,"","F/D","F/D","","","","","","","","","","","","","","",""]
[null,null,null,null,null,null,null,null,{"$f":"IF(H111=\"1a\",Hoja1!$B$126,IF(H111=\"1b\",Hoja1!$B$127,IF(H111=\"2a\",Hoja1!$B$128,IF(H111=\"2b\",Hoja1!$B$129,IF(H111=\"3 \",Hoja1!$B$130,IF(H111=\"4 \",Hoja1!$B$131,IF(H111=\"5 \",Hoja1!$B$132,IF(H111=\"6 \",Hoja1!$B$133,IF(H111=\"7 \",Hoja1!$B$134,IF(H111=\"8 \",Hoja1!$B$135,\" \"))))))))))","v":" "},{"$f":"CONCATENATE(#REF!,\"-\",\"TX\")","v":{"$error":"#REF!"}},{"$f":"CONCATENATE(#REF!,\"-\",\"RX\")","v":{"$error":"#REF!"}},null,null,null,null,0,null,null,null,null,null,{"$f":"IF($R111=\"\",\"\",VLOOKUP($R111,'FO-DRE-01'!$A$7:$U$301,18,FALSE))","v":""},{"$f":"IF($R111=\"\",\"\",VLOOKUP($R111,'FO-DRE-01'!$A$7:$U$301,16,FALSE))","v":""},{"$f":"IF($R111=\"\",\"\",VLOOKUP($R111,'FO-DRE-01'!$A$7:$U$301,17,FALSE))","v":""},{"$f":"IF($R111=\"\",\"\",VLOOKUP($R111,'FO-DRE-01'!$A$7:$U$301,3,FALSE))","v":""},{"$f":"IF($R111=\"\",\"\",VLOOKUP($R111,'FO-DRE-01'!$A$7:$U$301,4,FALSE))","v":""},{"$f":"IF($R111=\"\",\"\",VLOOKUP($R111,'FO-DRE-01'!$A$7:$U$301,5,FALSE))","v":""},{"$f":"IF($R111=\"\",\"\",VLOOKUP($R111,'FO-DRE-01'!$A$7:$U$301,7,FALSE))","v":""},{"$f":"IF($R111=\"\",\"\",VLOOKUP($R111,'FO-DRE-01'!$A$7:$U$301,8,FALSE))","v":""},{"$f":"IF($R111=\"\",\"\",VLOOKUP($R111,'FO-DRE-01'!$A$7:$U$301,9,FALSE))","v":""},{"$f":"IF($R111=\"\",\"\",VLOOKUP($R111,'FO-DRE-01'!$A$7:$U$301,10,FALSE))","v":""},{"$f":"IF($R111=\"\",\"\",VLOOKUP($R111,'FO-DRE-01'!$A$7:$U$301,11,FALSE))","v":""},{"$f":"IF($R111=\"\",\"\",VLOOKUP($R111,'FO-DRE-01'!$A$7:$U$301,12,FALSE))","v":""},{"$f":"IF($R111=\"\",\"\",VLOOKUP($R111,'FO-DRE-01'!$A$7:$U$301,13,FALSE))","v":""},{"$f":"IF($R111=\"\",\"\",VLOOKUP($R111,'FO-DRE-01'!$A$7:$U$301,14,FALSE))","v":""},{"$f":"IF($R111=\"\",\"\",VLOOKUP($R111,'FO-DRE-01'!$A$7:$U$301,15,FALSE))","v":""},{"$f":"IF($S111=\"\",\"\",VLOOKUP($S111,'FO-DRE-04'!$A$6:$L$301,2,FALSE))","v":""},{"$f":"IF($S111=\"\",\"\",VLOOKUP($S111,'FO-DRE-04'!$A$6:$L$301,3,FALSE))","v":""},{"$f":"IF($S111=\"\",\"\",VLOOKUP($S111,'FO-DRE-04'!$A$6:$L$301,4,FALSE))","v":""},{"$f":"IF($S111=\"\",\"\",VLOOKUP($S111,'FO-DRE-04'!$A$6:$L$301,6,FALSE))","v":""},{"$f":"IF($S111=\"\",\"\",VLOOKUP($S111,'FO-DRE-04'!$A$6:$L$301,11,FALSE))","v":""},{"$f":"IF($T111=\"\",\"\",VLOOKUP($T111,'FO-DRE-02'!$A$6:$M$101,2,FALSE))","v":""},{"$f":"IF($T111=\"\",\"\",VLOOKUP($T111,'FO-DRE-02'!$A$6:$M$101,3,FALSE))","v":""},{"$f":"IF($T111=\"\",\"\",VLOOKUP($T111,'FO-DRE-02'!$A$6:$M$101,6,FALSE))","v":""},{"$f":"IF($T111=\"\",\"\",VLOOKUP($T111,'FO-DRE-02'!$A$6:$M$101,4,FALSE))","v":""},{"$f":"IF($T111=\"\",\"\",VLOOKUP($T111,'FO-DRE-02'!$A$6:$M$101,5,FALSE))","v":""},{"$f":"IF($T111=\"\",\"\",VLOOKUP($T111,'FO-DRE-02'!$A$6:$M$101,8,FALSE))","v":""},{"$f":"IF($T111=\"\",\"\",VLOOKUP($T111,'FO-DRE-02'!$A$6:$M$101,7,FALSE))","v":""},{"$f":"IF($T111=\"\",\"\",VLOOKUP($T111,'FO-DRE-02'!$A$6:$M$101,9,FALSE))","v":""},{"$f":"IF($T111=\"\",\"\",VLOOKUP($T111,'FO-DRE-02'!$A$6:$M$101,11,FALSE))","v":""},{"$f":"IF($T111=\"\",\"\",VLOOKUP($T111,'FO-DRE-02'!$A$6:$M$101,12,FALSE))","v":""},{"$f":"IF($T111=\"\",\"\",VLOOKUP($T111,'FO-DRE-02'!$A$6:$M$101,13,FALSE))","v":""},null,null,null,102,"","F/D","F/D","","","","","","","","","","","","","","",""]
[null,null,null,null,null,null,null,null,{"$f":"IF(H112=\"1a\",Hoja1!$B$126,IF(H112=\"1b\",Hoja1!$B$127,IF(H112=\"2a\",Hoja1!$B$128,IF(H112=\"2b\",Hoja1!$B$129,IF(H112=\"3 \",Hoja1!$B$130,IF(H112=\"4 \",Hoja1!$B$131,IF(H112=\"5 \",Hoja1!$B$132,IF(H112=\"6 \",Hoja1!$B$133,IF(H112=\"7 \",Hoja1!$B$134,IF(H112=\"8 \",Hoja1!$B$135,\" \"))))))))))","v":" "},{"$f":"CONCATENATE(#REF!,\"-\",\"TX\")","v":{"$error":"#REF!"}},{"$f":"CONCATENATE(#REF!,\"-\",\"RX\")","v":{"$error":"#REF!"}},null,null,null,null,0,null,null,null,null,null,{"$f":"IF($R112=\"\",\"\",VLOOKUP($R112,'FO-DRE-01'!$A$7:$U$301,18,FALSE))","v":""},{"$f":"IF($R112=\"\",\"\",VLOOKUP($R112,'FO-DRE-01'!$A$7:$U$301,16,FALSE))","v":""},{"$f":"IF($R112=\"\",\"\",VLOOKUP($R112,'FO-DRE-01'!$A$7:$U$301,17,FALSE))","v":""},{"$f":"IF($R112=\"\",\"\",VLOOKUP($R112,'FO-DRE-01'!$A$7:$U$301,3,FALSE))","v":""},{"$f":"IF($R112=\"\",\"\",VLOOKUP($R112,'FO-DRE-01'!$A$7:$U$301,4,FALSE))","v":""},{"$f":"IF($R112=\"\",\"\",VLOOKUP($R112,'FO-DRE-01'!$A$7:$U$301,5,FALSE))","v":""},{"$f":"IF($R112=\"\",\"\",VLOOKUP($R112,'FO-DRE-01'!$A$7:$U$301,7,FALSE))","v":""},{"$f":"IF($R112=\"\",\"\",VLOOKUP($R112,'FO-DRE-01'!$A$7:$U$301,8,FALSE))","v":""},{"$f":"IF($R112=\"\",\"\",VLOOKUP($R112,'FO-DRE-01'!$A$7:$U$301,9,FALSE))","v":""},{"$f":"IF($R112=\"\",\"\",VLOOKUP($R112,'FO-DRE-01'!$A$7:$U$301,10,FALSE))","v":""},{"$f":"IF($R112=\"\",\"\",VLOOKUP($R112,'FO-DRE-01'!$A$7:$U$301,11,FALSE))","v":""},{"$f":"IF($R112=\"\",\"\",VLOOKUP($R112,'FO-DRE-01'!$A$7:$U$301,12,FALSE))","v":""},{"$f":"IF($R112=\"\",\"\",VLOOKUP($R112,'FO-DRE-01'!$A$7:$U$301,13,FALSE))","v":""},{"$f":"IF($R112=\"\",\"\",VLOOKUP($R112,'FO-DRE-01'!$A$7:$U$301,14,FALSE))","v":""},{"$f":"IF($R112=\"\",\"\",VLOOKUP($R112,'FO-DRE-01'!$A$7:$U$301,15,FALSE))","v":""},{"$f":"IF($S112=\"\",\"\",VLOOKUP($S112,'FO-DRE-04'!$A$6:$L$301,2,FALSE))","v":""},{"$f":"IF($S112=\"\",\"\",VLOOKUP($S112,'FO-DRE-04'!$A$6:$L$301,3,FALSE))","v":""},{"$f":"IF($S112=\"\",\"\",VLOOKUP($S112,'FO-DRE-04'!$A$6:$L$301,4,FALSE))","v":""},{"$f":"IF($S112=\"\",\"\",VLOOKUP($S112,'FO-DRE-04'!$A$6:$L$301,6,FALSE))","v":""},{"$f":"IF($S112=\"\",\"\",VLOOKUP($S112,'FO-DRE-04'!$A$6:$L$301,11,FALSE))","v":""},{"$f":"IF($T112=\"\",\"\",VLOOKUP($T112,'FO-DRE-02'!$A$6:$M$101,2,FALSE))","v":""},{"$f":"IF($T112=\"\",\"\",VLOOKUP($T112,'FO-DRE-02'!$A$6:$M$101,3,FALSE))","v":""},{"$f":"IF($T112=\"\",\"\",VLOOKUP($T112,'FO-DRE-02'!$A$6:$M$101,6,FALSE))","v":""},{"$f":"IF($T112=\"\",\"\",VLOOKUP($T112,'FO-DRE-02'!$A$6:$M$101,4,FALSE))","v":""},{"$f":"IF($T112=\"\",\"\",VLOOKUP($T112,'FO-DRE-02'!$A$6:$M$101,5,FALSE))","v":""},{"$f":"IF($T112=\"\",\"\",VLOOKUP($T112,'FO-DRE-02'!$A$6:$M$101,8,FALSE))","v":""},{"$f":"IF($T112=\"\",\"\",VLOOKUP($T112,'FO-DRE-02'!$A$6:$M$101,7,FALSE))","v":""},{"$f":"IF($T112=\"\",\"\",VLOOKUP($T112,'FO-DRE-02'!$A$6:$M$101,9,FALSE))","v":""},{"$f":"IF($T112=\"\",\"\",VLOOKUP($T112,'FO-DRE-02'!$A$6:$M$101,11,FALSE))","v":""},{"$f":"IF($T112=\"\",\"\",VLOOKUP($T112,'FO-DRE-02'!$A$6:$M$101,12,FALSE))","v":""},{"$f":"IF($T112=\"\",\"\",VLOOKUP($T112,'FO-DRE-02'!$A$6:$M$101,13,FALSE))","v":""},null,null,null,103,"","F/D","F/D","","","","","","","","","","","","","","",""]
[null,null,null,null,null,null,null,null,{"$f":"IF(H113=\"1a\",Hoja1!$B$126,IF(H113=\"1b\",Hoja1!$B$127,IF(H113=\"2a\",Hoja1!$B$128,IF(H113=\"2b\",Hoja1!$B$129,IF(H113=\"3 \",Hoja1!$B$130,IF(H113=\"4 \",Hoja1!$B$131,IF(H113=\"5 \",Hoja1!$B$132,IF(H113=\"6 \",Hoja1!$B$133,IF(H113=\"7 \",Hoja1!$B$134,IF(H113=\"8 \",Hoja1!$B$135,\" \"))))))))))","v":" "},{"$f":"CONCATENATE(#REF!,\"-\",\"TX\")","v":{"$error":"#REF!"}},{"$f":"CONCATENATE(#REF!,\"-\",\"RX\")","v":{"$error":"#REF!"}},null,null,null,null,0,null,null,null,null,null,{"$f":"IF($R113=\"\",\"\",VLOOKUP($R113,'FO-DRE-01'!$A$7:$U$301,18,FALSE))","v":""},{"$f":"IF($R113=\"\",\"\",VLOOKUP($R113,'FO-DRE-01'!$A$7:$U$301,16,FALSE))","v":""},{"$f":"IF($R113=\"\",\"\",VLOOKUP($R113,'FO-DRE-01'!$A$7:$U$301,17,FALSE))","v":""},{"$f":"IF($R113=\"\",\"\",VLOOKUP($R113,'FO-DRE-01'!$A$7:$U$301,3,FALSE))","v":""},{"$f":"IF($R113=\"\",\"\",VLOOKUP($R113,'FO-DRE-01'!$A$7:$U$301,4,FALSE))","v":""},{"$f":"IF($R113=\"\",\"\",VLOOKUP($R113,'FO-DRE-01'!$A$7:$U$301,5,FALSE))","v":""},{"$f":"IF($R113=\"\",\"\",VLOOKUP($R113,'FO-DRE-01'!$A$7:$U$301,7,FALSE))","v":""},{"$f":"IF($R113=\"\",\"\",VLOOKUP($R113,'FO-DRE-01'!$A$7:$U$301,8,FALSE))","v":""},{"$f":"IF($R113=\"\",\"\",VLOOKUP($R113,'FO-DRE-01'!$A$7:$U$301,9,FALSE))","v":""},{"$f":"IF($R113=\"\",\"\",VLOOKUP($R113,'FO-DRE-01'!$A$7:$U$301,10,FALSE))","v":""},{"$f":"IF($R113=\"\",\"\",VLOOKUP($R113,'FO-DRE-01'!$A$7:$U$301,11,FALSE))","v":""},{"$f":"IF($R113=\"\",\"\",VLOOKUP($R113,'FO-DRE-01'!$A$7:$U$301,12,FALSE))","v":""},{"$f":"IF($R113=\"\",\"\",VLOOKUP($R113,'FO-DRE-01'!$A$7:$U$301,13,FALSE))","v":""},{"$f":"IF($R113=\"\",\"\",VLOOKUP($R113,'FO-DRE-01'!$A$7:$U$301,14,FALSE))","v":""},{"$f":"IF($R113=\"\",\"\",VLOOKUP($R113,'FO-DRE-01'!$A$7:$U$301,15,FALSE))","v":""},{"$f":"IF($S113=\"\",\"\",VLOOKUP($S113,'FO-DRE-04'!$A$6:$L$301,2,FALSE))","v":""},{"$f":"IF($S113=\"\",\"\",VLOOKUP($S113,'FO-DRE-04'!$A$6:$L$301,3,FALSE))","v":""},{"$f":"IF($S113=\"\",\"\",VLOOKUP($S113,'FO-DRE-04'!$A$6:$L$301,4,FALSE))","v":""},{"$f":"IF($S113=\"\",\"\",VLOOKUP($S113,'FO-DRE-04'!$A$6:$L$301,6,FALSE))","v":""},{"$f":"IF($S113=\"\",\"\",VLOOKUP($S113,'FO-DRE-04'!$A$6:$L$301,11,FALSE))","v":""},{"$f":"IF($T113=\"\",\"\",VLOOKUP($T113,'FO-DRE-02'!$A$6:$M$101,2,FALSE))","v":""},{"$f":"IF($T113=\"\",\"\",VLOOKUP($T113,'FO-DRE-02'!$A$6:$M$101,3,FALSE))","v":""},{"$f":"IF($T113=\"\",\"\",VLOOKUP($T113,'FO-DRE-02'!$A$6:$M$101,6,FALSE))","v":""},{"$f":"IF($T113=\"\",\"\",VLOOKUP($T113,'FO-DRE-02'!$A$6:$M$101,4,FALSE))","v":""},{"$f":"IF($T113=\"\",\"\",VLOOKUP($T113,'FO-DRE-02'!$A$6:$M$101,5,FALSE))","v":""},{"$f":"IF($T113=\"\",\"\",VLOOKUP($T113,'FO-DRE-02'!$A$6:$M$101,8,FALSE))","v":""},{"$f":"IF($T113=\"\",\"\",VLOOKUP($T113,'FO-DRE-02'!$A$6:$M$101,7,FALSE))","v":""},{"$f":"IF($T113=\"\",\"\",VLOOKUP($T113,'FO-DRE-02'!$A$6:$M$101,9,FALSE))","v":""},{"$f":"IF($T113=\"\",\"\",VLOOKUP($T113,'FO-DRE-02'!$A$6:$M$101,11,FALSE))","v":""},{"$f":"IF($T113=\"\",\"\",VLOOKUP($T113,'FO-DRE-02'!$A$6:$M$101,12,FALSE))","v":""},{"$f":"IF($T113=\"\",\"\",VLOOKUP($T113,'FO-DRE-02'!$A$6:$M$101,13,FALSE))","v":""},null,null,null,104,"","F/D","F/D","","","","","","","","","","","","","","",""]
[null,null,null,null,null,null,null,null,{"$f":"IF(H114=\"1a\",Hoja1!$B$126,IF(H114=\"1b\",Hoja1!$B$127,IF(H114=\"2a\",Hoja1!$B$128,IF(H114=\"2b\",Hoja1!$B$129,IF(H114=\"3 \",Hoja1!$B$130,IF(H114=\"4 \",Hoja1!$B$131,IF(H114=\"5 \",Hoja1!$B$132,IF(H114=\"6 \",Hoja1!$B$133,IF(H114=\"7 \",Hoja1!$B$134,IF(H114=\"8 \",Hoja1!$B$135,\" \"))))))))))","v":" "},{"$f":"CONCATENATE(#REF!,\"-\",\"TX\")","v":{"$error":"#REF!"}},{"$f":"CONCATENATE(#REF!,\"-\",\"RX\")","v":{"$error":"#REF!"}},null,null,null,null,0,null,null,null,null,null,{"$f":"IF($R114=\"\",\"\",VLOOKUP($R114,'FO-DRE-01'!$A$7:$U$301,18,FALSE))","v":""},{"$f":"IF($R114=\"\",\"\",VLOOKUP($R114,'FO-DRE-01'!$A$7:$U$301,16,FALSE))","v":""},{"$f":"IF($R114=\"\",\"\",VLOOKUP($R114,'FO-DRE-01'!$A$7:$U$301,17,FALSE))","v":""},{"$f":"IF($R114=\"\",\"\",VLOOKUP($R114,'FO-DRE-01'!$A$7:$U$301,3,FALSE))","v":""},{"$f":"IF($R114=\"\",\"\",VLOOKUP($R114,'FO-DRE-01'!$A$7:$U$301,4,FALSE))","v":""},{"$f":"IF($R114=\"\",\"\",VLOOKUP($R114,'FO-DRE-01'!$A$7:$U$301,5,FALSE))","v":""},{"$f":"IF($R114=\"\",\"\",VLOOKUP($R114,'FO-DRE-01'!$A$7:$U$301,7,FALSE))","v":""},{"$f":"IF($R114=\"\",\"\",VLOOKUP($R114,'FO-DRE-01'!$A$7:$U$301,8,FALSE))","v":""},{"$f":"IF($R114=\"\",\"\",VLOOKUP($R114,'FO-DRE-01'!$A$7:$U$301,9,FALSE))","v":""},{"$f":"IF($R114=\"\",\"\",VLOOKUP($R114,'FO-DRE-01'!$A$7:$U$301,10,FALSE))","v":""},{"$f":"IF($R114=\"\",\"\",VLOOKUP($R114,'FO-DRE-01'!$A$7:$U$301,11,FALSE))","v":""},{"$f":"IF($R114=\"\",\"\",VLOOKUP($R114,'FO-DRE-01'!$A$7:$U$301,12,FALSE))","v":""},{"$f":"IF($R114=\"\",\"\",VLOOKUP($R114,'FO-DRE-01'!$A$7:$U$301,13,FALSE))","v":""},{"$f":"IF($R114=\"\",\"\",VLOOKUP($R114,'FO-DRE-01'!$A$7:$U$301,14,FALSE))","v":""},{"$f":"IF($R114=\"\",\"\",VLOOKUP($R114,'FO-DRE-01'!$A$7:$U$301,15,FALSE))","v":""},{"$f":"IF($S114=\"\",\"\",VLOOKUP($S114,'FO-DRE-04'!$A$6:$L$301,2,FALSE))","v":""},{"$f":"IF($S114=\"\",\"\",VLOOKUP($S114,'FO-DRE-04'!$A$6:$L$301,3,FALSE))","v":""},{"$f":"IF($S114=\"\",\"\",VLOOKUP($S114,'FO-DRE-04'!$A$6:$L$301,4,FALSE))","v":""},{"$f":"IF($S114=\"\",\"\",VLOOKUP($S114,'FO-DRE-04'!$A$6:$L$301,6,FALSE))","v":""},{"$f":"IF($S114=\"\",\"\",VLOOKUP($S114,'FO-DRE-04'!$A$6:$L$301,11,FALSE))","v":""},{"$f":"IF($T114=\"\",\"\",VLOOKUP($T114,'FO-DRE-02'!$A$6:$M$101,2,FALSE))","v":""},{"$f":"IF($T114=\"\",\"\",VLOOKUP($T114,'FO-DRE-02'!$A$6:$M$101,3,FALSE))","v":""},{"$f":"IF($T114=\"\",\"\",VLOOKUP($T114,'FO-DRE-02'!$A$6:$M$101,6,FALSE))","v":""},{"$f":"IF($T114=\"\",\"\",VLOOKUP($T114,'FO-DRE-02'!$A$6:$M$101,4,FALSE))","v":""},{"$f":"IF($T114=\"\",\"\",VLOOKUP($T114,'FO-DRE-02'!$A$6:$M$101,5,FALSE))","v":""},{"$f":"IF($T114=\"\",\"\",VLOOKUP($T114,'FO-DRE-02'!$A$6:$M$101,8,FALSE))","v":""},{"$f":"IF($T114=\"\",\"\",VLOOKUP($T114,'FO-DRE-02'!$A$6:$M$101,7,FALSE))","v":""},{"$f":"IF($T114=\"\",\"\",VLOOKUP($T114,'FO-DRE-02'!$A$6:$M$101,9,FALSE))","v":""},{"$f":"IF($T114=\"\",\"\",VLOOKUP($T114,'FO-DRE-02'!$A$6:$M$101,11,FALSE))","v":""},{"$f":"IF($T114=\"\",\"\",VLOOKUP($T114,'FO-DRE-02'!$A$6:$M$101,12,FALSE))","v":""},{"$f":"IF($T114=\"\",\"\",VLOOKUP($T114,'FO-DRE-02'!$A$6:$M$101,13,FALSE))","v":""},null,null,null,105,"","F/D","F/D","","","","","","","","","","","","","","",""]
[null,null,null,null,null,null,null,null,{"$f":"IF(H115=\"1a\",Hoja1!$B$126,IF(H115=\"1b\",Hoja1!$B$127,IF(H115=\"2a\",Hoja1!$B$128,IF(H115=\"2b\",Hoja1!$B$129,IF(H115=\"3 \",Hoja1!$B$130,IF(H115=\"4 \",Hoja1!$B$131,IF(H115=\"5 \",Hoja1!$B$132,IF(H115=\"6 \",Hoja1!$B$133,IF(H115=\"7 \",Hoja1!$B$134,IF(H115=\"8 \",Hoja1!$B$135,\" \"))))))))))","v":" "},{"$f":"CONCATENATE(#REF!,\"-\",\"TX\")","v":{"$error":"#REF!"}},{"$f":"CONCATENATE(#REF!,\"-\",\"RX\")","v":{"$error":"#REF!"}},null,null,null,null,0,null,null,null,null,null,{"$f":"IF($R115=\"\",\"\",VLOOKUP($R115,'FO-DRE-01'!$A$7:$U$301,18,FALSE))","v":""},{"$f":"IF($R115=\"\",\"\",VLOOKUP($R115,'FO-DRE-01'!$A$7:$U$301,16,FALSE))","v":""},{"$f":"IF($R115=\"\",\"\",VLOOKUP($R115,'FO-DRE-01'!$A$7:$U$301,17,FALSE))","v":""},{"$f":"IF($R115=\"\",\"\",VLOOKUP($R115,'FO-DRE-01'!$A$7:$U$301,3,FALSE))","v":""},{"$f":"IF($R115=\"\",\"\",VLOOKUP($R115,'FO-DRE-01'!$A$7:$U$301,4,FALSE))","v":""},{"$f":"IF($R115=\"\",\"\",VLOOKUP($R115,'FO-DRE-01'!$A$7:$U$301,5,FALSE))","v":""},{"$f":"IF($R115=\"\",\"\",VLOOKUP($R115,'FO-DRE-01'!$A$7:$U$301,7,FALSE))","v":""},{"$f":"IF($R115=\"\",\"\",VLOOKUP($R115,'FO-DRE-01'!$A$7:$U$301,8,FALSE))","v":""},{"$f":"IF($R115=\"\",\"\",VLOOKUP($R115,'FO-DRE-01'!$A$7:$U$301,9,FALSE))","v":""},{"$f":"IF($R115=\"\",\"\",VLOOKUP($R115,'FO-DRE-01'!$A$7:$U$301,10,FALSE))","v":""},{"$f":"IF($R115=\"\",\"\",VLOOKUP($R115,'FO-DRE-01'!$A$7:$U$301,11,FALSE))","v":""},{"$f":"IF($R115=\"\",\"\",VLOOKUP($R115,'FO-DRE-01'!$A$7:$U$301,12,FALSE))","v":""},{"$f":"IF($R115=\"\",\"\",VLOOKUP($R115,'FO-DRE-01'!$A$7:$U$301,13,FALSE))","v":""},{"$f":"IF($R115=\"\",\"\",VLOOKUP($R115,'FO-DRE-01'!$A$7:$U$301,14,FALSE))","v":""},{"$f":"IF($R115=\"\",\"\",VLOOKUP($R115,'FO-DRE-01'!$A$7:$U$301,15,FALSE))","v":""},{"$f":"IF($S115=\"\",\"\",VLOOKUP($S115,'FO-DRE-04'!$A$6:$L$301,2,FALSE))","v":""},{"$f":"IF($S115=\"\",\"\",VLOOKUP($S115,'FO-DRE-04'!$A$6:$L$301,3,FALSE))","v":""},{"$f":"IF($S115=\"\",\"\",VLOOKUP($S115,'FO-DRE-04'!$A$6:$L$301,4,FALSE))","v":""},{"$f":"IF($S115=\"\",\"\",VLOOKUP($S115,'FO-DRE-04'!$A$6:$L$301,6,FALSE))","v":""},{"$f":"IF($S115=\"\",\"\",VLOOKUP($S115,'FO-DRE-04'!$A$6:$L$301,11,FALSE))","v":""},{"$f":"IF($T115=\"\",\"\",VLOOKUP($T115,'FO-DRE-02'!$A$6:$M$101,2,FALSE))","v":""},{"$f":"IF($T115=\"\",\"\",VLOOKUP($T115,'FO-DRE-02'!$A$6:$M$101,3,FALSE))","v":""},{"$f":"IF($T115=\"\",\"\",VLOOKUP($T115,'FO-DRE-02'!$A$6:$M$101,6,FALSE))","v":""},{"$f":"IF($T115=\"\",\"\",VLOOKUP($T115,'FO-DRE-02'!$A$6:$M$101,4,FALSE))","v":""},{"$f":"IF($T115=\"\",\"\",VLOOKUP($T115,'FO-DRE-02'!$A$6:$M$101,5,FALSE))","v":""},{"$f":"IF($T115=\"\",\"\",VLOOKUP($T115,'FO-DRE-02'!$A$6:$M$101,8,FALSE))","v":""},{"$f":"IF($T115=\"\",\"\",VLOOKUP($T115,'FO-DRE-02'!$A$6:$M$101,7,FALSE))","v":""},{"$f":"IF($T115=\"\",\"\",VLOOKUP($T115,'FO-DRE-02'!$A$6:$M$101,9,FALSE))","v":""},{"$f":"IF($T115=\"\",\"\",VLOOKUP($T115,'FO-DRE-02'!$A$6:$M$101,11,FALSE))","v":""},{"$f":"IF($T115=\"\",\"\",VLOOKUP($T115,'FO-DRE-02'!$A$6:$M$101,12,FALSE))","v":""},{"$f":"IF($T115=\"\",\"\",VLOOKUP($T115,'FO-DRE-02'!$A$6:$M$101,13,FALSE))","v":""},null,null,null,106,"","F/D","F/D","","","","","","","","","","","","","","",""]
[null,null,null,null,null,null,null,null,{"$f":"IF(H116=\"1a\",Hoja1!$B$126,IF(H116=\"1b\",Hoja1!$B$127,IF(H116=\"2a\",Hoja1!$B$128,IF(H116=\"2b\",Hoja1!$B$129,IF(H116=\"3 \",Hoja1!$B$130,IF(H116=\"4 \",Hoja1!$B$131,IF(H116=\"5 \",Hoja1!$B$132,IF(H116=\"6 \",Hoja1!$B$133,IF(H116=\"7 \",Hoja1!$B$134,IF(H116=\"8 \",Hoja1!$B$135,\" \"))))))))))","v":" "},{"$f":"CONCATENATE(#REF!,\"-\",\"TX\")","v":{"$error":"#REF!"}},{"$f":"CONCATENATE(#REF!,\"-\",\"RX\")","v":{"$error":"#REF!"}},null,null,null,null,0,null,null,null,null,null,{"$f":"IF($R116=\"\",\"\",VLOOKUP($R116,'FO-DRE-01'!$A$7:$U$301,18,FALSE))","v":""},{"$f":"IF($R116=\"\",\"\",VLOOKUP($R116,'FO-DRE-01'!$A$7:$U$301,16,FALSE))","v":""},{"$f":"IF($R116=\"\",\"\",VLOOKUP($R116,'FO-DRE-01'!$A$7:$U$301,17,FALSE))","v":""},{"$f":"IF($R116=\"\",\"\",VLOOKUP($R116,'FO-DRE-01'!$A$7:$U$301,3,FALSE))","v":""},{"$f":"IF($R116=\"\",\"\",VLOOKUP($R116,'FO-DRE-01'!$A$7:$U$301,4,FALSE))","v":""},{"$f":"IF($R116=\"\",\"\",VLOOKUP($R116,'FO-DRE-01'!$A$7:$U$301,5,FALSE))","v":""},{"$f":"IF($R116=\"\",\"\",VLOOKUP($R116,'FO-DRE-01'!$A$7:$U$301,7,FALSE))","v":""},{"$f":"IF($R116=\"\",\"\",VLOOKUP($R116,'FO-DRE-01'!$A$7:$U$301,8,FALSE))","v":""},{"$f":"IF($R116=\"\",\"\",VLOOKUP($R116,'FO-DRE-01'!$A$7:$U$301,9,FALSE))","v":""},{"$f":"IF($R116=\"\",\"\",VLOOKUP($R116,'FO-DRE-01'!$A$7:$U$301,10,FALSE))","v":""},{"$f":"IF($R116=\"\",\"\",VLOOKUP($R116,'FO-DRE-01'!$A$7:$U$301,11,FALSE))","v":""},{"$f":"IF($R116=\"\",\"\",VLOOKUP($R116,'FO-DRE-01'!$A$7:$U$301,12,FALSE))","v":""},{"$f":"IF($R116=\"\",\"\",VLOOKUP($R116,'FO-DRE-01'!$A$7:$U$301,13,FALSE))","v":""},{"$f":"IF($R116=\"\",\"\",VLOOKUP($R116,'FO-DRE-01'!$A$7:$U$301,14,FALSE))","v":""},{"$f":"IF($R116=\"\",\"\",VLOOKUP($R116,'FO-DRE-01'!$A$7:$U$301,15,FALSE))","v":""},{"$f":"IF($S116=\"\",\"\",VLOOKUP($S116,'FO-DRE-04'!$A$6:$L$301,2,FALSE))","v":""},{"$f":"IF($S116=\"\",\"\",VLOOKUP($S116,'FO-DRE-04'!$A$6:$L$301,3,FALSE))","v":""},{"$f":"IF($S116=\"\",\"\",VLOOKUP($S116,'FO-DRE-04'!$A$6:$L$301,4,FALSE))","v":""},{"$f":"IF($S116=\"\",\"\",VLOOKUP($S116,'FO-DRE-04'!$A$6:$L$301,6,FALSE))","v":""},{"$f":"IF($S116=\"\",\"\",VLOOKUP($S116,'FO-DRE-04'!$A$6:$L$301,11,FALSE))","v":""},{"$f":"IF($T116=\"\",\"\",VLOOKUP($T116,'FO-DRE-02'!$A$6:$M$101,2,FALSE))","v":""},{"$f":"IF($T116=\"\",\"\",VLOOKUP($T116,'FO-DRE-02'!$A$6:$M$101,3,FALSE))","v":""},{"$f":"IF($T116=\"\",\"\",VLOOKUP($T116,'FO-DRE-02'!$A$6:$M$101,6,FALSE))","v":""},{"$f":"IF($T116=\"\",\"\",VLOOKUP($T116,'FO-DRE-02'!$A$6:$M$101,4,FALSE))","v":""},{"$f":"IF($T116=\"\",\"\",VLOOKUP($T116,'FO-DRE-02'!$A$6:$M$101,5,FALSE))","v":""},{"$f":"IF($T116=\"\",\"\",VLOOKUP($T116,'FO-DRE-02'!$A$6:$M$101,8,FALSE))","v":""},{"$f":"IF($T116=\"\",\"\",VLOOKUP($T116,'FO-DRE-02'!$A$6:$M$101,7,FALSE))","v":""},{"$f":"IF($T116=\"\",\"\",VLOOKUP($T116,'FO-DRE-02'!$A$6:$M$101,9,FALSE))","v":""},{"$f":"IF($T116=\"\",\"\",VLOOKUP($T116,'FO-DRE-02'!$A$6:$M$101,11,FALSE))","v":""},{"$f":"IF($T116=\"\",\"\",VLOOKUP($T116,'FO-DRE-02'!$A$6:$M$101,12,FALSE))","v":""},{"$f":"IF($T116=\"\",\"\",VLOOKUP($T116,'FO-DRE-02'!$A$6:$M$101,13,FALSE))","v":""},null,null,null,107,"","F/D","F/D","","","","","","","","","","","","","","",""]
[null,null,null,null,null,null,null,null,{"$f":"IF(H117=\"1a\",Hoja1!$B$126,IF(H117=\"1b\",Hoja1!$B$127,IF(H117=\"2a\",Hoja1!$B$128,IF(H117=\"2b\",Hoja1!$B$129,IF(H117=\"3 \",Hoja1!$B$130,IF(H117=\"4 \",Hoja1!$B$131,IF(H117=\"5 \",Hoja1!$B$132,IF(H117=\"6 \",Hoja1!$B$133,IF(H117=\"7 \",Hoja1!$B$134,IF(H117=\"8 \",Hoja1!$B$135,\" \"))))))))))","v":" "},{"$f":"CONCATENATE(#REF!,\"-\",\"TX\")","v":{"$error":"#REF!"}},{"$f":"CONCATENATE(#REF!,\"-\",\"RX\")","v":{"$error":"#REF!"}},null,null,null,null,0,null,null,null,null,null,{"$f":"IF($R117=\"\",\"\",VLOOKUP($R117,'FO-DRE-01'!$A$7:$U$301,18,FALSE))","v":""},{"$f":"IF($R117=\"\",\"\",VLOOKUP($R117,'FO-DRE-01'!$A$7:$U$301,16,FALSE))","v":""},{"$f":"IF($R117=\"\",\"\",VLOOKUP($R117,'FO-DRE-01'!$A$7:$U$301,17,FALSE))","v":""},{"$f":"IF($R117=\"\",\"\",VLOOKUP($R117,'FO-DRE-01'!$A$7:$U$301,3,FALSE))","v":""},{"$f":"IF($R117=\"\",\"\",VLOOKUP($R117,'FO-DRE-01'!$A$7:$U$301,4,FALSE))","v":""},{"$f":"IF($R117=\"\",\"\",VLOOKUP($R117,'FO-DRE-01'!$A$7:$U$301,5,FALSE))","v":""},{"$f":"IF($R117=\"\",\"\",VLOOKUP($R117,'FO-DRE-01'!$A$7:$U$301,7,FALSE))","v":""},{"$f":"IF($R117=\"\",\"\",VLOOKUP($R117,'FO-DRE-01'!$A$7:$U$301,8,FALSE))","v":""},{"$f":"IF($R117=\"\",\"\",VLOOKUP($R117,'FO-DRE-01'!$A$7:$U$301,9,FALSE))","v":""},{"$f":"IF($R117=\"\",\"\",VLOOKUP($R117,'FO-DRE-01'!$A$7:$U$301,10,FALSE))","v":""},{"$f":"IF($R117=\"\",\"\",VLOOKUP($R117,'FO-DRE-01'!$A$7:$U$301,11,FALSE))","v":""},{"$f":"IF($R117=\"\",\"\",VLOOKUP($R117,'FO-DRE-01'!$A$7:$U$301,12,FALSE))","v":""},{"$f":"IF($R117=\"\",\"\",VLOOKUP($R117,'FO-DRE-01'!$A$7:$U$301,13,FALSE))","v":""},{"$f":"IF($R117=\"\",\"\",VLOOKUP($R117,'FO-DRE-01'!$A$7:$U$301,14,FALSE))","v":""},{"$f":"IF($R117=\"\",\"\",VLOOKUP($R117,'FO-DRE-01'!$A$7:$U$301,15,FALSE))","v":""},{"$f":"IF($S117=\"\",\"\",VLOOKUP($S117,'FO-DRE-04'!$A$6:$L$301,2,FALSE))","v":""},{"$f":"IF($S117=\"\",\"\",VLOOKUP($S117,'FO-DRE-04'!$A$6:$L$301,3,FALSE))","v":""},{"$f":"IF($S117=\"\",\"\",VLOOKUP($S117,'FO-DRE-04'!$A$6:$L$301,4,FALSE))","v":""},{"$f":"IF($S117=\"\",\"\",VLOOKUP($S117,'FO-DRE-04'!$A$6:$L$301,6,FALSE))","v":""},{"$f":"IF($S117=\"\",\"\",VLOOKUP($S117,'FO-DRE-04'!$A$6:$L$301,11,FALSE))","v":""},{"$f":"IF($T117=\"\",\"\",VLOOKUP($T117,'FO-DRE-02'!$A$6:$M$101,2,FALSE))","v":""},{"$f":"IF($T117=\"\",\"\",VLOOKUP($T117,'FO-DRE-02'!$A$6:$M$101,3,FALSE))","v":""},{"$f":"IF($T117=\"\",\"\",VLOOKUP($T117,'FO-DRE-02'!$A$6:$M$101,6,FALSE))","v":""},{"$f":"IF($T117=\"\",\"\",VLOOKUP($T117,'FO-DRE-02'!$A$6:$M$101,4,FALSE))","v":""},{"$f":"IF($T117=\"\",\"\",VLOOKUP($T117,'FO-DRE-02'!$A$6:$M$101,5,FALSE))","v":""},{"$f":"IF($T117=\"\",\"\",VLOOKUP($T117,'FO-DRE-02'!$A$6:$M$101,8,FALSE))","v":""},{"$f":"IF($T117=\"\",\"\",VLOOKUP($T117,'FO-DRE-02'!$A$6:$M$101,7,FALSE))","v":""},{"$f":"IF($T117=\"\",\"\",VLOOKUP($T117,'FO-DRE-02'!$A$6:$M$101,9,FALSE))","v":""},{"$f":"IF($T117=\"\",\"\",VLOOKUP($T117,'FO-DRE-02'!$A$6:$M$101,11,FALSE))","v":""},{"$f":"IF($T117=\"\",\"\",VLOOKUP($T117,'FO-DRE-02'!$A$6:$M$101,12,FALSE))","v":""},{"$f":"IF($T117=\"\",\"\",VLOOKUP($T117,'FO-DRE-02'!$A$6:$M$101,13,FALSE))","v":""},null,null,null,108,"","F/D","F/D","","","","","","","","","","","","","","",""]
[null,null,null,null,null,null,null,null,{"$f":"IF(H118=\"1a\",Hoja1!$B$126,IF(H118=\"1b\",Hoja1!$B$127,IF(H118=\"2a\",Hoja1!$B$128,IF(H118=\"2b\",Hoja1!$B$129,IF(H118=\"3 \",Hoja1!$B$130,IF(H118=\"4 \",Hoja1!$B$131,IF(H118=\"5 \",Hoja1!$B$132,IF(H118=\"6 \",Hoja1!$B$133,IF(H118=\"7 \",Hoja1!$B$134,IF(H118=\"8 \",Hoja1!$B$135,\" \"))))))))))","v":" "},{"$f":"CONCATENATE(#REF!,\"-\",\"TX\")","v":{"$error":"#REF!"}},{"$f":"CONCATENATE(#REF!,\"-\",\"RX\")","v":{"$error":"#REF!"}},null,null,null,null,0,null,null,null,null,null,{"$f":"IF($R118=\"\",\"\",VLOOKUP($R118,'FO-DRE-01'!$A$7:$U$301,18,FALSE))","v":""},{"$f":"IF($R118=\"\",\"\",VLOOKUP($R118,'FO-DRE-01'!$A$7:$U$301,16,FALSE))","v":""},{"$f":"IF($R118=\"\",\"\",VLOOKUP($R118,'FO-DRE-01'!$A$7:$U$301,17,FALSE))","v":""},{"$f":"IF($R118=\"\",\"\",VLOOKUP($R118,'FO-DRE-01'!$A$7:$U$301,3,FALSE))","v":""},{"$f":"IF($R118=\"\",\"\",VLOOKUP($R118,'FO-DRE-01'!$A$7:$U$301,4,FALSE))","v":""},{"$f":"IF($R118=\"\",\"\",VLOOKUP($R118,'FO-DRE-01'!$A$7:$U$301,5,FALSE))","v":""},{"$f":"IF($R118=\"\",\"\",VLOOKUP($R118,'FO-DRE-01'!$A$7:$U$301,7,FALSE))","v":""},{"$f":"IF($R118=\"\",\"\",VLOOKUP($R118,'FO-DRE-01'!$A$7:$U$301,8,FALSE))","v":""},{"$f":"IF($R118=\"\",\"\",VLOOKUP($R118,'FO-DRE-01'!$A$7:$U$301,9,FALSE))","v":""},{"$f":"IF($R118=\"\",\"\",VLOOKUP($R118,'FO-DRE-01'!$A$7:$U$301,10,FALSE))","v":""},{"$f":"IF($R118=\"\",\"\",VLOOKUP($R118,'FO-DRE-01'!$A$7:$U$301,11,FALSE))","v":""},{"$f":"IF($R118=\"\",\"\",VLOOKUP($R118,'FO-DRE-01'!$A$7:$U$301,12,FALSE))","v":""},{"$f":"IF($R118=\"\",\"\",VLOOKUP($R118,'FO-DRE-01'!$A$7:$U$301,13,FALSE))","v":""},{"$f":"IF($R118=\"\",\"\",VLOOKUP($R118,'FO-DRE-01'!$A$7:$U$301,14,FALSE))","v":""},{"$f":"IF($R118=\"\",\"\",VLOOKUP($R118,'FO-DRE-01'!$A$7:$U$301,15,FALSE))","v":""},{"$f":"IF($S118=\"\",\"\",VLOOKUP($S118,'FO-DRE-04'!$A$6:$L$301,2,FALSE))","v":""},{"$f":"IF($S118=\"\",\"\",VLOOKUP($S118,'FO-DRE-04'!$A$6:$L$301,3,FALSE))","v":""},{"$f":"IF($S118=\"\",\"\",VLOOKUP($S118,'FO-DRE-04'!$A$6:$L$301,4,FALSE))","v":""},{"$f":"IF($S118=\"\",\"\",VLOOKUP($S118,'FO-DRE-04'!$A$6:$L$301,6,FALSE))","v":""},{"$f":"IF($S118=\"\",\"\",VLOOKUP($S118,'FO-DRE-04'!$A$6:$L$301,11,FALSE))","v":""},{"$f":"IF($T118=\"\",\"\",VLOOKUP($T118,'FO-DRE-02'!$A$6:$M$101,2,FALSE))","v":""},{"$f":"IF($T118=\"\",\"\",VLOOKUP($T118,'FO-DRE-02'!$A$6:$M$101,3,FALSE))","v":""},{"$f":"IF($T118=\"\",\"\",VLOOKUP($T118,'FO-DRE-02'!$A$6:$M$101,6,FALSE))","v":""},{"$f":"IF($T118=\"\",\"\",VLOOKUP($T118,'FO-DRE-02'!$A$6:$M$101,4,FALSE))","v":""},{"$f":"IF($T118=\"\",\"\",VLOOKUP($T118,'FO-DRE-02'!$A$6:$M$101,5,FALSE))","v":""},{"$f":"IF($T118=\"\",\"\",VLOOKUP($T118,'FO-DRE-02'!$A$6:$M$101,8,FALSE))","v":""},{"$f":"IF($T118=\"\",\"\",VLOOKUP($T118,'FO-DRE-02'!$A$6:$M$101,7,FALSE))","v":""},{"$f":"IF($T118=\"\",\"\",VLOOKUP($T118,'FO-DRE-02'!$A$6:$M$101,9,FALSE))","v":""},{"$f":"IF($T118=\"\",\"\",VLOOKUP($T118,'FO-DRE-02'!$A$6:$M$101,11,FALSE))","v":""},{"$f":"IF($T118=\"\",\"\",VLOOKUP($T118,'FO-DRE-02'!$A$6:$M$101,12,FALSE))","v":""},{"$f":"IF($T118=\"\",\"\",VLOOKUP($T118,'FO-DRE-02'!$A$6:$M$101,13,FALSE))","v":""},null,null,null,109,"","F/D","F/D","","","","","","","","","","","","","","",""]
[null,null,null,null,null,null,null,null,{"$f":"IF(H119=\"1a\",Hoja1!$B$126,IF(H119=\"1b\",Hoja1!$B$127,IF(H119=\"2a\",Hoja1!$B$128,IF(H119=\"2b\",Hoja1!$B$129,IF(H119=\"3 \",Hoja1!$B$130,IF(H119=\"4 \",Hoja1!$B$131,IF(H119=\"5 \",Hoja1!$B$132,IF(H119=\"6 \",Hoja1!$B$133,IF(H119=\"7 \",Hoja1!$B$134,IF(H119=\"8 \",Hoja1!$B$135,\" \"))))))))))","v":" "},{"$f":"CONCATENATE(#REF!,\"-\",\"TX\")","v":{"$error":"#REF!"}},{"$f":"CONCATENATE(#REF!,\"-\",\"RX\")","v":{"$error":"#REF!"}},null,null,null,null,0,null,null,null,null,null,{"$f":"IF($R119=\"\",\"\",VLOOKUP($R119,'FO-DRE-01'!$A$7:$U$301,18,FALSE))","v":""},{"$f":"IF($R119=\"\",\"\",VLOOKUP($R119,'FO-DRE-01'!$A$7:$U$301,16,FALSE))","v":""},{"$f":"IF($R119=\"\",\"\",VLOOKUP($R119,'FO-DRE-01'!$A$7:$U$301,17,FALSE))","v":""},{"$f":"IF($R119=\"\",\"\",VLOOKUP($R119,'FO-DRE-01'!$A$7:$U$301,3,FALSE))","v":""},{"$f":"IF($R119=\"\",\"\",VLOOKUP($R119,'FO-DRE-01'!$A$7:$U$301,4,FALSE))","v":""},{"$f":"IF($R119=\"\",\"\",VLOOKUP($R119,'FO-DRE-01'!$A$7:$U$301,5,FALSE))","v":""},{"$f":"IF($R119=\"\",\"\",VLOOKUP($R119,'FO-DRE-01'!$A$7:$U$301,7,FALSE))","v":""},{"$f":"IF($R119=\"\",\"\",VLOOKUP($R119,'FO-DRE-01'!$A$7:$U$301,8,FALSE))","v":""},{"$f":"IF($R119=\"\",\"\",VLOOKUP($R119,'FO-DRE-01'!$A$7:$U$301,9,FALSE))","v":""},{"$f":"IF($R119=\"\",\"\",VLOOKUP($R119,'FO-DRE-01'!$A$7:$U$301,10,FALSE))","v":""},{"$f":"IF($R119=\"\",\"\",VLOOKUP($R119,'FO-DRE-01'!$A$7:$U$301,11,FALSE))","v":""},{"$f":"IF($R119=\"\",\"\",VLOOKUP($R119,'FO-DRE-01'!$A$7:$U$301,12,FALSE))","v":""},{"$f":"IF($R119=\"\",\"\",VLOOKUP($R119,'FO-DRE-01'!$A$7:$U$301,13,FALSE))","v":""},{"$f":"IF($R119=\"\",\"\",VLOOKUP($R119,'FO-DRE-01'!$A$7:$U$301,14,FALSE))","v":""},{"$f":"IF($R119=\"\",\"\",VLOOKUP($R119,'FO-DRE-01'!$A$7:$U$301,15,FALSE))","v":""},{"$f":"IF($S119=\"\",\"\",VLOOKUP($S119,'FO-DRE-04'!$A$6:$L$301,2,FALSE))","v":""},{"$f":"IF($S119=\"\",\"\",VLOOKUP($S119,'FO-DRE-04'!$A$6:$L$301,3,FALSE))","v":""},{"$f":"IF($S119=\"\",\"\",VLOOKUP($S119,'FO-DRE-04'!$A$6:$L$301,4,FALSE))","v":""},{"$f":"IF($S119=\"\",\"\",VLOOKUP($S119,'FO-DRE-04'!$A$6:$L$301,6,FALSE))","v":""},{"$f":"IF($S119=\"\",\"\",VLOOKUP($S119,'FO-DRE-04'!$A$6:$L$301,11,FALSE))","v":""},{"$f":"IF($T119=\"\",\"\",VLOOKUP($T119,'FO-DRE-02'!$A$6:$M$101,2,FALSE))","v":""},{"$f":"IF($T119=\"\",\"\",VLOOKUP($T119,'FO-DRE-02'!$A$6:$M$101,3,FALSE))","v":""},{"$f":"IF($T119=\"\",\"\",VLOOKUP($T119,'FO-DRE-02'!$A$6:$M$101,6,FALSE))","v":""},{"$f":"IF($T119=\"\",\"\",VLOOKUP($T119,'FO-DRE-02'!$A$6:$M$101,4,FALSE))","v":""},{"$f":"IF($T119=\"\",\"\",VLOOKUP($T119,'FO-DRE-02'!$A$6:$M$101,5,FALSE))","v":""},{"$f":"IF($T119=\"\",\"\",VLOOKUP($T119,'FO-DRE-02'!$A$6:$M$101,8,FALSE))","v":""},{"$f":"IF($T119=\"\",\"\",VLOOKUP($T119,'FO-DRE-02'!$A$6:$M$101,7,FALSE))","v":""},{"$f":"IF($T119=\"\",\"\",VLOOKUP($T119,'FO-DRE-02'!$A$6:$M$101,9,FALSE))","v":""},{"$f":"IF($T119=\"\",\"\",VLOOKUP($T119,'FO-DRE-02'!$A$6:$M$101,11,FALSE))","v":""},{"$f":"IF($T119=\"\",\"\",VLOOKUP($T119,'FO-DRE-02'!$A$6:$M$101,12,FALSE))","v":""},{"$f":"IF($T119=\"\",\"\",VLOOKUP($T119,'FO-DRE-02'!$A$6:$M$101,13,FALSE))","v":""},null,null,null,110,"","F/D","F/D","","","","","","","","","","","","","","",""]
[null,null,null,null,null,null,null,null,{"$f":"IF(H120=\"1a\",Hoja1!$B$126,IF(H120=\"1b\",Hoja1!$B$127,IF(H120=\"2a\",Hoja1!$B$128,IF(H120=\"2b\",Hoja1!$B$129,IF(H120=\"3 \",Hoja1!$B$130,IF(H120=\"4 \",Hoja1!$B$131,IF(H120=\"5 \",Hoja1!$B$132,IF(H120=\"6 \",Hoja1!$B$133,IF(H120=\"7 \",Hoja1!$B$134,IF(H120=\"8 \",Hoja1!$B$135,\" \"))))))))))","v":" "},{"$f":"CONCATENATE(#REF!,\"-\",\"TX\")","v":{"$error":"#REF!"}},{"$f":"CONCATENATE(#REF!,\"-\",\"RX\")","v":{"$error":"#REF!"}},null,null,null,null,0,null,null,null,null,null,{"$f":"IF($R120=\"\",\"\",VLOOKUP($R120,'FO-DRE-01'!$A$7:$U$301,18,FALSE))","v":""},{"$f":"IF($R120=\"\",\"\",VLOOKUP($R120,'FO-DRE-01'!$A$7:$U$301,16,FALSE))","v":""},{"$f":"IF($R120=\"\",\"\",VLOOKUP($R120,'FO-DRE-01'!$A$7:$U$301,17,FALSE))","v":""},{"$f":"IF($R120=\"\",\"\",VLOOKUP($R120,'FO-DRE-01'!$A$7:$U$301,3,FALSE))","v":""},{"$f":"IF($R120=\"\",\"\",VLOOKUP($R120,'FO-DRE-01'!$A$7:$U$301,4,FALSE))","v":""},{"$f":"IF($R120=\"\",\"\",VLOOKUP($R120,'FO-DRE-01'!$A$7:$U$301,5,FALSE))","v":""},{"$f":"IF($R120=\"\",\"\",VLOOKUP($R120,'FO-DRE-01'!$A$7:$U$301,7,FALSE))","v":""},{"$f":"IF($R120=\"\",\"\",VLOOKUP($R120,'FO-DRE-01'!$A$7:$U$301,8,FALSE))","v":""},{"$f":"IF($R120=\"\",\"\",VLOOKUP($R120,'FO-DRE-01'!$A$7:$U$301,9,FALSE))","v":""},{"$f":"IF($R120=\"\",\"\",VLOOKUP($R120,'FO-DRE-01'!$A$7:$U$301,10,FALSE))","v":""},{"$f":"IF($R120=\"\",\"\",VLOOKUP($R120,'FO-DRE-01'!$A$7:$U$301,11,FALSE))","v":""},{"$f":"IF($R120=\"\",\"\",VLOOKUP($R120,'FO-DRE-01'!$A$7:$U$301,12,FALSE))","v":""},{"$f":"IF($R120=\"\",\"\",VLOOKUP($R120,'FO-DRE-01'!$A$7:$U$301,13,FALSE))","v":""},{"$f":"IF($R120=\"\",\"\",VLOOKUP($R120,'FO-DRE-01'!$A$7:$U$301,14,FALSE))","v":""},{"$f":"IF($R120=\"\",\"\",VLOOKUP($R120,'FO-DRE-01'!$A$7:$U$301,15,FALSE))","v":""},{"$f":"IF($S120=\"\",\"\",VLOOKUP($S120,'FO-DRE-04'!$A$6:$L$301,2,FALSE))","v":""},{"$f":"IF($S120=\"\",\"\",VLOOKUP($S120,'FO-DRE-04'!$A$6:$L$301,3,FALSE))","v":""},{"$f":"IF($S120=\"\",\"\",VLOOKUP($S120,'FO-DRE-04'!$A$6:$L$301,4,FALSE))","v":""},{"$f":"IF($S120=\"\",\"\",VLOOKUP($S120,'FO-DRE-04'!$A$6:$L$301,6,FALSE))","v":""},{"$f":"IF($S120=\"\",\"\",VLOOKUP($S120,'FO-DRE-04'!$A$6:$L$301,11,FALSE))","v":""},{"$f":"IF($T120=\"\",\"\",VLOOKUP($T120,'FO-DRE-02'!$A$6:$M$101,2,FALSE))","v":""},{"$f":"IF($T120=\"\",\"\",VLOOKUP($T120,'FO-DRE-02'!$A$6:$M$101,3,FALSE))","v":""},{"$f":"IF($T120=\"\",\"\",VLOOKUP($T120,'FO-DRE-02'!$A$6:$M$101,6,FALSE))","v":""},{"$f":"IF($T120=\"\",\"\",VLOOKUP($T120,'FO-DRE-02'!$A$6:$M$101,4,FALSE))","v":""},{"$f":"IF($T120=\"\",\"\",VLOOKUP($T120,'FO-DRE-02'!$A$6:$M$101,5,FALSE))","v":""},{"$f":"IF($T120=\"\",\"\",VLOOKUP($T120,'FO-DRE-02'!$A$6:$M$101,8,FALSE))","v":""},{"$f":"IF($T120=\"\",\"\",VLOOKUP($T120,'FO-DRE-02'!$A$6:$M$101,7,FALSE))","v":""},{"$f":"IF($T120=\"\",\"\",VLOOKUP($T120,'FO-DRE-02'!$A$6:$M$101,9,FALSE))","v":""},{"$f":"IF($T120=\"\",\"\",VLOOKUP($T120,'FO-DRE-02'!$A$6:$M$101,11,FALSE))","v":""},{"$f":"IF($T120=\"\",\"\",VLOOKUP($T120,'FO-DRE-02'!$A$6:$M$101,12,FALSE))","v":""},{"$f":"IF($T120=\"\",\"\",VLOOKUP($T120,'FO-DRE-02'!$A$6:$M$101,13,FALSE))","v":""},null,null,null,111,"","F/D","F/D","","","","","","","","","","","","","","",""]
[null,null,null,null,null,null,null,null,{"$f":"IF(H121=\"1a\",Hoja1!$B$126,IF(H121=\"1b\",Hoja1!$B$127,IF(H121=\"2a\",Hoja1!$B$128,IF(H121=\"2b\",Hoja1!$B$129,IF(H121=\"3 \",Hoja1!$B$130,IF(H121=\"4 \",Hoja1!$B$131,IF(H121=\"5 \",Hoja1!$B$132,IF(H121=\"6 \",Hoja1!$B$133,IF(H121=\"7 \",Hoja1!$B$134,IF(H121=\"8 \",Hoja1!$B$135,\" \"))))))))))","v":" "},{"$f":"CONCATENATE(#REF!,\"-\",\"TX\")","v":{"$error":"#REF!"}},{"$f":"CONCATENATE(#REF!,\"-\",\"RX\")","v":{"$error":"#REF!"}},null,null,null,null,0,null,null,null,null,null,{"$f":"IF($R121=\"\",\"\",VLOOKUP($R121,'FO-DRE-01'!$A$7:$U$301,18,FALSE))","v":""},{"$f":"IF($R121=\"\",\"\",VLOOKUP($R121,'FO-DRE-01'!$A$7:$U$301,16,FALSE))","v":""},{"$f":"IF($R121=\"\",\"\",VLOOKUP($R121,'FO-DRE-01'!$A$7:$U$301,17,FALSE))","v":""},{"$f":"IF($R121=\"\",\"\",VLOOKUP($R121,'FO-DRE-01'!$A$7:$U$301,3,FALSE))","v":""},{"$f":"IF($R121=\"\",\"\",VLOOKUP($R121,'FO-DRE-01'!$A$7:$U$301,4,FALSE))","v":""},{"$f":"IF($R121=\"\",\"\",VLOOKUP($R121,'FO-DRE-01'!$A$7:$U$301,5,FALSE))","v":""},{"$f":"IF($R121=\"\",\"\",VLOOKUP($R121,'FO-DRE-01'!$A$7:$U$301,7,FALSE))","v":""},{"$f":"IF($R121=\"\",\"\",VLOOKUP($R121,'FO-DRE-01'!$A$7:$U$301,8,FALSE))","v":""},{"$f":"IF($R121=\"\",\"\",VLOOKUP($R121,'FO-DRE-01'!$A$7:$U$301,9,FALSE))","v":""},{"$f":"IF($R121=\"\",\"\",VLOOKUP($R121,'FO-DRE-01'!$A$7:$U$301,10,FALSE))","v":""},{"$f":"IF($R121=\"\",\"\",VLOOKUP($R121,'FO-DRE-01'!$A$7:$U$301,11,FALSE))","v":""},{"$f":"IF($R121=\"\",\"\",VLOOKUP($R121,'FO-DRE-01'!$A$7:$U$301,12,FALSE))","v":""},{"$f":"IF($R121=\"\",\"\",VLOOKUP($R121,'FO-DRE-01'!$A$7:$U$301,13,FALSE))","v":""},{"$f":"IF($R121=\"\",\"\",VLOOKUP($R121,'FO-DRE-01'!$A$7:$U$301,14,FALSE))","v":""},{"$f":"IF($R121=\"\",\"\",VLOOKUP($R121,'FO-DRE-01'!$A$7:$U$301,15,FALSE))","v":""},{"$f":"IF($S121=\"\",\"\",VLOOKUP($S121,'FO-DRE-04'!$A$6:$L$301,2,FALSE))","v":""},{"$f":"IF($S121=\"\",\"\",VLOOKUP($S121,'FO-DRE-04'!$A$6:$L$301,3,FALSE))","v":""},{"$f":"IF($S121=\"\",\"\",VLOOKUP($S121,'FO-DRE-04'!$A$6:$L$301,4,FALSE))","v":""},{"$f":"IF($S121=\"\",\"\",VLOOKUP($S121,'FO-DRE-04'!$A$6:$L$301,6,FALSE))","v":""},{"$f":"IF($S121=\"\",\"\",VLOOKUP($S121,'FO-DRE-04'!$A$6:$L$301,11,FALSE))","v":""},{"$f":"IF($T121=\"\",\"\",VLOOKUP($T121,'FO-DRE-02'!$A$6:$M$101,2,FALSE))","v":""},{"$f":"IF($T121=\"\",\"\",VLOOKUP($T121,'FO-DRE-02'!$A$6:$M$101,3,FALSE))","v":""},{"$f":"IF($T121=\"\",\"\",VLOOKUP($T121,'FO-DRE-02'!$A$6:$M$101,6,FALSE))","v":""},{"$f":"IF($T121=\"\",\"\",VLOOKUP($T121,'FO-DRE-02'!$A$6:$M$101,4,FALSE))","v":""},{"$f":"IF($T121=\"\",\"\",VLOOKUP($T121,'FO-DRE-02'!$A$6:$M$101,5,FALSE))","v":""},{"$f":"IF($T121=\"\",\"\",VLOOKUP($T121,'FO-DRE-02'!$A$6:$M$101,8,FALSE))","v":""},{"$f":"IF($T121=\"\",\"\",VLOOKUP($T121,'FO-DRE-02'!$A$6:$M$101,7,FALSE))","v":""},{"$f":"IF($T121=\"\",\"\",VLOOKUP($T121,'FO-DRE-02'!$A$6:$M$101,9,FALSE))","v":""},{"$f":"IF($T121=\"\",\"\",VLOOKUP($T121,'FO-DRE-02'!$A$6:$M$101,11,FALSE))","v":""},{"$f":"IF($T121=\"\",\"\",VLOOKUP($T121,'FO-DRE-02'!$A$6:$M$101,12,FALSE))","v":""},{"$f":"IF($T121=\"\",\"\",VLOOKUP($T121,'FO-DRE-02'!$A$6:$M$101,13,FALSE))","v":""},null,null,null,112,"","F/D","F/D","","","","","","","","","","","","","","",""]
[null,null,null,null,null,null,null,null,{"$f":"IF(H122=\"1a\",Hoja1!$B$126,IF(H122=\"1b\",Hoja1!$B$127,IF(H122=\"2a\",Hoja1!$B$128,IF(H122=\"2b\",Hoja1!$B$129,IF(H122=\"3 \",Hoja1!$B$130,IF(H122=\"4 \",Hoja1!$B$131,IF(H122=\"5 \",Hoja1!$B$132,IF(H122=\"6 \",Hoja1!$B$133,IF(H122=\"7 \",Hoja1!$B$134,IF(H122=\"8 \",Hoja1!$B$135,\" \"))))))))))","v":" "},{"$f":"CONCATENATE(#REF!,\"-\",\"TX\")","v":{"$error":"#REF!"}},{"$f":"CONCATENATE(#REF!,\"-\",\"RX\")","v":{"$error":"#REF!"}},null,null,null,null,0,null,null,null,null,null,{"$f":"IF($R122=\"\",\"\",VLOOKUP($R122,'FO-DRE-01'!$A$7:$U$301,18,FALSE))","v":""},{"$f":"IF($R122=\"\",\"\",VLOOKUP($R122,'FO-DRE-01'!$A$7:$U$301,16,FALSE))","v":""},{"$f":"IF($R122=\"\",\"\",VLOOKUP($R122,'FO-DRE-01'!$A$7:$U$301,17,FALSE))","v":""},{"$f":"IF($R122=\"\",\"\",VLOOKUP($R122,'FO-DRE-01'!$A$7:$U$301,3,FALSE))","v":""},{"$f":"IF($R122=\"\",\"\",VLOOKUP($R122,'FO-DRE-01'!$A$7:$U$301,4,FALSE))","v":""},{"$f":"IF($R122=\"\",\"\",VLOOKUP($R122,'FO-DRE-01'!$A$7:$U$301,5,FALSE))","v":""},{"$f":"IF($R122=\"\",\"\",VLOOKUP($R122,'FO-DRE-01'!$A$7:$U$301,7,FALSE))","v":""},{"$f":"IF($R122=\"\",\"\",VLOOKUP($R122,'FO-DRE-01'!$A$7:$U$301,8,FALSE))","v":""},{"$f":"IF($R122=\"\",\"\",VLOOKUP($R122,'FO-DRE-01'!$A$7:$U$301,9,FALSE))","v":""},{"$f":"IF($R122=\"\",\"\",VLOOKUP($R122,'FO-DRE-01'!$A$7:$U$301,10,FALSE))","v":""},{"$f":"IF($R122=\"\",\"\",VLOOKUP($R122,'FO-DRE-01'!$A$7:$U$301,11,FALSE))","v":""},{"$f":"IF($R122=\"\",\"\",VLOOKUP($R122,'FO-DRE-01'!$A$7:$U$301,12,FALSE))","v":""},{"$f":"IF($R122=\"\",\"\",VLOOKUP($R122,'FO-DRE-01'!$A$7:$U$301,13,FALSE))","v":""},{"$f":"IF($R122=\"\",\"\",VLOOKUP($R122,'FO-DRE-01'!$A$7:$U$301,14,FALSE))","v":""},{"$f":"IF($R122=\"\",\"\",VLOOKUP($R122,'FO-DRE-01'!$A$7:$U$301,15,FALSE))","v":""},{"$f":"IF($S122=\"\",\"\",VLOOKUP($S122,'FO-DRE-04'!$A$6:$L$301,2,FALSE))","v":""},{"$f":"IF($S122=\"\",\"\",VLOOKUP($S122,'FO-DRE-04'!$A$6:$L$301,3,FALSE))","v":""},{"$f":"IF($S122=\"\",\"\",VLOOKUP($S122,'FO-DRE-04'!$A$6:$L$301,4,FALSE))","v":""},{"$f":"IF($S122=\"\",\"\",VLOOKUP($S122,'FO-DRE-04'!$A$6:$L$301,6,FALSE))","v":""},{"$f":"IF($S122=\"\",\"\",VLOOKUP($S122,'FO-DRE-04'!$A$6:$L$301,11,FALSE))","v":""},{"$f":"IF($T122=\"\",\"\",VLOOKUP($T122,'FO-DRE-02'!$A$6:$M$101,2,FALSE))","v":""},{"$f":"IF($T122=\"\",\"\",VLOOKUP($T122,'FO-DRE-02'!$A$6:$M$101,3,FALSE))","v":""},{"$f":"IF($T122=\"\",\"\",VLOOKUP($T122,'FO-DRE-02'!$A$6:$M$101,6,FALSE))","v":""},{"$f":"IF($T122=\"\",\"\",VLOOKUP($T122,'FO-DRE-02'!$A$6:$M$101,4,FALSE))","v":""},{"$f":"IF($T122=\"\",\"\",VLOOKUP($T122,'FO-DRE-02'!$A$6:$M$101,5,FALSE))","v":""},{"$f":"IF($T122=\"\",\"\",VLOOKUP($T122,'FO-DRE-02'!$A$6:$M$101,8,FALSE))","v":""},{"$f":"IF($T122=\"\",\"\",VLOOKUP($T122,'FO-DRE-02'!$A$6:$M$101,7,FALSE))","v":""},{"$f":"IF($T122=\"\",\"\",VLOOKUP($T122,'FO-DRE-02'!$A$6:$M$101,9,FALSE))","v":""},{"$f":"IF($T122=\"\",\"\",VLOOKUP($T122,'FO-DRE-02'!$A$6:$M$101,11,FALSE))","v":""},{"$f":"IF($T122=\"\",\"\",VLOOKUP($T122,'FO-DRE-02'!$A$6:$M$101,12,FALSE))","v":""},{"$f":"IF($T122=\"\",\"\",VLOOKUP($T122,'FO-DRE-02'!$A$6:$M$101,13,FALSE))","v":""},null,null,null,113,"","F/D","F/D","","","","","","","","","","","","","","",""]
[null,null,null,null,null,null,null,null,{"$f":"IF(H123=\"1a\",Hoja1!$B$126,IF(H123=\"1b\",Hoja1!$B$127,IF(H123=\"2a\",Hoja1!$B$128,IF(H123=\"2b\",Hoja1!$B$129,IF(H123=\"3 \",Hoja1!$B$130,IF(H123=\"4 \",Hoja1!$B$131,IF(H123=\"5 \",Hoja1!$B$132,IF(H123=\"6 \",Hoja1!$B$133,IF(H123=\"7 \",Hoja1!$B$134,IF(H123=\"8 \",Hoja1!$B$135,\" \"))))))))))","v":" "},{"$f":"CONCATENATE(#REF!,\"-\",\"TX\")","v":{"$error":"#REF!"}},{"$f":"CONCATENATE(#REF!,\"-\",\"RX\")","v":{"$error":"#REF!"}},null,null,null,null,0,null,null,null,null,null,{"$f":"IF($R123=\"\",\"\",VLOOKUP($R123,'FO-DRE-01'!$A$7:$U$301,18,FALSE))","v":""},{"$f":"IF($R123=\"\",\"\",VLOOKUP($R123,'FO-DRE-01'!$A$7:$U$301,16,FALSE))","v":""},{"$f":"IF($R123=\"\",\"\",VLOOKUP($R123,'FO-DRE-01'!$A$7:$U$301,17,FALSE))","v":""},{"$f":"IF($R123=\"\",\"\",VLOOKUP($R123,'FO-DRE-01'!$A$7:$U$301,3,FALSE))","v":""},{"$f":"IF($R123=\"\",\"\",VLOOKUP($R123,'FO-DRE-01'!$A$7:$U$301,4,FALSE))","v":""},{"$f":"IF($R123=\"\",\"\",VLOOKUP($R123,'FO-DRE-01'!$A$7:$U$301,5,FALSE))","v":""},{"$f":"IF($R123=\"\",\"\",VLOOKUP($R123,'FO-DRE-01'!$A$7:$U$301,7,FALSE))","v":""},{"$f":"IF($R123=\"\",\"\",VLOOKUP($R123,'FO-DRE-01'!$A$7:$U$301,8,FALSE))","v":""},{"$f":"IF($R123=\"\",\"\",VLOOKUP($R123,'FO-DRE-01'!$A$7:$U$301,9,FALSE))","v":""},{"$f":"IF($R123=\"\",\"\",VLOOKUP($R123,'FO-DRE-01'!$A$7:$U$301,10,FALSE))","v":""},{"$f":"IF($R123=\"\",\"\",VLOOKUP($R123,'FO-DRE-01'!$A$7:$U$301,11,FALSE))","v":""},{"$f":"IF($R123=\"\",\"\",VLOOKUP($R123,'FO-DRE-01'!$A$7:$U$301,12,FALSE))","v":""},{"$f":"IF($R123=\"\",\"\",VLOOKUP($R123,'FO-DRE-01'!$A$7:$U$301,13,FALSE))","v":""},{"$f":"IF($R123=\"\",\"\",VLOOKUP($R123,'FO-DRE-01'!$A$7:$U$301,14,FALSE))","v":""},{"$f":"IF($R123=\"\",\"\",VLOOKUP($R123,'FO-DRE-01'!$A$7:$U$301,15,FALSE))","v":""},{"$f":"IF($S123=\"\",\"\",VLOOKUP($S123,'FO-DRE-04'!$A$6:$L$301,2,FALSE))","v":""},{"$f":"IF($S123=\"\",\"\",VLOOKUP($S123,'FO-DRE-04'!$A$6:$L$301,3,FALSE))","v":""},{"$f":"IF($S123=\"\",\"\",VLOOKUP($S123,'FO-DRE-04'!$A$6:$L$301,4,FALSE))","v":""},{"$f":"IF($S123=\"\",\"\",VLOOKUP($S123,'FO-DRE-04'!$A$6:$L$301,6,FALSE))","v":""},{"$f":"IF($S123=\"\",\"\",VLOOKUP($S123,'FO-DRE-04'!$A$6:$L$301,11,FALSE))","v":""},{"$f":"IF($T123=\"\",\"\",VLOOKUP($T123,'FO-DRE-02'!$A$6:$M$101,2,FALSE))","v":""},{"$f":"IF($T123=\"\",\"\",VLOOKUP($T123,'FO-DRE-02'!$A$6:$M$101,3,FALSE))","v":""},{"$f":"IF($T123=\"\",\"\",VLOOKUP($T123,'FO-DRE-02'!$A$6:$M$101,6,FALSE))","v":""},{"$f":"IF($T123=\"\",\"\",VLOOKUP($T123,'FO-DRE-02'!$A$6:$M$101,4,FALSE))","v":""},{"$f":"IF($T123=\"\",\"\",VLOOKUP($T123,'FO-DRE-02'!$A$6:$M$101,5,FALSE))","v":""},{"$f":"IF($T123=\"\",\"\",VLOOKUP($T123,'FO-DRE-02'!$A$6:$M$101,8,FALSE))","v":""},{"$f":"IF($T123=\"\",\"\",VLOOKUP($T123,'FO-DRE-02'!$A$6:$M$101,7,FALSE))","v":""},{"$f":"IF($T123=\"\",\"\",VLOOKUP($T123,'FO-DRE-02'!$A$6:$M$101,9,FALSE))","v":""},{"$f":"IF($T123=\"\",\"\",VLOOKUP($T123,'FO-DRE-02'!$A$6:$M$101,11,FALSE))","v":""},{"$f":"IF($T123=\"\",\"\",VLOOKUP($T123,'FO-DRE-02'!$A$6:$M$101,12,FALSE))","v":""},{"$f":"IF($T123=\"\",\"\",VLOOKUP($T123,'FO-DRE-02'!$A$6:$M$101,13,FALSE))","v":""},null,null,null,114,"","F/D","F/D","","","","","","","","","","","","","","",""]
[null,null,null,null,null,null,null,null,{"$f":"IF(H124=\"1a\",Hoja1!$B$126,IF(H124=\"1b\",Hoja1!$B$127,IF(H124=\"2a\",Hoja1!$B$128,IF(H124=\"2b\",Hoja1!$B$129,IF(H124=\"3 \",Hoja1!$B$130,IF(H124=\"4 \",Hoja1!$B$131,IF(H124=\"5 \",Hoja1!$B$132,IF(H124=\"6 \",Hoja1!$B$133,IF(H124=\"7 \",Hoja1!$B$134,IF(H124=\"8 \",Hoja1!$B$135,\" \"))))))))))","v":" "},{"$f":"CONCATENATE(#REF!,\"-\",\"TX\")","v":{"$error":"#REF!"}},{"$f":"CONCATENATE(#REF!,\"-\",\"RX\")","v":{"$error":"#REF!"}},null,null,null,null,0,null,null,null,null,null,{"$f":"IF($R124=\"\",\"\",VLOOKUP($R124,'FO-DRE-01'!$A$7:$U$301,18,FALSE))","v":""},{"$f":"IF($R124=\"\",\"\",VLOOKUP($R124,'FO-DRE-01'!$A$7:$U$301,16,FALSE))","v":""},{"$f":"IF($R124=\"\",\"\",VLOOKUP($R124,'FO-DRE-01'!$A$7:$U$301,17,FALSE))","v":""},{"$f":"IF($R124=\"\",\"\",VLOOKUP($R124,'FO-DRE-01'!$A$7:$U$301,3,FALSE))","v":""},{"$f":"IF($R124=\"\",\"\",VLOOKUP($R124,'FO-DRE-01'!$A$7:$U$301,4,FALSE))","v":""},{"$f":"IF($R124=\"\",\"\",VLOOKUP($R124,'FO-DRE-01'!$A$7:$U$301,5,FALSE))","v":""},{"$f":"IF($R124=\"\",\"\",VLOOKUP($R124,'FO-DRE-01'!$A$7:$U$301,7,FALSE))","v":""},{"$f":"IF($R124=\"\",\"\",VLOOKUP($R124,'FO-DRE-01'!$A$7:$U$301,8,FALSE))","v":""},{"$f":"IF($R124=\"\",\"\",VLOOKUP($R124,'FO-DRE-01'!$A$7:$U$301,9,FALSE))","v":""},{"$f":"IF($R124=\"\",\"\",VLOOKUP($R124,'FO-DRE-01'!$A$7:$U$301,10,FALSE))","v":""},{"$f":"IF($R124=\"\",\"\",VLOOKUP($R124,'FO-DRE-01'!$A$7:$U$301,11,FALSE))","v":""},{"$f":"IF($R124=\"\",\"\",VLOOKUP($R124,'FO-DRE-01'!$A$7:$U$301,12,FALSE))","v":""},{"$f":"IF($R124=\"\",\"\",VLOOKUP($R124,'FO-DRE-01'!$A$7:$U$301,13,FALSE))","v":""},{"$f":"IF($R124=\"\",\"\",VLOOKUP($R124,'FO-DRE-01'!$A$7:$U$301,14,FALSE))","v":""},{"$f":"IF($R124=\"\",\"\",VLOOKUP($R124,'FO-DRE-01'!$A$7:$U$301,15,FALSE))","v":""},{"$f":"IF($S124=\"\",\"\",VLOOKUP($S124,'FO-DRE-04'!$A$6:$L$301,2,FALSE))","v":""},{"$f":"IF($S124=\"\",\"\",VLOOKUP($S124,'FO-DRE-04'!$A$6:$L$301,3,FALSE))","v":""},{"$f":"IF($S124=\"\",\"\",VLOOKUP($S124,'FO-DRE-04'!$A$6:$L$301,4,FALSE))","v":""},{"$f":"IF($S124=\"\",\"\",VLOOKUP($S124,'FO-DRE-04'!$A$6:$L$301,6,FALSE))","v":""},{"$f":"IF($S124=\"\",\"\",VLOOKUP($S124,'FO-DRE-04'!$A$6:$L$301,11,FALSE))","v":""},{"$f":"IF($T124=\"\",\"\",VLOOKUP($T124,'FO-DRE-02'!$A$6:$M$101,2,FALSE))","v":""},{"$f":"IF($T124=\"\",\"\",VLOOKUP($T124,'FO-DRE-02'!$A$6:$M$101,3,FALSE))","v":""},{"$f":"IF($T124=\"\",\"\",VLOOKUP($T124,'FO-DRE-02'!$A$6:$M$101,6,FALSE))","v":""},{"$f":"IF($T124=\"\",\"\",VLOOKUP($T124,'FO-DRE-02'!$A$6:$M$101,4,FALSE))","v":""},{"$f":"IF($T124=\"\",\"\",VLOOKUP($T124,'FO-DRE-02'!$A$6:$M$101,5,FALSE))","v":""},{"$f":"IF($T124=\"\",\"\",VLOOKUP($T124,'FO-DRE-02'!$A$6:$M$101,8,FALSE))","v":""},{"$f":"IF($T124=\"\",\"\",VLOOKUP($T124,'FO-DRE-02'!$A$6:$M$101,7,FALSE))","v":""},{"$f":"IF($T124=\"\",\"\",VLOOKUP($T124,'FO-DRE-02'!$A$6:$M$101,9,FALSE))","v":""},{"$f":"IF($T124=\"\",\"\",VLOOKUP($T124,'FO-DRE-02'!$A$6:$M$101,11,FALSE))","v":""},{"$f":"IF($T124=\"\",\"\",VLOOKUP($T124,'FO-DRE-02'!$A$6:$M$101,12,FALSE))","v":""},{"$f":"IF($T124=\"\",\"\",VLOOKUP($T124,'FO-DRE-02'!$A$6:$M$101,13,FALSE))","v":""},null,null,null,115,"","F/D","F/D","","","","","","","","","","","","","","",""]
[null,null,null,null,null,null,null,null,{"$f":"IF(H125=\"1a\",Hoja1!$B$126,IF(H125=\"1b\",Hoja1!$B$127,IF(H125=\"2a\",Hoja1!$B$128,IF(H125=\"2b\",Hoja1!$B$129,IF(H125=\"3 \",Hoja1!$B$130,IF(H125=\"4 \",Hoja1!$B$131,IF(H125=\"5 \",Hoja1!$B$132,IF(H125=\"6 \",Hoja1!$B$133,IF(H125=\"7 \",Hoja1!$B$134,IF(H125=\"8 \",Hoja1!$B$135,\" \"))))))))))","v":" "},{"$f":"CONCATENATE(#REF!,\"-\",\"TX\")","v":{"$error":"#REF!"}},{"$f":"CONCATENATE(#REF!,\"-\",\"RX\")","v":{"$error":"#REF!"}},null,null,null,null,0,null,null,null,null,null,{"$f":"IF($R125=\"\",\"\",VLOOKUP($R125,'FO-DRE-01'!$A$7:$U$301,18,FALSE))","v":""},{"$f":"IF($R125=\"\",\"\",VLOOKUP($R125,'FO-DRE-01'!$A$7:$U$301,16,FALSE))","v":""},{"$f":"IF($R125=\"\",\"\",VLOOKUP($R125,'FO-DRE-01'!$A$7:$U$301,17,FALSE))","v":""},{"$f":"IF($R125=\"\",\"\",VLOOKUP($R125,'FO-DRE-01'!$A$7:$U$301,3,FALSE))","v":""},{"$f":"IF($R125=\"\",\"\",VLOOKUP($R125,'FO-DRE-01'!$A$7:$U$301,4,FALSE))","v":""},{"$f":"IF($R125=\"\",\"\",VLOOKUP($R125,'FO-DRE-01'!$A$7:$U$301,5,FALSE))","v":""},{"$f":"IF($R125=\"\",\"\",VLOOKUP($R125,'FO-DRE-01'!$A$7:$U$301,7,FALSE))","v":""},{"$f":"IF($R125=\"\",\"\",VLOOKUP($R125,'FO-DRE-01'!$A$7:$U$301,8,FALSE))","v":""},{"$f":"IF($R125=\"\",\"\",VLOOKUP($R125,'FO-DRE-01'!$A$7:$U$301,9,FALSE))","v":""},{"$f":"IF($R125=\"\",\"\",VLOOKUP($R125,'FO-DRE-01'!$A$7:$U$301,10,FALSE))","v":""},{"$f":"IF($R125=\"\",\"\",VLOOKUP($R125,'FO-DRE-01'!$A$7:$U$301,11,FALSE))","v":""},{"$f":"IF($R125=\"\",\"\",VLOOKUP($R125,'FO-DRE-01'!$A$7:$U$301,12,FALSE))","v":""},{"$f":"IF($R125=\"\",\"\",VLOOKUP($R125,'FO-DRE-01'!$A$7:$U$301,13,FALSE))","v":""},{"$f":"IF($R125=\"\",\"\",VLOOKUP($R125,'FO-DRE-01'!$A$7:$U$301,14,FALSE))","v":""},{"$f":"IF($R125=\"\",\"\",VLOOKUP($R125,'FO-DRE-01'!$A$7:$U$301,15,FALSE))","v":""},{"$f":"IF($S125=\"\",\"\",VLOOKUP($S125,'FO-DRE-04'!$A$6:$L$301,2,FALSE))","v":""},{"$f":"IF($S125=\"\",\"\",VLOOKUP($S125,'FO-DRE-04'!$A$6:$L$301,3,FALSE))","v":""},{"$f":"IF($S125=\"\",\"\",VLOOKUP($S125,'FO-DRE-04'!$A$6:$L$301,4,FALSE))","v":""},{"$f":"IF($S125=\"\",\"\",VLOOKUP($S125,'FO-DRE-04'!$A$6:$L$301,6,FALSE))","v":""},{"$f":"IF($S125=\"\",\"\",VLOOKUP($S125,'FO-DRE-04'!$A$6:$L$301,11,FALSE))","v":""},{"$f":"IF($T125=\"\",\"\",VLOOKUP($T125,'FO-DRE-02'!$A$6:$M$101,2,FALSE))","v":""},{"$f":"IF($T125=\"\",\"\",VLOOKUP($T125,'FO-DRE-02'!$A$6:$M$101,3,FALSE))","v":""},{"$f":"IF($T125=\"\",\"\",VLOOKUP($T125,'FO-DRE-02'!$A$6:$M$101,6,FALSE))","v":""},{"$f":"IF($T125=\"\",\"\",VLOOKUP($T125,'FO-DRE-02'!$A$6:$M$101,4,FALSE))","v":""},{"$f":"IF($T125=\"\",\"\",VLOOKUP($T125,'FO-DRE-02'!$A$6:$M$101,5,FALSE))","v":""},{"$f":"IF($T125=\"\",\"\",VLOOKUP($T125,'FO-DRE-02'!$A$6:$M$101,8,FALSE))","v":""},{"$f":"IF($T125=\"\",\"\",VLOOKUP($T125,'FO-DRE-02'!$A$6:$M$101,7,FALSE))","v":""},{"$f":"IF($T125=\"\",\"\",VLOOKUP($T125,'FO-DRE-02'!$A$6:$M$101,9,FALSE))","v":""},{"$f":"IF($T125=\"\",\"\",VLOOKUP($T125,'FO-DRE-02'!$A$6:$M$101,11,FALSE))","v":""},{"$f":"IF($T125=\"\",\"\",VLOOKUP($T125,'FO-DRE-02'!$A$6:$M$101,12,FALSE))","v":""},{"$f":"IF($T125=\"\",\"\",VLOOKUP($T125,'FO-DRE-02'!$A$6:$M$101,13,FALSE))","v":""},null,null,null,116,"","F/D","F/D","","","","","","","","","","","","","","",""]
[null,null,null,null,null,null,null,null,{"$f":"IF(H126=\"1a\",Hoja1!$B$126,IF(H126=\"1b\",Hoja1!$B$127,IF(H126=\"2a\",Hoja1!$B$128,IF(H126=\"2b\",Hoja1!$B$129,IF(H126=\"3 \",Hoja1!$B$130,IF(H126=\"4 \",Hoja1!$B$131,IF(H126=\"5 \",Hoja1!$B$132,IF(H126=\"6 \",Hoja1!$B$133,IF(H126=\"7 \",Hoja1!$B$134,IF(H126=\"8 \",Hoja1!$B$135,\" \"))))))))))","v":" "},{"$f":"CONCATENATE(#REF!,\"-\",\"TX\")","v":{"$error":"#REF!"}},{"$f":"CONCATENATE(#REF!,\"-\",\"RX\")","v":{"$error":"#REF!"}},null,null,null,null,0,null,null,null,null,null,{"$f":"IF($R126=\"\",\"\",VLOOKUP($R126,'FO-DRE-01'!$A$7:$U$301,18,FALSE))","v":""},{"$f":"IF($R126=\"\",\"\",VLOOKUP($R126,'FO-DRE-01'!$A$7:$U$301,16,FALSE))","v":""},{"$f":"IF($R126=\"\",\"\",VLOOKUP($R126,'FO-DRE-01'!$A$7:$U$301,17,FALSE))","v":""},{"$f":"IF($R126=\"\",\"\",VLOOKUP($R126,'FO-DRE-01'!$A$7:$U$301,3,FALSE))","v":""},{"$f":"IF($R126=\"\",\"\",VLOOKUP($R126,'FO-DRE-01'!$A$7:$U$301,4,FALSE))","v":""},{"$f":"IF($R126=\"\",\"\",VLOOKUP($R126,'FO-DRE-01'!$A$7:$U$301,5,FALSE))","v":""},{"$f":"IF($R126=\"\",\"\",VLOOKUP($R126,'FO-DRE-01'!$A$7:$U$301,7,FALSE))","v":""},{"$f":"IF($R126=\"\",\"\",VLOOKUP($R126,'FO-DRE-01'!$A$7:$U$301,8,FALSE))","v":""},{"$f":"IF($R126=\"\",\"\",VLOOKUP($R126,'FO-DRE-01'!$A$7:$U$301,9,FALSE))","v":""},{"$f":"IF($R126=\"\",\"\",VLOOKUP($R126,'FO-DRE-01'!$A$7:$U$301,10,FALSE))","v":""},{"$f":"IF($R126=\"\",\"\",VLOOKUP($R126,'FO-DRE-01'!$A$7:$U$301,11,FALSE))","v":""},{"$f":"IF($R126=\"\",\"\",VLOOKUP($R126,'FO-DRE-01'!$A$7:$U$301,12,FALSE))","v":""},{"$f":"IF($R126=\"\",\"\",VLOOKUP($R126,'FO-DRE-01'!$A$7:$U$301,13,FALSE))","v":""},{"$f":"IF($R126=\"\",\"\",VLOOKUP($R126,'FO-DRE-01'!$A$7:$U$301,14,FALSE))","v":""},{"$f":"IF($R126=\"\",\"\",VLOOKUP($R126,'FO-DRE-01'!$A$7:$U$301,15,FALSE))","v":""},{"$f":"IF($S126=\"\",\"\",VLOOKUP($S126,'FO-DRE-04'!$A$6:$L$301,2,FALSE))","v":""},{"$f":"IF($S126=\"\",\"\",VLOOKUP($S126,'FO-DRE-04'!$A$6:$L$301,3,FALSE))","v":""},{"$f":"IF($S126=\"\",\"\",VLOOKUP($S126,'FO-DRE-04'!$A$6:$L$301,4,FALSE))","v":""},{"$f":"IF($S126=\"\",\"\",VLOOKUP($S126,'FO-DRE-04'!$A$6:$L$301,6,FALSE))","v":""},{"$f":"IF($S126=\"\",\"\",VLOOKUP($S126,'FO-DRE-04'!$A$6:$L$301,11,FALSE))","v":""},{"$f":"IF($T126=\"\",\"\",VLOOKUP($T126,'FO-DRE-02'!$A$6:$M$101,2,FALSE))","v":""},{"$f":"IF($T126=\"\",\"\",VLOOKUP($T126,'FO-DRE-02'!$A$6:$M$101,3,FALSE))","v":""},{"$f":"IF($T126=\"\",\"\",VLOOKUP($T126,'FO-DRE-02'!$A$6:$M$101,6,FALSE))","v":""},{"$f":"IF($T126=\"\",\"\",VLOOKUP($T126,'FO-DRE-02'!$A$6:$M$101,4,FALSE))","v":""},{"$f":"IF($T126=\"\",\"\",VLOOKUP($T126,'FO-DRE-02'!$A$6:$M$101,5,FALSE))","v":""},{"$f":"IF($T126=\"\",\"\",VLOOKUP($T126,'FO-DRE-02'!$A$6:$M$101,8,FALSE))","v":""},{"$f":"IF($T126=\"\",\"\",VLOOKUP($T126,'FO-DRE-02'!$A$6:$M$101,7,FALSE))","v":""},{"$f":"IF($T126=\"\",\"\",VLOOKUP($T126,'FO-DRE-02'!$A$6:$M$101,9,FALSE))","v":""},{"$f":"IF($T126=\"\",\"\",VLOOKUP($T126,'FO-DRE-02'!$A$6:$M$101,11,FALSE))","v":""},{"$f":"IF($T126=\"\",\"\",VLOOKUP($T126,'FO-DRE-02'!$A$6:$M$101,12,FALSE))","v":""},{"$f":"IF($T126=\"\",\"\",VLOOKUP($T126,'FO-DRE-02'!$A$6:$M$101,13,FALSE))","v":""},null,null,null,117,"","F/D","F/D","","","","","","","","","","","","","","",""]
[null,null,null,null,null,null,null,null,{"$f":"IF(H127=\"1a\",Hoja1!$B$126,IF(H127=\"1b\",Hoja1!$B$127,IF(H127=\"2a\",Hoja1!$B$128,IF(H127=\"2b\",Hoja1!$B$129,IF(H127=\"3 \",Hoja1!$B$130,IF(H127=\"4 \",Hoja1!$B$131,IF(H127=\"5 \",Hoja1!$B$132,IF(H127=\"6 \",Hoja1!$B$133,IF(H127=\"7 \",Hoja1!$B$134,IF(H127=\"8 \",Hoja1!$B$135,\" \"))))))))))","v":" "},{"$f":"CONCATENATE(#REF!,\"-\",\"TX\")","v":{"$error":"#REF!"}},{"$f":"CONCATENATE(#REF!,\"-\",\"RX\")","v":{"$error":"#REF!"}},null,null,null,null,0,null,null,null,null,null,{"$f":"IF($R127=\"\",\"\",VLOOKUP($R127,'FO-DRE-01'!$A$7:$U$301,18,FALSE))","v":""},{"$f":"IF($R127=\"\",\"\",VLOOKUP($R127,'FO-DRE-01'!$A$7:$U$301,16,FALSE))","v":""},{"$f":"IF($R127=\"\",\"\",VLOOKUP($R127,'FO-DRE-01'!$A$7:$U$301,17,FALSE))","v":""},{"$f":"IF($R127=\"\",\"\",VLOOKUP($R127,'FO-DRE-01'!$A$7:$U$301,3,FALSE))","v":""},{"$f":"IF($R127=\"\",\"\",VLOOKUP($R127,'FO-DRE-01'!$A$7:$U$301,4,FALSE))","v":""},{"$f":"IF($R127=\"\",\"\",VLOOKUP($R127,'FO-DRE-01'!$A$7:$U$301,5,FALSE))","v":""},{"$f":"IF($R127=\"\",\"\",VLOOKUP($R127,'FO-DRE-01'!$A$7:$U$301,7,FALSE))","v":""},{"$f":"IF($R127=\"\",\"\",VLOOKUP($R127,'FO-DRE-01'!$A$7:$U$301,8,FALSE))","v":""},{"$f":"IF($R127=\"\",\"\",VLOOKUP($R127,'FO-DRE-01'!$A$7:$U$301,9,FALSE))","v":""},{"$f":"IF($R127=\"\",\"\",VLOOKUP($R127,'FO-DRE-01'!$A$7:$U$301,10,FALSE))","v":""},{"$f":"IF($R127=\"\",\"\",VLOOKUP($R127,'FO-DRE-01'!$A$7:$U$301,11,FALSE))","v":""},{"$f":"IF($R127=\"\",\"\",VLOOKUP($R127,'FO-DRE-01'!$A$7:$U$301,12,FALSE))","v":""},{"$f":"IF($R127=\"\",\"\",VLOOKUP($R127,'FO-DRE-01'!$A$7:$U$301,13,FALSE))","v":""},{"$f":"IF($R127=\"\",\"\",VLOOKUP($R127,'FO-DRE-01'!$A$7:$U$301,14,FALSE))","v":""},{"$f":"IF($R127=\"\",\"\",VLOOKUP($R127,'FO-DRE-01'!$A$7:$U$301,15,FALSE))","v":""},{"$f":"IF($S127=\"\",\"\",VLOOKUP($S127,'FO-DRE-04'!$A$6:$L$301,2,FALSE))","v":""},{"$f":"IF($S127=\"\",\"\",VLOOKUP($S127,'FO-DRE-04'!$A$6:$L$301,3,FALSE))","v":""},{"$f":"IF($S127=\"\",\"\",VLOOKUP($S127,'FO-DRE-04'!$A$6:$L$301,4,FALSE))","v":""},{"$f":"IF($S127=\"\",\"\",VLOOKUP($S127,'FO-DRE-04'!$A$6:$L$301,6,FALSE))","v":""},{"$f":"IF($S127=\"\",\"\",VLOOKUP($S127,'FO-DRE-04'!$A$6:$L$301,11,FALSE))","v":""},{"$f":"IF($T127=\"\",\"\",VLOOKUP($T127,'FO-DRE-02'!$A$6:$M$101,2,FALSE))","v":""},{"$f":"IF($T127=\"\",\"\",VLOOKUP($T127,'FO-DRE-02'!$A$6:$M$101,3,FALSE))","v":""},{"$f":"IF($T127=\"\",\"\",VLOOKUP($T127,'FO-DRE-02'!$A$6:$M$101,6,FALSE))","v":""},{"$f":"IF($T127=\"\",\"\",VLOOKUP($T127,'FO-DRE-02'!$A$6:$M$101,4,FALSE))","v":""},{"$f":"IF($T127=\"\",\"\",VLOOKUP($T127,'FO-DRE-02'!$A$6:$M$101,5,FALSE))","v":""},{"$f":"IF($T127=\"\",\"\",VLOOKUP($T127,'FO-DRE-02'!$A$6:$M$101,8,FALSE))","v":""},{"$f":"IF($T127=\"\",\"\",VLOOKUP($T127,'FO-DRE-02'!$A$6:$M$101,7,FALSE))","v":""},{"$f":"IF($T127=\"\",\"\",VLOOKUP($T127,'FO-DRE-02'!$A$6:$M$101,9,FALSE))","v":""},{"$f":"IF($T127=\"\",\"\",VLOOKUP($T127,'FO-DRE-02'!$A$6:$M$101,11,FALSE))","v":""},{"$f":"IF($T127=\"\",\"\",VLOOKUP($T127,'FO-DRE-02'!$A$6:$M$101,12,FALSE))","v":""},{"$f":"IF($T127=\"\",\"\",VLOOKUP($T127,'FO-DRE-02'!$A$6:$M$101,13,FALSE))","v":""},null,null,null,118,"","F/D","F/D","","","","","","","","","","","","","","",""]
[null,null,null,null,null,null,null,null,{"$f":"IF(H128=\"1a\",Hoja1!$B$126,IF(H128=\"1b\",Hoja1!$B$127,IF(H128=\"2a\",Hoja1!$B$128,IF(H128=\"2b\",Hoja1!$B$129,IF(H128=\"3 \",Hoja1!$B$130,IF(H128=\"4 \",Hoja1!$B$131,IF(H128=\"5 \",Hoja1!$B$132,IF(H128=\"6 \",Hoja1!$B$133,IF(H128=\"7 \",Hoja1!$B$134,IF(H128=\"8 \",Hoja1!$B$135,\" \"))))))))))","v":" "},{"$f":"CONCATENATE(#REF!,\"-\",\"TX\")","v":{"$error":"#REF!"}},{"$f":"CONCATENATE(#REF!,\"-\",\"RX\")","v":{"$error":"#REF!"}},null,null,null,null,0,null,null,null,null,null,{"$f":"IF($R128=\"\",\"\",VLOOKUP($R128,'FO-DRE-01'!$A$7:$U$301,18,FALSE))","v":""},{"$f":"IF($R128=\"\",\"\",VLOOKUP($R128,'FO-DRE-01'!$A$7:$U$301,16,FALSE))","v":""},{"$f":"IF($R128=\"\",\"\",VLOOKUP($R128,'FO-DRE-01'!$A$7:$U$301,17,FALSE))","v":""},{"$f":"IF($R128=\"\",\"\",VLOOKUP($R128,'FO-DRE-01'!$A$7:$U$301,3,FALSE))","v":""},{"$f":"IF($R128=\"\",\"\",VLOOKUP($R128,'FO-DRE-01'!$A$7:$U$301,4,FALSE))","v":""},{"$f":"IF($R128=\"\",\"\",VLOOKUP($R128,'FO-DRE-01'!$A$7:$U$301,5,FALSE))","v":""},{"$f":"IF($R128=\"\",\"\",VLOOKUP($R128,'FO-DRE-01'!$A$7:$U$301,7,FALSE))","v":""},{"$f":"IF($R128=\"\",\"\",VLOOKUP($R128,'FO-DRE-01'!$A$7:$U$301,8,FALSE))","v":""},{"$f":"IF($R128=\"\",\"\",VLOOKUP($R128,'FO-DRE-01'!$A$7:$U$301,9,FALSE))","v":""},{"$f":"IF($R128=\"\",\"\",VLOOKUP($R128,'FO-DRE-01'!$A$7:$U$301,10,FALSE))","v":""},{"$f":"IF($R128=\"\",\"\",VLOOKUP($R128,'FO-DRE-01'!$A$7:$U$301,11,FALSE))","v":""},{"$f":"IF($R128=\"\",\"\",VLOOKUP($R128,'FO-DRE-01'!$A$7:$U$301,12,FALSE))","v":""},{"$f":"IF($R128=\"\",\"\",VLOOKUP($R128,'FO-DRE-01'!$A$7:$U$301,13,FALSE))","v":""},{"$f":"IF($R128=\"\",\"\",VLOOKUP($R128,'FO-DRE-01'!$A$7:$U$301,14,FALSE))","v":""},{"$f":"IF($R128=\"\",\"\",VLOOKUP($R128,'FO-DRE-01'!$A$7:$U$301,15,FALSE))","v":""},{"$f":"IF($S128=\"\",\"\",VLOOKUP($S128,'FO-DRE-04'!$A$6:$L$301,2,FALSE))","v":""},{"$f":"IF($S128=\"\",\"\",VLOOKUP($S128,'FO-DRE-04'!$A$6:$L$301,3,FALSE))","v":""},{"$f":"IF($S128=\"\",\"\",VLOOKUP($S128,'FO-DRE-04'!$A$6:$L$301,4,FALSE))","v":""},{"$f":"IF($S128=\"\",\"\",VLOOKUP($S128,'FO-DRE-04'!$A$6:$L$301,6,FALSE))","v":""},{"$f":"IF($S128=\"\",\"\",VLOOKUP($S128,'FO-DRE-04'!$A$6:$L$301,11,FALSE))","v":""},{"$f":"IF($T128=\"\",\"\",VLOOKUP($T128,'FO-DRE-02'!$A$6:$M$101,2,FALSE))","v":""},{"$f":"IF($T128=\"\",\"\",VLOOKUP($T128,'FO-DRE-02'!$A$6:$M$101,3,FALSE))","v":""},{"$f":"IF($T128=\"\",\"\",VLOOKUP($T128,'FO-DRE-02'!$A$6:$M$101,6,FALSE))","v":""},{"$f":"IF($T128=\"\",\"\",VLOOKUP($T128,'FO-DRE-02'!$A$6:$M$101,4,FALSE))","v":""},{"$f":"IF($T128=\"\",\"\",VLOOKUP($T128,'FO-DRE-02'!$A$6:$M$101,5,FALSE))","v":""},{"$f":"IF($T128=\"\",\"\",VLOOKUP($T128,'FO-DRE-02'!$A$6:$M$101,8,FALSE))","v":""},{"$f":"IF($T128=\"\",\"\",VLOOKUP($T128,'FO-DRE-02'!$A$6:$M$101,7,FALSE))","v":""},{"$f":"IF($T128=\"\",\"\",VLOOKUP($T128,'FO-DRE-02'!$A$6:$M$101,9,FALSE))","v":""},{"$f":"IF($T128=\"\",\"\",VLOOKUP($T128,'FO-DRE-02'!$A$6:$M$101,11,FALSE))","v":""},{"$f":"IF($T128=\"\",\"\",VLOOKUP($T128,'FO-DRE-02'!$A$6:$M$101,12,FALSE))","v":""},{"$f":"IF($T128=\"\",\"\",VLOOKUP($T128,'FO-DRE-02'!$A$6:$M$101,13,FALSE))","v":""},null,null,null,119,"","F/D","F/D","","","","","","","","","","","","","","",""]
[null,null,null,null,null,null,null,null,{"$f":"IF(H129=\"1a\",Hoja1!$B$126,IF(H129=\"1b\",Hoja1!$B$127,IF(H129=\"2a\",Hoja1!$B$128,IF(H129=\"2b\",Hoja1!$B$129,IF(H129=\"3 \",Hoja1!$B$130,IF(H129=\"4 \",Hoja1!$B$131,IF(H129=\"5 \",Hoja1!$B$132,IF(H129=\"6 \",Hoja1!$B$133,IF(H129=\"7 \",Hoja1!$B$134,IF(H129=\"8 \",Hoja1!$B$135,\" \"))))))))))","v":" "},{"$f":"CONCATENATE(#REF!,\"-\",\"TX\")","v":{"$error":"#REF!"}},{"$f":"CONCATENATE(#REF!,\"-\",\"RX\")","v":{"$error":"#REF!"}},null,null,null,null,0,null,null,null,null,null,{"$f":"IF($R129=\"\",\"\",VLOOKUP($R129,'FO-DRE-01'!$A$7:$U$301,18,FALSE))","v":""},{"$f":"IF($R129=\"\",\"\",VLOOKUP($R129,'FO-DRE-01'!$A$7:$U$301,16,FALSE))","v":""},{"$f":"IF($R129=\"\",\"\",VLOOKUP($R129,'FO-DRE-01'!$A$7:$U$301,17,FALSE))","v":""},{"$f":"IF($R129=\"\",\"\",VLOOKUP($R129,'FO-DRE-01'!$A$7:$U$301,3,FALSE))","v":""},{"$f":"IF($R129=\"\",\"\",VLOOKUP($R129,'FO-DRE-01'!$A$7:$U$301,4,FALSE))","v":""},{"$f":"IF($R129=\"\",\"\",VLOOKUP($R129,'FO-DRE-01'!$A$7:$U$301,5,FALSE))","v":""},{"$f":"IF($R129=\"\",\"\",VLOOKUP($R129,'FO-DRE-01'!$A$7:$U$301,7,FALSE))","v":""},{"$f":"IF($R129=\"\",\"\",VLOOKUP($R129,'FO-DRE-01'!$A$7:$U$301,8,FALSE))","v":""},{"$f":"IF($R129=\"\",\"\",VLOOKUP($R129,'FO-DRE-01'!$A$7:$U$301,9,FALSE))","v":""},{"$f":"IF($R129=\"\",\"\",VLOOKUP($R129,'FO-DRE-01'!$A$7:$U$301,10,FALSE))","v":""},{"$f":"IF($R129=\"\",\"\",VLOOKUP($R129,'FO-DRE-01'!$A$7:$U$301,11,FALSE))","v":""},{"$f":"IF($R129=\"\",\"\",VLOOKUP($R129,'FO-DRE-01'!$A$7:$U$301,12,FALSE))","v":""},{"$f":"IF($R129=\"\",\"\",VLOOKUP($R129,'FO-DRE-01'!$A$7:$U$301,13,FALSE))","v":""},{"$f":"IF($R129=\"\",\"\",VLOOKUP($R129,'FO-DRE-01'!$A$7:$U$301,14,FALSE))","v":""},{"$f":"IF($R129=\"\",\"\",VLOOKUP($R129,'FO-DRE-01'!$A$7:$U$301,15,FALSE))","v":""},{"$f":"IF($S129=\"\",\"\",VLOOKUP($S129,'FO-DRE-04'!$A$6:$L$301,2,FALSE))","v":""},{"$f":"IF($S129=\"\",\"\",VLOOKUP($S129,'FO-DRE-04'!$A$6:$L$301,3,FALSE))","v":""},{"$f":"IF($S129=\"\",\"\",VLOOKUP($S129,'FO-DRE-04'!$A$6:$L$301,4,FALSE))","v":""},{"$f":"IF($S129=\"\",\"\",VLOOKUP($S129,'FO-DRE-04'!$A$6:$L$301,6,FALSE))","v":""},{"$f":"IF($S129=\"\",\"\",VLOOKUP($S129,'FO-DRE-04'!$A$6:$L$301,11,FALSE))","v":""},{"$f":"IF($T129=\"\",\"\",VLOOKUP($T129,'FO-DRE-02'!$A$6:$M$101,2,FALSE))","v":""},{"$f":"IF($T129=\"\",\"\",VLOOKUP($T129,'FO-DRE-02'!$A$6:$M$101,3,FALSE))","v":""},{"$f":"IF($T129=\"\",\"\",VLOOKUP($T129,'FO-DRE-02'!$A$6:$M$101,6,FALSE))","v":""},{"$f":"IF($T129=\"\",\"\",VLOOKUP($T129,'FO-DRE-02'!$A$6:$M$101,4,FALSE))","v":""},{"$f":"IF($T129=\"\",\"\",VLOOKUP($T129,'FO-DRE-02'!$A$6:$M$101,5,FALSE))","v":""},{"$f":"IF($T129=\"\",\"\",VLOOKUP($T129,'FO-DRE-02'!$A$6:$M$101,8,FALSE))","v":""},{"$f":"IF($T129=\"\",\"\",VLOOKUP($T129,'FO-DRE-02'!$A$6:$M$101,7,FALSE))","v":""},{"$f":"IF($T129=\"\",\"\",VLOOKUP($T129,'FO-DRE-02'!$A$6:$M$101,9,FALSE))","v":""},{"$f":"IF($T129=\"\",\"\",VLOOKUP($T129,'FO-DRE-02'!$A$6:$M$101,11,FALSE))","v":""},{"$f":"IF($T129=\"\",\"\",VLOOKUP($T129,'FO-DRE-02'!$A$6:$M$101,12,FALSE))","v":""},{"$f":"IF($T129=\"\",\"\",VLOOKUP($T129,'FO-DRE-02'!$A$6:$M$101,13,FALSE))","v":""},null,null,null,120,"","F/D","F/D","","","","","","","","","","","","","","",""]
[null,null,null,null,null,null,null,null,{"$f":"IF(H130=\"1a\",Hoja1!$B$126,IF(H130=\"1b\",Hoja1!$B$127,IF(H130=\"2a\",Hoja1!$B$128,IF(H130=\"2b\",Hoja1!$B$129,IF(H130=\"3 \",Hoja1!$B$130,IF(H130=\"4 \",Hoja1!$B$131,IF(H130=\"5 \",Hoja1!$B$132,IF(H130=\"6 \",Hoja1!$B$133,IF(H130=\"7 \",Hoja1!$B$134,IF(H130=\"8 \",Hoja1!$B$135,\" \"))))))))))","v":" "},{"$f":"CONCATENATE(#REF!,\"-\",\"TX\")","v":{"$error":"#REF!"}},{"$f":"CONCATENATE(#REF!,\"-\",\"RX\")","v":{"$error":"#REF!"}},null,null,null,null,0,null,null,null,null,null,{"$f":"IF($R130=\"\",\"\",VLOOKUP($R130,'FO-DRE-01'!$A$7:$U$301,18,FALSE))","v":""},{"$f":"IF($R130=\"\",\"\",VLOOKUP($R130,'FO-DRE-01'!$A$7:$U$301,16,FALSE))","v":""},{"$f":"IF($R130=\"\",\"\",VLOOKUP($R130,'FO-DRE-01'!$A$7:$U$301,17,FALSE))","v":""},{"$f":"IF($R130=\"\",\"\",VLOOKUP($R130,'FO-DRE-01'!$A$7:$U$301,3,FALSE))","v":""},{"$f":"IF($R130=\"\",\"\",VLOOKUP($R130,'FO-DRE-01'!$A$7:$U$301,4,FALSE))","v":""},{"$f":"IF($R130=\"\",\"\",VLOOKUP($R130,'FO-DRE-01'!$A$7:$U$301,5,FALSE))","v":""},{"$f":"IF($R130=\"\",\"\",VLOOKUP($R130,'FO-DRE-01'!$A$7:$U$301,7,FALSE))","v":""},{"$f":"IF($R130=\"\",\"\",VLOOKUP($R130,'FO-DRE-01'!$A$7:$U$301,8,FALSE))","v":""},{"$f":"IF($R130=\"\",\"\",VLOOKUP($R130,'FO-DRE-01'!$A$7:$U$301,9,FALSE))","v":""},{"$f":"IF($R130=\"\",\"\",VLOOKUP($R130,'FO-DRE-01'!$A$7:$U$301,10,FALSE))","v":""},{"$f":"IF($R130=\"\",\"\",VLOOKUP($R130,'FO-DRE-01'!$A$7:$U$301,11,FALSE))","v":""},{"$f":"IF($R130=\"\",\"\",VLOOKUP($R130,'FO-DRE-01'!$A$7:$U$301,12,FALSE))","v":""},{"$f":"IF($R130=\"\",\"\",VLOOKUP($R130,'FO-DRE-01'!$A$7:$U$301,13,FALSE))","v":""},{"$f":"IF($R130=\"\",\"\",VLOOKUP($R130,'FO-DRE-01'!$A$7:$U$301,14,FALSE))","v":""},{"$f":"IF($R130=\"\",\"\",VLOOKUP($R130,'FO-DRE-01'!$A$7:$U$301,15,FALSE))","v":""},{"$f":"IF($S130=\"\",\"\",VLOOKUP($S130,'FO-DRE-04'!$A$6:$L$301,2,FALSE))","v":""},{"$f":"IF($S130=\"\",\"\",VLOOKUP($S130,'FO-DRE-04'!$A$6:$L$301,3,FALSE))","v":""},{"$f":"IF($S130=\"\",\"\",VLOOKUP($S130,'FO-DRE-04'!$A$6:$L$301,4,FALSE))","v":""},{"$f":"IF($S130=\"\",\"\",VLOOKUP($S130,'FO-DRE-04'!$A$6:$L$301,6,FALSE))","v":""},{"$f":"IF($S130=\"\",\"\",VLOOKUP($S130,'FO-DRE-04'!$A$6:$L$301,11,FALSE))","v":""},{"$f":"IF($T130=\"\",\"\",VLOOKUP($T130,'FO-DRE-02'!$A$6:$M$101,2,FALSE))","v":""},{"$f":"IF($T130=\"\",\"\",VLOOKUP($T130,'FO-DRE-02'!$A$6:$M$101,3,FALSE))","v":""},{"$f":"IF($T130=\"\",\"\",VLOOKUP($T130,'FO-DRE-02'!$A$6:$M$101,6,FALSE))","v":""},{"$f":"IF($T130=\"\",\"\",VLOOKUP($T130,'FO-DRE-02'!$A$6:$M$101,4,FALSE))","v":""},{"$f":"IF($T130=\"\",\"\",VLOOKUP($T130,'FO-DRE-02'!$A$6:$M$101,5,FALSE))","v":""},{"$f":"IF($T130=\"\",\"\",VLOOKUP($T130,'FO-DRE-02'!$A$6:$M$101,8,FALSE))","v":""},{"$f":"IF($T130=\"\",\"\",VLOOKUP($T130,'FO-DRE-02'!$A$6:$M$101,7,FALSE))","v":""},{"$f":"IF($T130=\"\",\"\",VLOOKUP($T130,'FO-DRE-02'!$A$6:$M$101,9,FALSE))","v":""},{"$f":"IF($T130=\"\",\"\",VLOOKUP($T130,'FO-DRE-02'!$A$6:$M$101,11,FALSE))","v":""},{"$f":"IF($T130=\"\",\"\",VLOOKUP($T130,'FO-DRE-02'!$A$6:$M$101,12,FALSE))","v":""},{"$f":"IF($T130=\"\",\"\",VLOOKUP($T130,'FO-DRE-02'!$A$6:$M$101,13,FALSE))","v":""},null,null,null,121,"","F/D","F/D","","","","","","","","","","","","","","",""]
[null,null,null,null,null,null,null,null,{"$f":"IF(H131=\"1a\",Hoja1!$B$126,IF(H131=\"1b\",Hoja1!$B$127,IF(H131=\"2a\",Hoja1!$B$128,IF(H131=\"2b\",Hoja1!$B$129,IF(H131=\"3 \",Hoja1!$B$130,IF(H131=\"4 \",Hoja1!$B$131,IF(H131=\"5 \",Hoja1!$B$132,IF(H131=\"6 \",Hoja1!$B$133,IF(H131=\"7 \",Hoja1!$B$134,IF(H131=\"8 \",Hoja1!$B$135,\" \"))))))))))","v":" "},{"$f":"CONCATENATE(#REF!,\"-\",\"TX\")","v":{"$error":"#REF!"}},{"$f":"CONCATENATE(#REF!,\"-\",\"RX\")","v":{"$error":"#REF!"}},null,null,null,null,0,null,null,null,null,null,{"$f":"IF($R131=\"\",\"\",VLOOKUP($R131,'FO-DRE-01'!$A$7:$U$301,18,FALSE))","v":""},{"$f":"IF($R131=\"\",\"\",VLOOKUP($R131,'FO-DRE-01'!$A$7:$U$301,16,FALSE))","v":""},{"$f":"IF($R131=\"\",\"\",VLOOKUP($R131,'FO-DRE-01'!$A$7:$U$301,17,FALSE))","v":""},{"$f":"IF($R131=\"\",\"\",VLOOKUP($R131,'FO-DRE-01'!$A$7:$U$301,3,FALSE))","v":""},{"$f":"IF($R131=\"\",\"\",VLOOKUP($R131,'FO-DRE-01'!$A$7:$U$301,4,FALSE))","v":""},{"$f":"IF($R131=\"\",\"\",VLOOKUP($R131,'FO-DRE-01'!$A$7:$U$301,5,FALSE))","v":""},{"$f":"IF($R131=\"\",\"\",VLOOKUP($R131,'FO-DRE-01'!$A$7:$U$301,7,FALSE))","v":""},{"$f":"IF($R131=\"\",\"\",VLOOKUP($R131,'FO-DRE-01'!$A$7:$U$301,8,FALSE))","v":""},{"$f":"IF($R131=\"\",\"\",VLOOKUP($R131,'FO-DRE-01'!$A$7:$U$301,9,FALSE))","v":""},{"$f":"IF($R131=\"\",\"\",VLOOKUP($R131,'FO-DRE-01'!$A$7:$U$301,10,FALSE))","v":""},{"$f":"IF($R131=\"\",\"\",VLOOKUP($R131,'FO-DRE-01'!$A$7:$U$301,11,FALSE))","v":""},{"$f":"IF($R131=\"\",\"\",VLOOKUP($R131,'FO-DRE-01'!$A$7:$U$301,12,FALSE))","v":""},{"$f":"IF($R131=\"\",\"\",VLOOKUP($R131,'FO-DRE-01'!$A$7:$U$301,13,FALSE))","v":""},{"$f":"IF($R131=\"\",\"\",VLOOKUP($R131,'FO-DRE-01'!$A$7:$U$301,14,FALSE))","v":""},{"$f":"IF($R131=\"\",\"\",VLOOKUP($R131,'FO-DRE-01'!$A$7:$U$301,15,FALSE))","v":""},{"$f":"IF($S131=\"\",\"\",VLOOKUP($S131,'FO-DRE-04'!$A$6:$L$301,2,FALSE))","v":""},{"$f":"IF($S131=\"\",\"\",VLOOKUP($S131,'FO-DRE-04'!$A$6:$L$301,3,FALSE))","v":""},{"$f":"IF($S131=\"\",\"\",VLOOKUP($S131,'FO-DRE-04'!$A$6:$L$301,4,FALSE))","v":""},{"$f":"IF($S131=\"\",\"\",VLOOKUP($S131,'FO-DRE-04'!$A$6:$L$301,6,FALSE))","v":""},{"$f":"IF($S131=\"\",\"\",VLOOKUP($S131,'FO-DRE-04'!$A$6:$L$301,11,FALSE))","v":""},{"$f":"IF($T131=\"\",\"\",VLOOKUP($T131,'FO-DRE-02'!$A$6:$M$101,2,FALSE))","v":""},{"$f":"IF($T131=\"\",\"\",VLOOKUP($T131,'FO-DRE-02'!$A$6:$M$101,3,FALSE))","v":""},{"$f":"IF($T131=\"\",\"\",VLOOKUP($T131,'FO-DRE-02'!$A$6:$M$101,6,FALSE))","v":""},{"$f":"IF($T131=\"\",\"\",VLOOKUP($T131,'FO-DRE-02'!$A$6:$M$101,4,FALSE))","v":""},{"$f":"IF($T131=\"\",\"\",VLOOKUP($T131,'FO-DRE-02'!$A$6:$M$101,5,FALSE))","v":""},{"$f":"IF($T131=\"\",\"\",VLOOKUP($T131,'FO-DRE-02'!$A$6:$M$101,8,FALSE))","v":""},{"$f":"IF($T131=\"\",\"\",VLOOKUP($T131,'FO-DRE-02'!$A$6:$M$101,7,FALSE))","v":""},{"$f":"IF($T131=\"\",\"\",VLOOKUP($T131,'FO-DRE-02'!$A$6:$M$101,9,FALSE))","v":""},{"$f":"IF($T131=\"\",\"\",VLOOKUP($T131,'FO-DRE-02'!$A$6:$M$101,11,FALSE))","v":""},{"$f":"IF($T131=\"\",\"\",VLOOKUP($T131,'FO-DRE-02'!$A$6:$M$101,12,FALSE))","v":""},{"$f":"IF($T131=\"\",\"\",VLOOKUP($T131,'FO-DRE-02'!$A$6:$M$101,13,FALSE))","v":""},null,null,null,122,"","F/D","F/D","","","","","","","","","","","","","","",""]
[null,null,null,null,null,null,null,null,{"$f":"IF(H132=\"1a\",Hoja1!$B$126,IF(H132=\"1b\",Hoja1!$B$127,IF(H132=\"2a\",Hoja1!$B$128,IF(H132=\"2b\",Hoja1!$B$129,IF(H132=\"3 \",Hoja1!$B$130,IF(H132=\"4 \",Hoja1!$B$131,IF(H132=\"5 \",Hoja1!$B$132,IF(H132=\"6 \",Hoja1!$B$133,IF(H132=\"7 \",Hoja1!$B$134,IF(H132=\"8 \",Hoja1!$B$135,\" \"))))))))))","v":" "},{"$f":"CONCATENATE(#REF!,\"-\",\"TX\")","v":{"$error":"#REF!"}},{"$f":"CONCATENATE(#REF!,\"-\",\"RX\")","v":{"$error":"#REF!"}},null,null,null,null,0,null,null,null,null,null,{"$f":"IF($R132=\"\",\"\",VLOOKUP($R132,'FO-DRE-01'!$A$7:$U$301,18,FALSE))","v":""},{"$f":"IF($R132=\"\",\"\",VLOOKUP($R132,'FO-DRE-01'!$A$7:$U$301,16,FALSE))","v":""},{"$f":"IF($R132=\"\",\"\",VLOOKUP($R132,'FO-DRE-01'!$A$7:$U$301,17,FALSE))","v":""},{"$f":"IF($R132=\"\",\"\",VLOOKUP($R132,'FO-DRE-01'!$A$7:$U$301,3,FALSE))","v":""},{"$f":"IF($R132=\"\",\"\",VLOOKUP($R132,'FO-DRE-01'!$A$7:$U$301,4,FALSE))","v":""},{"$f":"IF($R132=\"\",\"\",VLOOKUP($R132,'FO-DRE-01'!$A$7:$U$301,5,FALSE))","v":""},{"$f":"IF($R132=\"\",\"\",VLOOKUP($R132,'FO-DRE-01'!$A$7:$U$301,7,FALSE))","v":""},{"$f":"IF($R132=\"\",\"\",VLOOKUP($R132,'FO-DRE-01'!$A$7:$U$301,8,FALSE))","v":""},{"$f":"IF($R132=\"\",\"\",VLOOKUP($R132,'FO-DRE-01'!$A$7:$U$301,9,FALSE))","v":""},{"$f":"IF($R132=\"\",\"\",VLOOKUP($R132,'FO-DRE-01'!$A$7:$U$301,10,FALSE))","v":""},{"$f":"IF($R132=\"\",\"\",VLOOKUP($R132,'FO-DRE-01'!$A$7:$U$301,11,FALSE))","v":""},{"$f":"IF($R132=\"\",\"\",VLOOKUP($R132,'FO-DRE-01'!$A$7:$U$301,12,FALSE))","v":""},{"$f":"IF($R132=\"\",\"\",VLOOKUP($R132,'FO-DRE-01'!$A$7:$U$301,13,FALSE))","v":""},{"$f":"IF($R132=\"\",\"\",VLOOKUP($R132,'FO-DRE-01'!$A$7:$U$301,14,FALSE))","v":""},{"$f":"IF($R132=\"\",\"\",VLOOKUP($R132,'FO-DRE-01'!$A$7:$U$301,15,FALSE))","v":""},{"$f":"IF($S132=\"\",\"\",VLOOKUP($S132,'FO-DRE-04'!$A$6:$L$301,2,FALSE))","v":""},{"$f":"IF($S132=\"\",\"\",VLOOKUP($S132,'FO-DRE-04'!$A$6:$L$301,3,FALSE))","v":""},{"$f":"IF($S132=\"\",\"\",VLOOKUP($S132,'FO-DRE-04'!$A$6:$L$301,4,FALSE))","v":""},{"$f":"IF($S132=\"\",\"\",VLOOKUP($S132,'FO-DRE-04'!$A$6:$L$301,6,FALSE))","v":""},{"$f":"IF($S132=\"\",\"\",VLOOKUP($S132,'FO-DRE-04'!$A$6:$L$301,11,FALSE))","v":""},{"$f":"IF($T132=\"\",\"\",VLOOKUP($T132,'FO-DRE-02'!$A$6:$M$101,2,FALSE))","v":""},{"$f":"IF($T132=\"\",\"\",VLOOKUP($T132,'FO-DRE-02'!$A$6:$M$101,3,FALSE))","v":""},{"$f":"IF($T132=\"\",\"\",VLOOKUP($T132,'FO-DRE-02'!$A$6:$M$101,6,FALSE))","v":""},{"$f":"IF($T132=\"\",\"\",VLOOKUP($T132,'FO-DRE-02'!$A$6:$M$101,4,FALSE))","v":""},{"$f":"IF($T132=\"\",\"\",VLOOKUP($T132,'FO-DRE-02'!$A$6:$M$101,5,FALSE))","v":""},{"$f":"IF($T132=\"\",\"\",VLOOKUP($T132,'FO-DRE-02'!$A$6:$M$101,8,FALSE))","v":""},{"$f":"IF($T132=\"\",\"\",VLOOKUP($T132,'FO-DRE-02'!$A$6:$M$101,7,FALSE))","v":""},{"$f":"IF($T132=\"\",\"\",VLOOKUP($T132,'FO-DRE-02'!$A$6:$M$101,9,FALSE))","v":""},{"$f":"IF($T132=\"\",\"\",VLOOKUP($T132,'FO-DRE-02'!$A$6:$M$101,11,FALSE))","v":""},{"$f":"IF($T132=\"\",\"\",VLOOKUP($T132,'FO-DRE-02'!$A$6:$M$101,12,FALSE))","v":""},{"$f":"IF($T132=\"\",\"\",VLOOKUP($T132,'FO-DRE-02'!$A$6:$M$101,13,FALSE))","v":""},null,null,null,123,"","F/D","F/D","","","","","","","","","","","","","","",""]
[null,null,null,null,null,null,null,null,{"$f":"IF(H133=\"1a\",Hoja1!$B$126,IF(H133=\"1b\",Hoja1!$B$127,IF(H133=\"2a\",Hoja1!$B$128,IF(H133=\"2b\",Hoja1!$B$129,IF(H133=\"3 \",Hoja1!$B$130,IF(H133=\"4 \",Hoja1!$B$131,IF(H133=\"5 \",Hoja1!$B$132,IF(H133=\"6 \",Hoja1!$B$133,IF(H133=\"7 \",Hoja1!$B$134,IF(H133=\"8 \",Hoja1!$B$135,\" \"))))))))))","v":" "},{"$f":"CONCATENATE(#REF!,\"-\",\"TX\")","v":{"$error":"#REF!"}},{"$f":"CONCATENATE(#REF!,\"-\",\"RX\")","v":{"$error":"#REF!"}},null,null,null,null,0,null,null,null,null,null,{"$f":"IF($R133=\"\",\"\",VLOOKUP($R133,'FO-DRE-01'!$A$7:$U$301,18,FALSE))","v":""},{"$f":"IF($R133=\"\",\"\",VLOOKUP($R133,'FO-DRE-01'!$A$7:$U$301,16,FALSE))","v":""},{"$f":"IF($R133=\"\",\"\",VLOOKUP($R133,'FO-DRE-01'!$A$7:$U$301,17,FALSE))","v":""},{"$f":"IF($R133=\"\",\"\",VLOOKUP($R133,'FO-DRE-01'!$A$7:$U$301,3,FALSE))","v":""},{"$f":"IF($R133=\"\",\"\",VLOOKUP($R133,'FO-DRE-01'!$A$7:$U$301,4,FALSE))","v":""},{"$f":"IF($R133=\"\",\"\",VLOOKUP($R133,'FO-DRE-01'!$A$7:$U$301,5,FALSE))","v":""},{"$f":"IF($R133=\"\",\"\",VLOOKUP($R133,'FO-DRE-01'!$A$7:$U$301,7,FALSE))","v":""},{"$f":"IF($R133=\"\",\"\",VLOOKUP($R133,'FO-DRE-01'!$A$7:$U$301,8,FALSE))","v":""},{"$f":"IF($R133=\"\",\"\",VLOOKUP($R133,'FO-DRE-01'!$A$7:$U$301,9,FALSE))","v":""},{"$f":"IF($R133=\"\",\"\",VLOOKUP($R133,'FO-DRE-01'!$A$7:$U$301,10,FALSE))","v":""},{"$f":"IF($R133=\"\",\"\",VLOOKUP($R133,'FO-DRE-01'!$A$7:$U$301,11,FALSE))","v":""},{"$f":"IF($R133=\"\",\"\",VLOOKUP($R133,'FO-DRE-01'!$A$7:$U$301,12,FALSE))","v":""},{"$f":"IF($R133=\"\",\"\",VLOOKUP($R133,'FO-DRE-01'!$A$7:$U$301,13,FALSE))","v":""},{"$f":"IF($R133=\"\",\"\",VLOOKUP($R133,'FO-DRE-01'!$A$7:$U$301,14,FALSE))","v":""},{"$f":"IF($R133=\"\",\"\",VLOOKUP($R133,'FO-DRE-01'!$A$7:$U$301,15,FALSE))","v":""},{"$f":"IF($S133=\"\",\"\",VLOOKUP($S133,'FO-DRE-04'!$A$6:$L$301,2,FALSE))","v":""},{"$f":"IF($S133=\"\",\"\",VLOOKUP($S133,'FO-DRE-04'!$A$6:$L$301,3,FALSE))","v":""},{"$f":"IF($S133=\"\",\"\",VLOOKUP($S133,'FO-DRE-04'!$A$6:$L$301,4,FALSE))","v":""},{"$f":"IF($S133=\"\",\"\",VLOOKUP($S133,'FO-DRE-04'!$A$6:$L$301,6,FALSE))","v":""},{"$f":"IF($S133=\"\",\"\",VLOOKUP($S133,'FO-DRE-04'!$A$6:$L$301,11,FALSE))","v":""},{"$f":"IF($T133=\"\",\"\",VLOOKUP($T133,'FO-DRE-02'!$A$6:$M$101,2,FALSE))","v":""},{"$f":"IF($T133=\"\",\"\",VLOOKUP($T133,'FO-DRE-02'!$A$6:$M$101,3,FALSE))","v":""},{"$f":"IF($T133=\"\",\"\",VLOOKUP($T133,'FO-DRE-02'!$A$6:$M$101,6,FALSE))","v":""},{"$f":"IF($T133=\"\",\"\",VLOOKUP($T133,'FO-DRE-02'!$A$6:$M$101,4,FALSE))","v":""},{"$f":"IF($T133=\"\",\"\",VLOOKUP($T133,'FO-DRE-02'!$A$6:$M$101,5,FALSE))","v":""},{"$f":"IF($T133=\"\",\"\",VLOOKUP($T133,'FO-DRE-02'!$A$6:$M$101,8,FALSE))","v":""},{"$f":"IF($T133=\"\",\"\",VLOOKUP($T133,'FO-DRE-02'!$A$6:$M$101,7,FALSE))","v":""},{"$f":"IF($T133=\"\",\"\",VLOOKUP($T133,'FO-DRE-02'!$A$6:$M$101,9,FALSE))","v":""},{"$f":"IF($T133=\"\",\"\",VLOOKUP($T133,'FO-DRE-02'!$A$6:$M$101,11,FALSE))","v":""},{"$f":"IF($T133=\"\",\"\",VLOOKUP($T133,'FO-DRE-02'!$A$6:$M$101,12,FALSE))","v":""},{"$f":"IF($T133=\"\",\"\",VLOOKUP($T133,'FO-DRE-02'!$A$6:$M$101,13,FALSE))","v":""},null,null,null,124,"","F/D","F/D","","","","","","","","","","","","","","",""]
[null,null,null,null,null,null,null,null,{"$f":"IF(H134=\"1a\",Hoja1!$B$126,IF(H134=\"1b\",Hoja1!$B$127,IF(H134=\"2a\",Hoja1!$B$128,IF(H134=\"2b\",Hoja1!$B$129,IF(H134=\"3 \",Hoja1!$B$130,IF(H134=\"4 \",Hoja1!$B$131,IF(H134=\"5 \",Hoja1!$B$132,IF(H134=\"6 \",Hoja1!$B$133,IF(H134=\"7 \",Hoja1!$B$134,IF(H134=\"8 \",Hoja1!$B$135,\" \"))))))))))","v":" "},{"$f":"CONCATENATE(#REF!,\"-\",\"TX\")","v":{"$error":"#REF!"}},{"$f":"CONCATENATE(#REF!,\"-\",\"RX\")","v":{"$error":"#REF!"}},null,null,null,null,0,null,null,null,null,null,{"$f":"IF($R134=\"\",\"\",VLOOKUP($R134,'FO-DRE-01'!$A$7:$U$301,18,FALSE))","v":""},{"$f":"IF($R134=\"\",\"\",VLOOKUP($R134,'FO-DRE-01'!$A$7:$U$301,16,FALSE))","v":""},{"$f":"IF($R134=\"\",\"\",VLOOKUP($R134,'FO-DRE-01'!$A$7:$U$301,17,FALSE))","v":""},{"$f":"IF($R134=\"\",\"\",VLOOKUP($R134,'FO-DRE-01'!$A$7:$U$301,3,FALSE))","v":""},{"$f":"IF($R134=\"\",\"\",VLOOKUP($R134,'FO-DRE-01'!$A$7:$U$301,4,FALSE))","v":""},{"$f":"IF($R134=\"\",\"\",VLOOKUP($R134,'FO-DRE-01'!$A$7:$U$301,5,FALSE))","v":""},{"$f":"IF($R134=\"\",\"\",VLOOKUP($R134,'FO-DRE-01'!$A$7:$U$301,7,FALSE))","v":""},{"$f":"IF($R134=\"\",\"\",VLOOKUP($R134,'FO-DRE-01'!$A$7:$U$301,8,FALSE))","v":""},{"$f":"IF($R134=\"\",\"\",VLOOKUP($R134,'FO-DRE-01'!$A$7:$U$301,9,FALSE))","v":""},{"$f":"IF($R134=\"\",\"\",VLOOKUP($R134,'FO-DRE-01'!$A$7:$U$301,10,FALSE))","v":""},{"$f":"IF($R134=\"\",\"\",VLOOKUP($R134,'FO-DRE-01'!$A$7:$U$301,11,FALSE))","v":""},{"$f":"IF($R134=\"\",\"\",VLOOKUP($R134,'FO-DRE-01'!$A$7:$U$301,12,FALSE))","v":""},{"$f":"IF($R134=\"\",\"\",VLOOKUP($R134,'FO-DRE-01'!$A$7:$U$301,13,FALSE))","v":""},{"$f":"IF($R134=\"\",\"\",VLOOKUP($R134,'FO-DRE-01'!$A$7:$U$301,14,FALSE))","v":""},{"$f":"IF($R134=\"\",\"\",VLOOKUP($R134,'FO-DRE-01'!$A$7:$U$301,15,FALSE))","v":""},{"$f":"IF($S134=\"\",\"\",VLOOKUP($S134,'FO-DRE-04'!$A$6:$L$301,2,FALSE))","v":""},{"$f":"IF($S134=\"\",\"\",VLOOKUP($S134,'FO-DRE-04'!$A$6:$L$301,3,FALSE))","v":""},{"$f":"IF($S134=\"\",\"\",VLOOKUP($S134,'FO-DRE-04'!$A$6:$L$301,4,FALSE))","v":""},{"$f":"IF($S134=\"\",\"\",VLOOKUP($S134,'FO-DRE-04'!$A$6:$L$301,6,FALSE))","v":""},{"$f":"IF($S134=\"\",\"\",VLOOKUP($S134,'FO-DRE-04'!$A$6:$L$301,11,FALSE))","v":""},{"$f":"IF($T134=\"\",\"\",VLOOKUP($T134,'FO-DRE-02'!$A$6:$M$101,2,FALSE))","v":""},{"$f":"IF($T134=\"\",\"\",VLOOKUP($T134,'FO-DRE-02'!$A$6:$M$101,3,FALSE))","v":""},{"$f":"IF($T134=\"\",\"\",VLOOKUP($T134,'FO-DRE-02'!$A$6:$M$101,6,FALSE))","v":""},{"$f":"IF($T134=\"\",\"\",VLOOKUP($T134,'FO-DRE-02'!$A$6:$M$101,4,FALSE))","v":""},{"$f":"IF($T134=\"\",\"\",VLOOKUP($T134,'FO-DRE-02'!$A$6:$M$101,5,FALSE))","v":""},{"$f":"IF($T134=\"\",\"\",VLOOKUP($T134,'FO-DRE-02'!$A$6:$M$101,8,FALSE))","v":""},{"$f":"IF($T134=\"\",\"\",VLOOKUP($T134,'FO-DRE-02'!$A$6:$M$101,7,FALSE))","v":""},{"$f":"IF($T134=\"\",\"\",VLOOKUP($T134,'FO-DRE-02'!$A$6:$M$101,9,FALSE))","v":""},{"$f":"IF($T134=\"\",\"\",VLOOKUP($T134,'FO-DRE-02'!$A$6:$M$101,11,FALSE))","v":""},{"$f":"IF($T134=\"\",\"\",VLOOKUP($T134,'FO-DRE-02'!$A$6:$M$101,12,FALSE))","v":""},{"$f":"IF($T134=\"\",\"\",VLOOKUP($T134,'FO-DRE-02'!$A$6:$M$101,13,FALSE))","v":""},null,null,null,125,"","F/D","F/D","","","","","","","","","","","","","","",""]
[null,null,null,null,null,null,null,null,{"$f":"IF(H135=\"1a\",Hoja1!$B$126,IF(H135=\"1b\",Hoja1!$B$127,IF(H135=\"2a\",Hoja1!$B$128,IF(H135=\"2b\",Hoja1!$B$129,IF(H135=\"3 \",Hoja1!$B$130,IF(H135=\"4 \",Hoja1!$B$131,IF(H135=\"5 \",Hoja1!$B$132,IF(H135=\"6 \",Hoja1!$B$133,IF(H135=\"7 \",Hoja1!$B$134,IF(H135=\"8 \",Hoja1!$B$135,\" \"))))))))))","v":" "},{"$f":"CONCATENATE(#REF!,\"-\",\"TX\")","v":{"$error":"#REF!"}},{"$f":"CONCATENATE(#REF!,\"-\",\"RX\")","v":{"$error":"#REF!"}},null,null,null,null,0,null,null,null,null,null,{"$f":"IF($R135=\"\",\"\",VLOOKUP($R135,'FO-DRE-01'!$A$7:$U$301,18,FALSE))","v":""},{"$f":"IF($R135=\"\",\"\",VLOOKUP($R135,'FO-DRE-01'!$A$7:$U$301,16,FALSE))","v":""},{"$f":"IF($R135=\"\",\"\",VLOOKUP($R135,'FO-DRE-01'!$A$7:$U$301,17,FALSE))","v":""},{"$f":"IF($R135=\"\",\"\",VLOOKUP($R135,'FO-DRE-01'!$A$7:$U$301,3,FALSE))","v":""},{"$f":"IF($R135=\"\",\"\",VLOOKUP($R135,'FO-DRE-01'!$A$7:$U$301,4,FALSE))","v":""},{"$f":"IF($R135=\"\",\"\",VLOOKUP($R135,'FO-DRE-01'!$A$7:$U$301,5,FALSE))","v":""},{"$f":"IF($R135=\"\",\"\",VLOOKUP($R135,'FO-DRE-01'!$A$7:$U$301,7,FALSE))","v":""},{"$f":"IF($R135=\"\",\"\",VLOOKUP($R135,'FO-DRE-01'!$A$7:$U$301,8,FALSE))","v":""},{"$f":"IF($R135=\"\",\"\",VLOOKUP($R135,'FO-DRE-01'!$A$7:$U$301,9,FALSE))","v":""},{"$f":"IF($R135=\"\",\"\",VLOOKUP($R135,'FO-DRE-01'!$A$7:$U$301,10,FALSE))","v":""},{"$f":"IF($R135=\"\",\"\",VLOOKUP($R135,'FO-DRE-01'!$A$7:$U$301,11,FALSE))","v":""},{"$f":"IF($R135=\"\",\"\",VLOOKUP($R135,'FO-DRE-01'!$A$7:$U$301,12,FALSE))","v":""},{"$f":"IF($R135=\"\",\"\",VLOOKUP($R135,'FO-DRE-01'!$A$7:$U$301,13,FALSE))","v":""},{"$f":"IF($R135=\"\",\"\",VLOOKUP($R135,'FO-DRE-01'!$A$7:$U$301,14,FALSE))","v":""},{"$f":"IF($R135=\"\",\"\",VLOOKUP($R135,'FO-DRE-01'!$A$7:$U$301,15,FALSE))","v":""},{"$f":"IF($S135=\"\",\"\",VLOOKUP($S135,'FO-DRE-04'!$A$6:$L$301,2,FALSE))","v":""},{"$f":"IF($S135=\"\",\"\",VLOOKUP($S135,'FO-DRE-04'!$A$6:$L$301,3,FALSE))","v":""},{"$f":"IF($S135=\"\",\"\",VLOOKUP($S135,'FO-DRE-04'!$A$6:$L$301,4,FALSE))","v":""},{"$f":"IF($S135=\"\",\"\",VLOOKUP($S135,'FO-DRE-04'!$A$6:$L$301,6,FALSE))","v":""},{"$f":"IF($S135=\"\",\"\",VLOOKUP($S135,'FO-DRE-04'!$A$6:$L$301,11,FALSE))","v":""},{"$f":"IF($T135=\"\",\"\",VLOOKUP($T135,'FO-DRE-02'!$A$6:$M$101,2,FALSE))","v":""},{"$f":"IF($T135=\"\",\"\",VLOOKUP($T135,'FO-DRE-02'!$A$6:$M$101,3,FALSE))","v":""},{"$f":"IF($T135=\"\",\"\",VLOOKUP($T135,'FO-DRE-02'!$A$6:$M$101,6,FALSE))","v":""},{"$f":"IF($T135=\"\",\"\",VLOOKUP($T135,'FO-DRE-02'!$A$6:$M$101,4,FALSE))","v":""},{"$f":"IF($T135=\"\",\"\",VLOOKUP($T135,'FO-DRE-02'!$A$6:$M$101,5,FALSE))","v":""},{"$f":"IF($T135=\"\",\"\",VLOOKUP($T135,'FO-DRE-02'!$A$6:$M$101,8,FALSE))","v":""},{"$f":"IF($T135=\"\",\"\",VLOOKUP($T135,'FO-DRE-02'!$A$6:$M$101,7,FALSE))","v":""},{"$f":"IF($T135=\"\",\"\",VLOOKUP($T135,'FO-DRE-02'!$A$6:$M$101,9,FALSE))","v":""},{"$f":"IF($T135=\"\",\"\",VLOOKUP($T135,'FO-DRE-02'!$A$6:$M$101,11,FALSE))","v":""},{"$f":"IF($T135=\"\",\"\",VLOOKUP($T135,'FO-DRE-02'!$A$6:$M$101,12,FALSE))","v":""},{"$f":"IF($T135=\"\",\"\",VLOOKUP($T135,'FO-DRE-02'!$A$6:$M$101,13,FALSE))","v":""},null,null,null,126,"","F/D","F/D","","","","","","","","","","","","","","",""]
[null,null,null,null,null,null,null,null,{"$f":"IF(H136=\"1a\",Hoja1!$B$126,IF(H136=\"1b\",Hoja1!$B$127,IF(H136=\"2a\",Hoja1!$B$128,IF(H136=\"2b\",Hoja1!$B$129,IF(H136=\"3 \",Hoja1!$B$130,IF(H136=\"4 \",Hoja1!$B$131,IF(H136=\"5 \",Hoja1!$B$132,IF(H136=\"6 \",Hoja1!$B$133,IF(H136=\"7 \",Hoja1!$B$134,IF(H136=\"8 \",Hoja1!$B$135,\" \"))))))))))","v":" "},{"$f":"CONCATENATE(#REF!,\"-\",\"TX\")","v":{"$error":"#REF!"}},{"$f":"CONCATENATE(#REF!,\"-\",\"RX\")","v":{"$error":"#REF!"}},null,null,null,null,0,null,null,null,null,null,{"$f":"IF($R136=\"\",\"\",VLOOKUP($R136,'FO-DRE-01'!$A$7:$U$301,18,FALSE))","v":""},{"$f":"IF($R136=\"\",\"\",VLOOKUP($R136,'FO-DRE-01'!$A$7:$U$301,16,FALSE))","v":""},{"$f":"IF($R136=\"\",\"\",VLOOKUP($R136,'FO-DRE-01'!$A$7:$U$301,17,FALSE))","v":""},{"$f":"IF($R136=\"\",\"\",VLOOKUP($R136,'FO-DRE-01'!$A$7:$U$301,3,FALSE))","v":""},{"$f":"IF($R136=\"\",\"\",VLOOKUP($R136,'FO-DRE-01'!$A$7:$U$301,4,FALSE))","v":""},{"$f":"IF($R136=\"\",\"\",VLOOKUP($R136,'FO-DRE-01'!$A$7:$U$301,5,FALSE))","v":""},{"$f":"IF($R136=\"\",\"\",VLOOKUP($R136,'FO-DRE-01'!$A$7:$U$301,7,FALSE))","v":""},{"$f":"IF($R136=\"\",\"\",VLOOKUP($R136,'FO-DRE-01'!$A$7:$U$301,8,FALSE))","v":""},{"$f":"IF($R136=\"\",\"\",VLOOKUP($R136,'FO-DRE-01'!$A$7:$U$301,9,FALSE))","v":""},{"$f":"IF($R136=\"\",\"\",VLOOKUP($R136,'FO-DRE-01'!$A$7:$U$301,10,FALSE))","v":""},{"$f":"IF($R136=\"\",\"\",VLOOKUP($R136,'FO-DRE-01'!$A$7:$U$301,11,FALSE))","v":""},{"$f":"IF($R136=\"\",\"\",VLOOKUP($R136,'FO-DRE-01'!$A$7:$U$301,12,FALSE))","v":""},{"$f":"IF($R136=\"\",\"\",VLOOKUP($R136,'FO-DRE-01'!$A$7:$U$301,13,FALSE))","v":""},{"$f":"IF($R136=\"\",\"\",VLOOKUP($R136,'FO-DRE-01'!$A$7:$U$301,14,FALSE))","v":""},{"$f":"IF($R136=\"\",\"\",VLOOKUP($R136,'FO-DRE-01'!$A$7:$U$301,15,FALSE))","v":""},{"$f":"IF($S136=\"\",\"\",VLOOKUP($S136,'FO-DRE-04'!$A$6:$L$301,2,FALSE))","v":""},{"$f":"IF($S136=\"\",\"\",VLOOKUP($S136,'FO-DRE-04'!$A$6:$L$301,3,FALSE))","v":""},{"$f":"IF($S136=\"\",\"\",VLOOKUP($S136,'FO-DRE-04'!$A$6:$L$301,4,FALSE))","v":""},{"$f":"IF($S136=\"\",\"\",VLOOKUP($S136,'FO-DRE-04'!$A$6:$L$301,6,FALSE))","v":""},{"$f":"IF($S136=\"\",\"\",VLOOKUP($S136,'FO-DRE-04'!$A$6:$L$301,11,FALSE))","v":""},{"$f":"IF($T136=\"\",\"\",VLOOKUP($T136,'FO-DRE-02'!$A$6:$M$101,2,FALSE))","v":""},{"$f":"IF($T136=\"\",\"\",VLOOKUP($T136,'FO-DRE-02'!$A$6:$M$101,3,FALSE))","v":""},{"$f":"IF($T136=\"\",\"\",VLOOKUP($T136,'FO-DRE-02'!$A$6:$M$101,6,FALSE))","v":""},{"$f":"IF($T136=\"\",\"\",VLOOKUP($T136,'FO-DRE-02'!$A$6:$M$101,4,FALSE))","v":""},{"$f":"IF($T136=\"\",\"\",VLOOKUP($T136,'FO-DRE-02'!$A$6:$M$101,5,FALSE))","v":""},{"$f":"IF($T136=\"\",\"\",VLOOKUP($T136,'FO-DRE-02'!$A$6:$M$101,8,FALSE))","v":""},{"$f":"IF($T136=\"\",\"\",VLOOKUP($T136,'FO-DRE-02'!$A$6:$M$101,7,FALSE))","v":""},{"$f":"IF($T136=\"\",\"\",VLOOKUP($T136,'FO-DRE-02'!$A$6:$M$101,9,FALSE))","v":""},{"$f":"IF($T136=\"\",\"\",VLOOKUP($T136,'FO-DRE-02'!$A$6:$M$101,11,FALSE))","v":""},{"$f":"IF($T136=\"\",\"\",VLOOKUP($T136,'FO-DRE-02'!$A$6:$M$101,12,FALSE))","v":""},{"$f":"IF($T136=\"\",\"\",VLOOKUP($T136,'FO-DRE-02'!$A$6:$M$101,13,FALSE))","v":""},null,null,null,127,"","F/D","F/D","","","","","","","","","","","","","","",""]
[null,null,null,null,null,null,null,null,{"$f":"IF(H137=\"1a\",Hoja1!$B$126,IF(H137=\"1b\",Hoja1!$B$127,IF(H137=\"2a\",Hoja1!$B$128,IF(H137=\"2b\",Hoja1!$B$129,IF(H137=\"3 \",Hoja1!$B$130,IF(H137=\"4 \",Hoja1!$B$131,IF(H137=\"5 \",Hoja1!$B$132,IF(H137=\"6 \",Hoja1!$B$133,IF(H137=\"7 \",Hoja1!$B$134,IF(H137=\"8 \",Hoja1!$B$135,\" \"))))))))))","v":" "},{"$f":"CONCATENATE(#REF!,\"-\",\"TX\")","v":{"$error":"#REF!"}},{"$f":"CONCATENATE(#REF!,\"-\",\"RX\")","v":{"$error":"#REF!"}},null,null,null,null,0,null,null,null,null,null,{"$f":"IF($R137=\"\",\"\",VLOOKUP($R137,'FO-DRE-01'!$A$7:$U$301,18,FALSE))","v":""},{"$f":"IF($R137=\"\",\"\",VLOOKUP($R137,'FO-DRE-01'!$A$7:$U$301,16,FALSE))","v":""},{"$f":"IF($R137=\"\",\"\",VLOOKUP($R137,'FO-DRE-01'!$A$7:$U$301,17,FALSE))","v":""},{"$f":"IF($R137=\"\",\"\",VLOOKUP($R137,'FO-DRE-01'!$A$7:$U$301,3,FALSE))","v":""},{"$f":"IF($R137=\"\",\"\",VLOOKUP($R137,'FO-DRE-01'!$A$7:$U$301,4,FALSE))","v":""},{"$f":"IF($R137=\"\",\"\",VLOOKUP($R137,'FO-DRE-01'!$A$7:$U$301,5,FALSE))","v":""},{"$f":"IF($R137=\"\",\"\",VLOOKUP($R137,'FO-DRE-01'!$A$7:$U$301,7,FALSE))","v":""},{"$f":"IF($R137=\"\",\"\",VLOOKUP($R137,'FO-DRE-01'!$A$7:$U$301,8,FALSE))","v":""},{"$f":"IF($R137=\"\",\"\",VLOOKUP($R137,'FO-DRE-01'!$A$7:$U$301,9,FALSE))","v":""},{"$f":"IF($R137=\"\",\"\",VLOOKUP($R137,'FO-DRE-01'!$A$7:$U$301,10,FALSE))","v":""},{"$f":"IF($R137=\"\",\"\",VLOOKUP($R137,'FO-DRE-01'!$A$7:$U$301,11,FALSE))","v":""},{"$f":"IF($R137=\"\",\"\",VLOOKUP($R137,'FO-DRE-01'!$A$7:$U$301,12,FALSE))","v":""},{"$f":"IF($R137=\"\",\"\",VLOOKUP($R137,'FO-DRE-01'!$A$7:$U$301,13,FALSE))","v":""},{"$f":"IF($R137=\"\",\"\",VLOOKUP($R137,'FO-DRE-01'!$A$7:$U$301,14,FALSE))","v":""},{"$f":"IF($R137=\"\",\"\",VLOOKUP($R137,'FO-DRE-01'!$A$7:$U$301,15,FALSE))","v":""},{"$f":"IF($S137=\"\",\"\",VLOOKUP($S137,'FO-DRE-04'!$A$6:$L$301,2,FALSE))","v":""},{"$f":"IF($S137=\"\",\"\",VLOOKUP($S137,'FO-DRE-04'!$A$6:$L$301,3,FALSE))","v":""},{"$f":"IF($S137=\"\",\"\",VLOOKUP($S137,'FO-DRE-04'!$A$6:$L$301,4,FALSE))","v":""},{"$f":"IF($S137=\"\",\"\",VLOOKUP($S137,'FO-DRE-04'!$A$6:$L$301,6,FALSE))","v":""},{"$f":"IF($S137=\"\",\"\",VLOOKUP($S137,'FO-DRE-04'!$A$6:$L$301,11,FALSE))","v":""},{"$f":"IF($T137=\"\",\"\",VLOOKUP($T137,'FO-DRE-02'!$A$6:$M$101,2,FALSE))","v":""},{"$f":"IF($T137=\"\",\"\",VLOOKUP($T137,'FO-DRE-02'!$A$6:$M$101,3,FALSE))","v":""},{"$f":"IF($T137=\"\",\"\",VLOOKUP($T137,'FO-DRE-02'!$A$6:$M$101,6,FALSE))","v":""},{"$f":"IF($T137=\"\",\"\",VLOOKUP($T137,'FO-DRE-02'!$A$6:$M$101,4,FALSE))","v":""},{"$f":"IF($T137=\"\",\"\",VLOOKUP($T137,'FO-DRE-02'!$A$6:$M$101,5,FALSE))","v":""},{"$f":"IF($T137=\"\",\"\",VLOOKUP($T137,'FO-DRE-02'!$A$6:$M$101,8,FALSE))","v":""},{"$f":"IF($T137=\"\",\"\",VLOOKUP($T137,'FO-DRE-02'!$A$6:$M$101,7,FALSE))","v":""},{"$f":"IF($T137=\"\",\"\",VLOOKUP($T137,'FO-DRE-02'!$A$6:$M$101,9,FALSE))","v":""},{"$f":"IF($T137=\"\",\"\",VLOOKUP($T137,'FO-DRE-02'!$A$6:$M$101,11,FALSE))","v":""},{"$f":"IF($T137=\"\",\"\",VLOOKUP($T137,'FO-DRE-02'!$A$6:$M$101,12,FALSE))","v":""},{"$f":"IF($T137=\"\",\"\",VLOOKUP($T137,'FO-DRE-02'!$A$6:$M$101,13,FALSE))","v":""},null,null,null,128,"","F/D","F/D","","","","","","","","","","","","","","",""]
[null,null,null,null,null,null,null,null,{"$f":"IF(H138=\"1a\",Hoja1!$B$126,IF(H138=\"1b\",Hoja1!$B$127,IF(H138=\"2a\",Hoja1!$B$128,IF(H138=\"2b\",Hoja1!$B$129,IF(H138=\"3 \",Hoja1!$B$130,IF(H138=\"4 \",Hoja1!$B$131,IF(H138=\"5 \",Hoja1!$B$132,IF(H138=\"6 \",Hoja1!$B$133,IF(H138=\"7 \",Hoja1!$B$134,IF(H138=\"8 \",Hoja1!$B$135,\" \"))))))))))","v":" "},{"$f":"CONCATENATE(#REF!,\"-\",\"TX\")","v":{"$error":"#REF!"}},{"$f":"CONCATENATE(#REF!,\"-\",\"RX\")","v":{"$error":"#REF!"}},null,null,null,null,0,null,null,null,null,null,{"$f":"IF($R138=\"\",\"\",VLOOKUP($R138,'FO-DRE-01'!$A$7:$U$301,18,FALSE))","v":""},{"$f":"IF($R138=\"\",\"\",VLOOKUP($R138,'FO-DRE-01'!$A$7:$U$301,16,FALSE))","v":""},{"$f":"IF($R138=\"\",\"\",VLOOKUP($R138,'FO-DRE-01'!$A$7:$U$301,17,FALSE))","v":""},{"$f":"IF($R138=\"\",\"\",VLOOKUP($R138,'FO-DRE-01'!$A$7:$U$301,3,FALSE))","v":""},{"$f":"IF($R138=\"\",\"\",VLOOKUP($R138,'FO-DRE-01'!$A$7:$U$301,4,FALSE))","v":""},{"$f":"IF($R138=\"\",\"\",VLOOKUP($R138,'FO-DRE-01'!$A$7:$U$301,5,FALSE))","v":""},{"$f":"IF($R138=\"\",\"\",VLOOKUP($R138,'FO-DRE-01'!$A$7:$U$301,7,FALSE))","v":""},{"$f":"IF($R138=\"\",\"\",VLOOKUP($R138,'FO-DRE-01'!$A$7:$U$301,8,FALSE))","v":""},{"$f":"IF($R138=\"\",\"\",VLOOKUP($R138,'FO-DRE-01'!$A$7:$U$301,9,FALSE))","v":""},{"$f":"IF($R138=\"\",\"\",VLOOKUP($R138,'FO-DRE-01'!$A$7:$U$301,10,FALSE))","v":""},{"$f":"IF($R138=\"\",\"\",VLOOKUP($R138,'FO-DRE-01'!$A$7:$U$301,11,FALSE))","v":""},{"$f":"IF($R138=\"\",\"\",VLOOKUP($R138,'FO-DRE-01'!$A$7:$U$301,12,FALSE))","v":""},{"$f":"IF($R138=\"\",\"\",VLOOKUP($R138,'FO-DRE-01'!$A$7:$U$301,13,FALSE))","v":""},{"$f":"IF($R138=\"\",\"\",VLOOKUP($R138,'FO-DRE-01'!$A$7:$U$301,14,FALSE))","v":""},{"$f":"IF($R138=\"\",\"\",VLOOKUP($R138,'FO-DRE-01'!$A$7:$U$301,15,FALSE))","v":""},{"$f":"IF($S138=\"\",\"\",VLOOKUP($S138,'FO-DRE-04'!$A$6:$L$301,2,FALSE))","v":""},{"$f":"IF($S138=\"\",\"\",VLOOKUP($S138,'FO-DRE-04'!$A$6:$L$301,3,FALSE))","v":""},{"$f":"IF($S138=\"\",\"\",VLOOKUP($S138,'FO-DRE-04'!$A$6:$L$301,4,FALSE))","v":""},{"$f":"IF($S138=\"\",\"\",VLOOKUP($S138,'FO-DRE-04'!$A$6:$L$301,6,FALSE))","v":""},{"$f":"IF($S138=\"\",\"\",VLOOKUP($S138,'FO-DRE-04'!$A$6:$L$301,11,FALSE))","v":""},{"$f":"IF($T138=\"\",\"\",VLOOKUP($T138,'FO-DRE-02'!$A$6:$M$101,2,FALSE))","v":""},{"$f":"IF($T138=\"\",\"\",VLOOKUP($T138,'FO-DRE-02'!$A$6:$M$101,3,FALSE))","v":""},{"$f":"IF($T138=\"\",\"\",VLOOKUP($T138,'FO-DRE-02'!$A$6:$M$101,6,FALSE))","v":""},{"$f":"IF($T138=\"\",\"\",VLOOKUP($T138,'FO-DRE-02'!$A$6:$M$101,4,FALSE))","v":""},{"$f":"IF($T138=\"\",\"\",VLOOKUP($T138,'FO-DRE-02'!$A$6:$M$101,5,FALSE))","v":""},{"$f":"IF($T138=\"\",\"\",VLOOKUP($T138,'FO-DRE-02'!$A$6:$M$101,8,FALSE))","v":""},{"$f":"IF($T138=\"\",\"\",VLOOKUP($T138,'FO-DRE-02'!$A$6:$M$101,7,FALSE))","v":""},{"$f":"IF($T138=\"\",\"\",VLOOKUP($T138,'FO-DRE-02'!$A$6:$M$101,9,FALSE))","v":""},{"$f":"IF($T138=\"\",\"\",VLOOKUP($T138,'FO-DRE-02'!$A$6:$M$101,11,FALSE))","v":""},{"$f":"IF($T138=\"\",\"\",VLOOKUP($T138,'FO-DRE-02'!$A$6:$M$101,12,FALSE))","v":""},{"$f":"IF($T138=\"\",\"\",VLOOKUP($T138,'FO-DRE-02'!$A$6:$M$101,13,FALSE))","v":""},null,null,null,129,"",{"$f":"IF(OR($C138=\"\",$AN138=\"\",$AW138=\"\"),\"F/D\",IF(BR138>BH138,\"SI\",\"\"))","v":"F/D"},{"$f":"IF(OR($C138=\"\",$AN138=\"\",$AW138=\"\"),\"F/D\",IF(BR138>BI138,\"SI\",\"\"))","v":"F/D"},{"$f":"IF(D138=\"\",\"\",IF(AND(10<BB138,BB138<=400),10,IF(AND(400<BB138,BB138<=2000),(BB138/40),IF(AND(2000<BB138,B138<=300000),50,0))))","v":""},{"$f":"IF(D138=\"\",\"\",IF(AND(10<BB138,BB138<=400),2,IF(AND(400<BB138,BB138<=2000),(BB138/200),IF(AND(2000<BB138,BB138<=300000),10,0))))","v":""},{"$f":"IF(M138=\"\",\"\",SQRT(POWER($BJ$9,2)+POWER((AZ138-1.5),2)))","v":""},{"$f":"IF(M138=\"\",\"\",SQRT(POWER($BK$9,2)+POWER((AZ138-1.5),2)))","v":""},{"$f":"IF(M138=\"\",\"\",SQRT(POWER($BL$9,2)+POWER((AZ138-1.5),2)))","v":""},{"$f":"IF(M138=\"\",\"\",SQRT(POWER($BM$9,2)+POWER((AZ138-1.5),2)))","v":""},{"$f":"IF(M138=\"\",\"\",SQRT(POWER($BN$9,2)+POWER((AZ138-1.5),2)))","v":""},"",{"$f":"IF(M138=\"\",\"\",POWER(10,(AW138+2.15)/10))","v":""},"",{"$f":"IF(M138=\"\",\"\",$BQ138/(PI()*BJ138^2))","v":""},{"$f":"IF(M138=\"\",\"\",$BQ138/(PI()*BK138^2))","v":""},{"$f":"IF(M138=\"\",\"\",$BQ138/(PI()*BL138^2))","v":""},{"$f":"IF(M138=\"\",\"\",$BQ138/(PI()*BM138^2))","v":""},{"$f":"IF(M138=\"\",\"\",$BQ138/(PI()*BN138^2))","v":""}]
[null,null,null,null,null,null,null,null,{"$f":"IF(H139=\"1a\",Hoja1!$B$126,IF(H139=\"1b\",Hoja1!$B$127,IF(H139=\"2a\",Hoja1!$B$128,IF(H139=\"2b\",Hoja1!$B$129,IF(H139=\"3 \",Hoja1!$B$130,IF(H139=\"4 \",Hoja1!$B$131,IF(H139=\"5 \",Hoja1!$B$132,IF(H139=\"6 \",Hoja1!$B$133,IF(H139=\"7 \",Hoja1!$B$134,IF(H139=\"8 \",Hoja1!$B$135,\" \"))))))))))","v":" "},{"$f":"CONCATENATE(#REF!,\"-\",\"TX\")","v":{"$error":"#REF!"}},{"$f":"CONCATENATE(#REF!,\"-\",\"RX\")","v":{"$error":"#REF!"}},null,null,null,null,0,null,null,null,null,null,{"$f":"IF($R139=\"\",\"\",VLOOKUP($R139,'FO-DRE-01'!$A$7:$U$301,18,FALSE))","v":""},{"$f":"IF($R139=\"\",\"\",VLOOKUP($R139,'FO-DRE-01'!$A$7:$U$301,16,FALSE))","v":""},{"$f":"IF($R139=\"\",\"\",VLOOKUP($R139,'FO-DRE-01'!$A$7:$U$301,17,FALSE))","v":""},{"$f":"IF($R139=\"\",\"\",VLOOKUP($R139,'FO-DRE-01'!$A$7:$U$301,3,FALSE))","v":""},{"$f":"IF($R139=\"\",\"\",VLOOKUP($R139,'FO-DRE-01'!$A$7:$U$301,4,FALSE))","v":""},{"$f":"IF($R139=\"\",\"\",VLOOKUP($R139,'FO-DRE-01'!$A$7:$U$301,5,FALSE))","v":""},{"$f":"IF($R139=\"\",\"\",VLOOKUP($R139,'FO-DRE-01'!$A$7:$U$301,7,FALSE))","v":""},{"$f":"IF($R139=\"\",\"\",VLOOKUP($R139,'FO-DRE-01'!$A$7:$U$301,8,FALSE))","v":""},{"$f":"IF($R139=\"\",\"\",VLOOKUP($R139,'FO-DRE-01'!$A$7:$U$301,9,FALSE))","v":""},{"$f":"IF($R139=\"\",\"\",VLOOKUP($R139,'FO-DRE-01'!$A$7:$U$301,10,FALSE))","v":""},{"$f":"IF($R139=\"\",\"\",VLOOKUP($R139,'FO-DRE-01'!$A$7:$U$301,11,FALSE))","v":""},{"$f":"IF($R139=\"\",\"\",VLOOKUP($R139,'FO-DRE-01'!$A$7:$U$301,12,FALSE))","v":""},{"$f":"IF($R139=\"\",\"\",VLOOKUP($R139,'FO-DRE-01'!$A$7:$U$301,13,FALSE))","v":""},{"$f":"IF($R139=\"\",\"\",VLOOKUP($R139,'FO-DRE-01'!$A$7:$U$301,14,FALSE))","v":""},{"$f":"IF($R139=\"\",\"\",VLOOKUP($R139,'FO-DRE-01'!$A$7:$U$301,15,FALSE))","v":""},{"$f":"IF($S139=\"\",\"\",VLOOKUP($S139,'FO-DRE-04'!$A$6:$L$301,2,FALSE))","v":""},{"$f":"IF($S139=\"\",\"\",VLOOKUP($S139,'FO-DRE-04'!$A$6:$L$301,3,FALSE))","v":""},{"$f":"IF($S139=\"\",\"\",VLOOKUP($S139,'FO-DRE-04'!$A$6:$L$301,4,FALSE))","v":""},{"$f":"IF($S139=\"\",\"\",VLOOKUP($S139,'FO-DRE-04'!$A$6:$L$301,6,FALSE))","v":""},{"$f":"IF($S139=\"\",\"\",VLOOKUP($S139,'FO-DRE-04'!$A$6:$L$301,11,FALSE))","v":""},{"$f":"IF($T139=\"\",\"\",VLOOKUP($T139,'FO-DRE-02'!$A$6:$M$101,2,FALSE))","v":""},{"$f":"IF($T139=\"\",\"\",VLOOKUP($T139,'FO-DRE-02'!$A$6:$M$101,3,FALSE))","v":""},{"$f":"IF($T139=\"\",\"\",VLOOKUP($T139,'FO-DRE-02'!$A$6:$M$101,6,FALSE))","v":""},{"$f":"IF($T139=\"\",\"\",VLOOKUP($T139,'FO-DRE-02'!$A$6:$M$101,4,FALSE))","v":""},{"$f":"IF($T139=\"\",\"\",VLOOKUP($T139,'FO-DRE-02'!$A$6:$M$101,5,FALSE))","v":""},{"$f":"IF($T139=\"\",\"\",VLOOKUP($T139,'FO-DRE-02'!$A$6:$M$101,8,FALSE))","v":""},{"$f":"IF($T139=\"\",\"\",VLOOKUP($T139,'FO-DRE-02'!$A$6:$M$101,7,FALSE))","v":""},{"$f":"IF($T139=\"\",\"\",VLOOKUP($T139,'FO-DRE-02'!$A$6:$M$101,9,FALSE))","v":""},{"$f":"IF($T139=\"\",\"\",VLOOKUP($T139,'FO-DRE-02'!$A$6:$M$101,11,FALSE))","v":""},{"$f":"IF($T139=\"\",\"\",VLOOKUP($T139,'FO-DRE-02'!$A$6:$M$101,12,FALSE))","v":""},{"$f":"IF($T139=\"\",\"\",VLOOKUP($T139,'FO-DRE-02'!$A$6:$M$101,13,FALSE))","v":""},null,null,null,130,"","F/D","F/D","","","","","","","","","","","","","","",""]
[null,null,null,null,null,null,null,null,{"$f":"IF(H140=\"1a\",Hoja1!$B$126,IF(H140=\"1b\",Hoja1!$B$127,IF(H140=\"2a\",Hoja1!$B$128,IF(H140=\"2b\",Hoja1!$B$129,IF(H140=\"3 \",Hoja1!$B$130,IF(H140=\"4 \",Hoja1!$B$131,IF(H140=\"5 \",Hoja1!$B$132,IF(H140=\"6 \",Hoja1!$B$133,IF(H140=\"7 \",Hoja1!$B$134,IF(H140=\"8 \",Hoja1!$B$135,\" \"))))))))))","v":" "},{"$f":"CONCATENATE(#REF!,\"-\",\"TX\")","v":{"$error":"#REF!"}},{"$f":"CONCATENATE(#REF!,\"-\",\"RX\")","v":{"$error":"#REF!"}},null,null,null,null,{"$f":"B140","v":0},null,null,null,null,null,{"$f":"IF($R140=\"\",\"\",VLOOKUP($R140,'FO-DRE-01'!$A$7:$U$301,18,FALSE))","v":""},{"$f":"IF($R140=\"\",\"\",VLOOKUP($R140,'FO-DRE-01'!$A$7:$U$301,16,FALSE))","v":""},{"$f":"IF($R140=\"\",\"\",VLOOKUP($R140,'FO-DRE-01'!$A$7:$U$301,17,FALSE))","v":""},{"$f":"IF($R140=\"\",\"\",VLOOKUP($R140,'FO-DRE-01'!$A$7:$U$301,3,FALSE))","v":""},{"$f":"IF($R140=\"\",\"\",VLOOKUP($R140,'FO-DRE-01'!$A$7:$U$301,4,FALSE))","v":""},{"$f":"IF($R140=\"\",\"\",VLOOKUP($R140,'FO-DRE-01'!$A$7:$U$301,5,FALSE))","v":""},{"$f":"IF($R140=\"\",\"\",VLOOKUP($R140,'FO-DRE-01'!$A$7:$U$301,7,FALSE))","v":""},{"$f":"IF($R140=\"\",\"\",VLOOKUP($R140,'FO-DRE-01'!$A$7:$U$301,8,FALSE))","v":""},{"$f":"IF($R140=\"\",\"\",VLOOKUP($R140,'FO-DRE-01'!$A$7:$U$301,9,FALSE))","v":""},{"$f":"IF($R140=\"\",\"\",VLOOKUP($R140,'FO-DRE-01'!$A$7:$U$301,10,FALSE))","v":""},{"$f":"IF($R140=\"\",\"\",VLOOKUP($R140,'FO-DRE-01'!$A$7:$U$301,11,FALSE))","v":""},{"$f":"IF($R140=\"\",\"\",VLOOKUP($R140,'FO-DRE-01'!$A$7:$U$301,12,FALSE))","v":""},{"$f":"IF($R140=\"\",\"\",VLOOKUP($R140,'FO-DRE-01'!$A$7:$U$301,13,FALSE))","v":""},{"$f":"IF($R140=\"\",\"\",VLOOKUP($R140,'FO-DRE-01'!$A$7:$U$301,14,FALSE))","v":""},{"$f":"IF($R140=\"\",\"\",VLOOKUP($R140,'FO-DRE-01'!$A$7:$U$301,15,FALSE))","v":""},{"$f":"IF($S140=\"\",\"\",VLOOKUP($S140,'FO-DRE-04'!$A$6:$L$301,2,FALSE))","v":""},{"$f":"IF($S140=\"\",\"\",VLOOKUP($S140,'FO-DRE-04'!$A$6:$L$301,3,FALSE))","v":""},{"$f":"IF($S140=\"\",\"\",VLOOKUP($S140,'FO-DRE-04'!$A$6:$L$301,4,FALSE))","v":""},{"$f":"IF($S140=\"\",\"\",VLOOKUP($S140,'FO-DRE-04'!$A$6:$L$301,6,FALSE))","v":""},{"$f":"IF($S140=\"\",\"\",VLOOKUP($S140,'FO-DRE-04'!$A$6:$L$301,11,FALSE))","v":""},{"$f":"IF($T140=\"\",\"\",VLOOKUP($T140,'FO-DRE-02'!$A$6:$M$101,2,FALSE))","v":""},{"$f":"IF($T140=\"\",\"\",VLOOKUP($T140,'FO-DRE-02'!$A$6:$M$101,3,FALSE))","v":""},{"$f":"IF($T140=\"\",\"\",VLOOKUP($T140,'FO-DRE-02'!$A$6:$M$101,6,FALSE))","v":""},{"$f":"IF($T140=\"\",\"\",VLOOKUP($T140,'FO-DRE-02'!$A$6:$M$101,4,FALSE))","v":""},{"$f":"IF($T140=\"\",\"\",VLOOKUP($T140,'FO-DRE-02'!$A$6:$M$101,5,FALSE))","v":""},{"$f":"IF($T140=\"\",\"\",VLOOKUP($T140,'FO-DRE-02'!$A$6:$M$101,8,FALSE))","v":""},{"$f":"IF($T140=\"\",\"\",VLOOKUP($T140,'FO-DRE-02'!$A$6:$M$101,7,FALSE))","v":""},{"$f":"IF($T140=\"\",\"\",VLOOKUP($T140,'FO-DRE-02'!$A$6:$M$101,9,FALSE))","v":""},{"$f":"IF($T140=\"\",\"\",VLOOKUP($T140,'FO-DRE-02'!$A$6:$M$101,11,FALSE))","v":""},{"$f":"IF($T140=\"\",\"\",VLOOKUP($T140,'FO-DRE-02'!$A$6:$M$101,12,FALSE))","v":""},{"$f":"IF($T140=\"\",\"\",VLOOKUP($T140,'FO-DRE-02'!$A$6:$M$101,13,FALSE))","v":""},null,null,null,131,"","F/D","F/D","","","","","","","","","","","","","","",""]
[null,null,null,null,null,null,null,null,{"$f":"IF(H141=\"1a\",Hoja1!$B$126,IF(H141=\"1b\",Hoja1!$B$127,IF(H141=\"2a\",Hoja1!$B$128,IF(H141=\"2b\",Hoja1!$B$129,IF(H141=\"3 \",Hoja1!$B$130,IF(H141=\"4 \",Hoja1!$B$131,IF(H141=\"5 \",Hoja1!$B$132,IF(H141=\"6 \",Hoja1!$B$133,IF(H141=\"7 \",Hoja1!$B$134,IF(H141=\"8 \",Hoja1!$B$135,\" \"))))))))))","v":" "},{"$f":"CONCATENATE(#REF!,\"-\",\"TX\")","v":{"$error":"#REF!"}},{"$f":"CONCATENATE(#REF!,\"-\",\"RX\")","v":{"$error":"#REF!"}},null,null,null,null,0,null,null,null,null,null,{"$f":"IF($R141=\"\",\"\",VLOOKUP($R141,'FO-DRE-01'!$A$7:$U$301,18,FALSE))","v":""},{"$f":"IF($R141=\"\",\"\",VLOOKUP($R141,'FO-DRE-01'!$A$7:$U$301,16,FALSE))","v":""},{"$f":"IF($R141=\"\",\"\",VLOOKUP($R141,'FO-DRE-01'!$A$7:$U$301,17,FALSE))","v":""},{"$f":"IF($R141=\"\",\"\",VLOOKUP($R141,'FO-DRE-01'!$A$7:$U$301,3,FALSE))","v":""},{"$f":"IF($R141=\"\",\"\",VLOOKUP($R141,'FO-DRE-01'!$A$7:$U$301,4,FALSE))","v":""},{"$f":"IF($R141=\"\",\"\",VLOOKUP($R141,'FO-DRE-01'!$A$7:$U$301,5,FALSE))","v":""},{"$f":"IF($R141=\"\",\"\",VLOOKUP($R141,'FO-DRE-01'!$A$7:$U$301,7,FALSE))","v":""},{"$f":"IF($R141=\"\",\"\",VLOOKUP($R141,'FO-DRE-01'!$A$7:$U$301,8,FALSE))","v":""},{"$f":"IF($R141=\"\",\"\",VLOOKUP($R141,'FO-DRE-01'!$A$7:$U$301,9,FALSE))","v":""},{"$f":"IF($R141=\"\",\"\",VLOOKUP($R141,'FO-DRE-01'!$A$7:$U$301,10,FALSE))","v":""},{"$f":"IF($R141=\"\",\"\",VLOOKUP($R141,'FO-DRE-01'!$A$7:$U$301,11,FALSE))","v":""},{"$f":"IF($R141=\"\",\"\",VLOOKUP($R141,'FO-DRE-01'!$A$7:$U$301,12,FALSE))","v":""},{"$f":"IF($R141=\"\",\"\",VLOOKUP($R141,'FO-DRE-01'!$A$7:$U$301,13,FALSE))","v":""},{"$f":"IF($R141=\"\",\"\",VLOOKUP($R141,'FO-DRE-01'!$A$7:$U$301,14,FALSE))","v":""},{"$f":"IF($R141=\"\",\"\",VLOOKUP($R141,'FO-DRE-01'!$A$7:$U$301,15,FALSE))","v":""},{"$f":"IF($S141=\"\",\"\",VLOOKUP($S141,'FO-DRE-04'!$A$6:$L$301,2,FALSE))","v":""},{"$f":"IF($S141=\"\",\"\",VLOOKUP($S141,'FO-DRE-04'!$A$6:$L$301,3,FALSE))","v":""},{"$f":"IF($S141=\"\",\"\",VLOOKUP($S141,'FO-DRE-04'!$A$6:$L$301,4,FALSE))","v":""},{"$f":"IF($S141=\"\",\"\",VLOOKUP($S141,'FO-DRE-04'!$A$6:$L$301,6,FALSE))","v":""},{"$f":"IF($S141=\"\",\"\",VLOOKUP($S141,'FO-DRE-04'!$A$6:$L$301,11,FALSE))","v":""},{"$f":"IF($T141=\"\",\"\",VLOOKUP($T141,'FO-DRE-02'!$A$6:$M$101,2,FALSE))","v":""},{"$f":"IF($T141=\"\",\"\",VLOOKUP($T141,'FO-DRE-02'!$A$6:$M$101,3,FALSE))","v":""},{"$f":"IF($T141=\"\",\"\",VLOOKUP($T141,'FO-DRE-02'!$A$6:$M$101,6,FALSE))","v":""},{"$f":"IF($T141=\"\",\"\",VLOOKUP($T141,'FO-DRE-02'!$A$6:$M$101,4,FALSE))","v":""},{"$f":"IF($T141=\"\",\"\",VLOOKUP($T141,'FO-DRE-02'!$A$6:$M$101,5,FALSE))","v":""},{"$f":"IF($T141=\"\",\"\",VLOOKUP($T141,'FO-DRE-02'!$A$6:$M$101,8,FALSE))","v":""},{"$f":"IF($T141=\"\",\"\",VLOOKUP($T141,'FO-DRE-02'!$A$6:$M$101,7,FALSE))","v":""},{"$f":"IF($T141=\"\",\"\",VLOOKUP($T141,'FO-DRE-02'!$A$6:$M$101,9,FALSE))","v":""},{"$f":"IF($T141=\"\",\"\",VLOOKUP($T141,'FO-DRE-02'!$A$6:$M$101,11,FALSE))","v":""},{"$f":"IF($T141=\"\",\"\",VLOOKUP($T141,'FO-DRE-02'!$A$6:$M$101,12,FALSE))","v":""},{"$f":"IF($T141=\"\",\"\",VLOOKUP($T141,'FO-DRE-02'!$A$6:$M$101,13,FALSE))","v":""},null,null,null,132,"","F/D","F/D","","","","","","","","","","","","","","",""]
[null,null,null,null,null,null,null,null,{"$f":"IF(H142=\"1a\",Hoja1!$B$126,IF(H142=\"1b\",Hoja1!$B$127,IF(H142=\"2a\",Hoja1!$B$128,IF(H142=\"2b\",Hoja1!$B$129,IF(H142=\"3 \",Hoja1!$B$130,IF(H142=\"4 \",Hoja1!$B$131,IF(H142=\"5 \",Hoja1!$B$132,IF(H142=\"6 \",Hoja1!$B$133,IF(H142=\"7 \",Hoja1!$B$134,IF(H142=\"8 \",Hoja1!$B$135,\" \"))))))))))","v":" "},{"$f":"CONCATENATE(#REF!,\"-\",\"TX\")","v":{"$error":"#REF!"}},{"$f":"CONCATENATE(#REF!,\"-\",\"RX\")","v":{"$error":"#REF!"}},null,null,null,null,0,null,null,null,null,null,{"$f":"IF($R142=\"\",\"\",VLOOKUP($R142,'FO-DRE-01'!$A$7:$U$301,18,FALSE))","v":""},{"$f":"IF($R142=\"\",\"\",VLOOKUP($R142,'FO-DRE-01'!$A$7:$U$301,16,FALSE))","v":""},{"$f":"IF($R142=\"\",\"\",VLOOKUP($R142,'FO-DRE-01'!$A$7:$U$301,17,FALSE))","v":""},{"$f":"IF($R142=\"\",\"\",VLOOKUP($R142,'FO-DRE-01'!$A$7:$U$301,3,FALSE))","v":""},{"$f":"IF($R142=\"\",\"\",VLOOKUP($R142,'FO-DRE-01'!$A$7:$U$301,4,FALSE))","v":""},{"$f":"IF($R142=\"\",\"\",VLOOKUP($R142,'FO-DRE-01'!$A$7:$U$301,5,FALSE))","v":""},{"$f":"IF($R142=\"\",\"\",VLOOKUP($R142,'FO-DRE-01'!$A$7:$U$301,7,FALSE))","v":""},{"$f":"IF($R142=\"\",\"\",VLOOKUP($R142,'FO-DRE-01'!$A$7:$U$301,8,FALSE))","v":""},{"$f":"IF($R142=\"\",\"\",VLOOKUP($R142,'FO-DRE-01'!$A$7:$U$301,9,FALSE))","v":""},{"$f":"IF($R142=\"\",\"\",VLOOKUP($R142,'FO-DRE-01'!$A$7:$U$301,10,FALSE))","v":""},{"$f":"IF($R142=\"\",\"\",VLOOKUP($R142,'FO-DRE-01'!$A$7:$U$301,11,FALSE))","v":""},{"$f":"IF($R142=\"\",\"\",VLOOKUP($R142,'FO-DRE-01'!$A$7:$U$301,12,FALSE))","v":""},{"$f":"IF($R142=\"\",\"\",VLOOKUP($R142,'FO-DRE-01'!$A$7:$U$301,13,FALSE))","v":""},{"$f":"IF($R142=\"\",\"\",VLOOKUP($R142,'FO-DRE-01'!$A$7:$U$301,14,FALSE))","v":""},{"$f":"IF($R142=\"\",\"\",VLOOKUP($R142,'FO-DRE-01'!$A$7:$U$301,15,FALSE))","v":""},{"$f":"IF($S142=\"\",\"\",VLOOKUP($S142,'FO-DRE-04'!$A$6:$L$301,2,FALSE))","v":""},{"$f":"IF($S142=\"\",\"\",VLOOKUP($S142,'FO-DRE-04'!$A$6:$L$301,3,FALSE))","v":""},{"$f":"IF($S142=\"\",\"\",VLOOKUP($S142,'FO-DRE-04'!$A$6:$L$301,4,FALSE))","v":""},{"$f":"IF($S142=\"\",\"\",VLOOKUP($S142,'FO-DRE-04'!$A$6:$L$301,6,FALSE))","v":""},{"$f":"IF($S142=\"\",\"\",VLOOKUP($S142,'FO-DRE-04'!$A$6:$L$301,11,FALSE))","v":""},{"$f":"IF($T142=\"\",\"\",VLOOKUP($T142,'FO-DRE-02'!$A$6:$M$101,2,FALSE))","v":""},{"$f":"IF($T142=\"\",\"\",VLOOKUP($T142,'FO-DRE-02'!$A$6:$M$101,3,FALSE))","v":""},{"$f":"IF($T142=\"\",\"\",VLOOKUP($T142,'FO-DRE-02'!$A$6:$M$101,6,FALSE))","v":""},{"$f":"IF($T142=\"\",\"\",VLOOKUP($T142,'FO-DRE-02'!$A$6:$M$101,4,FALSE))","v":""},{"$f":"IF($T142=\"\",\"\",VLOOKUP($T142,'FO-DRE-02'!$A$6:$M$101,5,FALSE))","v":""},{"$f":"IF($T142=\"\",\"\",VLOOKUP($T142,'FO-DRE-02'!$A$6:$M$101,8,FALSE))","v":""},{"$f":"IF($T142=\"\",\"\",VLOOKUP($T142,'FO-DRE-02'!$A$6:$M$101,7,FALSE))","v":""},{"$f":"IF($T142=\"\",\"\",VLOOKUP($T142,'FO-DRE-02'!$A$6:$M$101,9,FALSE))","v":""},{"$f":"IF($T142=\"\",\"\",VLOOKUP($T142,'FO-DRE-02'!$A$6:$M$101,11,FALSE))","v":""},{"$f":"IF($T142=\"\",\"\",VLOOKUP($T142,'FO-DRE-02'!$A$6:$M$101,12,FALSE))","v":""},{"$f":"IF($T142=\"\",\"\",VLOOKUP($T142,'FO-DRE-02'!$A$6:$M$101,13,FALSE))","v":""},null,null,null,133,{"$f":"IF($R142=\"\",\"\",$R142)","v":""},"F/D","F/D","","","","","","","","","","","","","","",""]
[null,null,null,null,null,null,null,null,{"$f":"IF(H143=\"1a\",Hoja1!$B$126,IF(H143=\"1b\",Hoja1!$B$127,IF(H143=\"2a\",Hoja1!$B$128,IF(H143=\"2b\",Hoja1!$B$129,IF(H143=\"3 \",Hoja1!$B$130,IF(H143=\"4 \",Hoja1!$B$131,IF(H143=\"5 \",Hoja1!$B$132,IF(H143=\"6 \",Hoja1!$B$133,IF(H143=\"7 \",Hoja1!$B$134,IF(H143=\"8 \",Hoja1!$B$135,\" \"))))))))))","v":" "},{"$f":"CONCATENATE(#REF!,\"-\",\"TX\")","v":{"$error":"#REF!"}},{"$f":"CONCATENATE(#REF!,\"-\",\"RX\")","v":{"$error":"#REF!"}},null,null,null,null,0,null,null,null,null,null,{"$f":"IF($R143=\"\",\"\",VLOOKUP($R143,'FO-DRE-01'!$A$7:$U$301,18,FALSE))","v":""},{"$f":"IF($R143=\"\",\"\",VLOOKUP($R143,'FO-DRE-01'!$A$7:$U$301,16,FALSE))","v":""},{"$f":"IF($R143=\"\",\"\",VLOOKUP($R143,'FO-DRE-01'!$A$7:$U$301,17,FALSE))","v":""},{"$f":"IF($R143=\"\",\"\",VLOOKUP($R143,'FO-DRE-01'!$A$7:$U$301,3,FALSE))","v":""},{"$f":"IF($R143=\"\",\"\",VLOOKUP($R143,'FO-DRE-01'!$A$7:$U$301,4,FALSE))","v":""},{"$f":"IF($R143=\"\",\"\",VLOOKUP($R143,'FO-DRE-01'!$A$7:$U$301,5,FALSE))","v":""},{"$f":"IF($R143=\"\",\"\",VLOOKUP($R143,'FO-DRE-01'!$A$7:$U$301,7,FALSE))","v":""},{"$f":"IF($R143=\"\",\"\",VLOOKUP($R143,'FO-DRE-01'!$A$7:$U$301,8,FALSE))","v":""},{"$f":"IF($R143=\"\",\"\",VLOOKUP($R143,'FO-DRE-01'!$A$7:$U$301,9,FALSE))","v":""},{"$f":"IF($R143=\"\",\"\",VLOOKUP($R143,'FO-DRE-01'!$A$7:$U$301,10,FALSE))","v":""},{"$f":"IF($R143=\"\",\"\",VLOOKUP($R143,'FO-DRE-01'!$A$7:$U$301,11,FALSE))","v":""},{"$f":"IF($R143=\"\",\"\",VLOOKUP($R143,'FO-DRE-01'!$A$7:$U$301,12,FALSE))","v":""},{"$f":"IF($R143=\"\",\"\",VLOOKUP($R143,'FO-DRE-01'!$A$7:$U$301,13,FALSE))","v":""},{"$f":"IF($R143=\"\",\"\",VLOOKUP($R143,'FO-DRE-01'!$A$7:$U$301,14,FALSE))","v":""},{"$f":"IF($R143=\"\",\"\",VLOOKUP($R143,'FO-DRE-01'!$A$7:$U$301,15,FALSE))","v":""},{"$f":"IF($S143=\"\",\"\",VLOOKUP($S143,'FO-DRE-04'!$A$6:$L$301,2,FALSE))","v":""},{"$f":"IF($S143=\"\",\"\",VLOOKUP($S143,'FO-DRE-04'!$A$6:$L$301,3,FALSE))","v":""},{"$f":"IF($S143=\"\",\"\",VLOOKUP($S143,'FO-DRE-04'!$A$6:$L$301,4,FALSE))","v":""},{"$f":"IF($S143=\"\",\"\",VLOOKUP($S143,'FO-DRE-04'!$A$6:$L$301,6,FALSE))","v":""},{"$f":"IF($S143=\"\",\"\",VLOOKUP($S143,'FO-DRE-04'!$A$6:$L$301,11,FALSE))","v":""},{"$f":"IF($T143=\"\",\"\",VLOOKUP($T143,'FO-DRE-02'!$A$6:$M$101,2,FALSE))","v":""},{"$f":"IF($T143=\"\",\"\",VLOOKUP($T143,'FO-DRE-02'!$A$6:$M$101,3,FALSE))","v":""},{"$f":"IF($T143=\"\",\"\",VLOOKUP($T143,'FO-DRE-02'!$A$6:$M$101,6,FALSE))","v":""},{"$f":"IF($T143=\"\",\"\",VLOOKUP($T143,'FO-DRE-02'!$A$6:$M$101,4,FALSE))","v":""},{"$f":"IF($T143=\"\",\"\",VLOOKUP($T143,'FO-DRE-02'!$A$6:$M$101,5,FALSE))","v":""},{"$f":"IF($T143=\"\",\"\",VLOOKUP($T143,'FO-DRE-02'!$A$6:$M$101,8,FALSE))","v":""},{"$f":"IF($T143=\"\",\"\",VLOOKUP($T143,'FO-DRE-02'!$A$6:$M$101,7,FALSE))","v":""},{"$f":"IF($T143=\"\",\"\",VLOOKUP($T143,'FO-DRE-02'!$A$6:$M$101,9,FALSE))","v":""},{"$f":"IF($T143=\"\",\"\",VLOOKUP($T143,'FO-DRE-02'!$A$6:$M$101,11,FALSE))","v":""},{"$f":"IF($T143=\"\",\"\",VLOOKUP($T143,'FO-DRE-02'!$A$6:$M$101,12,FALSE))","v":""},{"$f":"IF($T143=\"\",\"\",VLOOKUP($T143,'FO-DRE-02'!$A$6:$M$101,13,FALSE))","v":""},null,null,null,134,"","F/D","F/D","","","","","","","","","","","","","","",""]
[null,null,null,null,null,null,null,null,{"$f":"IF(H144=\"1a\",Hoja1!$B$126,IF(H144=\"1b\",Hoja1!$B$127,IF(H144=\"2a\",Hoja1!$B$128,IF(H144=\"2b\",Hoja1!$B$129,IF(H144=\"3 \",Hoja1!$B$130,IF(H144=\"4 \",Hoja1!$B$131,IF(H144=\"5 \",Hoja1!$B$132,IF(H144=\"6 \",Hoja1!$B$133,IF(H144=\"7 \",Hoja1!$B$134,IF(H144=\"8 \",Hoja1!$B$135,\" \"))))))))))","v":" "},{"$f":"CONCATENATE(#REF!,\"-\",\"TX\")","v":{"$error":"#REF!"}},{"$f":"CONCATENATE(#REF!,\"-\",\"RX\")","v":{"$error":"#REF!"}},null,null,null,null,0,null,null,null,null,null,{"$f":"IF($R144=\"\",\"\",VLOOKUP($R144,'FO-DRE-01'!$A$7:$U$301,18,FALSE))","v":""},{"$f":"IF($R144=\"\",\"\",VLOOKUP($R144,'FO-DRE-01'!$A$7:$U$301,16,FALSE))","v":""},{"$f":"IF($R144=\"\",\"\",VLOOKUP($R144,'FO-DRE-01'!$A$7:$U$301,17,FALSE))","v":""},{"$f":"IF($R144=\"\",\"\",VLOOKUP($R144,'FO-DRE-01'!$A$7:$U$301,3,FALSE))","v":""},{"$f":"IF($R144=\"\",\"\",VLOOKUP($R144,'FO-DRE-01'!$A$7:$U$301,4,FALSE))","v":""},{"$f":"IF($R144=\"\",\"\",VLOOKUP($R144,'FO-DRE-01'!$A$7:$U$301,5,FALSE))","v":""},{"$f":"IF($R144=\"\",\"\",VLOOKUP($R144,'FO-DRE-01'!$A$7:$U$301,7,FALSE))","v":""},{"$f":"IF($R144=\"\",\"\",VLOOKUP($R144,'FO-DRE-01'!$A$7:$U$301,8,FALSE))","v":""},{"$f":"IF($R144=\"\",\"\",VLOOKUP($R144,'FO-DRE-01'!$A$7:$U$301,9,FALSE))","v":""},{"$f":"IF($R144=\"\",\"\",VLOOKUP($R144,'FO-DRE-01'!$A$7:$U$301,10,FALSE))","v":""},{"$f":"IF($R144=\"\",\"\",VLOOKUP($R144,'FO-DRE-01'!$A$7:$U$301,11,FALSE))","v":""},{"$f":"IF($R144=\"\",\"\",VLOOKUP($R144,'FO-DRE-01'!$A$7:$U$301,12,FALSE))","v":""},{"$f":"IF($R144=\"\",\"\",VLOOKUP($R144,'FO-DRE-01'!$A$7:$U$301,13,FALSE))","v":""},{"$f":"IF($R144=\"\",\"\",VLOOKUP($R144,'FO-DRE-01'!$A$7:$U$301,14,FALSE))","v":""},{"$f":"IF($R144=\"\",\"\",VLOOKUP($R144,'FO-DRE-01'!$A$7:$U$301,15,FALSE))","v":""},{"$f":"IF($S144=\"\",\"\",VLOOKUP($S144,'FO-DRE-04'!$A$6:$L$301,2,FALSE))","v":""},{"$f":"IF($S144=\"\",\"\",VLOOKUP($S144,'FO-DRE-04'!$A$6:$L$301,3,FALSE))","v":""},{"$f":"IF($S144=\"\",\"\",VLOOKUP($S144,'FO-DRE-04'!$A$6:$L$301,4,FALSE))","v":""},{"$f":"IF($S144=\"\",\"\",VLOOKUP($S144,'FO-DRE-04'!$A$6:$L$301,6,FALSE))","v":""},{"$f":"IF($S144=\"\",\"\",VLOOKUP($S144,'FO-DRE-04'!$A$6:$L$301,11,FALSE))","v":""},{"$f":"IF($T144=\"\",\"\",VLOOKUP($T144,'FO-DRE-02'!$A$6:$M$101,2,FALSE))","v":""},{"$f":"IF($T144=\"\",\"\",VLOOKUP($T144,'FO-DRE-02'!$A$6:$M$101,3,FALSE))","v":""},{"$f":"IF($T144=\"\",\"\",VLOOKUP($T144,'FO-DRE-02'!$A$6:$M$101,6,FALSE))","v":""},{"$f":"IF($T144=\"\",\"\",VLOOKUP($T144,'FO-DRE-02'!$A$6:$M$101,4,FALSE))","v":""},{"$f":"IF($T144=\"\",\"\",VLOOKUP($T144,'FO-DRE-02'!$A$6:$M$101,5,FALSE))","v":""},{"$f":"IF($T144=\"\",\"\",VLOOKUP($T144,'FO-DRE-02'!$A$6:$M$101,8,FALSE))","v":""},{"$f":"IF($T144=\"\",\"\",VLOOKUP($T144,'FO-DRE-02'!$A$6:$M$101,7,FALSE))","v":""},{"$f":"IF($T144=\"\",\"\",VLOOKUP($T144,'FO-DRE-02'!$A$6:$M$101,9,FALSE))","v":""},{"$f":"IF($T144=\"\",\"\",VLOOKUP($T144,'FO-DRE-02'!$A$6:$M$101,11,FALSE))","v":""},{"$f":"IF($T144=\"\",\"\",VLOOKUP($T144,'FO-DRE-02'!$A$6:$M$101,12,FALSE))","v":""},{"$f":"IF($T144=\"\",\"\",VLOOKUP($T144,'FO-DRE-02'!$A$6:$M$101,13,FALSE))","v":""},null,null,null,135,"","F/D","F/D","","","","","","","","","","","","","","",""]
[null,null,null,null,null,null,null,null,{"$f":"IF(H145=\"1a\",Hoja1!$B$126,IF(H145=\"1b\",Hoja1!$B$127,IF(H145=\"2a\",Hoja1!$B$128,IF(H145=\"2b\",Hoja1!$B$129,IF(H145=\"3 \",Hoja1!$B$130,IF(H145=\"4 \",Hoja1!$B$131,IF(H145=\"5 \",Hoja1!$B$132,IF(H145=\"6 \",Hoja1!$B$133,IF(H145=\"7 \",Hoja1!$B$134,IF(H145=\"8 \",Hoja1!$B$135,\" \"))))))))))","v":" "},{"$f":"CONCATENATE(#REF!,\"-\",\"TX\")","v":{"$error":"#REF!"}},{"$f":"CONCATENATE(#REF!,\"-\",\"RX\")","v":{"$error":"#REF!"}},null,null,null,null,0,null,null,null,null,null,{"$f":"IF($R145=\"\",\"\",VLOOKUP($R145,'FO-DRE-01'!$A$7:$U$301,18,FALSE))","v":""},{"$f":"IF($R145=\"\",\"\",VLOOKUP($R145,'FO-DRE-01'!$A$7:$U$301,16,FALSE))","v":""},{"$f":"IF($R145=\"\",\"\",VLOOKUP($R145,'FO-DRE-01'!$A$7:$U$301,17,FALSE))","v":""},{"$f":"IF($R145=\"\",\"\",VLOOKUP($R145,'FO-DRE-01'!$A$7:$U$301,3,FALSE))","v":""},{"$f":"IF($R145=\"\",\"\",VLOOKUP($R145,'FO-DRE-01'!$A$7:$U$301,4,FALSE))","v":""},{"$f":"IF($R145=\"\",\"\",VLOOKUP($R145,'FO-DRE-01'!$A$7:$U$301,5,FALSE))","v":""},{"$f":"IF($R145=\"\",\"\",VLOOKUP($R145,'FO-DRE-01'!$A$7:$U$301,7,FALSE))","v":""},{"$f":"IF($R145=\"\",\"\",VLOOKUP($R145,'FO-DRE-01'!$A$7:$U$301,8,FALSE))","v":""},{"$f":"IF($R145=\"\",\"\",VLOOKUP($R145,'FO-DRE-01'!$A$7:$U$301,9,FALSE))","v":""},{"$f":"IF($R145=\"\",\"\",VLOOKUP($R145,'FO-DRE-01'!$A$7:$U$301,10,FALSE))","v":""},{"$f":"IF($R145=\"\",\"\",VLOOKUP($R145,'FO-DRE-01'!$A$7:$U$301,11,FALSE))","v":""},{"$f":"IF($R145=\"\",\"\",VLOOKUP($R145,'FO-DRE-01'!$A$7:$U$301,12,FALSE))","v":""},{"$f":"IF($R145=\"\",\"\",VLOOKUP($R145,'FO-DRE-01'!$A$7:$U$301,13,FALSE))","v":""},{"$f":"IF($R145=\"\",\"\",VLOOKUP($R145,'FO-DRE-01'!$A$7:$U$301,14,FALSE))","v":""},{"$f":"IF($R145=\"\",\"\",VLOOKUP($R145,'FO-DRE-01'!$A$7:$U$301,15,FALSE))","v":""},{"$f":"IF($S145=\"\",\"\",VLOOKUP($S145,'FO-DRE-04'!$A$6:$L$301,2,FALSE))","v":""},{"$f":"IF($S145=\"\",\"\",VLOOKUP($S145,'FO-DRE-04'!$A$6:$L$301,3,FALSE))","v":""},{"$f":"IF($S145=\"\",\"\",VLOOKUP($S145,'FO-DRE-04'!$A$6:$L$301,4,FALSE))","v":""},{"$f":"IF($S145=\"\",\"\",VLOOKUP($S145,'FO-DRE-04'!$A$6:$L$301,6,FALSE))","v":""},{"$f":"IF($S145=\"\",\"\",VLOOKUP($S145,'FO-DRE-04'!$A$6:$L$301,11,FALSE))","v":""},{"$f":"IF($T145=\"\",\"\",VLOOKUP($T145,'FO-DRE-02'!$A$6:$M$101,2,FALSE))","v":""},{"$f":"IF($T145=\"\",\"\",VLOOKUP($T145,'FO-DRE-02'!$A$6:$M$101,3,FALSE))","v":""},{"$f":"IF($T145=\"\",\"\",VLOOKUP($T145,'FO-DRE-02'!$A$6:$M$101,6,FALSE))","v":""},{"$f":"IF($T145=\"\",\"\",VLOOKUP($T145,'FO-DRE-02'!$A$6:$M$101,4,FALSE))","v":""},{"$f":"IF($T145=\"\",\"\",VLOOKUP($T145,'FO-DRE-02'!$A$6:$M$101,5,FALSE))","v":""},{"$f":"IF($T145=\"\",\"\",VLOOKUP($T145,'FO-DRE-02'!$A$6:$M$101,8,FALSE))","v":""},{"$f":"IF($T145=\"\",\"\",VLOOKUP($T145,'FO-DRE-02'!$A$6:$M$101,7,FALSE))","v":""},{"$f":"IF($T145=\"\",\"\",VLOOKUP($T145,'FO-DRE-02'!$A$6:$M$101,9,FALSE))","v":""},{"$f":"IF($T145=\"\",\"\",VLOOKUP($T145,'FO-DRE-02'!$A$6:$M$101,11,FALSE))","v":""},{"$f":"IF($T145=\"\",\"\",VLOOKUP($T145,'FO-DRE-02'!$A$6:$M$101,12,FALSE))","v":""},{"$f":"IF($T145=\"\",\"\",VLOOKUP($T145,'FO-DRE-02'!$A$6:$M$101,13,FALSE))","v":""},null,null,null,136,"","F/D","F/D","","","","","","","","","","","","","","",""]
[null,null,null,null,null,null,null,null,{"$f":"IF(H146=\"1a\",Hoja1!$B$126,IF(H146=\"1b\",Hoja1!$B$127,IF(H146=\"2a\",Hoja1!$B$128,IF(H146=\"2b\",Hoja1!$B$129,IF(H146=\"3 \",Hoja1!$B$130,IF(H146=\"4 \",Hoja1!$B$131,IF(H146=\"5 \",Hoja1!$B$132,IF(H146=\"6 \",Hoja1!$B$133,IF(H146=\"7 \",Hoja1!$B$134,IF(H146=\"8 \",Hoja1!$B$135,\" \"))))))))))","v":" "},{"$f":"CONCATENATE(#REF!,\"-\",\"TX\")","v":{"$error":"#REF!"}},{"$f":"CONCATENATE(#REF!,\"-\",\"RX\")","v":{"$error":"#REF!"}},null,null,null,null,0,null,null,null,null,null,{"$f":"IF($R146=\"\",\"\",VLOOKUP($R146,'FO-DRE-01'!$A$7:$U$301,18,FALSE))","v":""},{"$f":"IF($R146=\"\",\"\",VLOOKUP($R146,'FO-DRE-01'!$A$7:$U$301,16,FALSE))","v":""},{"$f":"IF($R146=\"\",\"\",VLOOKUP($R146,'FO-DRE-01'!$A$7:$U$301,17,FALSE))","v":""},{"$f":"IF($R146=\"\",\"\",VLOOKUP($R146,'FO-DRE-01'!$A$7:$U$301,3,FALSE))","v":""},{"$f":"IF($R146=\"\",\"\",VLOOKUP($R146,'FO-DRE-01'!$A$7:$U$301,4,FALSE))","v":""},{"$f":"IF($R146=\"\",\"\",VLOOKUP($R146,'FO-DRE-01'!$A$7:$U$301,5,FALSE))","v":""},{"$f":"IF($R146=\"\",\"\",VLOOKUP($R146,'FO-DRE-01'!$A$7:$U$301,7,FALSE))","v":""},{"$f":"IF($R146=\"\",\"\",VLOOKUP($R146,'FO-DRE-01'!$A$7:$U$301,8,FALSE))","v":""},{"$f":"IF($R146=\"\",\"\",VLOOKUP($R146,'FO-DRE-01'!$A$7:$U$301,9,FALSE))","v":""},{"$f":"IF($R146=\"\",\"\",VLOOKUP($R146,'FO-DRE-01'!$A$7:$U$301,10,FALSE))","v":""},{"$f":"IF($R146=\"\",\"\",VLOOKUP($R146,'FO-DRE-01'!$A$7:$U$301,11,FALSE))","v":""},{"$f":"IF($R146=\"\",\"\",VLOOKUP($R146,'FO-DRE-01'!$A$7:$U$301,12,FALSE))","v":""},{"$f":"IF($R146=\"\",\"\",VLOOKUP($R146,'FO-DRE-01'!$A$7:$U$301,13,FALSE))","v":""},{"$f":"IF($R146=\"\",\"\",VLOOKUP($R146,'FO-DRE-01'!$A$7:$U$301,14,FALSE))","v":""},{"$f":"IF($R146=\"\",\"\",VLOOKUP($R146,'FO-DRE-01'!$A$7:$U$301,15,FALSE))","v":""},{"$f":"IF($S146=\"\",\"\",VLOOKUP($S146,'FO-DRE-04'!$A$6:$L$301,2,FALSE))","v":""},{"$f":"IF($S146=\"\",\"\",VLOOKUP($S146,'FO-DRE-04'!$A$6:$L$301,3,FALSE))","v":""},{"$f":"IF($S146=\"\",\"\",VLOOKUP($S146,'FO-DRE-04'!$A$6:$L$301,4,FALSE))","v":""},{"$f":"IF($S146=\"\",\"\",VLOOKUP($S146,'FO-DRE-04'!$A$6:$L$301,6,FALSE))","v":""},{"$f":"IF($S146=\"\",\"\",VLOOKUP($S146,'FO-DRE-04'!$A$6:$L$301,11,FALSE))","v":""},{"$f":"IF($T146=\"\",\"\",VLOOKUP($T146,'FO-DRE-02'!$A$6:$M$101,2,FALSE))","v":""},{"$f":"IF($T146=\"\",\"\",VLOOKUP($T146,'FO-DRE-02'!$A$6:$M$101,3,FALSE))","v":""},{"$f":"IF($T146=\"\",\"\",VLOOKUP($T146,'FO-DRE-02'!$A$6:$M$101,6,FALSE))","v":""},{"$f":"IF($T146=\"\",\"\",VLOOKUP($T146,'FO-DRE-02'!$A$6:$M$101,4,FALSE))","v":""},{"$f":"IF($T146=\"\",\"\",VLOOKUP($T146,'FO-DRE-02'!$A$6:$M$101,5,FALSE))","v":""},{"$f":"IF($T146=\"\",\"\",VLOOKUP($T146,'FO-DRE-02'!$A$6:$M$101,8,FALSE))","v":""},{"$f":"IF($T146=\"\",\"\",VLOOKUP($T146,'FO-DRE-02'!$A$6:$M$101,7,FALSE))","v":""},{"$f":"IF($T146=\"\",\"\",VLOOKUP($T146,'FO-DRE-02'!$A$6:$M$101,9,FALSE))","v":""},{"$f":"IF($T146=\"\",\"\",VLOOKUP($T146,'FO-DRE-02'!$A$6:$M$101,11,FALSE))","v":""},{"$f":"IF($T146=\"\",\"\",VLOOKUP($T146,'FO-DRE-02'!$A$6:$M$101,12,FALSE))","v":""},{"$f":"IF($T146=\"\",\"\",VLOOKUP($T146,'FO-DRE-02'!$A$6:$M$101,13,FALSE))","v":""},null,null,null,137,"","F/D","F/D","","","","","","","","","","","","","","",""]
[null,null,null,null,null,null,null,null,{"$f":"IF(H147=\"1a\",Hoja1!$B$126,IF(H147=\"1b\",Hoja1!$B$127,IF(H147=\"2a\",Hoja1!$B$128,IF(H147=\"2b\",Hoja1!$B$129,IF(H147=\"3 \",Hoja1!$B$130,IF(H147=\"4 \",Hoja1!$B$131,IF(H147=\"5 \",Hoja1!$B$132,IF(H147=\"6 \",Hoja1!$B$133,IF(H147=\"7 \",Hoja1!$B$134,IF(H147=\"8 \",Hoja1!$B$135,\" \"))))))))))","v":" "},{"$f":"CONCATENATE(#REF!,\"-\",\"TX\")","v":{"$error":"#REF!"}},{"$f":"CONCATENATE(#REF!,\"-\",\"RX\")","v":{"$error":"#REF!"}},null,null,null,null,0,null,null,null,null,null,{"$f":"IF($R147=\"\",\"\",VLOOKUP($R147,'FO-DRE-01'!$A$7:$U$301,18,FALSE))","v":""},{"$f":"IF($R147=\"\",\"\",VLOOKUP($R147,'FO-DRE-01'!$A$7:$U$301,16,FALSE))","v":""},{"$f":"IF($R147=\"\",\"\",VLOOKUP($R147,'FO-DRE-01'!$A$7:$U$301,17,FALSE))","v":""},{"$f":"IF($R147=\"\",\"\",VLOOKUP($R147,'FO-DRE-01'!$A$7:$U$301,3,FALSE))","v":""},{"$f":"IF($R147=\"\",\"\",VLOOKUP($R147,'FO-DRE-01'!$A$7:$U$301,4,FALSE))","v":""},{"$f":"IF($R147=\"\",\"\",VLOOKUP($R147,'FO-DRE-01'!$A$7:$U$301,5,FALSE))","v":""},{"$f":"IF($R147=\"\",\"\",VLOOKUP($R147,'FO-DRE-01'!$A$7:$U$301,7,FALSE))","v":""},{"$f":"IF($R147=\"\",\"\",VLOOKUP($R147,'FO-DRE-01'!$A$7:$U$301,8,FALSE))","v":""},{"$f":"IF($R147=\"\",\"\",VLOOKUP($R147,'FO-DRE-01'!$A$7:$U$301,9,FALSE))","v":""},{"$f":"IF($R147=\"\",\"\",VLOOKUP($R147,'FO-DRE-01'!$A$7:$U$301,10,FALSE))","v":""},{"$f":"IF($R147=\"\",\"\",VLOOKUP($R147,'FO-DRE-01'!$A$7:$U$301,11,FALSE))","v":""},{"$f":"IF($R147=\"\",\"\",VLOOKUP($R147,'FO-DRE-01'!$A$7:$U$301,12,FALSE))","v":""},{"$f":"IF($R147=\"\",\"\",VLOOKUP($R147,'FO-DRE-01'!$A$7:$U$301,13,FALSE))","v":""},{"$f":"IF($R147=\"\",\"\",VLOOKUP($R147,'FO-DRE-01'!$A$7:$U$301,14,FALSE))","v":""},{"$f":"IF($R147=\"\",\"\",VLOOKUP($R147,'FO-DRE-01'!$A$7:$U$301,15,FALSE))","v":""},{"$f":"IF($S147=\"\",\"\",VLOOKUP($S147,'FO-DRE-04'!$A$6:$L$301,2,FALSE))","v":""},{"$f":"IF($S147=\"\",\"\",VLOOKUP($S147,'FO-DRE-04'!$A$6:$L$301,3,FALSE))","v":""},{"$f":"IF($S147=\"\",\"\",VLOOKUP($S147,'FO-DRE-04'!$A$6:$L$301,4,FALSE))","v":""},{"$f":"IF($S147=\"\",\"\",VLOOKUP($S147,'FO-DRE-04'!$A$6:$L$301,6,FALSE))","v":""},{"$f":"IF($S147=\"\",\"\",VLOOKUP($S147,'FO-DRE-04'!$A$6:$L$301,11,FALSE))","v":""},{"$f":"IF($T147=\"\",\"\",VLOOKUP($T147,'FO-DRE-02'!$A$6:$M$101,2,FALSE))","v":""},{"$f":"IF($T147=\"\",\"\",VLOOKUP($T147,'FO-DRE-02'!$A$6:$M$101,3,FALSE))","v":""},{"$f":"IF($T147=\"\",\"\",VLOOKUP($T147,'FO-DRE-02'!$A$6:$M$101,6,FALSE))","v":""},{"$f":"IF($T147=\"\",\"\",VLOOKUP($T147,'FO-DRE-02'!$A$6:$M$101,4,FALSE))","v":""},{"$f":"IF($T147=\"\",\"\",VLOOKUP($T147,'FO-DRE-02'!$A$6:$M$101,5,FALSE))","v":""},{"$f":"IF($T147=\"\",\"\",VLOOKUP($T147,'FO-DRE-02'!$A$6:$M$101,8,FALSE))","v":""},{"$f":"IF($T147=\"\",\"\",VLOOKUP($T147,'FO-DRE-02'!$A$6:$M$101,7,FALSE))","v":""},{"$f":"IF($T147=\"\",\"\",VLOOKUP($T147,'FO-DRE-02'!$A$6:$M$101,9,FALSE))","v":""},{"$f":"IF($T147=\"\",\"\",VLOOKUP($T147,'FO-DRE-02'!$A$6:$M$101,11,FALSE))","v":""},{"$f":"IF($T147=\"\",\"\",VLOOKUP($T147,'FO-DRE-02'!$A$6:$M$101,12,FALSE))","v":""},{"$f":"IF($T147=\"\",\"\",VLOOKUP($T147,'FO-DRE-02'!$A$6:$M$101,13,FALSE))","v":""},null,null,null,138,"","F/D","F/D","","","","","","","","","","","","","","",""]
[null,null,null,null,null,null,null,null,{"$f":"IF(H148=\"1a\",Hoja1!$B$126,IF(H148=\"1b\",Hoja1!$B$127,IF(H148=\"2a\",Hoja1!$B$128,IF(H148=\"2b\",Hoja1!$B$129,IF(H148=\"3 \",Hoja1!$B$130,IF(H148=\"4 \",Hoja1!$B$131,IF(H148=\"5 \",Hoja1!$B$132,IF(H148=\"6 \",Hoja1!$B$133,IF(H148=\"7 \",Hoja1!$B$134,IF(H148=\"8 \",Hoja1!$B$135,\" \"))))))))))","v":" "},{"$f":"CONCATENATE(#REF!,\"-\",\"TX\")","v":{"$error":"#REF!"}},{"$f":"CONCATENATE(#REF!,\"-\",\"RX\")","v":{"$error":"#REF!"}},null,null,null,null,0,null,null,null,null,null,{"$f":"IF($R148=\"\",\"\",VLOOKUP($R148,'FO-DRE-01'!$A$7:$U$301,18,FALSE))","v":""},{"$f":"IF($R148=\"\",\"\",VLOOKUP($R148,'FO-DRE-01'!$A$7:$U$301,16,FALSE))","v":""},{"$f":"IF($R148=\"\",\"\",VLOOKUP($R148,'FO-DRE-01'!$A$7:$U$301,17,FALSE))","v":""},{"$f":"IF($R148=\"\",\"\",VLOOKUP($R148,'FO-DRE-01'!$A$7:$U$301,3,FALSE))","v":""},{"$f":"IF($R148=\"\",\"\",VLOOKUP($R148,'FO-DRE-01'!$A$7:$U$301,4,FALSE))","v":""},{"$f":"IF($R148=\"\",\"\",VLOOKUP($R148,'FO-DRE-01'!$A$7:$U$301,5,FALSE))","v":""},{"$f":"IF($R148=\"\",\"\",VLOOKUP($R148,'FO-DRE-01'!$A$7:$U$301,7,FALSE))","v":""},{"$f":"IF($R148=\"\",\"\",VLOOKUP($R148,'FO-DRE-01'!$A$7:$U$301,8,FALSE))","v":""},{"$f":"IF($R148=\"\",\"\",VLOOKUP($R148,'FO-DRE-01'!$A$7:$U$301,9,FALSE))","v":""},{"$f":"IF($R148=\"\",\"\",VLOOKUP($R148,'FO-DRE-01'!$A$7:$U$301,10,FALSE))","v":""},{"$f":"IF($R148=\"\",\"\",VLOOKUP($R148,'FO-DRE-01'!$A$7:$U$301,11,FALSE))","v":""},{"$f":"IF($R148=\"\",\"\",VLOOKUP($R148,'FO-DRE-01'!$A$7:$U$301,12,FALSE))","v":""},{"$f":"IF($R148=\"\",\"\",VLOOKUP($R148,'FO-DRE-01'!$A$7:$U$301,13,FALSE))","v":""},{"$f":"IF($R148=\"\",\"\",VLOOKUP($R148,'FO-DRE-01'!$A$7:$U$301,14,FALSE))","v":""},{"$f":"IF($R148=\"\",\"\",VLOOKUP($R148,'FO-DRE-01'!$A$7:$U$301,15,FALSE))","v":""},{"$f":"IF($S148=\"\",\"\",VLOOKUP($S148,'FO-DRE-04'!$A$6:$L$301,2,FALSE))","v":""},{"$f":"IF($S148=\"\",\"\",VLOOKUP($S148,'FO-DRE-04'!$A$6:$L$301,3,FALSE))","v":""},{"$f":"IF($S148=\"\",\"\",VLOOKUP($S148,'FO-DRE-04'!$A$6:$L$301,4,FALSE))","v":""},{"$f":"IF($S148=\"\",\"\",VLOOKUP($S148,'FO-DRE-04'!$A$6:$L$301,6,FALSE))","v":""},{"$f":"IF($S148=\"\",\"\",VLOOKUP($S148,'FO-DRE-04'!$A$6:$L$301,11,FALSE))","v":""},{"$f":"IF($T148=\"\",\"\",VLOOKUP($T148,'FO-DRE-02'!$A$6:$M$101,2,FALSE))","v":""},{"$f":"IF($T148=\"\",\"\",VLOOKUP($T148,'FO-DRE-02'!$A$6:$M$101,3,FALSE))","v":""},{"$f":"IF($T148=\"\",\"\",VLOOKUP($T148,'FO-DRE-02'!$A$6:$M$101,6,FALSE))","v":""},{"$f":"IF($T148=\"\",\"\",VLOOKUP($T148,'FO-DRE-02'!$A$6:$M$101,4,FALSE))","v":""},{"$f":"IF($T148=\"\",\"\",VLOOKUP($T148,'FO-DRE-02'!$A$6:$M$101,5,FALSE))","v":""},{"$f":"IF($T148=\"\",\"\",VLOOKUP($T148,'FO-DRE-02'!$A$6:$M$101,8,FALSE))","v":""},{"$f":"IF($T148=\"\",\"\",VLOOKUP($T148,'FO-DRE-02'!$A$6:$M$101,7,FALSE))","v":""},{"$f":"IF($T148=\"\",\"\",VLOOKUP($T148,'FO-DRE-02'!$A$6:$M$101,9,FALSE))","v":""},{"$f":"IF($T148=\"\",\"\",VLOOKUP($T148,'FO-DRE-02'!$A$6:$M$101,11,FALSE))","v":""},{"$f":"IF($T148=\"\",\"\",VLOOKUP($T148,'FO-DRE-02'!$A$6:$M$101,12,FALSE))","v":""},{"$f":"IF($T148=\"\",\"\",VLOOKUP($T148,'FO-DRE-02'!$A$6:$M$101,13,FALSE))","v":""},null,null,null,139,"","F/D","F/D","","","","","","","","","","","","","","",""]
[null,null,null,null,null,null,null,null,{"$f":"IF(H149=\"1a\",Hoja1!$B$126,IF(H149=\"1b\",Hoja1!$B$127,IF(H149=\"2a\",Hoja1!$B$128,IF(H149=\"2b\",Hoja1!$B$129,IF(H149=\"3 \",Hoja1!$B$130,IF(H149=\"4 \",Hoja1!$B$131,IF(H149=\"5 \",Hoja1!$B$132,IF(H149=\"6 \",Hoja1!$B$133,IF(H149=\"7 \",Hoja1!$B$134,IF(H149=\"8 \",Hoja1!$B$135,\" \"))))))))))","v":" "},{"$f":"CONCATENATE(#REF!,\"-\",\"TX\")","v":{"$error":"#REF!"}},{"$f":"CONCATENATE(#REF!,\"-\",\"RX\")","v":{"$error":"#REF!"}},null,null,null,null,0,null,null,null,null,null,{"$f":"IF($R149=\"\",\"\",VLOOKUP($R149,'FO-DRE-01'!$A$7:$U$301,18,FALSE))","v":""},{"$f":"IF($R149=\"\",\"\",VLOOKUP($R149,'FO-DRE-01'!$A$7:$U$301,16,FALSE))","v":""},{"$f":"IF($R149=\"\",\"\",VLOOKUP($R149,'FO-DRE-01'!$A$7:$U$301,17,FALSE))","v":""},{"$f":"IF($R149=\"\",\"\",VLOOKUP($R149,'FO-DRE-01'!$A$7:$U$301,3,FALSE))","v":""},{"$f":"IF($R149=\"\",\"\",VLOOKUP($R149,'FO-DRE-01'!$A$7:$U$301,4,FALSE))","v":""},{"$f":"IF($R149=\"\",\"\",VLOOKUP($R149,'FO-DRE-01'!$A$7:$U$301,5,FALSE))","v":""},{"$f":"IF($R149=\"\",\"\",VLOOKUP($R149,'FO-DRE-01'!$A$7:$U$301,7,FALSE))","v":""},{"$f":"IF($R149=\"\",\"\",VLOOKUP($R149,'FO-DRE-01'!$A$7:$U$301,8,FALSE))","v":""},{"$f":"IF($R149=\"\",\"\",VLOOKUP($R149,'FO-DRE-01'!$A$7:$U$301,9,FALSE))","v":""},{"$f":"IF($R149=\"\",\"\",VLOOKUP($R149,'FO-DRE-01'!$A$7:$U$301,10,FALSE))","v":""},{"$f":"IF($R149=\"\",\"\",VLOOKUP($R149,'FO-DRE-01'!$A$7:$U$301,11,FALSE))","v":""},{"$f":"IF($R149=\"\",\"\",VLOOKUP($R149,'FO-DRE-01'!$A$7:$U$301,12,FALSE))","v":""},{"$f":"IF($R149=\"\",\"\",VLOOKUP($R149,'FO-DRE-01'!$A$7:$U$301,13,FALSE))","v":""},{"$f":"IF($R149=\"\",\"\",VLOOKUP($R149,'FO-DRE-01'!$A$7:$U$301,14,FALSE))","v":""},{"$f":"IF($R149=\"\",\"\",VLOOKUP($R149,'FO-DRE-01'!$A$7:$U$301,15,FALSE))","v":""},{"$f":"IF($S149=\"\",\"\",VLOOKUP($S149,'FO-DRE-04'!$A$6:$L$301,2,FALSE))","v":""},{"$f":"IF($S149=\"\",\"\",VLOOKUP($S149,'FO-DRE-04'!$A$6:$L$301,3,FALSE))","v":""},{"$f":"IF($S149=\"\",\"\",VLOOKUP($S149,'FO-DRE-04'!$A$6:$L$301,4,FALSE))","v":""},{"$f":"IF($S149=\"\",\"\",VLOOKUP($S149,'FO-DRE-04'!$A$6:$L$301,6,FALSE))","v":""},{"$f":"IF($S149=\"\",\"\",VLOOKUP($S149,'FO-DRE-04'!$A$6:$L$301,11,FALSE))","v":""},{"$f":"IF($T149=\"\",\"\",VLOOKUP($T149,'FO-DRE-02'!$A$6:$M$101,2,FALSE))","v":""},{"$f":"IF($T149=\"\",\"\",VLOOKUP($T149,'FO-DRE-02'!$A$6:$M$101,3,FALSE))","v":""},{"$f":"IF($T149=\"\",\"\",VLOOKUP($T149,'FO-DRE-02'!$A$6:$M$101,6,FALSE))","v":""},{"$f":"IF($T149=\"\",\"\",VLOOKUP($T149,'FO-DRE-02'!$A$6:$M$101,4,FALSE))","v":""},{"$f":"IF($T149=\"\",\"\",VLOOKUP($T149,'FO-DRE-02'!$A$6:$M$101,5,FALSE))","v":""},{"$f":"IF($T149=\"\",\"\",VLOOKUP($T149,'FO-DRE-02'!$A$6:$M$101,8,FALSE))","v":""},{"$f":"IF($T149=\"\",\"\",VLOOKUP($T149,'FO-DRE-02'!$A$6:$M$101,7,FALSE))","v":""},{"$f":"IF($T149=\"\",\"\",VLOOKUP($T149,'FO-DRE-02'!$A$6:$M$101,9,FALSE))","v":""},{"$f":"IF($T149=\"\",\"\",VLOOKUP($T149,'FO-DRE-02'!$A$6:$M$101,11,FALSE))","v":""},{"$f":"IF($T149=\"\",\"\",VLOOKUP($T149,'FO-DRE-02'!$A$6:$M$101,12,FALSE))","v":""},{"$f":"IF($T149=\"\",\"\",VLOOKUP($T149,'FO-DRE-02'!$A$6:$M$101,13,FALSE))","v":""},null,null,null,140,"","F/D","F/D","","","","","","","","","","","","","","",""]
[null,null,null,null,null,null,null,null,{"$f":"IF(H150=\"1a\",Hoja1!$B$126,IF(H150=\"1b\",Hoja1!$B$127,IF(H150=\"2a\",Hoja1!$B$128,IF(H150=\"2b\",Hoja1!$B$129,IF(H150=\"3 \",Hoja1!$B$130,IF(H150=\"4 \",Hoja1!$B$131,IF(H150=\"5 \",Hoja1!$B$132,IF(H150=\"6 \",Hoja1!$B$133,IF(H150=\"7 \",Hoja1!$B$134,IF(H150=\"8 \",Hoja1!$B$135,\" \"))))))))))","v":" "},{"$f":"CONCATENATE(#REF!,\"-\",\"TX\")","v":{"$error":"#REF!"}},{"$f":"CONCATENATE(#REF!,\"-\",\"RX\")","v":{"$error":"#REF!"}},null,null,null,null,0,null,null,null,null,null,{"$f":"IF($R150=\"\",\"\",VLOOKUP($R150,'FO-DRE-01'!$A$7:$U$301,18,FALSE))","v":""},{"$f":"IF($R150=\"\",\"\",VLOOKUP($R150,'FO-DRE-01'!$A$7:$U$301,16,FALSE))","v":""},{"$f":"IF($R150=\"\",\"\",VLOOKUP($R150,'FO-DRE-01'!$A$7:$U$301,17,FALSE))","v":""},{"$f":"IF($R150=\"\",\"\",VLOOKUP($R150,'FO-DRE-01'!$A$7:$U$301,3,FALSE))","v":""},{"$f":"IF($R150=\"\",\"\",VLOOKUP($R150,'FO-DRE-01'!$A$7:$U$301,4,FALSE))","v":""},{"$f":"IF($R150=\"\",\"\",VLOOKUP($R150,'FO-DRE-01'!$A$7:$U$301,5,FALSE))","v":""},{"$f":"IF($R150=\"\",\"\",VLOOKUP($R150,'FO-DRE-01'!$A$7:$U$301,7,FALSE))","v":""},{"$f":"IF($R150=\"\",\"\",VLOOKUP($R150,'FO-DRE-01'!$A$7:$U$301,8,FALSE))","v":""},{"$f":"IF($R150=\"\",\"\",VLOOKUP($R150,'FO-DRE-01'!$A$7:$U$301,9,FALSE))","v":""},{"$f":"IF($R150=\"\",\"\",VLOOKUP($R150,'FO-DRE-01'!$A$7:$U$301,10,FALSE))","v":""},{"$f":"IF($R150=\"\",\"\",VLOOKUP($R150,'FO-DRE-01'!$A$7:$U$301,11,FALSE))","v":""},{"$f":"IF($R150=\"\",\"\",VLOOKUP($R150,'FO-DRE-01'!$A$7:$U$301,12,FALSE))","v":""},{"$f":"IF($R150=\"\",\"\",VLOOKUP($R150,'FO-DRE-01'!$A$7:$U$301,13,FALSE))","v":""},{"$f":"IF($R150=\"\",\"\",VLOOKUP($R150,'FO-DRE-01'!$A$7:$U$301,14,FALSE))","v":""},{"$f":"IF($R150=\"\",\"\",VLOOKUP($R150,'FO-DRE-01'!$A$7:$U$301,15,FALSE))","v":""},{"$f":"IF($S150=\"\",\"\",VLOOKUP($S150,'FO-DRE-04'!$A$6:$L$301,2,FALSE))","v":""},{"$f":"IF($S150=\"\",\"\",VLOOKUP($S150,'FO-DRE-04'!$A$6:$L$301,3,FALSE))","v":""},{"$f":"IF($S150=\"\",\"\",VLOOKUP($S150,'FO-DRE-04'!$A$6:$L$301,4,FALSE))","v":""},{"$f":"IF($S150=\"\",\"\",VLOOKUP($S150,'FO-DRE-04'!$A$6:$L$301,6,FALSE))","v":""},{"$f":"IF($S150=\"\",\"\",VLOOKUP($S150,'FO-DRE-04'!$A$6:$L$301,11,FALSE))","v":""},{"$f":"IF($T150=\"\",\"\",VLOOKUP($T150,'FO-DRE-02'!$A$6:$M$101,2,FALSE))","v":""},{"$f":"IF($T150=\"\",\"\",VLOOKUP($T150,'FO-DRE-02'!$A$6:$M$101,3,FALSE))","v":""},{"$f":"IF($T150=\"\",\"\",VLOOKUP($T150,'FO-DRE-02'!$A$6:$M$101,6,FALSE))","v":""},{"$f":"IF($T150=\"\",\"\",VLOOKUP($T150,'FO-DRE-02'!$A$6:$M$101,4,FALSE))","v":""},{"$f":"IF($T150=\"\",\"\",VLOOKUP($T150,'FO-DRE-02'!$A$6:$M$101,5,FALSE))","v":""},{"$f":"IF($T150=\"\",\"\",VLOOKUP($T150,'FO-DRE-02'!$A$6:$M$101,8,FALSE))","v":""},{"$f":"IF($T150=\"\",\"\",VLOOKUP($T150,'FO-DRE-02'!$A$6:$M$101,7,FALSE))","v":""},{"$f":"IF($T150=\"\",\"\",VLOOKUP($T150,'FO-DRE-02'!$A$6:$M$101,9,FALSE))","v":""},{"$f":"IF($T150=\"\",\"\",VLOOKUP($T150,'FO-DRE-02'!$A$6:$M$101,11,FALSE))","v":""},{"$f":"IF($T150=\"\",\"\",VLOOKUP($T150,'FO-DRE-02'!$A$6:$M$101,12,FALSE))","v":""},{"$f":"IF($T150=\"\",\"\",VLOOKUP($T150,'FO-DRE-02'!$A$6:$M$101,13,FALSE))","v":""},null,null,null,141,"","F/D","F/D","","","","","","","","","","","","","","",""]
[null,null,null,null,null,null,null,null,{"$f":"IF(H151=\"1a\",Hoja1!$B$126,IF(H151=\"1b\",Hoja1!$B$127,IF(H151=\"2a\",Hoja1!$B$128,IF(H151=\"2b\",Hoja1!$B$129,IF(H151=\"3 \",Hoja1!$B$130,IF(H151=\"4 \",Hoja1!$B$131,IF(H151=\"5 \",Hoja1!$B$132,IF(H151=\"6 \",Hoja1!$B$133,IF(H151=\"7 \",Hoja1!$B$134,IF(H151=\"8 \",Hoja1!$B$135,\" \"))))))))))","v":" "},{"$f":"CONCATENATE(#REF!,\"-\",\"TX\")","v":{"$error":"#REF!"}},{"$f":"CONCATENATE(#REF!,\"-\",\"RX\")","v":{"$error":"#REF!"}},null,null,null,null,0,null,null,null,null,null,{"$f":"IF($R151=\"\",\"\",VLOOKUP($R151,'FO-DRE-01'!$A$7:$U$301,18,FALSE))","v":""},{"$f":"IF($R151=\"\",\"\",VLOOKUP($R151,'FO-DRE-01'!$A$7:$U$301,16,FALSE))","v":""},{"$f":"IF($R151=\"\",\"\",VLOOKUP($R151,'FO-DRE-01'!$A$7:$U$301,17,FALSE))","v":""},{"$f":"IF($R151=\"\",\"\",VLOOKUP($R151,'FO-DRE-01'!$A$7:$U$301,3,FALSE))","v":""},{"$f":"IF($R151=\"\",\"\",VLOOKUP($R151,'FO-DRE-01'!$A$7:$U$301,4,FALSE))","v":""},{"$f":"IF($R151=\"\",\"\",VLOOKUP($R151,'FO-DRE-01'!$A$7:$U$301,5,FALSE))","v":""},{"$f":"IF($R151=\"\",\"\",VLOOKUP($R151,'FO-DRE-01'!$A$7:$U$301,7,FALSE))","v":""},{"$f":"IF($R151=\"\",\"\",VLOOKUP($R151,'FO-DRE-01'!$A$7:$U$301,8,FALSE))","v":""},{"$f":"IF($R151=\"\",\"\",VLOOKUP($R151,'FO-DRE-01'!$A$7:$U$301,9,FALSE))","v":""},{"$f":"IF($R151=\"\",\"\",VLOOKUP($R151,'FO-DRE-01'!$A$7:$U$301,10,FALSE))","v":""},{"$f":"IF($R151=\"\",\"\",VLOOKUP($R151,'FO-DRE-01'!$A$7:$U$301,11,FALSE))","v":""},{"$f":"IF($R151=\"\",\"\",VLOOKUP($R151,'FO-DRE-01'!$A$7:$U$301,12,FALSE))","v":""},{"$f":"IF($R151=\"\",\"\",VLOOKUP($R151,'FO-DRE-01'!$A$7:$U$301,13,FALSE))","v":""},{"$f":"IF($R151=\"\",\"\",VLOOKUP($R151,'FO-DRE-01'!$A$7:$U$301,14,FALSE))","v":""},{"$f":"IF($R151=\"\",\"\",VLOOKUP($R151,'FO-DRE-01'!$A$7:$U$301,15,FALSE))","v":""},{"$f":"IF($S151=\"\",\"\",VLOOKUP($S151,'FO-DRE-04'!$A$6:$L$301,2,FALSE))","v":""},{"$f":"IF($S151=\"\",\"\",VLOOKUP($S151,'FO-DRE-04'!$A$6:$L$301,3,FALSE))","v":""},{"$f":"IF($S151=\"\",\"\",VLOOKUP($S151,'FO-DRE-04'!$A$6:$L$301,4,FALSE))","v":""},{"$f":"IF($S151=\"\",\"\",VLOOKUP($S151,'FO-DRE-04'!$A$6:$L$301,6,FALSE))","v":""},{"$f":"IF($S151=\"\",\"\",VLOOKUP($S151,'FO-DRE-04'!$A$6:$L$301,11,FALSE))","v":""},{"$f":"IF($T151=\"\",\"\",VLOOKUP($T151,'FO-DRE-02'!$A$6:$M$101,2,FALSE))","v":""},{"$f":"IF($T151=\"\",\"\",VLOOKUP($T151,'FO-DRE-02'!$A$6:$M$101,3,FALSE))","v":""},{"$f":"IF($T151=\"\",\"\",VLOOKUP($T151,'FO-DRE-02'!$A$6:$M$101,6,FALSE))","v":""},{"$f":"IF($T151=\"\",\"\",VLOOKUP($T151,'FO-DRE-02'!$A$6:$M$101,4,FALSE))","v":""},{"$f":"IF($T151=\"\",\"\",VLOOKUP($T151,'FO-DRE-02'!$A$6:$M$101,5,FALSE))","v":""},{"$f":"IF($T151=\"\",\"\",VLOOKUP($T151,'FO-DRE-02'!$A$6:$M$101,8,FALSE))","v":""},{"$f":"IF($T151=\"\",\"\",VLOOKUP($T151,'FO-DRE-02'!$A$6:$M$101,7,FALSE))","v":""},{"$f":"IF($T151=\"\",\"\",VLOOKUP($T151,'FO-DRE-02'!$A$6:$M$101,9,FALSE))","v":""},{"$f":"IF($T151=\"\",\"\",VLOOKUP($T151,'FO-DRE-02'!$A$6:$M$101,11,FALSE))","v":""},{"$f":"IF($T151=\"\",\"\",VLOOKUP($T151,'FO-DRE-02'!$A$6:$M$101,12,FALSE))","v":""},{"$f":"IF($T151=\"\",\"\",VLOOKUP($T151,'FO-DRE-02'!$A$6:$M$101,13,FALSE))","v":""},null,null,null,142,"","F/D","F/D","","","","","","","","","","","","","","",""]
[null,null,null,null,null,null,null,null,{"$f":"IF(H152=\"1a\",Hoja1!$B$126,IF(H152=\"1b\",Hoja1!$B$127,IF(H152=\"2a\",Hoja1!$B$128,IF(H152=\"2b\",Hoja1!$B$129,IF(H152=\"3 \",Hoja1!$B$130,IF(H152=\"4 \",Hoja1!$B$131,IF(H152=\"5 \",Hoja1!$B$132,IF(H152=\"6 \",Hoja1!$B$133,IF(H152=\"7 \",Hoja1!$B$134,IF(H152=\"8 \",Hoja1!$B$135,\" \"))))))))))","v":" "},{"$f":"CONCATENATE(#REF!,\"-\",\"TX\")","v":{"$error":"#REF!"}},{"$f":"CONCATENATE(#REF!,\"-\",\"RX\")","v":{"$error":"#REF!"}},null,null,null,null,0,null,null,null,null,null,{"$f":"IF($R152=\"\",\"\",VLOOKUP($R152,'FO-DRE-01'!$A$7:$U$301,18,FALSE))","v":""},{"$f":"IF($R152=\"\",\"\",VLOOKUP($R152,'FO-DRE-01'!$A$7:$U$301,16,FALSE))","v":""},{"$f":"IF($R152=\"\",\"\",VLOOKUP($R152,'FO-DRE-01'!$A$7:$U$301,17,FALSE))","v":""},{"$f":"IF($R152=\"\",\"\",VLOOKUP($R152,'FO-DRE-01'!$A$7:$U$301,3,FALSE))","v":""},{"$f":"IF($R152=\"\",\"\",VLOOKUP($R152,'FO-DRE-01'!$A$7:$U$301,4,FALSE))","v":""},{"$f":"IF($R152=\"\",\"\",VLOOKUP($R152,'FO-DRE-01'!$A$7:$U$301,5,FALSE))","v":""},{"$f":"IF($R152=\"\",\"\",VLOOKUP($R152,'FO-DRE-01'!$A$7:$U$301,7,FALSE))","v":""},{"$f":"IF($R152=\"\",\"\",VLOOKUP($R152,'FO-DRE-01'!$A$7:$U$301,8,FALSE))","v":""},{"$f":"IF($R152=\"\",\"\",VLOOKUP($R152,'FO-DRE-01'!$A$7:$U$301,9,FALSE))","v":""},{"$f":"IF($R152=\"\",\"\",VLOOKUP($R152,'FO-DRE-01'!$A$7:$U$301,10,FALSE))","v":""},{"$f":"IF($R152=\"\",\"\",VLOOKUP($R152,'FO-DRE-01'!$A$7:$U$301,11,FALSE))","v":""},{"$f":"IF($R152=\"\",\"\",VLOOKUP($R152,'FO-DRE-01'!$A$7:$U$301,12,FALSE))","v":""},{"$f":"IF($R152=\"\",\"\",VLOOKUP($R152,'FO-DRE-01'!$A$7:$U$301,13,FALSE))","v":""},{"$f":"IF($R152=\"\",\"\",VLOOKUP($R152,'FO-DRE-01'!$A$7:$U$301,14,FALSE))","v":""},{"$f":"IF($R152=\"\",\"\",VLOOKUP($R152,'FO-DRE-01'!$A$7:$U$301,15,FALSE))","v":""},{"$f":"IF($S152=\"\",\"\",VLOOKUP($S152,'FO-DRE-04'!$A$6:$L$301,2,FALSE))","v":""},{"$f":"IF($S152=\"\",\"\",VLOOKUP($S152,'FO-DRE-04'!$A$6:$L$301,3,FALSE))","v":""},{"$f":"IF($S152=\"\",\"\",VLOOKUP($S152,'FO-DRE-04'!$A$6:$L$301,4,FALSE))","v":""},{"$f":"IF($S152=\"\",\"\",VLOOKUP($S152,'FO-DRE-04'!$A$6:$L$301,6,FALSE))","v":""},{"$f":"IF($S152=\"\",\"\",VLOOKUP($S152,'FO-DRE-04'!$A$6:$L$301,11,FALSE))","v":""},{"$f":"IF($T152=\"\",\"\",VLOOKUP($T152,'FO-DRE-02'!$A$6:$M$101,2,FALSE))","v":""},{"$f":"IF($T152=\"\",\"\",VLOOKUP($T152,'FO-DRE-02'!$A$6:$M$101,3,FALSE))","v":""},{"$f":"IF($T152=\"\",\"\",VLOOKUP($T152,'FO-DRE-02'!$A$6:$M$101,6,FALSE))","v":""},{"$f":"IF($T152=\"\",\"\",VLOOKUP($T152,'FO-DRE-02'!$A$6:$M$101,4,FALSE))","v":""},{"$f":"IF($T152=\"\",\"\",VLOOKUP($T152,'FO-DRE-02'!$A$6:$M$101,5,FALSE))","v":""},{"$f":"IF($T152=\"\",\"\",VLOOKUP($T152,'FO-DRE-02'!$A$6:$M$101,8,FALSE))","v":""},{"$f":"IF($T152=\"\",\"\",VLOOKUP($T152,'FO-DRE-02'!$A$6:$M$101,7,FALSE))","v":""},{"$f":"IF($T152=\"\",\"\",VLOOKUP($T152,'FO-DRE-02'!$A$6:$M$101,9,FALSE))","v":""},{"$f":"IF($T152=\"\",\"\",VLOOKUP($T152,'FO-DRE-02'!$A$6:$M$101,11,FALSE))","v":""},{"$f":"IF($T152=\"\",\"\",VLOOKUP($T152,'FO-DRE-02'!$A$6:$M$101,12,FALSE))","v":""},{"$f":"IF($T152=\"\",\"\",VLOOKUP($T152,'FO-DRE-02'!$A$6:$M$101,13,FALSE))","v":""},null,null,null,143,"","F/D","F/D","","","","","","","","","","","","","","",""]
[null,null,null,null,null,null,null,null,{"$f":"IF(H153=\"1a\",Hoja1!$B$126,IF(H153=\"1b\",Hoja1!$B$127,IF(H153=\"2a\",Hoja1!$B$128,IF(H153=\"2b\",Hoja1!$B$129,IF(H153=\"3 \",Hoja1!$B$130,IF(H153=\"4 \",Hoja1!$B$131,IF(H153=\"5 \",Hoja1!$B$132,IF(H153=\"6 \",Hoja1!$B$133,IF(H153=\"7 \",Hoja1!$B$134,IF(H153=\"8 \",Hoja1!$B$135,\" \"))))))))))","v":" "},{"$f":"CONCATENATE(#REF!,\"-\",\"TX\")","v":{"$error":"#REF!"}},{"$f":"CONCATENATE(#REF!,\"-\",\"RX\")","v":{"$error":"#REF!"}},null,null,null,null,0,null,null,null,null,null,{"$f":"IF($R153=\"\",\"\",VLOOKUP($R153,'FO-DRE-01'!$A$7:$U$301,18,FALSE))","v":""},{"$f":"IF($R153=\"\",\"\",VLOOKUP($R153,'FO-DRE-01'!$A$7:$U$301,16,FALSE))","v":""},{"$f":"IF($R153=\"\",\"\",VLOOKUP($R153,'FO-DRE-01'!$A$7:$U$301,17,FALSE))","v":""},{"$f":"IF($R153=\"\",\"\",VLOOKUP($R153,'FO-DRE-01'!$A$7:$U$301,3,FALSE))","v":""},{"$f":"IF($R153=\"\",\"\",VLOOKUP($R153,'FO-DRE-01'!$A$7:$U$301,4,FALSE))","v":""},{"$f":"IF($R153=\"\",\"\",VLOOKUP($R153,'FO-DRE-01'!$A$7:$U$301,5,FALSE))","v":""},{"$f":"IF($R153=\"\",\"\",VLOOKUP($R153,'FO-DRE-01'!$A$7:$U$301,7,FALSE))","v":""},{"$f":"IF($R153=\"\",\"\",VLOOKUP($R153,'FO-DRE-01'!$A$7:$U$301,8,FALSE))","v":""},{"$f":"IF($R153=\"\",\"\",VLOOKUP($R153,'FO-DRE-01'!$A$7:$U$301,9,FALSE))","v":""},{"$f":"IF($R153=\"\",\"\",VLOOKUP($R153,'FO-DRE-01'!$A$7:$U$301,10,FALSE))","v":""},{"$f":"IF($R153=\"\",\"\",VLOOKUP($R153,'FO-DRE-01'!$A$7:$U$301,11,FALSE))","v":""},{"$f":"IF($R153=\"\",\"\",VLOOKUP($R153,'FO-DRE-01'!$A$7:$U$301,12,FALSE))","v":""},{"$f":"IF($R153=\"\",\"\",VLOOKUP($R153,'FO-DRE-01'!$A$7:$U$301,13,FALSE))","v":""},{"$f":"IF($R153=\"\",\"\",VLOOKUP($R153,'FO-DRE-01'!$A$7:$U$301,14,FALSE))","v":""},{"$f":"IF($R153=\"\",\"\",VLOOKUP($R153,'FO-DRE-01'!$A$7:$U$301,15,FALSE))","v":""},{"$f":"IF($S153=\"\",\"\",VLOOKUP($S153,'FO-DRE-04'!$A$6:$L$301,2,FALSE))","v":""},{"$f":"IF($S153=\"\",\"\",VLOOKUP($S153,'FO-DRE-04'!$A$6:$L$301,3,FALSE))","v":""},{"$f":"IF($S153=\"\",\"\",VLOOKUP($S153,'FO-DRE-04'!$A$6:$L$301,4,FALSE))","v":""},{"$f":"IF($S153=\"\",\"\",VLOOKUP($S153,'FO-DRE-04'!$A$6:$L$301,6,FALSE))","v":""},{"$f":"IF($S153=\"\",\"\",VLOOKUP($S153,'FO-DRE-04'!$A$6:$L$301,11,FALSE))","v":""},{"$f":"IF($T153=\"\",\"\",VLOOKUP($T153,'FO-DRE-02'!$A$6:$M$101,2,FALSE))","v":""},{"$f":"IF($T153=\"\",\"\",VLOOKUP($T153,'FO-DRE-02'!$A$6:$M$101,3,FALSE))","v":""},{"$f":"IF($T153=\"\",\"\",VLOOKUP($T153,'FO-DRE-02'!$A$6:$M$101,6,FALSE))","v":""},{"$f":"IF($T153=\"\",\"\",VLOOKUP($T153,'FO-DRE-02'!$A$6:$M$101,4,FALSE))","v":""},{"$f":"IF($T153=\"\",\"\",VLOOKUP($T153,'FO-DRE-02'!$A$6:$M$101,5,FALSE))","v":""},{"$f":"IF($T153=\"\",\"\",VLOOKUP($T153,'FO-DRE-02'!$A$6:$M$101,8,FALSE))","v":""},{"$f":"IF($T153=\"\",\"\",VLOOKUP($T153,'FO-DRE-02'!$A$6:$M$101,7,FALSE))","v":""},{"$f":"IF($T153=\"\",\"\",VLOOKUP($T153,'FO-DRE-02'!$A$6:$M$101,9,FALSE))","v":""},{"$f":"IF($T153=\"\",\"\",VLOOKUP($T153,'FO-DRE-02'!$A$6:$M$101,11,FALSE))","v":""},{"$f":"IF($T153=\"\",\"\",VLOOKUP($T153,'FO-DRE-02'!$A$6:$M$101,12,FALSE))","v":""},{"$f":"IF($T153=\"\",\"\",VLOOKUP($T153,'FO-DRE-02'!$A$6:$M$101,13,FALSE))","v":""},null,null,null,144,"","F/D","F/D","","","","","","","","","","","","","","",""]
[null,null,null,null,null,null,null,null,{"$f":"IF(H154=\"1a\",Hoja1!$B$126,IF(H154=\"1b\",Hoja1!$B$127,IF(H154=\"2a\",Hoja1!$B$128,IF(H154=\"2b\",Hoja1!$B$129,IF(H154=\"3 \",Hoja1!$B$130,IF(H154=\"4 \",Hoja1!$B$131,IF(H154=\"5 \",Hoja1!$B$132,IF(H154=\"6 \",Hoja1!$B$133,IF(H154=\"7 \",Hoja1!$B$134,IF(H154=\"8 \",Hoja1!$B$135,\" \"))))))))))","v":" "},{"$f":"CONCATENATE(#REF!,\"-\",\"TX\")","v":{"$error":"#REF!"}},{"$f":"CONCATENATE(#REF!,\"-\",\"RX\")","v":{"$error":"#REF!"}},null,null,null,null,0,null,null,null,null,null,{"$f":"IF($R154=\"\",\"\",VLOOKUP($R154,'FO-DRE-01'!$A$7:$U$301,18,FALSE))","v":""},{"$f":"IF($R154=\"\",\"\",VLOOKUP($R154,'FO-DRE-01'!$A$7:$U$301,16,FALSE))","v":""},{"$f":"IF($R154=\"\",\"\",VLOOKUP($R154,'FO-DRE-01'!$A$7:$U$301,17,FALSE))","v":""},{"$f":"IF($R154=\"\",\"\",VLOOKUP($R154,'FO-DRE-01'!$A$7:$U$301,3,FALSE))","v":""},{"$f":"IF($R154=\"\",\"\",VLOOKUP($R154,'FO-DRE-01'!$A$7:$U$301,4,FALSE))","v":""},{"$f":"IF($R154=\"\",\"\",VLOOKUP($R154,'FO-DRE-01'!$A$7:$U$301,5,FALSE))","v":""},{"$f":"IF($R154=\"\",\"\",VLOOKUP($R154,'FO-DRE-01'!$A$7:$U$301,7,FALSE))","v":""},{"$f":"IF($R154=\"\",\"\",VLOOKUP($R154,'FO-DRE-01'!$A$7:$U$301,8,FALSE))","v":""},{"$f":"IF($R154=\"\",\"\",VLOOKUP($R154,'FO-DRE-01'!$A$7:$U$301,9,FALSE))","v":""},{"$f":"IF($R154=\"\",\"\",VLOOKUP($R154,'FO-DRE-01'!$A$7:$U$301,10,FALSE))","v":""},{"$f":"IF($R154=\"\",\"\",VLOOKUP($R154,'FO-DRE-01'!$A$7:$U$301,11,FALSE))","v":""},{"$f":"IF($R154=\"\",\"\",VLOOKUP($R154,'FO-DRE-01'!$A$7:$U$301,12,FALSE))","v":""},{"$f":"IF($R154=\"\",\"\",VLOOKUP($R154,'FO-DRE-01'!$A$7:$U$301,13,FALSE))","v":""},{"$f":"IF($R154=\"\",\"\",VLOOKUP($R154,'FO-DRE-01'!$A$7:$U$301,14,FALSE))","v":""},{"$f":"IF($R154=\"\",\"\",VLOOKUP($R154,'FO-DRE-01'!$A$7:$U$301,15,FALSE))","v":""},{"$f":"IF($S154=\"\",\"\",VLOOKUP($S154,'FO-DRE-04'!$A$6:$L$301,2,FALSE))","v":""},{"$f":"IF($S154=\"\",\"\",VLOOKUP($S154,'FO-DRE-04'!$A$6:$L$301,3,FALSE))","v":""},{"$f":"IF($S154=\"\",\"\",VLOOKUP($S154,'FO-DRE-04'!$A$6:$L$301,4,FALSE))","v":""},{"$f":"IF($S154=\"\",\"\",VLOOKUP($S154,'FO-DRE-04'!$A$6:$L$301,6,FALSE))","v":""},{"$f":"IF($S154=\"\",\"\",VLOOKUP($S154,'FO-DRE-04'!$A$6:$L$301,11,FALSE))","v":""},{"$f":"IF($T154=\"\",\"\",VLOOKUP($T154,'FO-DRE-02'!$A$6:$M$101,2,FALSE))","v":""},{"$f":"IF($T154=\"\",\"\",VLOOKUP($T154,'FO-DRE-02'!$A$6:$M$101,3,FALSE))","v":""},{"$f":"IF($T154=\"\",\"\",VLOOKUP($T154,'FO-DRE-02'!$A$6:$M$101,6,FALSE))","v":""},{"$f":"IF($T154=\"\",\"\",VLOOKUP($T154,'FO-DRE-02'!$A$6:$M$101,4,FALSE))","v":""},{"$f":"IF($T154=\"\",\"\",VLOOKUP($T154,'FO-DRE-02'!$A$6:$M$101,5,FALSE))","v":""},{"$f":"IF($T154=\"\",\"\",VLOOKUP($T154,'FO-DRE-02'!$A$6:$M$101,8,FALSE))","v":""},{"$f":"IF($T154=\"\",\"\",VLOOKUP($T154,'FO-DRE-02'!$A$6:$M$101,7,FALSE))","v":""},{"$f":"IF($T154=\"\",\"\",VLOOKUP($T154,'FO-DRE-02'!$A$6:$M$101,9,FALSE))","v":""},{"$f":"IF($T154=\"\",\"\",VLOOKUP($T154,'FO-DRE-02'!$A$6:$M$101,11,FALSE))","v":""},{"$f":"IF($T154=\"\",\"\",VLOOKUP($T154,'FO-DRE-02'!$A$6:$M$101,12,FALSE))","v":""},{"$f":"IF($T154=\"\",\"\",VLOOKUP($T154,'FO-DRE-02'!$A$6:$M$101,13,FALSE))","v":""},null,null,null,145,"","F/D","F/D","","","","","","","","","","","","","","",""]
[null,null,null,null,null,null,null,null,{"$f":"IF(H155=\"1a\",Hoja1!$B$126,IF(H155=\"1b\",Hoja1!$B$127,IF(H155=\"2a\",Hoja1!$B$128,IF(H155=\"2b\",Hoja1!$B$129,IF(H155=\"3 \",Hoja1!$B$130,IF(H155=\"4 \",Hoja1!$B$131,IF(H155=\"5 \",Hoja1!$B$132,IF(H155=\"6 \",Hoja1!$B$133,IF(H155=\"7 \",Hoja1!$B$134,IF(H155=\"8 \",Hoja1!$B$135,\" \"))))))))))","v":" "},{"$f":"CONCATENATE(#REF!,\"-\",\"TX\")","v":{"$error":"#REF!"}},{"$f":"CONCATENATE(#REF!,\"-\",\"RX\")","v":{"$error":"#REF!"}},null,null,null,null,0,null,null,null,null,null,{"$f":"IF($R155=\"\",\"\",VLOOKUP($R155,'FO-DRE-01'!$A$7:$U$301,18,FALSE))","v":""},{"$f":"IF($R155=\"\",\"\",VLOOKUP($R155,'FO-DRE-01'!$A$7:$U$301,16,FALSE))","v":""},{"$f":"IF($R155=\"\",\"\",VLOOKUP($R155,'FO-DRE-01'!$A$7:$U$301,17,FALSE))","v":""},{"$f":"IF($R155=\"\",\"\",VLOOKUP($R155,'FO-DRE-01'!$A$7:$U$301,3,FALSE))","v":""},{"$f":"IF($R155=\"\",\"\",VLOOKUP($R155,'FO-DRE-01'!$A$7:$U$301,4,FALSE))","v":""},{"$f":"IF($R155=\"\",\"\",VLOOKUP($R155,'FO-DRE-01'!$A$7:$U$301,5,FALSE))","v":""},{"$f":"IF($R155=\"\",\"\",VLOOKUP($R155,'FO-DRE-01'!$A$7:$U$301,7,FALSE))","v":""},{"$f":"IF($R155=\"\",\"\",VLOOKUP($R155,'FO-DRE-01'!$A$7:$U$301,8,FALSE))","v":""},{"$f":"IF($R155=\"\",\"\",VLOOKUP($R155,'FO-DRE-01'!$A$7:$U$301,9,FALSE))","v":""},{"$f":"IF($R155=\"\",\"\",VLOOKUP($R155,'FO-DRE-01'!$A$7:$U$301,10,FALSE))","v":""},{"$f":"IF($R155=\"\",\"\",VLOOKUP($R155,'FO-DRE-01'!$A$7:$U$301,11,FALSE))","v":""},{"$f":"IF($R155=\"\",\"\",VLOOKUP($R155,'FO-DRE-01'!$A$7:$U$301,12,FALSE))","v":""},{"$f":"IF($R155=\"\",\"\",VLOOKUP($R155,'FO-DRE-01'!$A$7:$U$301,13,FALSE))","v":""},{"$f":"IF($R155=\"\",\"\",VLOOKUP($R155,'FO-DRE-01'!$A$7:$U$301,14,FALSE))","v":""},{"$f":"IF($R155=\"\",\"\",VLOOKUP($R155,'FO-DRE-01'!$A$7:$U$301,15,FALSE))","v":""},{"$f":"IF($S155=\"\",\"\",VLOOKUP($S155,'FO-DRE-04'!$A$6:$L$301,2,FALSE))","v":""},{"$f":"IF($S155=\"\",\"\",VLOOKUP($S155,'FO-DRE-04'!$A$6:$L$301,3,FALSE))","v":""},{"$f":"IF($S155=\"\",\"\",VLOOKUP($S155,'FO-DRE-04'!$A$6:$L$301,4,FALSE))","v":""},{"$f":"IF($S155=\"\",\"\",VLOOKUP($S155,'FO-DRE-04'!$A$6:$L$301,6,FALSE))","v":""},{"$f":"IF($S155=\"\",\"\",VLOOKUP($S155,'FO-DRE-04'!$A$6:$L$301,11,FALSE))","v":""},{"$f":"IF($T155=\"\",\"\",VLOOKUP($T155,'FO-DRE-02'!$A$6:$M$101,2,FALSE))","v":""},{"$f":"IF($T155=\"\",\"\",VLOOKUP($T155,'FO-DRE-02'!$A$6:$M$101,3,FALSE))","v":""},{"$f":"IF($T155=\"\",\"\",VLOOKUP($T155,'FO-DRE-02'!$A$6:$M$101,6,FALSE))","v":""},{"$f":"IF($T155=\"\",\"\",VLOOKUP($T155,'FO-DRE-02'!$A$6:$M$101,4,FALSE))","v":""},{"$f":"IF($T155=\"\",\"\",VLOOKUP($T155,'FO-DRE-02'!$A$6:$M$101,5,FALSE))","v":""},{"$f":"IF($T155=\"\",\"\",VLOOKUP($T155,'FO-DRE-02'!$A$6:$M$101,8,FALSE))","v":""},{"$f":"IF($T155=\"\",\"\",VLOOKUP($T155,'FO-DRE-02'!$A$6:$M$101,7,FALSE))","v":""},{"$f":"IF($T155=\"\",\"\",VLOOKUP($T155,'FO-DRE-02'!$A$6:$M$101,9,FALSE))","v":""},{"$f":"IF($T155=\"\",\"\",VLOOKUP($T155,'FO-DRE-02'!$A$6:$M$101,11,FALSE))","v":""},{"$f":"IF($T155=\"\",\"\",VLOOKUP($T155,'FO-DRE-02'!$A$6:$M$101,12,FALSE))","v":""},{"$f":"IF($T155=\"\",\"\",VLOOKUP($T155,'FO-DRE-02'!$A$6:$M$101,13,FALSE))","v":""},null,null,null,146,"","F/D","F/D","","","","","","","","","","","","","","",""]
[null,null,null,null,null,null,null,null,{"$f":"IF(H156=\"1a\",Hoja1!$B$126,IF(H156=\"1b\",Hoja1!$B$127,IF(H156=\"2a\",Hoja1!$B$128,IF(H156=\"2b\",Hoja1!$B$129,IF(H156=\"3 \",Hoja1!$B$130,IF(H156=\"4 \",Hoja1!$B$131,IF(H156=\"5 \",Hoja1!$B$132,IF(H156=\"6 \",Hoja1!$B$133,IF(H156=\"7 \",Hoja1!$B$134,IF(H156=\"8 \",Hoja1!$B$135,\" \"))))))))))","v":" "},{"$f":"CONCATENATE(#REF!,\"-\",\"TX\")","v":{"$error":"#REF!"}},{"$f":"CONCATENATE(#REF!,\"-\",\"RX\")","v":{"$error":"#REF!"}},null,null,null,null,0,null,null,null,null,null,{"$f":"IF($R156=\"\",\"\",VLOOKUP($R156,'FO-DRE-01'!$A$7:$U$301,18,FALSE))","v":""},{"$f":"IF($R156=\"\",\"\",VLOOKUP($R156,'FO-DRE-01'!$A$7:$U$301,16,FALSE))","v":""},{"$f":"IF($R156=\"\",\"\",VLOOKUP($R156,'FO-DRE-01'!$A$7:$U$301,17,FALSE))","v":""},{"$f":"IF($R156=\"\",\"\",VLOOKUP($R156,'FO-DRE-01'!$A$7:$U$301,3,FALSE))","v":""},{"$f":"IF($R156=\"\",\"\",VLOOKUP($R156,'FO-DRE-01'!$A$7:$U$301,4,FALSE))","v":""},{"$f":"IF($R156=\"\",\"\",VLOOKUP($R156,'FO-DRE-01'!$A$7:$U$301,5,FALSE))","v":""},{"$f":"IF($R156=\"\",\"\",VLOOKUP($R156,'FO-DRE-01'!$A$7:$U$301,7,FALSE))","v":""},{"$f":"IF($R156=\"\",\"\",VLOOKUP($R156,'FO-DRE-01'!$A$7:$U$301,8,FALSE))","v":""},{"$f":"IF($R156=\"\",\"\",VLOOKUP($R156,'FO-DRE-01'!$A$7:$U$301,9,FALSE))","v":""},{"$f":"IF($R156=\"\",\"\",VLOOKUP($R156,'FO-DRE-01'!$A$7:$U$301,10,FALSE))","v":""},{"$f":"IF($R156=\"\",\"\",VLOOKUP($R156,'FO-DRE-01'!$A$7:$U$301,11,FALSE))","v":""},{"$f":"IF($R156=\"\",\"\",VLOOKUP($R156,'FO-DRE-01'!$A$7:$U$301,12,FALSE))","v":""},{"$f":"IF($R156=\"\",\"\",VLOOKUP($R156,'FO-DRE-01'!$A$7:$U$301,13,FALSE))","v":""},{"$f":"IF($R156=\"\",\"\",VLOOKUP($R156,'FO-DRE-01'!$A$7:$U$301,14,FALSE))","v":""},{"$f":"IF($R156=\"\",\"\",VLOOKUP($R156,'FO-DRE-01'!$A$7:$U$301,15,FALSE))","v":""},{"$f":"IF($S156=\"\",\"\",VLOOKUP($S156,'FO-DRE-04'!$A$6:$L$301,2,FALSE))","v":""},{"$f":"IF($S156=\"\",\"\",VLOOKUP($S156,'FO-DRE-04'!$A$6:$L$301,3,FALSE))","v":""},{"$f":"IF($S156=\"\",\"\",VLOOKUP($S156,'FO-DRE-04'!$A$6:$L$301,4,FALSE))","v":""},{"$f":"IF($S156=\"\",\"\",VLOOKUP($S156,'FO-DRE-04'!$A$6:$L$301,6,FALSE))","v":""},{"$f":"IF($S156=\"\",\"\",VLOOKUP($S156,'FO-DRE-04'!$A$6:$L$301,11,FALSE))","v":""},{"$f":"IF($T156=\"\",\"\",VLOOKUP($T156,'FO-DRE-02'!$A$6:$M$101,2,FALSE))","v":""},{"$f":"IF($T156=\"\",\"\",VLOOKUP($T156,'FO-DRE-02'!$A$6:$M$101,3,FALSE))","v":""},{"$f":"IF($T156=\"\",\"\",VLOOKUP($T156,'FO-DRE-02'!$A$6:$M$101,6,FALSE))","v":""},{"$f":"IF($T156=\"\",\"\",VLOOKUP($T156,'FO-DRE-02'!$A$6:$M$101,4,FALSE))","v":""},{"$f":"IF($T156=\"\",\"\",VLOOKUP($T156,'FO-DRE-02'!$A$6:$M$101,5,FALSE))","v":""},{"$f":"IF($T156=\"\",\"\",VLOOKUP($T156,'FO-DRE-02'!$A$6:$M$101,8,FALSE))","v":""},{"$f":"IF($T156=\"\",\"\",VLOOKUP($T156,'FO-DRE-02'!$A$6:$M$101,7,FALSE))","v":""},{"$f":"IF($T156=\"\",\"\",VLOOKUP($T156,'FO-DRE-02'!$A$6:$M$101,9,FALSE))","v":""},{"$f":"IF($T156=\"\",\"\",VLOOKUP($T156,'FO-DRE-02'!$A$6:$M$101,11,FALSE))","v":""},{"$f":"IF($T156=\"\",\"\",VLOOKUP($T156,'FO-DRE-02'!$A$6:$M$101,12,FALSE))","v":""},{"$f":"IF($T156=\"\",\"\",VLOOKUP($T156,'FO-DRE-02'!$A$6:$M$101,13,FALSE))","v":""},null,null,null,147,"","F/D","F/D","","","","","","","","","","","","","","",""]
[null,null,null,null,null,null,null,null,{"$f":"IF(H157=\"1a\",Hoja1!$B$126,IF(H157=\"1b\",Hoja1!$B$127,IF(H157=\"2a\",Hoja1!$B$128,IF(H157=\"2b\",Hoja1!$B$129,IF(H157=\"3 \",Hoja1!$B$130,IF(H157=\"4 \",Hoja1!$B$131,IF(H157=\"5 \",Hoja1!$B$132,IF(H157=\"6 \",Hoja1!$B$133,IF(H157=\"7 \",Hoja1!$B$134,IF(H157=\"8 \",Hoja1!$B$135,\" \"))))))))))","v":" "},{"$f":"CONCATENATE(#REF!,\"-\",\"TX\")","v":{"$error":"#REF!"}},{"$f":"CONCATENATE(#REF!,\"-\",\"RX\")","v":{"$error":"#REF!"}},null,null,null,null,0,null,null,null,null,null,{"$f":"IF($R157=\"\",\"\",VLOOKUP($R157,'FO-DRE-01'!$A$7:$U$301,18,FALSE))","v":""},{"$f":"IF($R157=\"\",\"\",VLOOKUP($R157,'FO-DRE-01'!$A$7:$U$301,16,FALSE))","v":""},{"$f":"IF($R157=\"\",\"\",VLOOKUP($R157,'FO-DRE-01'!$A$7:$U$301,17,FALSE))","v":""},{"$f":"IF($R157=\"\",\"\",VLOOKUP($R157,'FO-DRE-01'!$A$7:$U$301,3,FALSE))","v":""},{"$f":"IF($R157=\"\",\"\",VLOOKUP($R157,'FO-DRE-01'!$A$7:$U$301,4,FALSE))","v":""},{"$f":"IF($R157=\"\",\"\",VLOOKUP($R157,'FO-DRE-01'!$A$7:$U$301,5,FALSE))","v":""},{"$f":"IF($R157=\"\",\"\",VLOOKUP($R157,'FO-DRE-01'!$A$7:$U$301,7,FALSE))","v":""},{"$f":"IF($R157=\"\",\"\",VLOOKUP($R157,'FO-DRE-01'!$A$7:$U$301,8,FALSE))","v":""},{"$f":"IF($R157=\"\",\"\",VLOOKUP($R157,'FO-DRE-01'!$A$7:$U$301,9,FALSE))","v":""},{"$f":"IF($R157=\"\",\"\",VLOOKUP($R157,'FO-DRE-01'!$A$7:$U$301,10,FALSE))","v":""},{"$f":"IF($R157=\"\",\"\",VLOOKUP($R157,'FO-DRE-01'!$A$7:$U$301,11,FALSE))","v":""},{"$f":"IF($R157=\"\",\"\",VLOOKUP($R157,'FO-DRE-01'!$A$7:$U$301,12,FALSE))","v":""},{"$f":"IF($R157=\"\",\"\",VLOOKUP($R157,'FO-DRE-01'!$A$7:$U$301,13,FALSE))","v":""},{"$f":"IF($R157=\"\",\"\",VLOOKUP($R157,'FO-DRE-01'!$A$7:$U$301,14,FALSE))","v":""},{"$f":"IF($R157=\"\",\"\",VLOOKUP($R157,'FO-DRE-01'!$A$7:$U$301,15,FALSE))","v":""},{"$f":"IF($S157=\"\",\"\",VLOOKUP($S157,'FO-DRE-04'!$A$6:$L$301,2,FALSE))","v":""},{"$f":"IF($S157=\"\",\"\",VLOOKUP($S157,'FO-DRE-04'!$A$6:$L$301,3,FALSE))","v":""},{"$f":"IF($S157=\"\",\"\",VLOOKUP($S157,'FO-DRE-04'!$A$6:$L$301,4,FALSE))","v":""},{"$f":"IF($S157=\"\",\"\",VLOOKUP($S157,'FO-DRE-04'!$A$6:$L$301,6,FALSE))","v":""},{"$f":"IF($S157=\"\",\"\",VLOOKUP($S157,'FO-DRE-04'!$A$6:$L$301,11,FALSE))","v":""},{"$f":"IF($T157=\"\",\"\",VLOOKUP($T157,'FO-DRE-02'!$A$6:$M$101,2,FALSE))","v":""},{"$f":"IF($T157=\"\",\"\",VLOOKUP($T157,'FO-DRE-02'!$A$6:$M$101,3,FALSE))","v":""},{"$f":"IF($T157=\"\",\"\",VLOOKUP($T157,'FO-DRE-02'!$A$6:$M$101,6,FALSE))","v":""},{"$f":"IF($T157=\"\",\"\",VLOOKUP($T157,'FO-DRE-02'!$A$6:$M$101,4,FALSE))","v":""},{"$f":"IF($T157=\"\",\"\",VLOOKUP($T157,'FO-DRE-02'!$A$6:$M$101,5,FALSE))","v":""},{"$f":"IF($T157=\"\",\"\",VLOOKUP($T157,'FO-DRE-02'!$A$6:$M$101,8,FALSE))","v":""},{"$f":"IF($T157=\"\",\"\",VLOOKUP($T157,'FO-DRE-02'!$A$6:$M$101,7,FALSE))","v":""},{"$f":"IF($T157=\"\",\"\",VLOOKUP($T157,'FO-DRE-02'!$A$6:$M$101,9,FALSE))","v":""},{"$f":"IF($T157=\"\",\"\",VLOOKUP($T157,'FO-DRE-02'!$A$6:$M$101,11,FALSE))","v":""},{"$f":"IF($T157=\"\",\"\",VLOOKUP($T157,'FO-DRE-02'!$A$6:$M$101,12,FALSE))","v":""},{"$f":"IF($T157=\"\",\"\",VLOOKUP($T157,'FO-DRE-02'!$A$6:$M$101,13,FALSE))","v":""},null,null,null,148,"","F/D","F/D","","","","","","","","","","","","","","",""]
[null,null,null,null,null,null,null,null,{"$f":"IF(H158=\"1a\",Hoja1!$B$126,IF(H158=\"1b\",Hoja1!$B$127,IF(H158=\"2a\",Hoja1!$B$128,IF(H158=\"2b\",Hoja1!$B$129,IF(H158=\"3 \",Hoja1!$B$130,IF(H158=\"4 \",Hoja1!$B$131,IF(H158=\"5 \",Hoja1!$B$132,IF(H158=\"6 \",Hoja1!$B$133,IF(H158=\"7 \",Hoja1!$B$134,IF(H158=\"8 \",Hoja1!$B$135,\" \"))))))))))","v":" "},{"$f":"CONCATENATE(#REF!,\"-\",\"TX\")","v":{"$error":"#REF!"}},{"$f":"CONCATENATE(#REF!,\"-\",\"RX\")","v":{"$error":"#REF!"}},null,null,null,null,0,null,null,null,null,null,{"$f":"IF($R158=\"\",\"\",VLOOKUP($R158,'FO-DRE-01'!$A$7:$U$301,18,FALSE))","v":""},{"$f":"IF($R158=\"\",\"\",VLOOKUP($R158,'FO-DRE-01'!$A$7:$U$301,16,FALSE))","v":""},{"$f":"IF($R158=\"\",\"\",VLOOKUP($R158,'FO-DRE-01'!$A$7:$U$301,17,FALSE))","v":""},{"$f":"IF($R158=\"\",\"\",VLOOKUP($R158,'FO-DRE-01'!$A$7:$U$301,3,FALSE))","v":""},{"$f":"IF($R158=\"\",\"\",VLOOKUP($R158,'FO-DRE-01'!$A$7:$U$301,4,FALSE))","v":""},{"$f":"IF($R158=\"\",\"\",VLOOKUP($R158,'FO-DRE-01'!$A$7:$U$301,5,FALSE))","v":""},{"$f":"IF($R158=\"\",\"\",VLOOKUP($R158,'FO-DRE-01'!$A$7:$U$301,7,FALSE))","v":""},{"$f":"IF($R158=\"\",\"\",VLOOKUP($R158,'FO-DRE-01'!$A$7:$U$301,8,FALSE))","v":""},{"$f":"IF($R158=\"\",\"\",VLOOKUP($R158,'FO-DRE-01'!$A$7:$U$301,9,FALSE))","v":""},{"$f":"IF($R158=\"\",\"\",VLOOKUP($R158,'FO-DRE-01'!$A$7:$U$301,10,FALSE))","v":""},{"$f":"IF($R158=\"\",\"\",VLOOKUP($R158,'FO-DRE-01'!$A$7:$U$301,11,FALSE))","v":""},{"$f":"IF($R158=\"\",\"\",VLOOKUP($R158,'FO-DRE-01'!$A$7:$U$301,12,FALSE))","v":""},{"$f":"IF($R158=\"\",\"\",VLOOKUP($R158,'FO-DRE-01'!$A$7:$U$301,13,FALSE))","v":""},{"$f":"IF($R158=\"\",\"\",VLOOKUP($R158,'FO-DRE-01'!$A$7:$U$301,14,FALSE))","v":""},{"$f":"IF($R158=\"\",\"\",VLOOKUP($R158,'FO-DRE-01'!$A$7:$U$301,15,FALSE))","v":""},{"$f":"IF($S158=\"\",\"\",VLOOKUP($S158,'FO-DRE-04'!$A$6:$L$301,2,FALSE))","v":""},{"$f":"IF($S158=\"\",\"\",VLOOKUP($S158,'FO-DRE-04'!$A$6:$L$301,3,FALSE))","v":""},{"$f":"IF($S158=\"\",\"\",VLOOKUP($S158,'FO-DRE-04'!$A$6:$L$301,4,FALSE))","v":""},{"$f":"IF($S158=\"\",\"\",VLOOKUP($S158,'FO-DRE-04'!$A$6:$L$301,6,FALSE))","v":""},{"$f":"IF($S158=\"\",\"\",VLOOKUP($S158,'FO-DRE-04'!$A$6:$L$301,11,FALSE))","v":""},{"$f":"IF($T158=\"\",\"\",VLOOKUP($T158,'FO-DRE-02'!$A$6:$M$101,2,FALSE))","v":""},{"$f":"IF($T158=\"\",\"\",VLOOKUP($T158,'FO-DRE-02'!$A$6:$M$101,3,FALSE))","v":""},{"$f":"IF($T158=\"\",\"\",VLOOKUP($T158,'FO-DRE-02'!$A$6:$M$101,6,FALSE))","v":""},{"$f":"IF($T158=\"\",\"\",VLOOKUP($T158,'FO-DRE-02'!$A$6:$M$101,4,FALSE))","v":""},{"$f":"IF($T158=\"\",\"\",VLOOKUP($T158,'FO-DRE-02'!$A$6:$M$101,5,FALSE))","v":""},{"$f":"IF($T158=\"\",\"\",VLOOKUP($T158,'FO-DRE-02'!$A$6:$M$101,8,FALSE))","v":""},{"$f":"IF($T158=\"\",\"\",VLOOKUP($T158,'FO-DRE-02'!$A$6:$M$101,7,FALSE))","v":""},{"$f":"IF($T158=\"\",\"\",VLOOKUP($T158,'FO-DRE-02'!$A$6:$M$101,9,FALSE))","v":""},{"$f":"IF($T158=\"\",\"\",VLOOKUP($T158,'FO-DRE-02'!$A$6:$M$101,11,FALSE))","v":""},{"$f":"IF($T158=\"\",\"\",VLOOKUP($T158,'FO-DRE-02'!$A$6:$M$101,12,FALSE))","v":""},{"$f":"IF($T158=\"\",\"\",VLOOKUP($T158,'FO-DRE-02'!$A$6:$M$101,13,FALSE))","v":""},null,null,null,149,"","F/D","F/D","","","","","","","","","","","","","","",""]
[null,null,null,null,null,null,null,null,{"$f":"IF(H159=\"1a\",Hoja1!$B$126,IF(H159=\"1b\",Hoja1!$B$127,IF(H159=\"2a\",Hoja1!$B$128,IF(H159=\"2b\",Hoja1!$B$129,IF(H159=\"3 \",Hoja1!$B$130,IF(H159=\"4 \",Hoja1!$B$131,IF(H159=\"5 \",Hoja1!$B$132,IF(H159=\"6 \",Hoja1!$B$133,IF(H159=\"7 \",Hoja1!$B$134,IF(H159=\"8 \",Hoja1!$B$135,\" \"))))))))))","v":" "},{"$f":"CONCATENATE(#REF!,\"-\",\"TX\")","v":{"$error":"#REF!"}},{"$f":"CONCATENATE(#REF!,\"-\",\"RX\")","v":{"$error":"#REF!"}},null,null,null,null,0,null,null,null,null,null,{"$f":"IF($R159=\"\",\"\",VLOOKUP($R159,'FO-DRE-01'!$A$7:$U$301,18,FALSE))","v":""},{"$f":"IF($R159=\"\",\"\",VLOOKUP($R159,'FO-DRE-01'!$A$7:$U$301,16,FALSE))","v":""},{"$f":"IF($R159=\"\",\"\",VLOOKUP($R159,'FO-DRE-01'!$A$7:$U$301,17,FALSE))","v":""},{"$f":"IF($R159=\"\",\"\",VLOOKUP($R159,'FO-DRE-01'!$A$7:$U$301,3,FALSE))","v":""},{"$f":"IF($R159=\"\",\"\",VLOOKUP($R159,'FO-DRE-01'!$A$7:$U$301,4,FALSE))","v":""},{"$f":"IF($R159=\"\",\"\",VLOOKUP($R159,'FO-DRE-01'!$A$7:$U$301,5,FALSE))","v":""},{"$f":"IF($R159=\"\",\"\",VLOOKUP($R159,'FO-DRE-01'!$A$7:$U$301,7,FALSE))","v":""},{"$f":"IF($R159=\"\",\"\",VLOOKUP($R159,'FO-DRE-01'!$A$7:$U$301,8,FALSE))","v":""},{"$f":"IF($R159=\"\",\"\",VLOOKUP($R159,'FO-DRE-01'!$A$7:$U$301,9,FALSE))","v":""},{"$f":"IF($R159=\"\",\"\",VLOOKUP($R159,'FO-DRE-01'!$A$7:$U$301,10,FALSE))","v":""},{"$f":"IF($R159=\"\",\"\",VLOOKUP($R159,'FO-DRE-01'!$A$7:$U$301,11,FALSE))","v":""},{"$f":"IF($R159=\"\",\"\",VLOOKUP($R159,'FO-DRE-01'!$A$7:$U$301,12,FALSE))","v":""},{"$f":"IF($R159=\"\",\"\",VLOOKUP($R159,'FO-DRE-01'!$A$7:$U$301,13,FALSE))","v":""},{"$f":"IF($R159=\"\",\"\",VLOOKUP($R159,'FO-DRE-01'!$A$7:$U$301,14,FALSE))","v":""},{"$f":"IF($R159=\"\",\"\",VLOOKUP($R159,'FO-DRE-01'!$A$7:$U$301,15,FALSE))","v":""},{"$f":"IF($S159=\"\",\"\",VLOOKUP($S159,'FO-DRE-04'!$A$6:$L$301,2,FALSE))","v":""},{"$f":"IF($S159=\"\",\"\",VLOOKUP($S159,'FO-DRE-04'!$A$6:$L$301,3,FALSE))","v":""},{"$f":"IF($S159=\"\",\"\",VLOOKUP($S159,'FO-DRE-04'!$A$6:$L$301,4,FALSE))","v":""},{"$f":"IF($S159=\"\",\"\",VLOOKUP($S159,'FO-DRE-04'!$A$6:$L$301,6,FALSE))","v":""},{"$f":"IF($S159=\"\",\"\",VLOOKUP($S159,'FO-DRE-04'!$A$6:$L$301,11,FALSE))","v":""},{"$f":"IF($T159=\"\",\"\",VLOOKUP($T159,'FO-DRE-02'!$A$6:$M$101,2,FALSE))","v":""},{"$f":"IF($T159=\"\",\"\",VLOOKUP($T159,'FO-DRE-02'!$A$6:$M$101,3,FALSE))","v":""},{"$f":"IF($T159=\"\",\"\",VLOOKUP($T159,'FO-DRE-02'!$A$6:$M$101,6,FALSE))","v":""},{"$f":"IF($T159=\"\",\"\",VLOOKUP($T159,'FO-DRE-02'!$A$6:$M$101,4,FALSE))","v":""},{"$f":"IF($T159=\"\",\"\",VLOOKUP($T159,'FO-DRE-02'!$A$6:$M$101,5,FALSE))","v":""},{"$f":"IF($T159=\"\",\"\",VLOOKUP($T159,'FO-DRE-02'!$A$6:$M$101,8,FALSE))","v":""},{"$f":"IF($T159=\"\",\"\",VLOOKUP($T159,'FO-DRE-02'!$A$6:$M$101,7,FALSE))","v":""},{"$f":"IF($T159=\"\",\"\",VLOOKUP($T159,'FO-DRE-02'!$A$6:$M$101,9,FALSE))","v":""},{"$f":"IF($T159=\"\",\"\",VLOOKUP($T159,'FO-DRE-02'!$A$6:$M$101,11,FALSE))","v":""},{"$f":"IF($T159=\"\",\"\",VLOOKUP($T159,'FO-DRE-02'!$A$6:$M$101,12,FALSE))","v":""},{"$f":"IF($T159=\"\",\"\",VLOOKUP($T159,'FO-DRE-02'!$A$6:$M$101,13,FALSE))","v":""},null,null,null,150,"","F/D","F/D","","","","","","","","","","","","","","",""]
[null,null,null,null,null,null,null,null,{"$f":"IF(H160=\"1a\",Hoja1!$B$126,IF(H160=\"1b\",Hoja1!$B$127,IF(H160=\"2a\",Hoja1!$B$128,IF(H160=\"2b\",Hoja1!$B$129,IF(H160=\"3 \",Hoja1!$B$130,IF(H160=\"4 \",Hoja1!$B$131,IF(H160=\"5 \",Hoja1!$B$132,IF(H160=\"6 \",Hoja1!$B$133,IF(H160=\"7 \",Hoja1!$B$134,IF(H160=\"8 \",Hoja1!$B$135,\" \"))))))))))","v":" "},{"$f":"CONCATENATE(#REF!,\"-\",\"TX\")","v":{"$error":"#REF!"}},{"$f":"CONCATENATE(#REF!,\"-\",\"RX\")","v":{"$error":"#REF!"}},null,null,null,null,0,null,null,null,null,null,{"$f":"IF($R160=\"\",\"\",VLOOKUP($R160,'FO-DRE-01'!$A$7:$U$301,18,FALSE))","v":""},{"$f":"IF($R160=\"\",\"\",VLOOKUP($R160,'FO-DRE-01'!$A$7:$U$301,16,FALSE))","v":""},{"$f":"IF($R160=\"\",\"\",VLOOKUP($R160,'FO-DRE-01'!$A$7:$U$301,17,FALSE))","v":""},{"$f":"IF($R160=\"\",\"\",VLOOKUP($R160,'FO-DRE-01'!$A$7:$U$301,3,FALSE))","v":""},{"$f":"IF($R160=\"\",\"\",VLOOKUP($R160,'FO-DRE-01'!$A$7:$U$301,4,FALSE))","v":""},{"$f":"IF($R160=\"\",\"\",VLOOKUP($R160,'FO-DRE-01'!$A$7:$U$301,5,FALSE))","v":""},{"$f":"IF($R160=\"\",\"\",VLOOKUP($R160,'FO-DRE-01'!$A$7:$U$301,7,FALSE))","v":""},{"$f":"IF($R160=\"\",\"\",VLOOKUP($R160,'FO-DRE-01'!$A$7:$U$301,8,FALSE))","v":""},{"$f":"IF($R160=\"\",\"\",VLOOKUP($R160,'FO-DRE-01'!$A$7:$U$301,9,FALSE))","v":""},{"$f":"IF($R160=\"\",\"\",VLOOKUP($R160,'FO-DRE-01'!$A$7:$U$301,10,FALSE))","v":""},{"$f":"IF($R160=\"\",\"\",VLOOKUP($R160,'FO-DRE-01'!$A$7:$U$301,11,FALSE))","v":""},{"$f":"IF($R160=\"\",\"\",VLOOKUP($R160,'FO-DRE-01'!$A$7:$U$301,12,FALSE))","v":""},{"$f":"IF($R160=\"\",\"\",VLOOKUP($R160,'FO-DRE-01'!$A$7:$U$301,13,FALSE))","v":""},{"$f":"IF($R160=\"\",\"\",VLOOKUP($R160,'FO-DRE-01'!$A$7:$U$301,14,FALSE))","v":""},{"$f":"IF($R160=\"\",\"\",VLOOKUP($R160,'FO-DRE-01'!$A$7:$U$301,15,FALSE))","v":""},{"$f":"IF($S160=\"\",\"\",VLOOKUP($S160,'FO-DRE-04'!$A$6:$L$301,2,FALSE))","v":""},{"$f":"IF($S160=\"\",\"\",VLOOKUP($S160,'FO-DRE-04'!$A$6:$L$301,3,FALSE))","v":""},{"$f":"IF($S160=\"\",\"\",VLOOKUP($S160,'FO-DRE-04'!$A$6:$L$301,4,FALSE))","v":""},{"$f":"IF($S160=\"\",\"\",VLOOKUP($S160,'FO-DRE-04'!$A$6:$L$301,6,FALSE))","v":""},{"$f":"IF($S160=\"\",\"\",VLOOKUP($S160,'FO-DRE-04'!$A$6:$L$301,11,FALSE))","v":""},{"$f":"IF($T160=\"\",\"\",VLOOKUP($T160,'FO-DRE-02'!$A$6:$M$101,2,FALSE))","v":""},{"$f":"IF($T160=\"\",\"\",VLOOKUP($T160,'FO-DRE-02'!$A$6:$M$101,3,FALSE))","v":""},{"$f":"IF($T160=\"\",\"\",VLOOKUP($T160,'FO-DRE-02'!$A$6:$M$101,6,FALSE))","v":""},{"$f":"IF($T160=\"\",\"\",VLOOKUP($T160,'FO-DRE-02'!$A$6:$M$101,4,FALSE))","v":""},{"$f":"IF($T160=\"\",\"\",VLOOKUP($T160,'FO-DRE-02'!$A$6:$M$101,5,FALSE))","v":""},{"$f":"IF($T160=\"\",\"\",VLOOKUP($T160,'FO-DRE-02'!$A$6:$M$101,8,FALSE))","v":""},{"$f":"IF($T160=\"\",\"\",VLOOKUP($T160,'FO-DRE-02'!$A$6:$M$101,7,FALSE))","v":""},{"$f":"IF($T160=\"\",\"\",VLOOKUP($T160,'FO-DRE-02'!$A$6:$M$101,9,FALSE))","v":""},{"$f":"IF($T160=\"\",\"\",VLOOKUP($T160,'FO-DRE-02'!$A$6:$M$101,11,FALSE))","v":""},{"$f":"IF($T160=\"\",\"\",VLOOKUP($T160,'FO-DRE-02'!$A$6:$M$101,12,FALSE))","v":""},{"$f":"IF($T160=\"\",\"\",VLOOKUP($T160,'FO-DRE-02'!$A$6:$M$101,13,FALSE))","v":""},null,null,null,151,"","F/D","F/D","","","","","","","","","","","","","","",""]
[null,null,null,null,null,null,null,null,{"$f":"IF(H161=\"1a\",Hoja1!$B$126,IF(H161=\"1b\",Hoja1!$B$127,IF(H161=\"2a\",Hoja1!$B$128,IF(H161=\"2b\",Hoja1!$B$129,IF(H161=\"3 \",Hoja1!$B$130,IF(H161=\"4 \",Hoja1!$B$131,IF(H161=\"5 \",Hoja1!$B$132,IF(H161=\"6 \",Hoja1!$B$133,IF(H161=\"7 \",Hoja1!$B$134,IF(H161=\"8 \",Hoja1!$B$135,\" \"))))))))))","v":" "},{"$f":"CONCATENATE(#REF!,\"-\",\"TX\")","v":{"$error":"#REF!"}},{"$f":"CONCATENATE(#REF!,\"-\",\"RX\")","v":{"$error":"#REF!"}},null,null,null,null,0,null,null,null,null,null,{"$f":"IF($R161=\"\",\"\",VLOOKUP($R161,'FO-DRE-01'!$A$7:$U$301,18,FALSE))","v":""},{"$f":"IF($R161=\"\",\"\",VLOOKUP($R161,'FO-DRE-01'!$A$7:$U$301,16,FALSE))","v":""},{"$f":"IF($R161=\"\",\"\",VLOOKUP($R161,'FO-DRE-01'!$A$7:$U$301,17,FALSE))","v":""},{"$f":"IF($R161=\"\",\"\",VLOOKUP($R161,'FO-DRE-01'!$A$7:$U$301,3,FALSE))","v":""},{"$f":"IF($R161=\"\",\"\",VLOOKUP($R161,'FO-DRE-01'!$A$7:$U$301,4,FALSE))","v":""},{"$f":"IF($R161=\"\",\"\",VLOOKUP($R161,'FO-DRE-01'!$A$7:$U$301,5,FALSE))","v":""},{"$f":"IF($R161=\"\",\"\",VLOOKUP($R161,'FO-DRE-01'!$A$7:$U$301,7,FALSE))","v":""},{"$f":"IF($R161=\"\",\"\",VLOOKUP($R161,'FO-DRE-01'!$A$7:$U$301,8,FALSE))","v":""},{"$f":"IF($R161=\"\",\"\",VLOOKUP($R161,'FO-DRE-01'!$A$7:$U$301,9,FALSE))","v":""},{"$f":"IF($R161=\"\",\"\",VLOOKUP($R161,'FO-DRE-01'!$A$7:$U$301,10,FALSE))","v":""},{"$f":"IF($R161=\"\",\"\",VLOOKUP($R161,'FO-DRE-01'!$A$7:$U$301,11,FALSE))","v":""},{"$f":"IF($R161=\"\",\"\",VLOOKUP($R161,'FO-DRE-01'!$A$7:$U$301,12,FALSE))","v":""},{"$f":"IF($R161=\"\",\"\",VLOOKUP($R161,'FO-DRE-01'!$A$7:$U$301,13,FALSE))","v":""},{"$f":"IF($R161=\"\",\"\",VLOOKUP($R161,'FO-DRE-01'!$A$7:$U$301,14,FALSE))","v":""},{"$f":"IF($R161=\"\",\"\",VLOOKUP($R161,'FO-DRE-01'!$A$7:$U$301,15,FALSE))","v":""},{"$f":"IF($S161=\"\",\"\",VLOOKUP($S161,'FO-DRE-04'!$A$6:$L$301,2,FALSE))","v":""},{"$f":"IF($S161=\"\",\"\",VLOOKUP($S161,'FO-DRE-04'!$A$6:$L$301,3,FALSE))","v":""},{"$f":"IF($S161=\"\",\"\",VLOOKUP($S161,'FO-DRE-04'!$A$6:$L$301,4,FALSE))","v":""},{"$f":"IF($S161=\"\",\"\",VLOOKUP($S161,'FO-DRE-04'!$A$6:$L$301,6,FALSE))","v":""},{"$f":"IF($S161=\"\",\"\",VLOOKUP($S161,'FO-DRE-04'!$A$6:$L$301,11,FALSE))","v":""},{"$f":"IF($T161=\"\",\"\",VLOOKUP($T161,'FO-DRE-02'!$A$6:$M$101,2,FALSE))","v":""},{"$f":"IF($T161=\"\",\"\",VLOOKUP($T161,'FO-DRE-02'!$A$6:$M$101,3,FALSE))","v":""},{"$f":"IF($T161=\"\",\"\",VLOOKUP($T161,'FO-DRE-02'!$A$6:$M$101,6,FALSE))","v":""},{"$f":"IF($T161=\"\",\"\",VLOOKUP($T161,'FO-DRE-02'!$A$6:$M$101,4,FALSE))","v":""},{"$f":"IF($T161=\"\",\"\",VLOOKUP($T161,'FO-DRE-02'!$A$6:$M$101,5,FALSE))","v":""},{"$f":"IF($T161=\"\",\"\",VLOOKUP($T161,'FO-DRE-02'!$A$6:$M$101,8,FALSE))","v":""},{"$f":"IF($T161=\"\",\"\",VLOOKUP($T161,'FO-DRE-02'!$A$6:$M$101,7,FALSE))","v":""},{"$f":"IF($T161=\"\",\"\",VLOOKUP($T161,'FO-DRE-02'!$A$6:$M$101,9,FALSE))","v":""},{"$f":"IF($T161=\"\",\"\",VLOOKUP($T161,'FO-DRE-02'!$A$6:$M$101,11,FALSE))","v":""},{"$f":"IF($T161=\"\",\"\",VLOOKUP($T161,'FO-DRE-02'!$A$6:$M$101,12,FALSE))","v":""},{"$f":"IF($T161=\"\",\"\",VLOOKUP($T161,'FO-DRE-02'!$A$6:$M$101,13,FALSE))","v":""},null,null,null,152,"","F/D","F/D","","","","","","","","","","","","","","",""]
[null,null,null,null,null,null,null,null,{"$f":"IF(H162=\"1a\",Hoja1!$B$126,IF(H162=\"1b\",Hoja1!$B$127,IF(H162=\"2a\",Hoja1!$B$128,IF(H162=\"2b\",Hoja1!$B$129,IF(H162=\"3 \",Hoja1!$B$130,IF(H162=\"4 \",Hoja1!$B$131,IF(H162=\"5 \",Hoja1!$B$132,IF(H162=\"6 \",Hoja1!$B$133,IF(H162=\"7 \",Hoja1!$B$134,IF(H162=\"8 \",Hoja1!$B$135,\" \"))))))))))","v":" "},{"$f":"CONCATENATE(#REF!,\"-\",\"TX\")","v":{"$error":"#REF!"}},{"$f":"CONCATENATE(#REF!,\"-\",\"RX\")","v":{"$error":"#REF!"}},null,null,null,null,0,null,null,null,null,null,{"$f":"IF($R162=\"\",\"\",VLOOKUP($R162,'FO-DRE-01'!$A$7:$U$301,18,FALSE))","v":""},{"$f":"IF($R162=\"\",\"\",VLOOKUP($R162,'FO-DRE-01'!$A$7:$U$301,16,FALSE))","v":""},{"$f":"IF($R162=\"\",\"\",VLOOKUP($R162,'FO-DRE-01'!$A$7:$U$301,17,FALSE))","v":""},{"$f":"IF($R162=\"\",\"\",VLOOKUP($R162,'FO-DRE-01'!$A$7:$U$301,3,FALSE))","v":""},{"$f":"IF($R162=\"\",\"\",VLOOKUP($R162,'FO-DRE-01'!$A$7:$U$301,4,FALSE))","v":""},{"$f":"IF($R162=\"\",\"\",VLOOKUP($R162,'FO-DRE-01'!$A$7:$U$301,5,FALSE))","v":""},{"$f":"IF($R162=\"\",\"\",VLOOKUP($R162,'FO-DRE-01'!$A$7:$U$301,7,FALSE))","v":""},{"$f":"IF($R162=\"\",\"\",VLOOKUP($R162,'FO-DRE-01'!$A$7:$U$301,8,FALSE))","v":""},{"$f":"IF($R162=\"\",\"\",VLOOKUP($R162,'FO-DRE-01'!$A$7:$U$301,9,FALSE))","v":""},{"$f":"IF($R162=\"\",\"\",VLOOKUP($R162,'FO-DRE-01'!$A$7:$U$301,10,FALSE))","v":""},{"$f":"IF($R162=\"\",\"\",VLOOKUP($R162,'FO-DRE-01'!$A$7:$U$301,11,FALSE))","v":""},{"$f":"IF($R162=\"\",\"\",VLOOKUP($R162,'FO-DRE-01'!$A$7:$U$301,12,FALSE))","v":""},{"$f":"IF($R162=\"\",\"\",VLOOKUP($R162,'FO-DRE-01'!$A$7:$U$301,13,FALSE))","v":""},{"$f":"IF($R162=\"\",\"\",VLOOKUP($R162,'FO-DRE-01'!$A$7:$U$301,14,FALSE))","v":""},{"$f":"IF($R162=\"\",\"\",VLOOKUP($R162,'FO-DRE-01'!$A$7:$U$301,15,FALSE))","v":""},{"$f":"IF($S162=\"\",\"\",VLOOKUP($S162,'FO-DRE-04'!$A$6:$L$301,2,FALSE))","v":""},{"$f":"IF($S162=\"\",\"\",VLOOKUP($S162,'FO-DRE-04'!$A$6:$L$301,3,FALSE))","v":""},{"$f":"IF($S162=\"\",\"\",VLOOKUP($S162,'FO-DRE-04'!$A$6:$L$301,4,FALSE))","v":""},{"$f":"IF($S162=\"\",\"\",VLOOKUP($S162,'FO-DRE-04'!$A$6:$L$301,6,FALSE))","v":""},{"$f":"IF($S162=\"\",\"\",VLOOKUP($S162,'FO-DRE-04'!$A$6:$L$301,11,FALSE))","v":""},{"$f":"IF($T162=\"\",\"\",VLOOKUP($T162,'FO-DRE-02'!$A$6:$M$101,2,FALSE))","v":""},{"$f":"IF($T162=\"\",\"\",VLOOKUP($T162,'FO-DRE-02'!$A$6:$M$101,3,FALSE))","v":""},{"$f":"IF($T162=\"\",\"\",VLOOKUP($T162,'FO-DRE-02'!$A$6:$M$101,6,FALSE))","v":""},{"$f":"IF($T162=\"\",\"\",VLOOKUP($T162,'FO-DRE-02'!$A$6:$M$101,4,FALSE))","v":""},{"$f":"IF($T162=\"\",\"\",VLOOKUP($T162,'FO-DRE-02'!$A$6:$M$101,5,FALSE))","v":""},{"$f":"IF($T162=\"\",\"\",VLOOKUP($T162,'FO-DRE-02'!$A$6:$M$101,8,FALSE))","v":""},{"$f":"IF($T162=\"\",\"\",VLOOKUP($T162,'FO-DRE-02'!$A$6:$M$101,7,FALSE))","v":""},{"$f":"IF($T162=\"\",\"\",VLOOKUP($T162,'FO-DRE-02'!$A$6:$M$101,9,FALSE))","v":""},{"$f":"IF($T162=\"\",\"\",VLOOKUP($T162,'FO-DRE-02'!$A$6:$M$101,11,FALSE))","v":""},{"$f":"IF($T162=\"\",\"\",VLOOKUP($T162,'FO-DRE-02'!$A$6:$M$101,12,FALSE))","v":""},{"$f":"IF($T162=\"\",\"\",VLOOKUP($T162,'FO-DRE-02'!$A$6:$M$101,13,FALSE))","v":""},null,null,null,153,"","F/D","F/D","","","","","","","",{"$f":"IF(OR(AK162=\"MOVIL\",AK162=\"PORTATIL\"),\"\",IF(AN162=\"\",\"\",AN162))","v":""},"",{"$f":"IF(OR(BO162=\"\",BP162=\"\"),\"\",BP162*BO162)","v":""},"","","","",""]
[null,null,null,null,null,null,null,null,{"$f":"IF(H163=\"1a\",Hoja1!$B$126,IF(H163=\"1b\",Hoja1!$B$127,IF(H163=\"2a\",Hoja1!$B$128,IF(H163=\"2b\",Hoja1!$B$129,IF(H163=\"3 \",Hoja1!$B$130,IF(H163=\"4 \",Hoja1!$B$131,IF(H163=\"5 \",Hoja1!$B$132,IF(H163=\"6 \",Hoja1!$B$133,IF(H163=\"7 \",Hoja1!$B$134,IF(H163=\"8 \",Hoja1!$B$135,\" \"))))))))))","v":" "},{"$f":"CONCATENATE(#REF!,\"-\",\"TX\")","v":{"$error":"#REF!"}},{"$f":"CONCATENATE(#REF!,\"-\",\"RX\")","v":{"$error":"#REF!"}},null,null,null,null,0,null,null,null,null,null,{"$f":"IF($R163=\"\",\"\",VLOOKUP($R163,'FO-DRE-01'!$A$7:$U$301,18,FALSE))","v":""},{"$f":"IF($R163=\"\",\"\",VLOOKUP($R163,'FO-DRE-01'!$A$7:$U$301,16,FALSE))","v":""},{"$f":"IF($R163=\"\",\"\",VLOOKUP($R163,'FO-DRE-01'!$A$7:$U$301,17,FALSE))","v":""},{"$f":"IF($R163=\"\",\"\",VLOOKUP($R163,'FO-DRE-01'!$A$7:$U$301,3,FALSE))","v":""},{"$f":"IF($R163=\"\",\"\",VLOOKUP($R163,'FO-DRE-01'!$A$7:$U$301,4,FALSE))","v":""},{"$f":"IF($R163=\"\",\"\",VLOOKUP($R163,'FO-DRE-01'!$A$7:$U$301,5,FALSE))","v":""},{"$f":"IF($R163=\"\",\"\",VLOOKUP($R163,'FO-DRE-01'!$A$7:$U$301,7,FALSE))","v":""},{"$f":"IF($R163=\"\",\"\",VLOOKUP($R163,'FO-DRE-01'!$A$7:$U$301,8,FALSE))","v":""},{"$f":"IF($R163=\"\",\"\",VLOOKUP($R163,'FO-DRE-01'!$A$7:$U$301,9,FALSE))","v":""},{"$f":"IF($R163=\"\",\"\",VLOOKUP($R163,'FO-DRE-01'!$A$7:$U$301,10,FALSE))","v":""},{"$f":"IF($R163=\"\",\"\",VLOOKUP($R163,'FO-DRE-01'!$A$7:$U$301,11,FALSE))","v":""},{"$f":"IF($R163=\"\",\"\",VLOOKUP($R163,'FO-DRE-01'!$A$7:$U$301,12,FALSE))","v":""},{"$f":"IF($R163=\"\",\"\",VLOOKUP($R163,'FO-DRE-01'!$A$7:$U$301,13,FALSE))","v":""},{"$f":"IF($R163=\"\",\"\",VLOOKUP($R163,'FO-DRE-01'!$A$7:$U$301,14,FALSE))","v":""},{"$f":"IF($R163=\"\",\"\",VLOOKUP($R163,'FO-DRE-01'!$A$7:$U$301,15,FALSE))","v":""},{"$f":"IF($S163=\"\",\"\",VLOOKUP($S163,'FO-DRE-04'!$A$6:$L$301,2,FALSE))","v":""},{"$f":"IF($S163=\"\",\"\",VLOOKUP($S163,'FO-DRE-04'!$A$6:$L$301,3,FALSE))","v":""},{"$f":"IF($S163=\"\",\"\",VLOOKUP($S163,'FO-DRE-04'!$A$6:$L$301,4,FALSE))","v":""},{"$f":"IF($S163=\"\",\"\",VLOOKUP($S163,'FO-DRE-04'!$A$6:$L$301,6,FALSE))","v":""},{"$f":"IF($S163=\"\",\"\",VLOOKUP($S163,'FO-DRE-04'!$A$6:$L$301,11,FALSE))","v":""},{"$f":"IF($T163=\"\",\"\",VLOOKUP($T163,'FO-DRE-02'!$A$6:$M$101,2,FALSE))","v":""},{"$f":"IF($T163=\"\",\"\",VLOOKUP($T163,'FO-DRE-02'!$A$6:$M$101,3,FALSE))","v":""},{"$f":"IF($T163=\"\",\"\",VLOOKUP($T163,'FO-DRE-02'!$A$6:$M$101,6,FALSE))","v":""},{"$f":"IF($T163=\"\",\"\",VLOOKUP($T163,'FO-DRE-02'!$A$6:$M$101,4,FALSE))","v":""},{"$f":"IF($T163=\"\",\"\",VLOOKUP($T163,'FO-DRE-02'!$A$6:$M$101,5,FALSE))","v":""},{"$f":"IF($T163=\"\",\"\",VLOOKUP($T163,'FO-DRE-02'!$A$6:$M$101,8,FALSE))","v":""},{"$f":"IF($T163=\"\",\"\",VLOOKUP($T163,'FO-DRE-02'!$A$6:$M$101,7,FALSE))","v":""},{"$f":"IF($T163=\"\",\"\",VLOOKUP($T163,'FO-DRE-02'!$A$6:$M$101,9,FALSE))","v":""},{"$f":"IF($T163=\"\",\"\",VLOOKUP($T163,'FO-DRE-02'!$A$6:$M$101,11,FALSE))","v":""},{"$f":"IF($T163=\"\",\"\",VLOOKUP($T163,'FO-DRE-02'!$A$6:$M$101,12,FALSE))","v":""},{"$f":"IF($T163=\"\",\"\",VLOOKUP($T163,'FO-DRE-02'!$A$6:$M$101,13,FALSE))","v":""},null,null,null,154,"","F/D","F/D","","","","","","","","","","","","","","",""]
[null,null,null,null,null,null,null,null,{"$f":"IF(H164=\"1a\",Hoja1!$B$126,IF(H164=\"1b\",Hoja1!$B$127,IF(H164=\"2a\",Hoja1!$B$128,IF(H164=\"2b\",Hoja1!$B$129,IF(H164=\"3 \",Hoja1!$B$130,IF(H164=\"4 \",Hoja1!$B$131,IF(H164=\"5 \",Hoja1!$B$132,IF(H164=\"6 \",Hoja1!$B$133,IF(H164=\"7 \",Hoja1!$B$134,IF(H164=\"8 \",Hoja1!$B$135,\" \"))))))))))","v":" "},{"$f":"CONCATENATE(#REF!,\"-\",\"TX\")","v":{"$error":"#REF!"}},{"$f":"CONCATENATE(#REF!,\"-\",\"RX\")","v":{"$error":"#REF!"}},null,null,null,null,0,null,null,null,null,null,{"$f":"IF($R164=\"\",\"\",VLOOKUP($R164,'FO-DRE-01'!$A$7:$U$301,18,FALSE))","v":""},{"$f":"IF($R164=\"\",\"\",VLOOKUP($R164,'FO-DRE-01'!$A$7:$U$301,16,FALSE))","v":""},{"$f":"IF($R164=\"\",\"\",VLOOKUP($R164,'FO-DRE-01'!$A$7:$U$301,17,FALSE))","v":""},{"$f":"IF($R164=\"\",\"\",VLOOKUP($R164,'FO-DRE-01'!$A$7:$U$301,3,FALSE))","v":""},{"$f":"IF($R164=\"\",\"\",VLOOKUP($R164,'FO-DRE-01'!$A$7:$U$301,4,FALSE))","v":""},{"$f":"IF($R164=\"\",\"\",VLOOKUP($R164,'FO-DRE-01'!$A$7:$U$301,5,FALSE))","v":""},{"$f":"IF($R164=\"\",\"\",VLOOKUP($R164,'FO-DRE-01'!$A$7:$U$301,7,FALSE))","v":""},{"$f":"IF($R164=\"\",\"\",VLOOKUP($R164,'FO-DRE-01'!$A$7:$U$301,8,FALSE))","v":""},{"$f":"IF($R164=\"\",\"\",VLOOKUP($R164,'FO-DRE-01'!$A$7:$U$301,9,FALSE))","v":""},{"$f":"IF($R164=\"\",\"\",VLOOKUP($R164,'FO-DRE-01'!$A$7:$U$301,10,FALSE))","v":""},{"$f":"IF($R164=\"\",\"\",VLOOKUP($R164,'FO-DRE-01'!$A$7:$U$301,11,FALSE))","v":""},{"$f":"IF($R164=\"\",\"\",VLOOKUP($R164,'FO-DRE-01'!$A$7:$U$301,12,FALSE))","v":""},{"$f":"IF($R164=\"\",\"\",VLOOKUP($R164,'FO-DRE-01'!$A$7:$U$301,13,FALSE))","v":""},{"$f":"IF($R164=\"\",\"\",VLOOKUP($R164,'FO-DRE-01'!$A$7:$U$301,14,FALSE))","v":""},{"$f":"IF($R164=\"\",\"\",VLOOKUP($R164,'FO-DRE-01'!$A$7:$U$301,15,FALSE))","v":""},{"$f":"IF($S164=\"\",\"\",VLOOKUP($S164,'FO-DRE-04'!$A$6:$L$301,2,FALSE))","v":""},{"$f":"IF($S164=\"\",\"\",VLOOKUP($S164,'FO-DRE-04'!$A$6:$L$301,3,FALSE))","v":""},{"$f":"IF($S164=\"\",\"\",VLOOKUP($S164,'FO-DRE-04'!$A$6:$L$301,4,FALSE))","v":""},{"$f":"IF($S164=\"\",\"\",VLOOKUP($S164,'FO-DRE-04'!$A$6:$L$301,6,FALSE))","v":""},{"$f":"IF($S164=\"\",\"\",VLOOKUP($S164,'FO-DRE-04'!$A$6:$L$301,11,FALSE))","v":""},{"$f":"IF($T164=\"\",\"\",VLOOKUP($T164,'FO-DRE-02'!$A$6:$M$101,2,FALSE))","v":""},{"$f":"IF($T164=\"\",\"\",VLOOKUP($T164,'FO-DRE-02'!$A$6:$M$101,3,FALSE))","v":""},{"$f":"IF($T164=\"\",\"\",VLOOKUP($T164,'FO-DRE-02'!$A$6:$M$101,6,FALSE))","v":""},{"$f":"IF($T164=\"\",\"\",VLOOKUP($T164,'FO-DRE-02'!$A$6:$M$101,4,FALSE))","v":""},{"$f":"IF($T164=\"\",\"\",VLOOKUP($T164,'FO-DRE-02'!$A$6:$M$101,5,FALSE))","v":""},{"$f":"IF($T164=\"\",\"\",VLOOKUP($T164,'FO-DRE-02'!$A$6:$M$101,8,FALSE))","v":""},{"$f":"IF($T164=\"\",\"\",VLOOKUP($T164,'FO-DRE-02'!$A$6:$M$101,7,FALSE))","v":""},{"$f":"IF($T164=\"\",\"\",VLOOKUP($T164,'FO-DRE-02'!$A$6:$M$101,9,FALSE))","v":""},{"$f":"IF($T164=\"\",\"\",VLOOKUP($T164,'FO-DRE-02'!$A$6:$M$101,11,FALSE))","v":""},{"$f":"IF($T164=\"\",\"\",VLOOKUP($T164,'FO-DRE-02'!$A$6:$M$101,12,FALSE))","v":""},{"$f":"IF($T164=\"\",\"\",VLOOKUP($T164,'FO-DRE-02'!$A$6:$M$101,13,FALSE))","v":""},null,null,null,155,"","F/D","F/D","","","","","","","","","","","","","","",""]
[null,null,null,null,null,null,null,null,{"$f":"IF(H165=\"1a\",Hoja1!$B$126,IF(H165=\"1b\",Hoja1!$B$127,IF(H165=\"2a\",Hoja1!$B$128,IF(H165=\"2b\",Hoja1!$B$129,IF(H165=\"3 \",Hoja1!$B$130,IF(H165=\"4 \",Hoja1!$B$131,IF(H165=\"5 \",Hoja1!$B$132,IF(H165=\"6 \",Hoja1!$B$133,IF(H165=\"7 \",Hoja1!$B$134,IF(H165=\"8 \",Hoja1!$B$135,\" \"))))))))))","v":" "},{"$f":"CONCATENATE(#REF!,\"-\",\"TX\")","v":{"$error":"#REF!"}},{"$f":"CONCATENATE(#REF!,\"-\",\"RX\")","v":{"$error":"#REF!"}},null,null,null,null,0,null,null,null,null,null,{"$f":"IF($R165=\"\",\"\",VLOOKUP($R165,'FO-DRE-01'!$A$7:$U$301,18,FALSE))","v":""},{"$f":"IF($R165=\"\",\"\",VLOOKUP($R165,'FO-DRE-01'!$A$7:$U$301,16,FALSE))","v":""},{"$f":"IF($R165=\"\",\"\",VLOOKUP($R165,'FO-DRE-01'!$A$7:$U$301,17,FALSE))","v":""},{"$f":"IF($R165=\"\",\"\",VLOOKUP($R165,'FO-DRE-01'!$A$7:$U$301,3,FALSE))","v":""},{"$f":"IF($R165=\"\",\"\",VLOOKUP($R165,'FO-DRE-01'!$A$7:$U$301,4,FALSE))","v":""},{"$f":"IF($R165=\"\",\"\",VLOOKUP($R165,'FO-DRE-01'!$A$7:$U$301,5,FALSE))","v":""},{"$f":"IF($R165=\"\",\"\",VLOOKUP($R165,'FO-DRE-01'!$A$7:$U$301,7,FALSE))","v":""},{"$f":"IF($R165=\"\",\"\",VLOOKUP($R165,'FO-DRE-01'!$A$7:$U$301,8,FALSE))","v":""},{"$f":"IF($R165=\"\",\"\",VLOOKUP($R165,'FO-DRE-01'!$A$7:$U$301,9,FALSE))","v":""},{"$f":"IF($R165=\"\",\"\",VLOOKUP($R165,'FO-DRE-01'!$A$7:$U$301,10,FALSE))","v":""},{"$f":"IF($R165=\"\",\"\",VLOOKUP($R165,'FO-DRE-01'!$A$7:$U$301,11,FALSE))","v":""},{"$f":"IF($R165=\"\",\"\",VLOOKUP($R165,'FO-DRE-01'!$A$7:$U$301,12,FALSE))","v":""},{"$f":"IF($R165=\"\",\"\",VLOOKUP($R165,'FO-DRE-01'!$A$7:$U$301,13,FALSE))","v":""},{"$f":"IF($R165=\"\",\"\",VLOOKUP($R165,'FO-DRE-01'!$A$7:$U$301,14,FALSE))","v":""},{"$f":"IF($R165=\"\",\"\",VLOOKUP($R165,'FO-DRE-01'!$A$7:$U$301,15,FALSE))","v":""},{"$f":"IF($S165=\"\",\"\",VLOOKUP($S165,'FO-DRE-04'!$A$6:$L$301,2,FALSE))","v":""},{"$f":"IF($S165=\"\",\"\",VLOOKUP($S165,'FO-DRE-04'!$A$6:$L$301,3,FALSE))","v":""},{"$f":"IF($S165=\"\",\"\",VLOOKUP($S165,'FO-DRE-04'!$A$6:$L$301,4,FALSE))","v":""},{"$f":"IF($S165=\"\",\"\",VLOOKUP($S165,'FO-DRE-04'!$A$6:$L$301,6,FALSE))","v":""},{"$f":"IF($S165=\"\",\"\",VLOOKUP($S165,'FO-DRE-04'!$A$6:$L$301,11,FALSE))","v":""},{"$f":"IF($T165=\"\",\"\",VLOOKUP($T165,'FO-DRE-02'!$A$6:$M$101,2,FALSE))","v":""},{"$f":"IF($T165=\"\",\"\",VLOOKUP($T165,'FO-DRE-02'!$A$6:$M$101,3,FALSE))","v":""},{"$f":"IF($T165=\"\",\"\",VLOOKUP($T165,'FO-DRE-02'!$A$6:$M$101,6,FALSE))","v":""},{"$f":"IF($T165=\"\",\"\",VLOOKUP($T165,'FO-DRE-02'!$A$6:$M$101,4,FALSE))","v":""},{"$f":"IF($T165=\"\",\"\",VLOOKUP($T165,'FO-DRE-02'!$A$6:$M$101,5,FALSE))","v":""},{"$f":"IF($T165=\"\",\"\",VLOOKUP($T165,'FO-DRE-02'!$A$6:$M$101,8,FALSE))","v":""},{"$f":"IF($T165=\"\",\"\",VLOOKUP($T165,'FO-DRE-02'!$A$6:$M$101,7,FALSE))","v":""},{"$f":"IF($T165=\"\",\"\",VLOOKUP($T165,'FO-DRE-02'!$A$6:$M$101,9,FALSE))","v":""},{"$f":"IF($T165=\"\",\"\",VLOOKUP($T165,'FO-DRE-02'!$A$6:$M$101,11,FALSE))","v":""},{"$f":"IF($T165=\"\",\"\",VLOOKUP($T165,'FO-DRE-02'!$A$6:$M$101,12,FALSE))","v":""},{"$f":"IF($T165=\"\",\"\",VLOOKUP($T165,'FO-DRE-02'!$A$6:$M$101,13,FALSE))","v":""},null,null,null,156,"","F/D","F/D","","","","","","","","","","","","","","",""]
[null,null,null,null,null,null,null,null,{"$f":"IF(H166=\"1a\",Hoja1!$B$126,IF(H166=\"1b\",Hoja1!$B$127,IF(H166=\"2a\",Hoja1!$B$128,IF(H166=\"2b\",Hoja1!$B$129,IF(H166=\"3 \",Hoja1!$B$130,IF(H166=\"4 \",Hoja1!$B$131,IF(H166=\"5 \",Hoja1!$B$132,IF(H166=\"6 \",Hoja1!$B$133,IF(H166=\"7 \",Hoja1!$B$134,IF(H166=\"8 \",Hoja1!$B$135,\" \"))))))))))","v":" "},{"$f":"CONCATENATE(#REF!,\"-\",\"TX\")","v":{"$error":"#REF!"}},{"$f":"CONCATENATE(#REF!,\"-\",\"RX\")","v":{"$error":"#REF!"}},null,null,null,null,0,null,null,null,null,null,{"$f":"IF($R166=\"\",\"\",VLOOKUP($R166,'FO-DRE-01'!$A$7:$U$301,18,FALSE))","v":""},{"$f":"IF($R166=\"\",\"\",VLOOKUP($R166,'FO-DRE-01'!$A$7:$U$301,16,FALSE))","v":""},{"$f":"IF($R166=\"\",\"\",VLOOKUP($R166,'FO-DRE-01'!$A$7:$U$301,17,FALSE))","v":""},{"$f":"IF($R166=\"\",\"\",VLOOKUP($R166,'FO-DRE-01'!$A$7:$U$301,3,FALSE))","v":""},{"$f":"IF($R166=\"\",\"\",VLOOKUP($R166,'FO-DRE-01'!$A$7:$U$301,4,FALSE))","v":""},{"$f":"IF($R166=\"\",\"\",VLOOKUP($R166,'FO-DRE-01'!$A$7:$U$301,5,FALSE))","v":""},{"$f":"IF($R166=\"\",\"\",VLOOKUP($R166,'FO-DRE-01'!$A$7:$U$301,7,FALSE))","v":""},{"$f":"IF($R166=\"\",\"\",VLOOKUP($R166,'FO-DRE-01'!$A$7:$U$301,8,FALSE))","v":""},{"$f":"IF($R166=\"\",\"\",VLOOKUP($R166,'FO-DRE-01'!$A$7:$U$301,9,FALSE))","v":""},{"$f":"IF($R166=\"\",\"\",VLOOKUP($R166,'FO-DRE-01'!$A$7:$U$301,10,FALSE))","v":""},{"$f":"IF($R166=\"\",\"\",VLOOKUP($R166,'FO-DRE-01'!$A$7:$U$301,11,FALSE))","v":""},{"$f":"IF($R166=\"\",\"\",VLOOKUP($R166,'FO-DRE-01'!$A$7:$U$301,12,FALSE))","v":""},{"$f":"IF($R166=\"\",\"\",VLOOKUP($R166,'FO-DRE-01'!$A$7:$U$301,13,FALSE))","v":""},{"$f":"IF($R166=\"\",\"\",VLOOKUP($R166,'FO-DRE-01'!$A$7:$U$301,14,FALSE))","v":""},{"$f":"IF($R166=\"\",\"\",VLOOKUP($R166,'FO-DRE-01'!$A$7:$U$301,15,FALSE))","v":""},{"$f":"IF($S166=\"\",\"\",VLOOKUP($S166,'FO-DRE-04'!$A$6:$L$301,2,FALSE))","v":""},{"$f":"IF($S166=\"\",\"\",VLOOKUP($S166,'FO-DRE-04'!$A$6:$L$301,3,FALSE))","v":""},{"$f":"IF($S166=\"\",\"\",VLOOKUP($S166,'FO-DRE-04'!$A$6:$L$301,4,FALSE))","v":""},{"$f":"IF($S166=\"\",\"\",VLOOKUP($S166,'FO-DRE-04'!$A$6:$L$301,6,FALSE))","v":""},{"$f":"IF($S166=\"\",\"\",VLOOKUP($S166,'FO-DRE-04'!$A$6:$L$301,11,FALSE))","v":""},{"$f":"IF($T166=\"\",\"\",VLOOKUP($T166,'FO-DRE-02'!$A$6:$M$101,2,FALSE))","v":""},{"$f":"IF($T166=\"\",\"\",VLOOKUP($T166,'FO-DRE-02'!$A$6:$M$101,3,FALSE))","v":""},{"$f":"IF($T166=\"\",\"\",VLOOKUP($T166,'FO-DRE-02'!$A$6:$M$101,6,FALSE))","v":""},{"$f":"IF($T166=\"\",\"\",VLOOKUP($T166,'FO-DRE-02'!$A$6:$M$101,4,FALSE))","v":""},{"$f":"IF($T166=\"\",\"\",VLOOKUP($T166,'FO-DRE-02'!$A$6:$M$101,5,FALSE))","v":""},{"$f":"IF($T166=\"\",\"\",VLOOKUP($T166,'FO-DRE-02'!$A$6:$M$101,8,FALSE))","v":""},{"$f":"IF($T166=\"\",\"\",VLOOKUP($T166,'FO-DRE-02'!$A$6:$M$101,7,FALSE))","v":""},{"$f":"IF($T166=\"\",\"\",VLOOKUP($T166,'FO-DRE-02'!$A$6:$M$101,9,FALSE))","v":""},{"$f":"IF($T166=\"\",\"\",VLOOKUP($T166,'FO-DRE-02'!$A$6:$M$101,11,FALSE))","v":""},{"$f":"IF($T166=\"\",\"\",VLOOKUP($T166,'FO-DRE-02'!$A$6:$M$101,12,FALSE))","v":""},{"$f":"IF($T166=\"\",\"\",VLOOKUP($T166,'FO-DRE-02'!$A$6:$M$101,13,FALSE))","v":""},null,null,null,157,"","F/D","F/D","","","","","","","","","","","","","","",""]
[null,null,null,null,null,null,null,null,{"$f":"IF(H167=\"1a\",Hoja1!$B$126,IF(H167=\"1b\",Hoja1!$B$127,IF(H167=\"2a\",Hoja1!$B$128,IF(H167=\"2b\",Hoja1!$B$129,IF(H167=\"3 \",Hoja1!$B$130,IF(H167=\"4 \",Hoja1!$B$131,IF(H167=\"5 \",Hoja1!$B$132,IF(H167=\"6 \",Hoja1!$B$133,IF(H167=\"7 \",Hoja1!$B$134,IF(H167=\"8 \",Hoja1!$B$135,\" \"))))))))))","v":" "},{"$f":"CONCATENATE(#REF!,\"-\",\"TX\")","v":{"$error":"#REF!"}},{"$f":"CONCATENATE(#REF!,\"-\",\"RX\")","v":{"$error":"#REF!"}},null,null,null,null,0,null,null,null,null,null,{"$f":"IF($R167=\"\",\"\",VLOOKUP($R167,'FO-DRE-01'!$A$7:$U$301,18,FALSE))","v":""},{"$f":"IF($R167=\"\",\"\",VLOOKUP($R167,'FO-DRE-01'!$A$7:$U$301,16,FALSE))","v":""},{"$f":"IF($R167=\"\",\"\",VLOOKUP($R167,'FO-DRE-01'!$A$7:$U$301,17,FALSE))","v":""},{"$f":"IF($R167=\"\",\"\",VLOOKUP($R167,'FO-DRE-01'!$A$7:$U$301,3,FALSE))","v":""},{"$f":"IF($R167=\"\",\"\",VLOOKUP($R167,'FO-DRE-01'!$A$7:$U$301,4,FALSE))","v":""},{"$f":"IF($R167=\"\",\"\",VLOOKUP($R167,'FO-DRE-01'!$A$7:$U$301,5,FALSE))","v":""},{"$f":"IF($R167=\"\",\"\",VLOOKUP($R167,'FO-DRE-01'!$A$7:$U$301,7,FALSE))","v":""},{"$f":"IF($R167=\"\",\"\",VLOOKUP($R167,'FO-DRE-01'!$A$7:$U$301,8,FALSE))","v":""},{"$f":"IF($R167=\"\",\"\",VLOOKUP($R167,'FO-DRE-01'!$A$7:$U$301,9,FALSE))","v":""},{"$f":"IF($R167=\"\",\"\",VLOOKUP($R167,'FO-DRE-01'!$A$7:$U$301,10,FALSE))","v":""},{"$f":"IF($R167=\"\",\"\",VLOOKUP($R167,'FO-DRE-01'!$A$7:$U$301,11,FALSE))","v":""},{"$f":"IF($R167=\"\",\"\",VLOOKUP($R167,'FO-DRE-01'!$A$7:$U$301,12,FALSE))","v":""},{"$f":"IF($R167=\"\",\"\",VLOOKUP($R167,'FO-DRE-01'!$A$7:$U$301,13,FALSE))","v":""},{"$f":"IF($R167=\"\",\"\",VLOOKUP($R167,'FO-DRE-01'!$A$7:$U$301,14,FALSE))","v":""},{"$f":"IF($R167=\"\",\"\",VLOOKUP($R167,'FO-DRE-01'!$A$7:$U$301,15,FALSE))","v":""},{"$f":"IF($S167=\"\",\"\",VLOOKUP($S167,'FO-DRE-04'!$A$6:$L$301,2,FALSE))","v":""},{"$f":"IF($S167=\"\",\"\",VLOOKUP($S167,'FO-DRE-04'!$A$6:$L$301,3,FALSE))","v":""},{"$f":"IF($S167=\"\",\"\",VLOOKUP($S167,'FO-DRE-04'!$A$6:$L$301,4,FALSE))","v":""},{"$f":"IF($S167=\"\",\"\",VLOOKUP($S167,'FO-DRE-04'!$A$6:$L$301,6,FALSE))","v":""},{"$f":"IF($S167=\"\",\"\",VLOOKUP($S167,'FO-DRE-04'!$A$6:$L$301,11,FALSE))","v":""},{"$f":"IF($T167=\"\",\"\",VLOOKUP($T167,'FO-DRE-02'!$A$6:$M$101,2,FALSE))","v":""},{"$f":"IF($T167=\"\",\"\",VLOOKUP($T167,'FO-DRE-02'!$A$6:$M$101,3,FALSE))","v":""},{"$f":"IF($T167=\"\",\"\",VLOOKUP($T167,'FO-DRE-02'!$A$6:$M$101,6,FALSE))","v":""},{"$f":"IF($T167=\"\",\"\",VLOOKUP($T167,'FO-DRE-02'!$A$6:$M$101,4,FALSE))","v":""},{"$f":"IF($T167=\"\",\"\",VLOOKUP($T167,'FO-DRE-02'!$A$6:$M$101,5,FALSE))","v":""},{"$f":"IF($T167=\"\",\"\",VLOOKUP($T167,'FO-DRE-02'!$A$6:$M$101,8,FALSE))","v":""},{"$f":"IF($T167=\"\",\"\",VLOOKUP($T167,'FO-DRE-02'!$A$6:$M$101,7,FALSE))","v":""},{"$f":"IF($T167=\"\",\"\",VLOOKUP($T167,'FO-DRE-02'!$A$6:$M$101,9,FALSE))","v":""},{"$f":"IF($T167=\"\",\"\",VLOOKUP($T167,'FO-DRE-02'!$A$6:$M$101,11,FALSE))","v":""},{"$f":"IF($T167=\"\",\"\",VLOOKUP($T167,'FO-DRE-02'!$A$6:$M$101,12,FALSE))","v":""},{"$f":"IF($T167=\"\",\"\",VLOOKUP($T167,'FO-DRE-02'!$A$6:$M$101,13,FALSE))","v":""},null,null,null,158,"","F/D","F/D","","","","","","","","","","","","","","",""]
[null,null,null,null,null,null,null,null,{"$f":"IF(H168=\"1a\",Hoja1!$B$126,IF(H168=\"1b\",Hoja1!$B$127,IF(H168=\"2a\",Hoja1!$B$128,IF(H168=\"2b\",Hoja1!$B$129,IF(H168=\"3 \",Hoja1!$B$130,IF(H168=\"4 \",Hoja1!$B$131,IF(H168=\"5 \",Hoja1!$B$132,IF(H168=\"6 \",Hoja1!$B$133,IF(H168=\"7 \",Hoja1!$B$134,IF(H168=\"8 \",Hoja1!$B$135,\" \"))))))))))","v":" "},{"$f":"CONCATENATE(#REF!,\"-\",\"TX\")","v":{"$error":"#REF!"}},{"$f":"CONCATENATE(#REF!,\"-\",\"RX\")","v":{"$error":"#REF!"}},null,null,null,null,0,null,null,null,null,null,{"$f":"IF($R168=\"\",\"\",VLOOKUP($R168,'FO-DRE-01'!$A$7:$U$301,18,FALSE))","v":""},{"$f":"IF($R168=\"\",\"\",VLOOKUP($R168,'FO-DRE-01'!$A$7:$U$301,16,FALSE))","v":""},{"$f":"IF($R168=\"\",\"\",VLOOKUP($R168,'FO-DRE-01'!$A$7:$U$301,17,FALSE))","v":""},{"$f":"IF($R168=\"\",\"\",VLOOKUP($R168,'FO-DRE-01'!$A$7:$U$301,3,FALSE))","v":""},{"$f":"IF($R168=\"\",\"\",VLOOKUP($R168,'FO-DRE-01'!$A$7:$U$301,4,FALSE))","v":""},{"$f":"IF($R168=\"\",\"\",VLOOKUP($R168,'FO-DRE-01'!$A$7:$U$301,5,FALSE))","v":""},{"$f":"IF($R168=\"\",\"\",VLOOKUP($R168,'FO-DRE-01'!$A$7:$U$301,7,FALSE))","v":""},{"$f":"IF($R168=\"\",\"\",VLOOKUP($R168,'FO-DRE-01'!$A$7:$U$301,8,FALSE))","v":""},{"$f":"IF($R168=\"\",\"\",VLOOKUP($R168,'FO-DRE-01'!$A$7:$U$301,9,FALSE))","v":""},{"$f":"IF($R168=\"\",\"\",VLOOKUP($R168,'FO-DRE-01'!$A$7:$U$301,10,FALSE))","v":""},{"$f":"IF($R168=\"\",\"\",VLOOKUP($R168,'FO-DRE-01'!$A$7:$U$301,11,FALSE))","v":""},{"$f":"IF($R168=\"\",\"\",VLOOKUP($R168,'FO-DRE-01'!$A$7:$U$301,12,FALSE))","v":""},{"$f":"IF($R168=\"\",\"\",VLOOKUP($R168,'FO-DRE-01'!$A$7:$U$301,13,FALSE))","v":""},{"$f":"IF($R168=\"\",\"\",VLOOKUP($R168,'FO-DRE-01'!$A$7:$U$301,14,FALSE))","v":""},{"$f":"IF($R168=\"\",\"\",VLOOKUP($R168,'FO-DRE-01'!$A$7:$U$301,15,FALSE))","v":""},{"$f":"IF($S168=\"\",\"\",VLOOKUP($S168,'FO-DRE-04'!$A$6:$L$301,2,FALSE))","v":""},{"$f":"IF($S168=\"\",\"\",VLOOKUP($S168,'FO-DRE-04'!$A$6:$L$301,3,FALSE))","v":""},{"$f":"IF($S168=\"\",\"\",VLOOKUP($S168,'FO-DRE-04'!$A$6:$L$301,4,FALSE))","v":""},{"$f":"IF($S168=\"\",\"\",VLOOKUP($S168,'FO-DRE-04'!$A$6:$L$301,6,FALSE))","v":""},{"$f":"IF($S168=\"\",\"\",VLOOKUP($S168,'FO-DRE-04'!$A$6:$L$301,11,FALSE))","v":""},{"$f":"IF($T168=\"\",\"\",VLOOKUP($T168,'FO-DRE-02'!$A$6:$M$101,2,FALSE))","v":""},{"$f":"IF($T168=\"\",\"\",VLOOKUP($T168,'FO-DRE-02'!$A$6:$M$101,3,FALSE))","v":""},{"$f":"IF($T168=\"\",\"\",VLOOKUP($T168,'FO-DRE-02'!$A$6:$M$101,6,FALSE))","v":""},{"$f":"IF($T168=\"\",\"\",VLOOKUP($T168,'FO-DRE-02'!$A$6:$M$101,4,FALSE))","v":""},{"$f":"IF($T168=\"\",\"\",VLOOKUP($T168,'FO-DRE-02'!$A$6:$M$101,5,FALSE))","v":""},{"$f":"IF($T168=\"\",\"\",VLOOKUP($T168,'FO-DRE-02'!$A$6:$M$101,8,FALSE))","v":""},{"$f":"IF($T168=\"\",\"\",VLOOKUP($T168,'FO-DRE-02'!$A$6:$M$101,7,FALSE))","v":""},{"$f":"IF($T168=\"\",\"\",VLOOKUP($T168,'FO-DRE-02'!$A$6:$M$101,9,FALSE))","v":""},{"$f":"IF($T168=\"\",\"\",VLOOKUP($T168,'FO-DRE-02'!$A$6:$M$101,11,FALSE))","v":""},{"$f":"IF($T168=\"\",\"\",VLOOKUP($T168,'FO-DRE-02'!$A$6:$M$101,12,FALSE))","v":""},{"$f":"IF($T168=\"\",\"\",VLOOKUP($T168,'FO-DRE-02'!$A$6:$M$101,13,FALSE))","v":""},null,null,null,159,"","F/D","F/D","","","","","","","","","","","","","","",""]
[null,null,null,null,null,null,null,null,{"$f":"IF(H169=\"1a\",Hoja1!$B$126,IF(H169=\"1b\",Hoja1!$B$127,IF(H169=\"2a\",Hoja1!$B$128,IF(H169=\"2b\",Hoja1!$B$129,IF(H169=\"3 \",Hoja1!$B$130,IF(H169=\"4 \",Hoja1!$B$131,IF(H169=\"5 \",Hoja1!$B$132,IF(H169=\"6 \",Hoja1!$B$133,IF(H169=\"7 \",Hoja1!$B$134,IF(H169=\"8 \",Hoja1!$B$135,\" \"))))))))))","v":" "},{"$f":"CONCATENATE(#REF!,\"-\",\"TX\")","v":{"$error":"#REF!"}},{"$f":"CONCATENATE(#REF!,\"-\",\"RX\")","v":{"$error":"#REF!"}},null,null,null,null,0,null,null,null,null,null,{"$f":"IF($R169=\"\",\"\",VLOOKUP($R169,'FO-DRE-01'!$A$7:$U$301,18,FALSE))","v":""},{"$f":"IF($R169=\"\",\"\",VLOOKUP($R169,'FO-DRE-01'!$A$7:$U$301,16,FALSE))","v":""},{"$f":"IF($R169=\"\",\"\",VLOOKUP($R169,'FO-DRE-01'!$A$7:$U$301,17,FALSE))","v":""},{"$f":"IF($R169=\"\",\"\",VLOOKUP($R169,'FO-DRE-01'!$A$7:$U$301,3,FALSE))","v":""},{"$f":"IF($R169=\"\",\"\",VLOOKUP($R169,'FO-DRE-01'!$A$7:$U$301,4,FALSE))","v":""},{"$f":"IF($R169=\"\",\"\",VLOOKUP($R169,'FO-DRE-01'!$A$7:$U$301,5,FALSE))","v":""},{"$f":"IF($R169=\"\",\"\",VLOOKUP($R169,'FO-DRE-01'!$A$7:$U$301,7,FALSE))","v":""},{"$f":"IF($R169=\"\",\"\",VLOOKUP($R169,'FO-DRE-01'!$A$7:$U$301,8,FALSE))","v":""},{"$f":"IF($R169=\"\",\"\",VLOOKUP($R169,'FO-DRE-01'!$A$7:$U$301,9,FALSE))","v":""},{"$f":"IF($R169=\"\",\"\",VLOOKUP($R169,'FO-DRE-01'!$A$7:$U$301,10,FALSE))","v":""},{"$f":"IF($R169=\"\",\"\",VLOOKUP($R169,'FO-DRE-01'!$A$7:$U$301,11,FALSE))","v":""},{"$f":"IF($R169=\"\",\"\",VLOOKUP($R169,'FO-DRE-01'!$A$7:$U$301,12,FALSE))","v":""},{"$f":"IF($R169=\"\",\"\",VLOOKUP($R169,'FO-DRE-01'!$A$7:$U$301,13,FALSE))","v":""},{"$f":"IF($R169=\"\",\"\",VLOOKUP($R169,'FO-DRE-01'!$A$7:$U$301,14,FALSE))","v":""},{"$f":"IF($R169=\"\",\"\",VLOOKUP($R169,'FO-DRE-01'!$A$7:$U$301,15,FALSE))","v":""},{"$f":"IF($S169=\"\",\"\",VLOOKUP($S169,'FO-DRE-04'!$A$6:$L$301,2,FALSE))","v":""},{"$f":"IF($S169=\"\",\"\",VLOOKUP($S169,'FO-DRE-04'!$A$6:$L$301,3,FALSE))","v":""},{"$f":"IF($S169=\"\",\"\",VLOOKUP($S169,'FO-DRE-04'!$A$6:$L$301,4,FALSE))","v":""},{"$f":"IF($S169=\"\",\"\",VLOOKUP($S169,'FO-DRE-04'!$A$6:$L$301,6,FALSE))","v":""},{"$f":"IF($S169=\"\",\"\",VLOOKUP($S169,'FO-DRE-04'!$A$6:$L$301,11,FALSE))","v":""},{"$f":"IF($T169=\"\",\"\",VLOOKUP($T169,'FO-DRE-02'!$A$6:$M$101,2,FALSE))","v":""},{"$f":"IF($T169=\"\",\"\",VLOOKUP($T169,'FO-DRE-02'!$A$6:$M$101,3,FALSE))","v":""},{"$f":"IF($T169=\"\",\"\",VLOOKUP($T169,'FO-DRE-02'!$A$6:$M$101,6,FALSE))","v":""},{"$f":"IF($T169=\"\",\"\",VLOOKUP($T169,'FO-DRE-02'!$A$6:$M$101,4,FALSE))","v":""},{"$f":"IF($T169=\"\",\"\",VLOOKUP($T169,'FO-DRE-02'!$A$6:$M$101,5,FALSE))","v":""},{"$f":"IF($T169=\"\",\"\",VLOOKUP($T169,'FO-DRE-02'!$A$6:$M$101,8,FALSE))","v":""},{"$f":"IF($T169=\"\",\"\",VLOOKUP($T169,'FO-DRE-02'!$A$6:$M$101,7,FALSE))","v":""},{"$f":"IF($T169=\"\",\"\",VLOOKUP($T169,'FO-DRE-02'!$A$6:$M$101,9,FALSE))","v":""},{"$f":"IF($T169=\"\",\"\",VLOOKUP($T169,'FO-DRE-02'!$A$6:$M$101,11,FALSE))","v":""},{"$f":"IF($T169=\"\",\"\",VLOOKUP($T169,'FO-DRE-02'!$A$6:$M$101,12,FALSE))","v":""},{"$f":"IF($T169=\"\",\"\",VLOOKUP($T169,'FO-DRE-02'!$A$6:$M$101,13,FALSE))","v":""},null,null,null,160,"","F/D","F/D","","","","","","","","","","","","","","",""]
[null,null,null,null,null,null,null,null,{"$f":"IF(H170=\"1a\",Hoja1!$B$126,IF(H170=\"1b\",Hoja1!$B$127,IF(H170=\"2a\",Hoja1!$B$128,IF(H170=\"2b\",Hoja1!$B$129,IF(H170=\"3 \",Hoja1!$B$130,IF(H170=\"4 \",Hoja1!$B$131,IF(H170=\"5 \",Hoja1!$B$132,IF(H170=\"6 \",Hoja1!$B$133,IF(H170=\"7 \",Hoja1!$B$134,IF(H170=\"8 \",Hoja1!$B$135,\" \"))))))))))","v":" "},{"$f":"CONCATENATE(#REF!,\"-\",\"TX\")","v":{"$error":"#REF!"}},{"$f":"CONCATENATE(#REF!,\"-\",\"RX\")","v":{"$error":"#REF!"}},null,null,null,null,0,null,null,null,null,null,{"$f":"IF($R170=\"\",\"\",VLOOKUP($R170,'FO-DRE-01'!$A$7:$U$301,18,FALSE))","v":""},{"$f":"IF($R170=\"\",\"\",VLOOKUP($R170,'FO-DRE-01'!$A$7:$U$301,16,FALSE))","v":""},{"$f":"IF($R170=\"\",\"\",VLOOKUP($R170,'FO-DRE-01'!$A$7:$U$301,17,FALSE))","v":""},{"$f":"IF($R170=\"\",\"\",VLOOKUP($R170,'FO-DRE-01'!$A$7:$U$301,3,FALSE))","v":""},{"$f":"IF($R170=\"\",\"\",VLOOKUP($R170,'FO-DRE-01'!$A$7:$U$301,4,FALSE))","v":""},{"$f":"IF($R170=\"\",\"\",VLOOKUP($R170,'FO-DRE-01'!$A$7:$U$301,5,FALSE))","v":""},{"$f":"IF($R170=\"\",\"\",VLOOKUP($R170,'FO-DRE-01'!$A$7:$U$301,7,FALSE))","v":""},{"$f":"IF($R170=\"\",\"\",VLOOKUP($R170,'FO-DRE-01'!$A$7:$U$301,8,FALSE))","v":""},{"$f":"IF($R170=\"\",\"\",VLOOKUP($R170,'FO-DRE-01'!$A$7:$U$301,9,FALSE))","v":""},{"$f":"IF($R170=\"\",\"\",VLOOKUP($R170,'FO-DRE-01'!$A$7:$U$301,10,FALSE))","v":""},{"$f":"IF($R170=\"\",\"\",VLOOKUP($R170,'FO-DRE-01'!$A$7:$U$301,11,FALSE))","v":""},{"$f":"IF($R170=\"\",\"\",VLOOKUP($R170,'FO-DRE-01'!$A$7:$U$301,12,FALSE))","v":""},{"$f":"IF($R170=\"\",\"\",VLOOKUP($R170,'FO-DRE-01'!$A$7:$U$301,13,FALSE))","v":""},{"$f":"IF($R170=\"\",\"\",VLOOKUP($R170,'FO-DRE-01'!$A$7:$U$301,14,FALSE))","v":""},{"$f":"IF($R170=\"\",\"\",VLOOKUP($R170,'FO-DRE-01'!$A$7:$U$301,15,FALSE))","v":""},{"$f":"IF($S170=\"\",\"\",VLOOKUP($S170,'FO-DRE-04'!$A$6:$L$301,2,FALSE))","v":""},{"$f":"IF($S170=\"\",\"\",VLOOKUP($S170,'FO-DRE-04'!$A$6:$L$301,3,FALSE))","v":""},{"$f":"IF($S170=\"\",\"\",VLOOKUP($S170,'FO-DRE-04'!$A$6:$L$301,4,FALSE))","v":""},{"$f":"IF($S170=\"\",\"\",VLOOKUP($S170,'FO-DRE-04'!$A$6:$L$301,6,FALSE))","v":""},{"$f":"IF($S170=\"\",\"\",VLOOKUP($S170,'FO-DRE-04'!$A$6:$L$301,11,FALSE))","v":""},{"$f":"IF($T170=\"\",\"\",VLOOKUP($T170,'FO-DRE-02'!$A$6:$M$101,2,FALSE))","v":""},{"$f":"IF($T170=\"\",\"\",VLOOKUP($T170,'FO-DRE-02'!$A$6:$M$101,3,FALSE))","v":""},{"$f":"IF($T170=\"\",\"\",VLOOKUP($T170,'FO-DRE-02'!$A$6:$M$101,6,FALSE))","v":""},{"$f":"IF($T170=\"\",\"\",VLOOKUP($T170,'FO-DRE-02'!$A$6:$M$101,4,FALSE))","v":""},{"$f":"IF($T170=\"\",\"\",VLOOKUP($T170,'FO-DRE-02'!$A$6:$M$101,5,FALSE))","v":""},{"$f":"IF($T170=\"\",\"\",VLOOKUP($T170,'FO-DRE-02'!$A$6:$M$101,8,FALSE))","v":""},{"$f":"IF($T170=\"\",\"\",VLOOKUP($T170,'FO-DRE-02'!$A$6:$M$101,7,FALSE))","v":""},{"$f":"IF($T170=\"\",\"\",VLOOKUP($T170,'FO-DRE-02'!$A$6:$M$101,9,FALSE))","v":""},{"$f":"IF($T170=\"\",\"\",VLOOKUP($T170,'FO-DRE-02'!$A$6:$M$101,11,FALSE))","v":""},{"$f":"IF($T170=\"\",\"\",VLOOKUP($T170,'FO-DRE-02'!$A$6:$M$101,12,FALSE))","v":""},{"$f":"IF($T170=\"\",\"\",VLOOKUP($T170,'FO-DRE-02'!$A$6:$M$101,13,FALSE))","v":""},null,null,null,161,"","F/D","F/D","","","","","","","","","","","","","","",""]
[null,null,null,null,null,null,null,null,{"$f":"IF(H171=\"1a\",Hoja1!$B$126,IF(H171=\"1b\",Hoja1!$B$127,IF(H171=\"2a\",Hoja1!$B$128,IF(H171=\"2b\",Hoja1!$B$129,IF(H171=\"3 \",Hoja1!$B$130,IF(H171=\"4 \",Hoja1!$B$131,IF(H171=\"5 \",Hoja1!$B$132,IF(H171=\"6 \",Hoja1!$B$133,IF(H171=\"7 \",Hoja1!$B$134,IF(H171=\"8 \",Hoja1!$B$135,\" \"))))))))))","v":" "},{"$f":"CONCATENATE(#REF!,\"-\",\"TX\")","v":{"$error":"#REF!"}},{"$f":"CONCATENATE(#REF!,\"-\",\"RX\")","v":{"$error":"#REF!"}},null,null,null,null,0,null,null,null,null,null,{"$f":"IF($R171=\"\",\"\",VLOOKUP($R171,'FO-DRE-01'!$A$7:$U$301,18,FALSE))","v":""},{"$f":"IF($R171=\"\",\"\",VLOOKUP($R171,'FO-DRE-01'!$A$7:$U$301,16,FALSE))","v":""},{"$f":"IF($R171=\"\",\"\",VLOOKUP($R171,'FO-DRE-01'!$A$7:$U$301,17,FALSE))","v":""},{"$f":"IF($R171=\"\",\"\",VLOOKUP($R171,'FO-DRE-01'!$A$7:$U$301,3,FALSE))","v":""},{"$f":"IF($R171=\"\",\"\",VLOOKUP($R171,'FO-DRE-01'!$A$7:$U$301,4,FALSE))","v":""},{"$f":"IF($R171=\"\",\"\",VLOOKUP($R171,'FO-DRE-01'!$A$7:$U$301,5,FALSE))","v":""},{"$f":"IF($R171=\"\",\"\",VLOOKUP($R171,'FO-DRE-01'!$A$7:$U$301,7,FALSE))","v":""},{"$f":"IF($R171=\"\",\"\",VLOOKUP($R171,'FO-DRE-01'!$A$7:$U$301,8,FALSE))","v":""},{"$f":"IF($R171=\"\",\"\",VLOOKUP($R171,'FO-DRE-01'!$A$7:$U$301,9,FALSE))","v":""},{"$f":"IF($R171=\"\",\"\",VLOOKUP($R171,'FO-DRE-01'!$A$7:$U$301,10,FALSE))","v":""},{"$f":"IF($R171=\"\",\"\",VLOOKUP($R171,'FO-DRE-01'!$A$7:$U$301,11,FALSE))","v":""},{"$f":"IF($R171=\"\",\"\",VLOOKUP($R171,'FO-DRE-01'!$A$7:$U$301,12,FALSE))","v":""},{"$f":"IF($R171=\"\",\"\",VLOOKUP($R171,'FO-DRE-01'!$A$7:$U$301,13,FALSE))","v":""},{"$f":"IF($R171=\"\",\"\",VLOOKUP($R171,'FO-DRE-01'!$A$7:$U$301,14,FALSE))","v":""},{"$f":"IF($R171=\"\",\"\",VLOOKUP($R171,'FO-DRE-01'!$A$7:$U$301,15,FALSE))","v":""},{"$f":"IF($S171=\"\",\"\",VLOOKUP($S171,'FO-DRE-04'!$A$6:$L$301,2,FALSE))","v":""},{"$f":"IF($S171=\"\",\"\",VLOOKUP($S171,'FO-DRE-04'!$A$6:$L$301,3,FALSE))","v":""},{"$f":"IF($S171=\"\",\"\",VLOOKUP($S171,'FO-DRE-04'!$A$6:$L$301,4,FALSE))","v":""},{"$f":"IF($S171=\"\",\"\",VLOOKUP($S171,'FO-DRE-04'!$A$6:$L$301,6,FALSE))","v":""},{"$f":"IF($S171=\"\",\"\",VLOOKUP($S171,'FO-DRE-04'!$A$6:$L$301,11,FALSE))","v":""},{"$f":"IF($T171=\"\",\"\",VLOOKUP($T171,'FO-DRE-02'!$A$6:$M$101,2,FALSE))","v":""},{"$f":"IF($T171=\"\",\"\",VLOOKUP($T171,'FO-DRE-02'!$A$6:$M$101,3,FALSE))","v":""},{"$f":"IF($T171=\"\",\"\",VLOOKUP($T171,'FO-DRE-02'!$A$6:$M$101,6,FALSE))","v":""},{"$f":"IF($T171=\"\",\"\",VLOOKUP($T171,'FO-DRE-02'!$A$6:$M$101,4,FALSE))","v":""},{"$f":"IF($T171=\"\",\"\",VLOOKUP($T171,'FO-DRE-02'!$A$6:$M$101,5,FALSE))","v":""},{"$f":"IF($T171=\"\",\"\",VLOOKUP($T171,'FO-DRE-02'!$A$6:$M$101,8,FALSE))","v":""},{"$f":"IF($T171=\"\",\"\",VLOOKUP($T171,'FO-DRE-02'!$A$6:$M$101,7,FALSE))","v":""},{"$f":"IF($T171=\"\",\"\",VLOOKUP($T171,'FO-DRE-02'!$A$6:$M$101,9,FALSE))","v":""},{"$f":"IF($T171=\"\",\"\",VLOOKUP($T171,'FO-DRE-02'!$A$6:$M$101,11,FALSE))","v":""},{"$f":"IF($T171=\"\",\"\",VLOOKUP($T171,'FO-DRE-02'!$A$6:$M$101,12,FALSE))","v":""},{"$f":"IF($T171=\"\",\"\",VLOOKUP($T171,'FO-DRE-02'!$A$6:$M$101,13,FALSE))","v":""},null,null,null,162,"","F/D","F/D","","","","","","","","","","","","","","",""]
[null,null,null,null,null,null,null,null,{"$f":"IF(H172=\"1a\",Hoja1!$B$126,IF(H172=\"1b\",Hoja1!$B$127,IF(H172=\"2a\",Hoja1!$B$128,IF(H172=\"2b\",Hoja1!$B$129,IF(H172=\"3 \",Hoja1!$B$130,IF(H172=\"4 \",Hoja1!$B$131,IF(H172=\"5 \",Hoja1!$B$132,IF(H172=\"6 \",Hoja1!$B$133,IF(H172=\"7 \",Hoja1!$B$134,IF(H172=\"8 \",Hoja1!$B$135,\" \"))))))))))","v":" "},{"$f":"CONCATENATE(#REF!,\"-\",\"TX\")","v":{"$error":"#REF!"}},{"$f":"CONCATENATE(#REF!,\"-\",\"RX\")","v":{"$error":"#REF!"}},null,null,null,null,0,null,null,null,null,null,{"$f":"IF($R172=\"\",\"\",VLOOKUP($R172,'FO-DRE-01'!$A$7:$U$301,18,FALSE))","v":""},{"$f":"IF($R172=\"\",\"\",VLOOKUP($R172,'FO-DRE-01'!$A$7:$U$301,16,FALSE))","v":""},{"$f":"IF($R172=\"\",\"\",VLOOKUP($R172,'FO-DRE-01'!$A$7:$U$301,17,FALSE))","v":""},{"$f":"IF($R172=\"\",\"\",VLOOKUP($R172,'FO-DRE-01'!$A$7:$U$301,3,FALSE))","v":""},{"$f":"IF($R172=\"\",\"\",VLOOKUP($R172,'FO-DRE-01'!$A$7:$U$301,4,FALSE))","v":""},{"$f":"IF($R172=\"\",\"\",VLOOKUP($R172,'FO-DRE-01'!$A$7:$U$301,5,FALSE))","v":""},{"$f":"IF($R172=\"\",\"\",VLOOKUP($R172,'FO-DRE-01'!$A$7:$U$301,7,FALSE))","v":""},{"$f":"IF($R172=\"\",\"\",VLOOKUP($R172,'FO-DRE-01'!$A$7:$U$301,8,FALSE))","v":""},{"$f":"IF($R172=\"\",\"\",VLOOKUP($R172,'FO-DRE-01'!$A$7:$U$301,9,FALSE))","v":""},{"$f":"IF($R172=\"\",\"\",VLOOKUP($R172,'FO-DRE-01'!$A$7:$U$301,10,FALSE))","v":""},{"$f":"IF($R172=\"\",\"\",VLOOKUP($R172,'FO-DRE-01'!$A$7:$U$301,11,FALSE))","v":""},{"$f":"IF($R172=\"\",\"\",VLOOKUP($R172,'FO-DRE-01'!$A$7:$U$301,12,FALSE))","v":""},{"$f":"IF($R172=\"\",\"\",VLOOKUP($R172,'FO-DRE-01'!$A$7:$U$301,13,FALSE))","v":""},{"$f":"IF($R172=\"\",\"\",VLOOKUP($R172,'FO-DRE-01'!$A$7:$U$301,14,FALSE))","v":""},{"$f":"IF($R172=\"\",\"\",VLOOKUP($R172,'FO-DRE-01'!$A$7:$U$301,15,FALSE))","v":""},{"$f":"IF($S172=\"\",\"\",VLOOKUP($S172,'FO-DRE-04'!$A$6:$L$301,2,FALSE))","v":""},{"$f":"IF($S172=\"\",\"\",VLOOKUP($S172,'FO-DRE-04'!$A$6:$L$301,3,FALSE))","v":""},{"$f":"IF($S172=\"\",\"\",VLOOKUP($S172,'FO-DRE-04'!$A$6:$L$301,4,FALSE))","v":""},{"$f":"IF($S172=\"\",\"\",VLOOKUP($S172,'FO-DRE-04'!$A$6:$L$301,6,FALSE))","v":""},{"$f":"IF($S172=\"\",\"\",VLOOKUP($S172,'FO-DRE-04'!$A$6:$L$301,11,FALSE))","v":""},{"$f":"IF($T172=\"\",\"\",VLOOKUP($T172,'FO-DRE-02'!$A$6:$M$101,2,FALSE))","v":""},{"$f":"IF($T172=\"\",\"\",VLOOKUP($T172,'FO-DRE-02'!$A$6:$M$101,3,FALSE))","v":""},{"$f":"IF($T172=\"\",\"\",VLOOKUP($T172,'FO-DRE-02'!$A$6:$M$101,6,FALSE))","v":""},{"$f":"IF($T172=\"\",\"\",VLOOKUP($T172,'FO-DRE-02'!$A$6:$M$101,4,FALSE))","v":""},{"$f":"IF($T172=\"\",\"\",VLOOKUP($T172,'FO-DRE-02'!$A$6:$M$101,5,FALSE))","v":""},{"$f":"IF($T172=\"\",\"\",VLOOKUP($T172,'FO-DRE-02'!$A$6:$M$101,8,FALSE))","v":""},{"$f":"IF($T172=\"\",\"\",VLOOKUP($T172,'FO-DRE-02'!$A$6:$M$101,7,FALSE))","v":""},{"$f":"IF($T172=\"\",\"\",VLOOKUP($T172,'FO-DRE-02'!$A$6:$M$101,9,FALSE))","v":""},{"$f":"IF($T172=\"\",\"\",VLOOKUP($T172,'FO-DRE-02'!$A$6:$M$101,11,FALSE))","v":""},{"$f":"IF($T172=\"\",\"\",VLOOKUP($T172,'FO-DRE-02'!$A$6:$M$101,12,FALSE))","v":""},{"$f":"IF($T172=\"\",\"\",VLOOKUP($T172,'FO-DRE-02'!$A$6:$M$101,13,FALSE))","v":""},null,null,null,163,"","F/D","F/D","","","","","","","","","","","","","","",""]
[null,null,null,null,null,null,null,null,{"$f":"IF(H173=\"1a\",Hoja1!$B$126,IF(H173=\"1b\",Hoja1!$B$127,IF(H173=\"2a\",Hoja1!$B$128,IF(H173=\"2b\",Hoja1!$B$129,IF(H173=\"3 \",Hoja1!$B$130,IF(H173=\"4 \",Hoja1!$B$131,IF(H173=\"5 \",Hoja1!$B$132,IF(H173=\"6 \",Hoja1!$B$133,IF(H173=\"7 \",Hoja1!$B$134,IF(H173=\"8 \",Hoja1!$B$135,\" \"))))))))))","v":" "},{"$f":"CONCATENATE(#REF!,\"-\",\"TX\")","v":{"$error":"#REF!"}},{"$f":"CONCATENATE(#REF!,\"-\",\"RX\")","v":{"$error":"#REF!"}},null,null,null,null,0,null,null,null,null,null,{"$f":"IF($R173=\"\",\"\",VLOOKUP($R173,'FO-DRE-01'!$A$7:$U$301,18,FALSE))","v":""},{"$f":"IF($R173=\"\",\"\",VLOOKUP($R173,'FO-DRE-01'!$A$7:$U$301,16,FALSE))","v":""},{"$f":"IF($R173=\"\",\"\",VLOOKUP($R173,'FO-DRE-01'!$A$7:$U$301,17,FALSE))","v":""},{"$f":"IF($R173=\"\",\"\",VLOOKUP($R173,'FO-DRE-01'!$A$7:$U$301,3,FALSE))","v":""},{"$f":"IF($R173=\"\",\"\",VLOOKUP($R173,'FO-DRE-01'!$A$7:$U$301,4,FALSE))","v":""},{"$f":"IF($R173=\"\",\"\",VLOOKUP($R173,'FO-DRE-01'!$A$7:$U$301,5,FALSE))","v":""},{"$f":"IF($R173=\"\",\"\",VLOOKUP($R173,'FO-DRE-01'!$A$7:$U$301,7,FALSE))","v":""},{"$f":"IF($R173=\"\",\"\",VLOOKUP($R173,'FO-DRE-01'!$A$7:$U$301,8,FALSE))","v":""},{"$f":"IF($R173=\"\",\"\",VLOOKUP($R173,'FO-DRE-01'!$A$7:$U$301,9,FALSE))","v":""},{"$f":"IF($R173=\"\",\"\",VLOOKUP($R173,'FO-DRE-01'!$A$7:$U$301,10,FALSE))","v":""},{"$f":"IF($R173=\"\",\"\",VLOOKUP($R173,'FO-DRE-01'!$A$7:$U$301,11,FALSE))","v":""},{"$f":"IF($R173=\"\",\"\",VLOOKUP($R173,'FO-DRE-01'!$A$7:$U$301,12,FALSE))","v":""},{"$f":"IF($R173=\"\",\"\",VLOOKUP($R173,'FO-DRE-01'!$A$7:$U$301,13,FALSE))","v":""},{"$f":"IF($R173=\"\",\"\",VLOOKUP($R173,'FO-DRE-01'!$A$7:$U$301,14,FALSE))","v":""},{"$f":"IF($R173=\"\",\"\",VLOOKUP($R173,'FO-DRE-01'!$A$7:$U$301,15,FALSE))","v":""},{"$f":"IF($S173=\"\",\"\",VLOOKUP($S173,'FO-DRE-04'!$A$6:$L$301,2,FALSE))","v":""},{"$f":"IF($S173=\"\",\"\",VLOOKUP($S173,'FO-DRE-04'!$A$6:$L$301,3,FALSE))","v":""},{"$f":"IF($S173=\"\",\"\",VLOOKUP($S173,'FO-DRE-04'!$A$6:$L$301,4,FALSE))","v":""},{"$f":"IF($S173=\"\",\"\",VLOOKUP($S173,'FO-DRE-04'!$A$6:$L$301,6,FALSE))","v":""},{"$f":"IF($S173=\"\",\"\",VLOOKUP($S173,'FO-DRE-04'!$A$6:$L$301,11,FALSE))","v":""},{"$f":"IF($T173=\"\",\"\",VLOOKUP($T173,'FO-DRE-02'!$A$6:$M$101,2,FALSE))","v":""},{"$f":"IF($T173=\"\",\"\",VLOOKUP($T173,'FO-DRE-02'!$A$6:$M$101,3,FALSE))","v":""},{"$f":"IF($T173=\"\",\"\",VLOOKUP($T173,'FO-DRE-02'!$A$6:$M$101,6,FALSE))","v":""},{"$f":"IF($T173=\"\",\"\",VLOOKUP($T173,'FO-DRE-02'!$A$6:$M$101,4,FALSE))","v":""},{"$f":"IF($T173=\"\",\"\",VLOOKUP($T173,'FO-DRE-02'!$A$6:$M$101,5,FALSE))","v":""},{"$f":"IF($T173=\"\",\"\",VLOOKUP($T173,'FO-DRE-02'!$A$6:$M$101,8,FALSE))","v":""},{"$f":"IF($T173=\"\",\"\",VLOOKUP($T173,'FO-DRE-02'!$A$6:$M$101,7,FALSE))","v":""},{"$f":"IF($T173=\"\",\"\",VLOOKUP($T173,'FO-DRE-02'!$A$6:$M$101,9,FALSE))","v":""},{"$f":"IF($T173=\"\",\"\",VLOOKUP($T173,'FO-DRE-02'!$A$6:$M$101,11,FALSE))","v":""},{"$f":"IF($T173=\"\",\"\",VLOOKUP($T173,'FO-DRE-02'!$A$6:$M$101,12,FALSE))","v":""},{"$f":"IF($T173=\"\",\"\",VLOOKUP($T173,'FO-DRE-02'!$A$6:$M$101,13,FALSE))","v":""},null,null,null,164,"","F/D","F/D","","","","","","","","","","","","","","",""]
[null,null,null,null,null,null,null,null,{"$f":"IF(H174=\"1a\",Hoja1!$B$126,IF(H174=\"1b\",Hoja1!$B$127,IF(H174=\"2a\",Hoja1!$B$128,IF(H174=\"2b\",Hoja1!$B$129,IF(H174=\"3 \",Hoja1!$B$130,IF(H174=\"4 \",Hoja1!$B$131,IF(H174=\"5 \",Hoja1!$B$132,IF(H174=\"6 \",Hoja1!$B$133,IF(H174=\"7 \",Hoja1!$B$134,IF(H174=\"8 \",Hoja1!$B$135,\" \"))))))))))","v":" "},{"$f":"CONCATENATE(#REF!,\"-\",\"TX\")","v":{"$error":"#REF!"}},{"$f":"CONCATENATE(#REF!,\"-\",\"RX\")","v":{"$error":"#REF!"}},null,null,null,null,0,null,null,null,null,null,{"$f":"IF($R174=\"\",\"\",VLOOKUP($R174,'FO-DRE-01'!$A$7:$U$301,18,FALSE))","v":""},{"$f":"IF($R174=\"\",\"\",VLOOKUP($R174,'FO-DRE-01'!$A$7:$U$301,16,FALSE))","v":""},{"$f":"IF($R174=\"\",\"\",VLOOKUP($R174,'FO-DRE-01'!$A$7:$U$301,17,FALSE))","v":""},{"$f":"IF($R174=\"\",\"\",VLOOKUP($R174,'FO-DRE-01'!$A$7:$U$301,3,FALSE))","v":""},{"$f":"IF($R174=\"\",\"\",VLOOKUP($R174,'FO-DRE-01'!$A$7:$U$301,4,FALSE))","v":""},{"$f":"IF($R174=\"\",\"\",VLOOKUP($R174,'FO-DRE-01'!$A$7:$U$301,5,FALSE))","v":""},{"$f":"IF($R174=\"\",\"\",VLOOKUP($R174,'FO-DRE-01'!$A$7:$U$301,7,FALSE))","v":""},{"$f":"IF($R174=\"\",\"\",VLOOKUP($R174,'FO-DRE-01'!$A$7:$U$301,8,FALSE))","v":""},{"$f":"IF($R174=\"\",\"\",VLOOKUP($R174,'FO-DRE-01'!$A$7:$U$301,9,FALSE))","v":""},{"$f":"IF($R174=\"\",\"\",VLOOKUP($R174,'FO-DRE-01'!$A$7:$U$301,10,FALSE))","v":""},{"$f":"IF($R174=\"\",\"\",VLOOKUP($R174,'FO-DRE-01'!$A$7:$U$301,11,FALSE))","v":""},{"$f":"IF($R174=\"\",\"\",VLOOKUP($R174,'FO-DRE-01'!$A$7:$U$301,12,FALSE))","v":""},{"$f":"IF($R174=\"\",\"\",VLOOKUP($R174,'FO-DRE-01'!$A$7:$U$301,13,FALSE))","v":""},{"$f":"IF($R174=\"\",\"\",VLOOKUP($R174,'FO-DRE-01'!$A$7:$U$301,14,FALSE))","v":""},{"$f":"IF($R174=\"\",\"\",VLOOKUP($R174,'FO-DRE-01'!$A$7:$U$301,15,FALSE))","v":""},{"$f":"IF($S174=\"\",\"\",VLOOKUP($S174,'FO-DRE-04'!$A$6:$L$301,2,FALSE))","v":""},{"$f":"IF($S174=\"\",\"\",VLOOKUP($S174,'FO-DRE-04'!$A$6:$L$301,3,FALSE))","v":""},{"$f":"IF($S174=\"\",\"\",VLOOKUP($S174,'FO-DRE-04'!$A$6:$L$301,4,FALSE))","v":""},{"$f":"IF($S174=\"\",\"\",VLOOKUP($S174,'FO-DRE-04'!$A$6:$L$301,6,FALSE))","v":""},{"$f":"IF($S174=\"\",\"\",VLOOKUP($S174,'FO-DRE-04'!$A$6:$L$301,11,FALSE))","v":""},{"$f":"IF($T174=\"\",\"\",VLOOKUP($T174,'FO-DRE-02'!$A$6:$M$101,2,FALSE))","v":""},{"$f":"IF($T174=\"\",\"\",VLOOKUP($T174,'FO-DRE-02'!$A$6:$M$101,3,FALSE))","v":""},{"$f":"IF($T174=\"\",\"\",VLOOKUP($T174,'FO-DRE-02'!$A$6:$M$101,6,FALSE))","v":""},{"$f":"IF($T174=\"\",\"\",VLOOKUP($T174,'FO-DRE-02'!$A$6:$M$101,4,FALSE))","v":""},{"$f":"IF($T174=\"\",\"\",VLOOKUP($T174,'FO-DRE-02'!$A$6:$M$101,5,FALSE))","v":""},{"$f":"IF($T174=\"\",\"\",VLOOKUP($T174,'FO-DRE-02'!$A$6:$M$101,8,FALSE))","v":""},{"$f":"IF($T174=\"\",\"\",VLOOKUP($T174,'FO-DRE-02'!$A$6:$M$101,7,FALSE))","v":""},{"$f":"IF($T174=\"\",\"\",VLOOKUP($T174,'FO-DRE-02'!$A$6:$M$101,9,FALSE))","v":""},{"$f":"IF($T174=\"\",\"\",VLOOKUP($T174,'FO-DRE-02'!$A$6:$M$101,11,FALSE))","v":""},{"$f":"IF($T174=\"\",\"\",VLOOKUP($T174,'FO-DRE-02'!$A$6:$M$101,12,FALSE))","v":""},{"$f":"IF($T174=\"\",\"\",VLOOKUP($T174,'FO-DRE-02'!$A$6:$M$101,13,FALSE))","v":""},null,null,null,165,"","F/D","F/D","","","","","","","","","","","","","","",""]
[null,null,null,null,null,null,null,null,{"$f":"IF(H175=\"1a\",Hoja1!$B$126,IF(H175=\"1b\",Hoja1!$B$127,IF(H175=\"2a\",Hoja1!$B$128,IF(H175=\"2b\",Hoja1!$B$129,IF(H175=\"3 \",Hoja1!$B$130,IF(H175=\"4 \",Hoja1!$B$131,IF(H175=\"5 \",Hoja1!$B$132,IF(H175=\"6 \",Hoja1!$B$133,IF(H175=\"7 \",Hoja1!$B$134,IF(H175=\"8 \",Hoja1!$B$135,\" \"))))))))))","v":" "},{"$f":"CONCATENATE(#REF!,\"-\",\"TX\")","v":{"$error":"#REF!"}},{"$f":"CONCATENATE(#REF!,\"-\",\"RX\")","v":{"$error":"#REF!"}},null,null,null,null,0,null,null,null,null,null,{"$f":"IF($R175=\"\",\"\",VLOOKUP($R175,'FO-DRE-01'!$A$7:$U$301,18,FALSE))","v":""},{"$f":"IF($R175=\"\",\"\",VLOOKUP($R175,'FO-DRE-01'!$A$7:$U$301,16,FALSE))","v":""},{"$f":"IF($R175=\"\",\"\",VLOOKUP($R175,'FO-DRE-01'!$A$7:$U$301,17,FALSE))","v":""},{"$f":"IF($R175=\"\",\"\",VLOOKUP($R175,'FO-DRE-01'!$A$7:$U$301,3,FALSE))","v":""},{"$f":"IF($R175=\"\",\"\",VLOOKUP($R175,'FO-DRE-01'!$A$7:$U$301,4,FALSE))","v":""},{"$f":"IF($R175=\"\",\"\",VLOOKUP($R175,'FO-DRE-01'!$A$7:$U$301,5,FALSE))","v":""},{"$f":"IF($R175=\"\",\"\",VLOOKUP($R175,'FO-DRE-01'!$A$7:$U$301,7,FALSE))","v":""},{"$f":"IF($R175=\"\",\"\",VLOOKUP($R175,'FO-DRE-01'!$A$7:$U$301,8,FALSE))","v":""},{"$f":"IF($R175=\"\",\"\",VLOOKUP($R175,'FO-DRE-01'!$A$7:$U$301,9,FALSE))","v":""},{"$f":"IF($R175=\"\",\"\",VLOOKUP($R175,'FO-DRE-01'!$A$7:$U$301,10,FALSE))","v":""},{"$f":"IF($R175=\"\",\"\",VLOOKUP($R175,'FO-DRE-01'!$A$7:$U$301,11,FALSE))","v":""},{"$f":"IF($R175=\"\",\"\",VLOOKUP($R175,'FO-DRE-01'!$A$7:$U$301,12,FALSE))","v":""},{"$f":"IF($R175=\"\",\"\",VLOOKUP($R175,'FO-DRE-01'!$A$7:$U$301,13,FALSE))","v":""},{"$f":"IF($R175=\"\",\"\",VLOOKUP($R175,'FO-DRE-01'!$A$7:$U$301,14,FALSE))","v":""},{"$f":"IF($R175=\"\",\"\",VLOOKUP($R175,'FO-DRE-01'!$A$7:$U$301,15,FALSE))","v":""},{"$f":"IF($S175=\"\",\"\",VLOOKUP($S175,'FO-DRE-04'!$A$6:$L$301,2,FALSE))","v":""},{"$f":"IF($S175=\"\",\"\",VLOOKUP($S175,'FO-DRE-04'!$A$6:$L$301,3,FALSE))","v":""},{"$f":"IF($S175=\"\",\"\",VLOOKUP($S175,'FO-DRE-04'!$A$6:$L$301,4,FALSE))","v":""},{"$f":"IF($S175=\"\",\"\",VLOOKUP($S175,'FO-DRE-04'!$A$6:$L$301,6,FALSE))","v":""},{"$f":"IF($S175=\"\",\"\",VLOOKUP($S175,'FO-DRE-04'!$A$6:$L$301,11,FALSE))","v":""},{"$f":"IF($T175=\"\",\"\",VLOOKUP($T175,'FO-DRE-02'!$A$6:$M$101,2,FALSE))","v":""},{"$f":"IF($T175=\"\",\"\",VLOOKUP($T175,'FO-DRE-02'!$A$6:$M$101,3,FALSE))","v":""},{"$f":"IF($T175=\"\",\"\",VLOOKUP($T175,'FO-DRE-02'!$A$6:$M$101,6,FALSE))","v":""},{"$f":"IF($T175=\"\",\"\",VLOOKUP($T175,'FO-DRE-02'!$A$6:$M$101,4,FALSE))","v":""},{"$f":"IF($T175=\"\",\"\",VLOOKUP($T175,'FO-DRE-02'!$A$6:$M$101,5,FALSE))","v":""},{"$f":"IF($T175=\"\",\"\",VLOOKUP($T175,'FO-DRE-02'!$A$6:$M$101,8,FALSE))","v":""},{"$f":"IF($T175=\"\",\"\",VLOOKUP($T175,'FO-DRE-02'!$A$6:$M$101,7,FALSE))","v":""},{"$f":"IF($T175=\"\",\"\",VLOOKUP($T175,'FO-DRE-02'!$A$6:$M$101,9,FALSE))","v":""},{"$f":"IF($T175=\"\",\"\",VLOOKUP($T175,'FO-DRE-02'!$A$6:$M$101,11,FALSE))","v":""},{"$f":"IF($T175=\"\",\"\",VLOOKUP($T175,'FO-DRE-02'!$A$6:$M$101,12,FALSE))","v":""},{"$f":"IF($T175=\"\",\"\",VLOOKUP($T175,'FO-DRE-02'!$A$6:$M$101,13,FALSE))","v":""},null,null,null,166,"","F/D","F/D","","","","","","","","","","","","","","",""]
[null,null,null,null,null,null,null,null,{"$f":"IF(H176=\"1a\",Hoja1!$B$126,IF(H176=\"1b\",Hoja1!$B$127,IF(H176=\"2a\",Hoja1!$B$128,IF(H176=\"2b\",Hoja1!$B$129,IF(H176=\"3 \",Hoja1!$B$130,IF(H176=\"4 \",Hoja1!$B$131,IF(H176=\"5 \",Hoja1!$B$132,IF(H176=\"6 \",Hoja1!$B$133,IF(H176=\"7 \",Hoja1!$B$134,IF(H176=\"8 \",Hoja1!$B$135,\" \"))))))))))","v":" "},{"$f":"CONCATENATE(#REF!,\"-\",\"TX\")","v":{"$error":"#REF!"}},{"$f":"CONCATENATE(#REF!,\"-\",\"RX\")","v":{"$error":"#REF!"}},null,null,null,null,0,null,null,null,null,null,{"$f":"IF($R176=\"\",\"\",VLOOKUP($R176,'FO-DRE-01'!$A$7:$U$301,18,FALSE))","v":""},{"$f":"IF($R176=\"\",\"\",VLOOKUP($R176,'FO-DRE-01'!$A$7:$U$301,16,FALSE))","v":""},{"$f":"IF($R176=\"\",\"\",VLOOKUP($R176,'FO-DRE-01'!$A$7:$U$301,17,FALSE))","v":""},{"$f":"IF($R176=\"\",\"\",VLOOKUP($R176,'FO-DRE-01'!$A$7:$U$301,3,FALSE))","v":""},{"$f":"IF($R176=\"\",\"\",VLOOKUP($R176,'FO-DRE-01'!$A$7:$U$301,4,FALSE))","v":""},{"$f":"IF($R176=\"\",\"\",VLOOKUP($R176,'FO-DRE-01'!$A$7:$U$301,5,FALSE))","v":""},{"$f":"IF($R176=\"\",\"\",VLOOKUP($R176,'FO-DRE-01'!$A$7:$U$301,7,FALSE))","v":""},{"$f":"IF($R176=\"\",\"\",VLOOKUP($R176,'FO-DRE-01'!$A$7:$U$301,8,FALSE))","v":""},{"$f":"IF($R176=\"\",\"\",VLOOKUP($R176,'FO-DRE-01'!$A$7:$U$301,9,FALSE))","v":""},{"$f":"IF($R176=\"\",\"\",VLOOKUP($R176,'FO-DRE-01'!$A$7:$U$301,10,FALSE))","v":""},{"$f":"IF($R176=\"\",\"\",VLOOKUP($R176,'FO-DRE-01'!$A$7:$U$301,11,FALSE))","v":""},{"$f":"IF($R176=\"\",\"\",VLOOKUP($R176,'FO-DRE-01'!$A$7:$U$301,12,FALSE))","v":""},{"$f":"IF($R176=\"\",\"\",VLOOKUP($R176,'FO-DRE-01'!$A$7:$U$301,13,FALSE))","v":""},{"$f":"IF($R176=\"\",\"\",VLOOKUP($R176,'FO-DRE-01'!$A$7:$U$301,14,FALSE))","v":""},{"$f":"IF($R176=\"\",\"\",VLOOKUP($R176,'FO-DRE-01'!$A$7:$U$301,15,FALSE))","v":""},{"$f":"IF($S176=\"\",\"\",VLOOKUP($S176,'FO-DRE-04'!$A$6:$L$301,2,FALSE))","v":""},{"$f":"IF($S176=\"\",\"\",VLOOKUP($S176,'FO-DRE-04'!$A$6:$L$301,3,FALSE))","v":""},{"$f":"IF($S176=\"\",\"\",VLOOKUP($S176,'FO-DRE-04'!$A$6:$L$301,4,FALSE))","v":""},{"$f":"IF($S176=\"\",\"\",VLOOKUP($S176,'FO-DRE-04'!$A$6:$L$301,6,FALSE))","v":""},{"$f":"IF($S176=\"\",\"\",VLOOKUP($S176,'FO-DRE-04'!$A$6:$L$301,11,FALSE))","v":""},{"$f":"IF($T176=\"\",\"\",VLOOKUP($T176,'FO-DRE-02'!$A$6:$M$101,2,FALSE))","v":""},{"$f":"IF($T176=\"\",\"\",VLOOKUP($T176,'FO-DRE-02'!$A$6:$M$101,3,FALSE))","v":""},{"$f":"IF($T176=\"\",\"\",VLOOKUP($T176,'FO-DRE-02'!$A$6:$M$101,6,FALSE))","v":""},{"$f":"IF($T176=\"\",\"\",VLOOKUP($T176,'FO-DRE-02'!$A$6:$M$101,4,FALSE))","v":""},{"$f":"IF($T176=\"\",\"\",VLOOKUP($T176,'FO-DRE-02'!$A$6:$M$101,5,FALSE))","v":""},{"$f":"IF($T176=\"\",\"\",VLOOKUP($T176,'FO-DRE-02'!$A$6:$M$101,8,FALSE))","v":""},{"$f":"IF($T176=\"\",\"\",VLOOKUP($T176,'FO-DRE-02'!$A$6:$M$101,7,FALSE))","v":""},{"$f":"IF($T176=\"\",\"\",VLOOKUP($T176,'FO-DRE-02'!$A$6:$M$101,9,FALSE))","v":""},{"$f":"IF($T176=\"\",\"\",VLOOKUP($T176,'FO-DRE-02'!$A$6:$M$101,11,FALSE))","v":""},{"$f":"IF($T176=\"\",\"\",VLOOKUP($T176,'FO-DRE-02'!$A$6:$M$101,12,FALSE))","v":""},{"$f":"IF($T176=\"\",\"\",VLOOKUP($T176,'FO-DRE-02'!$A$6:$M$101,13,FALSE))","v":""},null,null,null,167,"","F/D","F/D","","","","","","","","","","","","","","",""]
[null,null,null,null,null,null,null,null,{"$f":"IF(H177=\"1a\",Hoja1!$B$126,IF(H177=\"1b\",Hoja1!$B$127,IF(H177=\"2a\",Hoja1!$B$128,IF(H177=\"2b\",Hoja1!$B$129,IF(H177=\"3 \",Hoja1!$B$130,IF(H177=\"4 \",Hoja1!$B$131,IF(H177=\"5 \",Hoja1!$B$132,IF(H177=\"6 \",Hoja1!$B$133,IF(H177=\"7 \",Hoja1!$B$134,IF(H177=\"8 \",Hoja1!$B$135,\" \"))))))))))","v":" "},{"$f":"CONCATENATE(#REF!,\"-\",\"TX\")","v":{"$error":"#REF!"}},{"$f":"CONCATENATE(#REF!,\"-\",\"RX\")","v":{"$error":"#REF!"}},null,null,null,null,0,null,null,null,null,null,{"$f":"IF($R177=\"\",\"\",VLOOKUP($R177,'FO-DRE-01'!$A$7:$U$301,18,FALSE))","v":""},{"$f":"IF($R177=\"\",\"\",VLOOKUP($R177,'FO-DRE-01'!$A$7:$U$301,16,FALSE))","v":""},{"$f":"IF($R177=\"\",\"\",VLOOKUP($R177,'FO-DRE-01'!$A$7:$U$301,17,FALSE))","v":""},{"$f":"IF($R177=\"\",\"\",VLOOKUP($R177,'FO-DRE-01'!$A$7:$U$301,3,FALSE))","v":""},{"$f":"IF($R177=\"\",\"\",VLOOKUP($R177,'FO-DRE-01'!$A$7:$U$301,4,FALSE))","v":""},{"$f":"IF($R177=\"\",\"\",VLOOKUP($R177,'FO-DRE-01'!$A$7:$U$301,5,FALSE))","v":""},{"$f":"IF($R177=\"\",\"\",VLOOKUP($R177,'FO-DRE-01'!$A$7:$U$301,7,FALSE))","v":""},{"$f":"IF($R177=\"\",\"\",VLOOKUP($R177,'FO-DRE-01'!$A$7:$U$301,8,FALSE))","v":""},{"$f":"IF($R177=\"\",\"\",VLOOKUP($R177,'FO-DRE-01'!$A$7:$U$301,9,FALSE))","v":""},{"$f":"IF($R177=\"\",\"\",VLOOKUP($R177,'FO-DRE-01'!$A$7:$U$301,10,FALSE))","v":""},{"$f":"IF($R177=\"\",\"\",VLOOKUP($R177,'FO-DRE-01'!$A$7:$U$301,11,FALSE))","v":""},{"$f":"IF($R177=\"\",\"\",VLOOKUP($R177,'FO-DRE-01'!$A$7:$U$301,12,FALSE))","v":""},{"$f":"IF($R177=\"\",\"\",VLOOKUP($R177,'FO-DRE-01'!$A$7:$U$301,13,FALSE))","v":""},{"$f":"IF($R177=\"\",\"\",VLOOKUP($R177,'FO-DRE-01'!$A$7:$U$301,14,FALSE))","v":""},{"$f":"IF($R177=\"\",\"\",VLOOKUP($R177,'FO-DRE-01'!$A$7:$U$301,15,FALSE))","v":""},{"$f":"IF($S177=\"\",\"\",VLOOKUP($S177,'FO-DRE-04'!$A$6:$L$301,2,FALSE))","v":""},{"$f":"IF($S177=\"\",\"\",VLOOKUP($S177,'FO-DRE-04'!$A$6:$L$301,3,FALSE))","v":""},{"$f":"IF($S177=\"\",\"\",VLOOKUP($S177,'FO-DRE-04'!$A$6:$L$301,4,FALSE))","v":""},{"$f":"IF($S177=\"\",\"\",VLOOKUP($S177,'FO-DRE-04'!$A$6:$L$301,6,FALSE))","v":""},{"$f":"IF($S177=\"\",\"\",VLOOKUP($S177,'FO-DRE-04'!$A$6:$L$301,11,FALSE))","v":""},{"$f":"IF($T177=\"\",\"\",VLOOKUP($T177,'FO-DRE-02'!$A$6:$M$101,2,FALSE))","v":""},{"$f":"IF($T177=\"\",\"\",VLOOKUP($T177,'FO-DRE-02'!$A$6:$M$101,3,FALSE))","v":""},{"$f":"IF($T177=\"\",\"\",VLOOKUP($T177,'FO-DRE-02'!$A$6:$M$101,6,FALSE))","v":""},{"$f":"IF($T177=\"\",\"\",VLOOKUP($T177,'FO-DRE-02'!$A$6:$M$101,4,FALSE))","v":""},{"$f":"IF($T177=\"\",\"\",VLOOKUP($T177,'FO-DRE-02'!$A$6:$M$101,5,FALSE))","v":""},{"$f":"IF($T177=\"\",\"\",VLOOKUP($T177,'FO-DRE-02'!$A$6:$M$101,8,FALSE))","v":""},{"$f":"IF($T177=\"\",\"\",VLOOKUP($T177,'FO-DRE-02'!$A$6:$M$101,7,FALSE))","v":""},{"$f":"IF($T177=\"\",\"\",VLOOKUP($T177,'FO-DRE-02'!$A$6:$M$101,9,FALSE))","v":""},{"$f":"IF($T177=\"\",\"\",VLOOKUP($T177,'FO-DRE-02'!$A$6:$M$101,11,FALSE))","v":""},{"$f":"IF($T177=\"\",\"\",VLOOKUP($T177,'FO-DRE-02'!$A$6:$M$101,12,FALSE))","v":""},{"$f":"IF($T177=\"\",\"\",VLOOKUP($T177,'FO-DRE-02'!$A$6:$M$101,13,FALSE))","v":""},null,null,null,168,"","F/D","F/D","","","","","","","","","","","","","","",""]
[null,null,null,null,null,null,null,null,{"$f":"IF(H178=\"1a\",Hoja1!$B$126,IF(H178=\"1b\",Hoja1!$B$127,IF(H178=\"2a\",Hoja1!$B$128,IF(H178=\"2b\",Hoja1!$B$129,IF(H178=\"3 \",Hoja1!$B$130,IF(H178=\"4 \",Hoja1!$B$131,IF(H178=\"5 \",Hoja1!$B$132,IF(H178=\"6 \",Hoja1!$B$133,IF(H178=\"7 \",Hoja1!$B$134,IF(H178=\"8 \",Hoja1!$B$135,\" \"))))))))))","v":" "},{"$f":"CONCATENATE(#REF!,\"-\",\"TX\")","v":{"$error":"#REF!"}},{"$f":"CONCATENATE(#REF!,\"-\",\"RX\")","v":{"$error":"#REF!"}},null,null,null,null,0,null,null,null,null,null,{"$f":"IF($R178=\"\",\"\",VLOOKUP($R178,'FO-DRE-01'!$A$7:$U$301,18,FALSE))","v":""},{"$f":"IF($R178=\"\",\"\",VLOOKUP($R178,'FO-DRE-01'!$A$7:$U$301,16,FALSE))","v":""},{"$f":"IF($R178=\"\",\"\",VLOOKUP($R178,'FO-DRE-01'!$A$7:$U$301,17,FALSE))","v":""},{"$f":"IF($R178=\"\",\"\",VLOOKUP($R178,'FO-DRE-01'!$A$7:$U$301,3,FALSE))","v":""},{"$f":"IF($R178=\"\",\"\",VLOOKUP($R178,'FO-DRE-01'!$A$7:$U$301,4,FALSE))","v":""},{"$f":"IF($R178=\"\",\"\",VLOOKUP($R178,'FO-DRE-01'!$A$7:$U$301,5,FALSE))","v":""},{"$f":"IF($R178=\"\",\"\",VLOOKUP($R178,'FO-DRE-01'!$A$7:$U$301,7,FALSE))","v":""},{"$f":"IF($R178=\"\",\"\",VLOOKUP($R178,'FO-DRE-01'!$A$7:$U$301,8,FALSE))","v":""},{"$f":"IF($R178=\"\",\"\",VLOOKUP($R178,'FO-DRE-01'!$A$7:$U$301,9,FALSE))","v":""},{"$f":"IF($R178=\"\",\"\",VLOOKUP($R178,'FO-DRE-01'!$A$7:$U$301,10,FALSE))","v":""},{"$f":"IF($R178=\"\",\"\",VLOOKUP($R178,'FO-DRE-01'!$A$7:$U$301,11,FALSE))","v":""},{"$f":"IF($R178=\"\",\"\",VLOOKUP($R178,'FO-DRE-01'!$A$7:$U$301,12,FALSE))","v":""},{"$f":"IF($R178=\"\",\"\",VLOOKUP($R178,'FO-DRE-01'!$A$7:$U$301,13,FALSE))","v":""},{"$f":"IF($R178=\"\",\"\",VLOOKUP($R178,'FO-DRE-01'!$A$7:$U$301,14,FALSE))","v":""},{"$f":"IF($R178=\"\",\"\",VLOOKUP($R178,'FO-DRE-01'!$A$7:$U$301,15,FALSE))","v":""},{"$f":"IF($S178=\"\",\"\",VLOOKUP($S178,'FO-DRE-04'!$A$6:$L$301,2,FALSE))","v":""},{"$f":"IF($S178=\"\",\"\",VLOOKUP($S178,'FO-DRE-04'!$A$6:$L$301,3,FALSE))","v":""},{"$f":"IF($S178=\"\",\"\",VLOOKUP($S178,'FO-DRE-04'!$A$6:$L$301,4,FALSE))","v":""},{"$f":"IF($S178=\"\",\"\",VLOOKUP($S178,'FO-DRE-04'!$A$6:$L$301,6,FALSE))","v":""},{"$f":"IF($S178=\"\",\"\",VLOOKUP($S178,'FO-DRE-04'!$A$6:$L$301,11,FALSE))","v":""},{"$f":"IF($T178=\"\",\"\",VLOOKUP($T178,'FO-DRE-02'!$A$6:$M$101,2,FALSE))","v":""},{"$f":"IF($T178=\"\",\"\",VLOOKUP($T178,'FO-DRE-02'!$A$6:$M$101,3,FALSE))","v":""},{"$f":"IF($T178=\"\",\"\",VLOOKUP($T178,'FO-DRE-02'!$A$6:$M$101,6,FALSE))","v":""},{"$f":"IF($T178=\"\",\"\",VLOOKUP($T178,'FO-DRE-02'!$A$6:$M$101,4,FALSE))","v":""},{"$f":"IF($T178=\"\",\"\",VLOOKUP($T178,'FO-DRE-02'!$A$6:$M$101,5,FALSE))","v":""},{"$f":"IF($T178=\"\",\"\",VLOOKUP($T178,'FO-DRE-02'!$A$6:$M$101,8,FALSE))","v":""},{"$f":"IF($T178=\"\",\"\",VLOOKUP($T178,'FO-DRE-02'!$A$6:$M$101,7,FALSE))","v":""},{"$f":"IF($T178=\"\",\"\",VLOOKUP($T178,'FO-DRE-02'!$A$6:$M$101,9,FALSE))","v":""},{"$f":"IF($T178=\"\",\"\",VLOOKUP($T178,'FO-DRE-02'!$A$6:$M$101,11,FALSE))","v":""},{"$f":"IF($T178=\"\",\"\",VLOOKUP($T178,'FO-DRE-02'!$A$6:$M$101,12,FALSE))","v":""},{"$f":"IF($T178=\"\",\"\",VLOOKUP($T178,'FO-DRE-02'!$A$6:$M$101,13,FALSE))","v":""},null,null,null,169,"","F/D","F/D","","","","","","","","","","","","","","",""]
[null,null,null,null,null,null,null,null,{"$f":"IF(H179=\"1a\",Hoja1!$B$126,IF(H179=\"1b\",Hoja1!$B$127,IF(H179=\"2a\",Hoja1!$B$128,IF(H179=\"2b\",Hoja1!$B$129,IF(H179=\"3 \",Hoja1!$B$130,IF(H179=\"4 \",Hoja1!$B$131,IF(H179=\"5 \",Hoja1!$B$132,IF(H179=\"6 \",Hoja1!$B$133,IF(H179=\"7 \",Hoja1!$B$134,IF(H179=\"8 \",Hoja1!$B$135,\" \"))))))))))","v":" "},{"$f":"CONCATENATE(#REF!,\"-\",\"TX\")","v":{"$error":"#REF!"}},{"$f":"CONCATENATE(#REF!,\"-\",\"RX\")","v":{"$error":"#REF!"}},null,null,null,null,0,null,null,null,null,null,{"$f":"IF($R179=\"\",\"\",VLOOKUP($R179,'FO-DRE-01'!$A$7:$U$301,18,FALSE))","v":""},{"$f":"IF($R179=\"\",\"\",VLOOKUP($R179,'FO-DRE-01'!$A$7:$U$301,16,FALSE))","v":""},{"$f":"IF($R179=\"\",\"\",VLOOKUP($R179,'FO-DRE-01'!$A$7:$U$301,17,FALSE))","v":""},{"$f":"IF($R179=\"\",\"\",VLOOKUP($R179,'FO-DRE-01'!$A$7:$U$301,3,FALSE))","v":""},{"$f":"IF($R179=\"\",\"\",VLOOKUP($R179,'FO-DRE-01'!$A$7:$U$301,4,FALSE))","v":""},{"$f":"IF($R179=\"\",\"\",VLOOKUP($R179,'FO-DRE-01'!$A$7:$U$301,5,FALSE))","v":""},{"$f":"IF($R179=\"\",\"\",VLOOKUP($R179,'FO-DRE-01'!$A$7:$U$301,7,FALSE))","v":""},{"$f":"IF($R179=\"\",\"\",VLOOKUP($R179,'FO-DRE-01'!$A$7:$U$301,8,FALSE))","v":""},{"$f":"IF($R179=\"\",\"\",VLOOKUP($R179,'FO-DRE-01'!$A$7:$U$301,9,FALSE))","v":""},{"$f":"IF($R179=\"\",\"\",VLOOKUP($R179,'FO-DRE-01'!$A$7:$U$301,10,FALSE))","v":""},{"$f":"IF($R179=\"\",\"\",VLOOKUP($R179,'FO-DRE-01'!$A$7:$U$301,11,FALSE))","v":""},{"$f":"IF($R179=\"\",\"\",VLOOKUP($R179,'FO-DRE-01'!$A$7:$U$301,12,FALSE))","v":""},{"$f":"IF($R179=\"\",\"\",VLOOKUP($R179,'FO-DRE-01'!$A$7:$U$301,13,FALSE))","v":""},{"$f":"IF($R179=\"\",\"\",VLOOKUP($R179,'FO-DRE-01'!$A$7:$U$301,14,FALSE))","v":""},{"$f":"IF($R179=\"\",\"\",VLOOKUP($R179,'FO-DRE-01'!$A$7:$U$301,15,FALSE))","v":""},{"$f":"IF($S179=\"\",\"\",VLOOKUP($S179,'FO-DRE-04'!$A$6:$L$301,2,FALSE))","v":""},{"$f":"IF($S179=\"\",\"\",VLOOKUP($S179,'FO-DRE-04'!$A$6:$L$301,3,FALSE))","v":""},{"$f":"IF($S179=\"\",\"\",VLOOKUP($S179,'FO-DRE-04'!$A$6:$L$301,4,FALSE))","v":""},{"$f":"IF($S179=\"\",\"\",VLOOKUP($S179,'FO-DRE-04'!$A$6:$L$301,6,FALSE))","v":""},{"$f":"IF($S179=\"\",\"\",VLOOKUP($S179,'FO-DRE-04'!$A$6:$L$301,11,FALSE))","v":""},{"$f":"IF($T179=\"\",\"\",VLOOKUP($T179,'FO-DRE-02'!$A$6:$M$101,2,FALSE))","v":""},{"$f":"IF($T179=\"\",\"\",VLOOKUP($T179,'FO-DRE-02'!$A$6:$M$101,3,FALSE))","v":""},{"$f":"IF($T179=\"\",\"\",VLOOKUP($T179,'FO-DRE-02'!$A$6:$M$101,6,FALSE))","v":""},{"$f":"IF($T179=\"\",\"\",VLOOKUP($T179,'FO-DRE-02'!$A$6:$M$101,4,FALSE))","v":""},{"$f":"IF($T179=\"\",\"\",VLOOKUP($T179,'FO-DRE-02'!$A$6:$M$101,5,FALSE))","v":""},{"$f":"IF($T179=\"\",\"\",VLOOKUP($T179,'FO-DRE-02'!$A$6:$M$101,8,FALSE))","v":""},{"$f":"IF($T179=\"\",\"\",VLOOKUP($T179,'FO-DRE-02'!$A$6:$M$101,7,FALSE))","v":""},{"$f":"IF($T179=\"\",\"\",VLOOKUP($T179,'FO-DRE-02'!$A$6:$M$101,9,FALSE))","v":""},{"$f":"IF($T179=\"\",\"\",VLOOKUP($T179,'FO-DRE-02'!$A$6:$M$101,11,FALSE))","v":""},{"$f":"IF($T179=\"\",\"\",VLOOKUP($T179,'FO-DRE-02'!$A$6:$M$101,12,FALSE))","v":""},{"$f":"IF($T179=\"\",\"\",VLOOKUP($T179,'FO-DRE-02'!$A$6:$M$101,13,FALSE))","v":""},null,null,null,170,"","F/D","F/D","","","","","","","","","","","","","","",""]
[null,null,null,null,null,null,null,null,{"$f":"IF(H180=\"1a\",Hoja1!$B$126,IF(H180=\"1b\",Hoja1!$B$127,IF(H180=\"2a\",Hoja1!$B$128,IF(H180=\"2b\",Hoja1!$B$129,IF(H180=\"3 \",Hoja1!$B$130,IF(H180=\"4 \",Hoja1!$B$131,IF(H180=\"5 \",Hoja1!$B$132,IF(H180=\"6 \",Hoja1!$B$133,IF(H180=\"7 \",Hoja1!$B$134,IF(H180=\"8 \",Hoja1!$B$135,\" \"))))))))))","v":" "},{"$f":"CONCATENATE(#REF!,\"-\",\"TX\")","v":{"$error":"#REF!"}},{"$f":"CONCATENATE(#REF!,\"-\",\"RX\")","v":{"$error":"#REF!"}},null,null,null,null,0,null,null,null,null,null,{"$f":"IF($R180=\"\",\"\",VLOOKUP($R180,'FO-DRE-01'!$A$7:$U$301,18,FALSE))","v":""},{"$f":"IF($R180=\"\",\"\",VLOOKUP($R180,'FO-DRE-01'!$A$7:$U$301,16,FALSE))","v":""},{"$f":"IF($R180=\"\",\"\",VLOOKUP($R180,'FO-DRE-01'!$A$7:$U$301,17,FALSE))","v":""},{"$f":"IF($R180=\"\",\"\",VLOOKUP($R180,'FO-DRE-01'!$A$7:$U$301,3,FALSE))","v":""},{"$f":"IF($R180=\"\",\"\",VLOOKUP($R180,'FO-DRE-01'!$A$7:$U$301,4,FALSE))","v":""},{"$f":"IF($R180=\"\",\"\",VLOOKUP($R180,'FO-DRE-01'!$A$7:$U$301,5,FALSE))","v":""},{"$f":"IF($R180=\"\",\"\",VLOOKUP($R180,'FO-DRE-01'!$A$7:$U$301,7,FALSE))","v":""},{"$f":"IF($R180=\"\",\"\",VLOOKUP($R180,'FO-DRE-01'!$A$7:$U$301,8,FALSE))","v":""},{"$f":"IF($R180=\"\",\"\",VLOOKUP($R180,'FO-DRE-01'!$A$7:$U$301,9,FALSE))","v":""},{"$f":"IF($R180=\"\",\"\",VLOOKUP($R180,'FO-DRE-01'!$A$7:$U$301,10,FALSE))","v":""},{"$f":"IF($R180=\"\",\"\",VLOOKUP($R180,'FO-DRE-01'!$A$7:$U$301,11,FALSE))","v":""},{"$f":"IF($R180=\"\",\"\",VLOOKUP($R180,'FO-DRE-01'!$A$7:$U$301,12,FALSE))","v":""},{"$f":"IF($R180=\"\",\"\",VLOOKUP($R180,'FO-DRE-01'!$A$7:$U$301,13,FALSE))","v":""},{"$f":"IF($R180=\"\",\"\",VLOOKUP($R180,'FO-DRE-01'!$A$7:$U$301,14,FALSE))","v":""},{"$f":"IF($R180=\"\",\"\",VLOOKUP($R180,'FO-DRE-01'!$A$7:$U$301,15,FALSE))","v":""},{"$f":"IF($S180=\"\",\"\",VLOOKUP($S180,'FO-DRE-04'!$A$6:$L$301,2,FALSE))","v":""},{"$f":"IF($S180=\"\",\"\",VLOOKUP($S180,'FO-DRE-04'!$A$6:$L$301,3,FALSE))","v":""},{"$f":"IF($S180=\"\",\"\",VLOOKUP($S180,'FO-DRE-04'!$A$6:$L$301,4,FALSE))","v":""},{"$f":"IF($S180=\"\",\"\",VLOOKUP($S180,'FO-DRE-04'!$A$6:$L$301,6,FALSE))","v":""},{"$f":"IF($S180=\"\",\"\",VLOOKUP($S180,'FO-DRE-04'!$A$6:$L$301,11,FALSE))","v":""},{"$f":"IF($T180=\"\",\"\",VLOOKUP($T180,'FO-DRE-02'!$A$6:$M$101,2,FALSE))","v":""},{"$f":"IF($T180=\"\",\"\",VLOOKUP($T180,'FO-DRE-02'!$A$6:$M$101,3,FALSE))","v":""},{"$f":"IF($T180=\"\",\"\",VLOOKUP($T180,'FO-DRE-02'!$A$6:$M$101,6,FALSE))","v":""},{"$f":"IF($T180=\"\",\"\",VLOOKUP($T180,'FO-DRE-02'!$A$6:$M$101,4,FALSE))","v":""},{"$f":"IF($T180=\"\",\"\",VLOOKUP($T180,'FO-DRE-02'!$A$6:$M$101,5,FALSE))","v":""},{"$f":"IF($T180=\"\",\"\",VLOOKUP($T180,'FO-DRE-02'!$A$6:$M$101,8,FALSE))","v":""},{"$f":"IF($T180=\"\",\"\",VLOOKUP($T180,'FO-DRE-02'!$A$6:$M$101,7,FALSE))","v":""},{"$f":"IF($T180=\"\",\"\",VLOOKUP($T180,'FO-DRE-02'!$A$6:$M$101,9,FALSE))","v":""},{"$f":"IF($T180=\"\",\"\",VLOOKUP($T180,'FO-DRE-02'!$A$6:$M$101,11,FALSE))","v":""},{"$f":"IF($T180=\"\",\"\",VLOOKUP($T180,'FO-DRE-02'!$A$6:$M$101,12,FALSE))","v":""},{"$f":"IF($T180=\"\",\"\",VLOOKUP($T180,'FO-DRE-02'!$A$6:$M$101,13,FALSE))","v":""},null,null,null,171,"","F/D","F/D","","","","","","","","","","","","","","",""]
[null,null,null,null,null,null,null,null,{"$f":"IF(H181=\"1a\",Hoja1!$B$126,IF(H181=\"1b\",Hoja1!$B$127,IF(H181=\"2a\",Hoja1!$B$128,IF(H181=\"2b\",Hoja1!$B$129,IF(H181=\"3 \",Hoja1!$B$130,IF(H181=\"4 \",Hoja1!$B$131,IF(H181=\"5 \",Hoja1!$B$132,IF(H181=\"6 \",Hoja1!$B$133,IF(H181=\"7 \",Hoja1!$B$134,IF(H181=\"8 \",Hoja1!$B$135,\" \"))))))))))","v":" "},{"$f":"CONCATENATE(#REF!,\"-\",\"TX\")","v":{"$error":"#REF!"}},{"$f":"CONCATENATE(#REF!,\"-\",\"RX\")","v":{"$error":"#REF!"}},null,null,null,null,0,null,null,null,null,null,{"$f":"IF($R181=\"\",\"\",VLOOKUP($R181,'FO-DRE-01'!$A$7:$U$301,18,FALSE))","v":""},{"$f":"IF($R181=\"\",\"\",VLOOKUP($R181,'FO-DRE-01'!$A$7:$U$301,16,FALSE))","v":""},{"$f":"IF($R181=\"\",\"\",VLOOKUP($R181,'FO-DRE-01'!$A$7:$U$301,17,FALSE))","v":""},{"$f":"IF($R181=\"\",\"\",VLOOKUP($R181,'FO-DRE-01'!$A$7:$U$301,3,FALSE))","v":""},{"$f":"IF($R181=\"\",\"\",VLOOKUP($R181,'FO-DRE-01'!$A$7:$U$301,4,FALSE))","v":""},{"$f":"IF($R181=\"\",\"\",VLOOKUP($R181,'FO-DRE-01'!$A$7:$U$301,5,FALSE))","v":""},{"$f":"IF($R181=\"\",\"\",VLOOKUP($R181,'FO-DRE-01'!$A$7:$U$301,7,FALSE))","v":""},{"$f":"IF($R181=\"\",\"\",VLOOKUP($R181,'FO-DRE-01'!$A$7:$U$301,8,FALSE))","v":""},{"$f":"IF($R181=\"\",\"\",VLOOKUP($R181,'FO-DRE-01'!$A$7:$U$301,9,FALSE))","v":""},{"$f":"IF($R181=\"\",\"\",VLOOKUP($R181,'FO-DRE-01'!$A$7:$U$301,10,FALSE))","v":""},{"$f":"IF($R181=\"\",\"\",VLOOKUP($R181,'FO-DRE-01'!$A$7:$U$301,11,FALSE))","v":""},{"$f":"IF($R181=\"\",\"\",VLOOKUP($R181,'FO-DRE-01'!$A$7:$U$301,12,FALSE))","v":""},{"$f":"IF($R181=\"\",\"\",VLOOKUP($R181,'FO-DRE-01'!$A$7:$U$301,13,FALSE))","v":""},{"$f":"IF($R181=\"\",\"\",VLOOKUP($R181,'FO-DRE-01'!$A$7:$U$301,14,FALSE))","v":""},{"$f":"IF($R181=\"\",\"\",VLOOKUP($R181,'FO-DRE-01'!$A$7:$U$301,15,FALSE))","v":""},{"$f":"IF($S181=\"\",\"\",VLOOKUP($S181,'FO-DRE-04'!$A$6:$L$301,2,FALSE))","v":""},{"$f":"IF($S181=\"\",\"\",VLOOKUP($S181,'FO-DRE-04'!$A$6:$L$301,3,FALSE))","v":""},{"$f":"IF($S181=\"\",\"\",VLOOKUP($S181,'FO-DRE-04'!$A$6:$L$301,4,FALSE))","v":""},{"$f":"IF($S181=\"\",\"\",VLOOKUP($S181,'FO-DRE-04'!$A$6:$L$301,6,FALSE))","v":""},{"$f":"IF($S181=\"\",\"\",VLOOKUP($S181,'FO-DRE-04'!$A$6:$L$301,11,FALSE))","v":""},{"$f":"IF($T181=\"\",\"\",VLOOKUP($T181,'FO-DRE-02'!$A$6:$M$101,2,FALSE))","v":""},{"$f":"IF($T181=\"\",\"\",VLOOKUP($T181,'FO-DRE-02'!$A$6:$M$101,3,FALSE))","v":""},{"$f":"IF($T181=\"\",\"\",VLOOKUP($T181,'FO-DRE-02'!$A$6:$M$101,6,FALSE))","v":""},{"$f":"IF($T181=\"\",\"\",VLOOKUP($T181,'FO-DRE-02'!$A$6:$M$101,4,FALSE))","v":""},{"$f":"IF($T181=\"\",\"\",VLOOKUP($T181,'FO-DRE-02'!$A$6:$M$101,5,FALSE))","v":""},{"$f":"IF($T181=\"\",\"\",VLOOKUP($T181,'FO-DRE-02'!$A$6:$M$101,8,FALSE))","v":""},{"$f":"IF($T181=\"\",\"\",VLOOKUP($T181,'FO-DRE-02'!$A$6:$M$101,7,FALSE))","v":""},{"$f":"IF($T181=\"\",\"\",VLOOKUP($T181,'FO-DRE-02'!$A$6:$M$101,9,FALSE))","v":""},{"$f":"IF($T181=\"\",\"\",VLOOKUP($T181,'FO-DRE-02'!$A$6:$M$101,11,FALSE))","v":""},{"$f":"IF($T181=\"\",\"\",VLOOKUP($T181,'FO-DRE-02'!$A$6:$M$101,12,FALSE))","v":""},{"$f":"IF($T181=\"\",\"\",VLOOKUP($T181,'FO-DRE-02'!$A$6:$M$101,13,FALSE))","v":""},null,null,null,172,"","F/D","F/D","","","","","","","","","","","","","","",""]
[null,null,null,null,null,null,null,null,{"$f":"IF(H182=\"1a\",Hoja1!$B$126,IF(H182=\"1b\",Hoja1!$B$127,IF(H182=\"2a\",Hoja1!$B$128,IF(H182=\"2b\",Hoja1!$B$129,IF(H182=\"3 \",Hoja1!$B$130,IF(H182=\"4 \",Hoja1!$B$131,IF(H182=\"5 \",Hoja1!$B$132,IF(H182=\"6 \",Hoja1!$B$133,IF(H182=\"7 \",Hoja1!$B$134,IF(H182=\"8 \",Hoja1!$B$135,\" \"))))))))))","v":" "},{"$f":"CONCATENATE(#REF!,\"-\",\"TX\")","v":{"$error":"#REF!"}},{"$f":"CONCATENATE(#REF!,\"-\",\"RX\")","v":{"$error":"#REF!"}},null,null,null,null,0,null,null,null,null,null,{"$f":"IF($R182=\"\",\"\",VLOOKUP($R182,'FO-DRE-01'!$A$7:$U$301,18,FALSE))","v":""},{"$f":"IF($R182=\"\",\"\",VLOOKUP($R182,'FO-DRE-01'!$A$7:$U$301,16,FALSE))","v":""},{"$f":"IF($R182=\"\",\"\",VLOOKUP($R182,'FO-DRE-01'!$A$7:$U$301,17,FALSE))","v":""},{"$f":"IF($R182=\"\",\"\",VLOOKUP($R182,'FO-DRE-01'!$A$7:$U$301,3,FALSE))","v":""},{"$f":"IF($R182=\"\",\"\",VLOOKUP($R182,'FO-DRE-01'!$A$7:$U$301,4,FALSE))","v":""},{"$f":"IF($R182=\"\",\"\",VLOOKUP($R182,'FO-DRE-01'!$A$7:$U$301,5,FALSE))","v":""},{"$f":"IF($R182=\"\",\"\",VLOOKUP($R182,'FO-DRE-01'!$A$7:$U$301,7,FALSE))","v":""},{"$f":"IF($R182=\"\",\"\",VLOOKUP($R182,'FO-DRE-01'!$A$7:$U$301,8,FALSE))","v":""},{"$f":"IF($R182=\"\",\"\",VLOOKUP($R182,'FO-DRE-01'!$A$7:$U$301,9,FALSE))","v":""},{"$f":"IF($R182=\"\",\"\",VLOOKUP($R182,'FO-DRE-01'!$A$7:$U$301,10,FALSE))","v":""},{"$f":"IF($R182=\"\",\"\",VLOOKUP($R182,'FO-DRE-01'!$A$7:$U$301,11,FALSE))","v":""},{"$f":"IF($R182=\"\",\"\",VLOOKUP($R182,'FO-DRE-01'!$A$7:$U$301,12,FALSE))","v":""},{"$f":"IF($R182=\"\",\"\",VLOOKUP($R182,'FO-DRE-01'!$A$7:$U$301,13,FALSE))","v":""},{"$f":"IF($R182=\"\",\"\",VLOOKUP($R182,'FO-DRE-01'!$A$7:$U$301,14,FALSE))","v":""},{"$f":"IF($R182=\"\",\"\",VLOOKUP($R182,'FO-DRE-01'!$A$7:$U$301,15,FALSE))","v":""},{"$f":"IF($S182=\"\",\"\",VLOOKUP($S182,'FO-DRE-04'!$A$6:$L$301,2,FALSE))","v":""},{"$f":"IF($S182=\"\",\"\",VLOOKUP($S182,'FO-DRE-04'!$A$6:$L$301,3,FALSE))","v":""},{"$f":"IF($S182=\"\",\"\",VLOOKUP($S182,'FO-DRE-04'!$A$6:$L$301,4,FALSE))","v":""},{"$f":"IF($S182=\"\",\"\",VLOOKUP($S182,'FO-DRE-04'!$A$6:$L$301,6,FALSE))","v":""},{"$f":"IF($S182=\"\",\"\",VLOOKUP($S182,'FO-DRE-04'!$A$6:$L$301,11,FALSE))","v":""},{"$f":"IF($T182=\"\",\"\",VLOOKUP($T182,'FO-DRE-02'!$A$6:$M$101,2,FALSE))","v":""},{"$f":"IF($T182=\"\",\"\",VLOOKUP($T182,'FO-DRE-02'!$A$6:$M$101,3,FALSE))","v":""},{"$f":"IF($T182=\"\",\"\",VLOOKUP($T182,'FO-DRE-02'!$A$6:$M$101,6,FALSE))","v":""},{"$f":"IF($T182=\"\",\"\",VLOOKUP($T182,'FO-DRE-02'!$A$6:$M$101,4,FALSE))","v":""},{"$f":"IF($T182=\"\",\"\",VLOOKUP($T182,'FO-DRE-02'!$A$6:$M$101,5,FALSE))","v":""},{"$f":"IF($T182=\"\",\"\",VLOOKUP($T182,'FO-DRE-02'!$A$6:$M$101,8,FALSE))","v":""},{"$f":"IF($T182=\"\",\"\",VLOOKUP($T182,'FO-DRE-02'!$A$6:$M$101,7,FALSE))","v":""},{"$f":"IF($T182=\"\",\"\",VLOOKUP($T182,'FO-DRE-02'!$A$6:$M$101,9,FALSE))","v":""},{"$f":"IF($T182=\"\",\"\",VLOOKUP($T182,'FO-DRE-02'!$A$6:$M$101,11,FALSE))","v":""},{"$f":"IF($T182=\"\",\"\",VLOOKUP($T182,'FO-DRE-02'!$A$6:$M$101,12,FALSE))","v":""},{"$f":"IF($T182=\"\",\"\",VLOOKUP($T182,'FO-DRE-02'!$A$6:$M$101,13,FALSE))","v":""},null,null,null,173,"","F/D","F/D","","","","","","","","","","","","","","",""]
[null,null,null,null,null,null,null,null,{"$f":"IF(H183=\"1a\",Hoja1!$B$126,IF(H183=\"1b\",Hoja1!$B$127,IF(H183=\"2a\",Hoja1!$B$128,IF(H183=\"2b\",Hoja1!$B$129,IF(H183=\"3 \",Hoja1!$B$130,IF(H183=\"4 \",Hoja1!$B$131,IF(H183=\"5 \",Hoja1!$B$132,IF(H183=\"6 \",Hoja1!$B$133,IF(H183=\"7 \",Hoja1!$B$134,IF(H183=\"8 \",Hoja1!$B$135,\" \"))))))))))","v":" "},{"$f":"CONCATENATE(#REF!,\"-\",\"TX\")","v":{"$error":"#REF!"}},{"$f":"CONCATENATE(#REF!,\"-\",\"RX\")","v":{"$error":"#REF!"}},null,null,null,null,0,null,null,null,null,null,{"$f":"IF($R183=\"\",\"\",VLOOKUP($R183,'FO-DRE-01'!$A$7:$U$301,18,FALSE))","v":""},{"$f":"IF($R183=\"\",\"\",VLOOKUP($R183,'FO-DRE-01'!$A$7:$U$301,16,FALSE))","v":""},{"$f":"IF($R183=\"\",\"\",VLOOKUP($R183,'FO-DRE-01'!$A$7:$U$301,17,FALSE))","v":""},{"$f":"IF($R183=\"\",\"\",VLOOKUP($R183,'FO-DRE-01'!$A$7:$U$301,3,FALSE))","v":""},{"$f":"IF($R183=\"\",\"\",VLOOKUP($R183,'FO-DRE-01'!$A$7:$U$301,4,FALSE))","v":""},{"$f":"IF($R183=\"\",\"\",VLOOKUP($R183,'FO-DRE-01'!$A$7:$U$301,5,FALSE))","v":""},{"$f":"IF($R183=\"\",\"\",VLOOKUP($R183,'FO-DRE-01'!$A$7:$U$301,7,FALSE))","v":""},{"$f":"IF($R183=\"\",\"\",VLOOKUP($R183,'FO-DRE-01'!$A$7:$U$301,8,FALSE))","v":""},{"$f":"IF($R183=\"\",\"\",VLOOKUP($R183,'FO-DRE-01'!$A$7:$U$301,9,FALSE))","v":""},{"$f":"IF($R183=\"\",\"\",VLOOKUP($R183,'FO-DRE-01'!$A$7:$U$301,10,FALSE))","v":""},{"$f":"IF($R183=\"\",\"\",VLOOKUP($R183,'FO-DRE-01'!$A$7:$U$301,11,FALSE))","v":""},{"$f":"IF($R183=\"\",\"\",VLOOKUP($R183,'FO-DRE-01'!$A$7:$U$301,12,FALSE))","v":""},{"$f":"IF($R183=\"\",\"\",VLOOKUP($R183,'FO-DRE-01'!$A$7:$U$301,13,FALSE))","v":""},{"$f":"IF($R183=\"\",\"\",VLOOKUP($R183,'FO-DRE-01'!$A$7:$U$301,14,FALSE))","v":""},{"$f":"IF($R183=\"\",\"\",VLOOKUP($R183,'FO-DRE-01'!$A$7:$U$301,15,FALSE))","v":""},{"$f":"IF($S183=\"\",\"\",VLOOKUP($S183,'FO-DRE-04'!$A$6:$L$301,2,FALSE))","v":""},{"$f":"IF($S183=\"\",\"\",VLOOKUP($S183,'FO-DRE-04'!$A$6:$L$301,3,FALSE))","v":""},{"$f":"IF($S183=\"\",\"\",VLOOKUP($S183,'FO-DRE-04'!$A$6:$L$301,4,FALSE))","v":""},{"$f":"IF($S183=\"\",\"\",VLOOKUP($S183,'FO-DRE-04'!$A$6:$L$301,6,FALSE))","v":""},{"$f":"IF($S183=\"\",\"\",VLOOKUP($S183,'FO-DRE-04'!$A$6:$L$301,11,FALSE))","v":""},{"$f":"IF($T183=\"\",\"\",VLOOKUP($T183,'FO-DRE-02'!$A$6:$M$101,2,FALSE))","v":""},{"$f":"IF($T183=\"\",\"\",VLOOKUP($T183,'FO-DRE-02'!$A$6:$M$101,3,FALSE))","v":""},{"$f":"IF($T183=\"\",\"\",VLOOKUP($T183,'FO-DRE-02'!$A$6:$M$101,6,FALSE))","v":""},{"$f":"IF($T183=\"\",\"\",VLOOKUP($T183,'FO-DRE-02'!$A$6:$M$101,4,FALSE))","v":""},{"$f":"IF($T183=\"\",\"\",VLOOKUP($T183,'FO-DRE-02'!$A$6:$M$101,5,FALSE))","v":""},{"$f":"IF($T183=\"\",\"\",VLOOKUP($T183,'FO-DRE-02'!$A$6:$M$101,8,FALSE))","v":""},{"$f":"IF($T183=\"\",\"\",VLOOKUP($T183,'FO-DRE-02'!$A$6:$M$101,7,FALSE))","v":""},{"$f":"IF($T183=\"\",\"\",VLOOKUP($T183,'FO-DRE-02'!$A$6:$M$101,9,FALSE))","v":""},{"$f":"IF($T183=\"\",\"\",VLOOKUP($T183,'FO-DRE-02'!$A$6:$M$101,11,FALSE))","v":""},{"$f":"IF($T183=\"\",\"\",VLOOKUP($T183,'FO-DRE-02'!$A$6:$M$101,12,FALSE))","v":""},{"$f":"IF($T183=\"\",\"\",VLOOKUP($T183,'FO-DRE-02'!$A$6:$M$101,13,FALSE))","v":""},null,null,null,174,"","F/D","F/D","","","","","","","","","","","","","","",""]
[null,null,null,null,null,null,null,null,{"$f":"IF(H184=\"1a\",Hoja1!$B$126,IF(H184=\"1b\",Hoja1!$B$127,IF(H184=\"2a\",Hoja1!$B$128,IF(H184=\"2b\",Hoja1!$B$129,IF(H184=\"3 \",Hoja1!$B$130,IF(H184=\"4 \",Hoja1!$B$131,IF(H184=\"5 \",Hoja1!$B$132,IF(H184=\"6 \",Hoja1!$B$133,IF(H184=\"7 \",Hoja1!$B$134,IF(H184=\"8 \",Hoja1!$B$135,\" \"))))))))))","v":" "},{"$f":"CONCATENATE(#REF!,\"-\",\"TX\")","v":{"$error":"#REF!"}},{"$f":"CONCATENATE(#REF!,\"-\",\"RX\")","v":{"$error":"#REF!"}},null,null,null,null,0,null,null,null,null,null,{"$f":"IF($R184=\"\",\"\",VLOOKUP($R184,'FO-DRE-01'!$A$7:$U$301,18,FALSE))","v":""},{"$f":"IF($R184=\"\",\"\",VLOOKUP($R184,'FO-DRE-01'!$A$7:$U$301,16,FALSE))","v":""},{"$f":"IF($R184=\"\",\"\",VLOOKUP($R184,'FO-DRE-01'!$A$7:$U$301,17,FALSE))","v":""},{"$f":"IF($R184=\"\",\"\",VLOOKUP($R184,'FO-DRE-01'!$A$7:$U$301,3,FALSE))","v":""},{"$f":"IF($R184=\"\",\"\",VLOOKUP($R184,'FO-DRE-01'!$A$7:$U$301,4,FALSE))","v":""},{"$f":"IF($R184=\"\",\"\",VLOOKUP($R184,'FO-DRE-01'!$A$7:$U$301,5,FALSE))","v":""},{"$f":"IF($R184=\"\",\"\",VLOOKUP($R184,'FO-DRE-01'!$A$7:$U$301,7,FALSE))","v":""},{"$f":"IF($R184=\"\",\"\",VLOOKUP($R184,'FO-DRE-01'!$A$7:$U$301,8,FALSE))","v":""},{"$f":"IF($R184=\"\",\"\",VLOOKUP($R184,'FO-DRE-01'!$A$7:$U$301,9,FALSE))","v":""},{"$f":"IF($R184=\"\",\"\",VLOOKUP($R184,'FO-DRE-01'!$A$7:$U$301,10,FALSE))","v":""},{"$f":"IF($R184=\"\",\"\",VLOOKUP($R184,'FO-DRE-01'!$A$7:$U$301,11,FALSE))","v":""},{"$f":"IF($R184=\"\",\"\",VLOOKUP($R184,'FO-DRE-01'!$A$7:$U$301,12,FALSE))","v":""},{"$f":"IF($R184=\"\",\"\",VLOOKUP($R184,'FO-DRE-01'!$A$7:$U$301,13,FALSE))","v":""},{"$f":"IF($R184=\"\",\"\",VLOOKUP($R184,'FO-DRE-01'!$A$7:$U$301,14,FALSE))","v":""},{"$f":"IF($R184=\"\",\"\",VLOOKUP($R184,'FO-DRE-01'!$A$7:$U$301,15,FALSE))","v":""},{"$f":"IF($S184=\"\",\"\",VLOOKUP($S184,'FO-DRE-04'!$A$6:$L$301,2,FALSE))","v":""},{"$f":"IF($S184=\"\",\"\",VLOOKUP($S184,'FO-DRE-04'!$A$6:$L$301,3,FALSE))","v":""},{"$f":"IF($S184=\"\",\"\",VLOOKUP($S184,'FO-DRE-04'!$A$6:$L$301,4,FALSE))","v":""},{"$f":"IF($S184=\"\",\"\",VLOOKUP($S184,'FO-DRE-04'!$A$6:$L$301,6,FALSE))","v":""},{"$f":"IF($S184=\"\",\"\",VLOOKUP($S184,'FO-DRE-04'!$A$6:$L$301,11,FALSE))","v":""},{"$f":"IF($T184=\"\",\"\",VLOOKUP($T184,'FO-DRE-02'!$A$6:$M$101,2,FALSE))","v":""},{"$f":"IF($T184=\"\",\"\",VLOOKUP($T184,'FO-DRE-02'!$A$6:$M$101,3,FALSE))","v":""},{"$f":"IF($T184=\"\",\"\",VLOOKUP($T184,'FO-DRE-02'!$A$6:$M$101,6,FALSE))","v":""},{"$f":"IF($T184=\"\",\"\",VLOOKUP($T184,'FO-DRE-02'!$A$6:$M$101,4,FALSE))","v":""},{"$f":"IF($T184=\"\",\"\",VLOOKUP($T184,'FO-DRE-02'!$A$6:$M$101,5,FALSE))","v":""},{"$f":"IF($T184=\"\",\"\",VLOOKUP($T184,'FO-DRE-02'!$A$6:$M$101,8,FALSE))","v":""},{"$f":"IF($T184=\"\",\"\",VLOOKUP($T184,'FO-DRE-02'!$A$6:$M$101,7,FALSE))","v":""},{"$f":"IF($T184=\"\",\"\",VLOOKUP($T184,'FO-DRE-02'!$A$6:$M$101,9,FALSE))","v":""},{"$f":"IF($T184=\"\",\"\",VLOOKUP($T184,'FO-DRE-02'!$A$6:$M$101,11,FALSE))","v":""},{"$f":"IF($T184=\"\",\"\",VLOOKUP($T184,'FO-DRE-02'!$A$6:$M$101,12,FALSE))","v":""},{"$f":"IF($T184=\"\",\"\",VLOOKUP($T184,'FO-DRE-02'!$A$6:$M$101,13,FALSE))","v":""},null,null,null,175,"","F/D","F/D","","","","","","","","","","","","","","",""]
[null,null,null,null,null,null,null,null,{"$f":"IF(H185=\"1a\",Hoja1!$B$126,IF(H185=\"1b\",Hoja1!$B$127,IF(H185=\"2a\",Hoja1!$B$128,IF(H185=\"2b\",Hoja1!$B$129,IF(H185=\"3 \",Hoja1!$B$130,IF(H185=\"4 \",Hoja1!$B$131,IF(H185=\"5 \",Hoja1!$B$132,IF(H185=\"6 \",Hoja1!$B$133,IF(H185=\"7 \",Hoja1!$B$134,IF(H185=\"8 \",Hoja1!$B$135,\" \"))))))))))","v":" "},{"$f":"CONCATENATE(#REF!,\"-\",\"TX\")","v":{"$error":"#REF!"}},{"$f":"CONCATENATE(#REF!,\"-\",\"RX\")","v":{"$error":"#REF!"}},null,null,null,null,0,null,null,null,null,null,{"$f":"IF($R185=\"\",\"\",VLOOKUP($R185,'FO-DRE-01'!$A$7:$U$301,18,FALSE))","v":""},{"$f":"IF($R185=\"\",\"\",VLOOKUP($R185,'FO-DRE-01'!$A$7:$U$301,16,FALSE))","v":""},{"$f":"IF($R185=\"\",\"\",VLOOKUP($R185,'FO-DRE-01'!$A$7:$U$301,17,FALSE))","v":""},{"$f":"IF($R185=\"\",\"\",VLOOKUP($R185,'FO-DRE-01'!$A$7:$U$301,3,FALSE))","v":""},{"$f":"IF($R185=\"\",\"\",VLOOKUP($R185,'FO-DRE-01'!$A$7:$U$301,4,FALSE))","v":""},{"$f":"IF($R185=\"\",\"\",VLOOKUP($R185,'FO-DRE-01'!$A$7:$U$301,5,FALSE))","v":""},{"$f":"IF($R185=\"\",\"\",VLOOKUP($R185,'FO-DRE-01'!$A$7:$U$301,7,FALSE))","v":""},{"$f":"IF($R185=\"\",\"\",VLOOKUP($R185,'FO-DRE-01'!$A$7:$U$301,8,FALSE))","v":""},{"$f":"IF($R185=\"\",\"\",VLOOKUP($R185,'FO-DRE-01'!$A$7:$U$301,9,FALSE))","v":""},{"$f":"IF($R185=\"\",\"\",VLOOKUP($R185,'FO-DRE-01'!$A$7:$U$301,10,FALSE))","v":""},{"$f":"IF($R185=\"\",\"\",VLOOKUP($R185,'FO-DRE-01'!$A$7:$U$301,11,FALSE))","v":""},{"$f":"IF($R185=\"\",\"\",VLOOKUP($R185,'FO-DRE-01'!$A$7:$U$301,12,FALSE))","v":""},{"$f":"IF($R185=\"\",\"\",VLOOKUP($R185,'FO-DRE-01'!$A$7:$U$301,13,FALSE))","v":""},{"$f":"IF($R185=\"\",\"\",VLOOKUP($R185,'FO-DRE-01'!$A$7:$U$301,14,FALSE))","v":""},{"$f":"IF($R185=\"\",\"\",VLOOKUP($R185,'FO-DRE-01'!$A$7:$U$301,15,FALSE))","v":""},{"$f":"IF($S185=\"\",\"\",VLOOKUP($S185,'FO-DRE-04'!$A$6:$L$301,2,FALSE))","v":""},{"$f":"IF($S185=\"\",\"\",VLOOKUP($S185,'FO-DRE-04'!$A$6:$L$301,3,FALSE))","v":""},{"$f":"IF($S185=\"\",\"\",VLOOKUP($S185,'FO-DRE-04'!$A$6:$L$301,4,FALSE))","v":""},{"$f":"IF($S185=\"\",\"\",VLOOKUP($S185,'FO-DRE-04'!$A$6:$L$301,6,FALSE))","v":""},{"$f":"IF($S185=\"\",\"\",VLOOKUP($S185,'FO-DRE-04'!$A$6:$L$301,11,FALSE))","v":""},{"$f":"IF($T185=\"\",\"\",VLOOKUP($T185,'FO-DRE-02'!$A$6:$M$101,2,FALSE))","v":""},{"$f":"IF($T185=\"\",\"\",VLOOKUP($T185,'FO-DRE-02'!$A$6:$M$101,3,FALSE))","v":""},{"$f":"IF($T185=\"\",\"\",VLOOKUP($T185,'FO-DRE-02'!$A$6:$M$101,6,FALSE))","v":""},{"$f":"IF($T185=\"\",\"\",VLOOKUP($T185,'FO-DRE-02'!$A$6:$M$101,4,FALSE))","v":""},{"$f":"IF($T185=\"\",\"\",VLOOKUP($T185,'FO-DRE-02'!$A$6:$M$101,5,FALSE))","v":""},{"$f":"IF($T185=\"\",\"\",VLOOKUP($T185,'FO-DRE-02'!$A$6:$M$101,8,FALSE))","v":""},{"$f":"IF($T185=\"\",\"\",VLOOKUP($T185,'FO-DRE-02'!$A$6:$M$101,7,FALSE))","v":""},{"$f":"IF($T185=\"\",\"\",VLOOKUP($T185,'FO-DRE-02'!$A$6:$M$101,9,FALSE))","v":""},{"$f":"IF($T185=\"\",\"\",VLOOKUP($T185,'FO-DRE-02'!$A$6:$M$101,11,FALSE))","v":""},{"$f":"IF($T185=\"\",\"\",VLOOKUP($T185,'FO-DRE-02'!$A$6:$M$101,12,FALSE))","v":""},{"$f":"IF($T185=\"\",\"\",VLOOKUP($T185,'FO-DRE-02'!$A$6:$M$101,13,FALSE))","v":""},null,null,null,176,"","F/D","F/D","","","","","","","","","","","","","","",""]
[null,null,null,null,null,null,null,null,{"$f":"IF(H186=\"1a\",Hoja1!$B$126,IF(H186=\"1b\",Hoja1!$B$127,IF(H186=\"2a\",Hoja1!$B$128,IF(H186=\"2b\",Hoja1!$B$129,IF(H186=\"3 \",Hoja1!$B$130,IF(H186=\"4 \",Hoja1!$B$131,IF(H186=\"5 \",Hoja1!$B$132,IF(H186=\"6 \",Hoja1!$B$133,IF(H186=\"7 \",Hoja1!$B$134,IF(H186=\"8 \",Hoja1!$B$135,\" \"))))))))))","v":" "},{"$f":"CONCATENATE(#REF!,\"-\",\"TX\")","v":{"$error":"#REF!"}},{"$f":"CONCATENATE(#REF!,\"-\",\"RX\")","v":{"$error":"#REF!"}},null,null,null,null,0,null,null,null,null,null,{"$f":"IF($R186=\"\",\"\",VLOOKUP($R186,'FO-DRE-01'!$A$7:$U$301,18,FALSE))","v":""},{"$f":"IF($R186=\"\",\"\",VLOOKUP($R186,'FO-DRE-01'!$A$7:$U$301,16,FALSE))","v":""},{"$f":"IF($R186=\"\",\"\",VLOOKUP($R186,'FO-DRE-01'!$A$7:$U$301,17,FALSE))","v":""},{"$f":"IF($R186=\"\",\"\",VLOOKUP($R186,'FO-DRE-01'!$A$7:$U$301,3,FALSE))","v":""},{"$f":"IF($R186=\"\",\"\",VLOOKUP($R186,'FO-DRE-01'!$A$7:$U$301,4,FALSE))","v":""},{"$f":"IF($R186=\"\",\"\",VLOOKUP($R186,'FO-DRE-01'!$A$7:$U$301,5,FALSE))","v":""},{"$f":"IF($R186=\"\",\"\",VLOOKUP($R186,'FO-DRE-01'!$A$7:$U$301,7,FALSE))","v":""},{"$f":"IF($R186=\"\",\"\",VLOOKUP($R186,'FO-DRE-01'!$A$7:$U$301,8,FALSE))","v":""},{"$f":"IF($R186=\"\",\"\",VLOOKUP($R186,'FO-DRE-01'!$A$7:$U$301,9,FALSE))","v":""},{"$f":"IF($R186=\"\",\"\",VLOOKUP($R186,'FO-DRE-01'!$A$7:$U$301,10,FALSE))","v":""},{"$f":"IF($R186=\"\",\"\",VLOOKUP($R186,'FO-DRE-01'!$A$7:$U$301,11,FALSE))","v":""},{"$f":"IF($R186=\"\",\"\",VLOOKUP($R186,'FO-DRE-01'!$A$7:$U$301,12,FALSE))","v":""},{"$f":"IF($R186=\"\",\"\",VLOOKUP($R186,'FO-DRE-01'!$A$7:$U$301,13,FALSE))","v":""},{"$f":"IF($R186=\"\",\"\",VLOOKUP($R186,'FO-DRE-01'!$A$7:$U$301,14,FALSE))","v":""},{"$f":"IF($R186=\"\",\"\",VLOOKUP($R186,'FO-DRE-01'!$A$7:$U$301,15,FALSE))","v":""},{"$f":"IF($S186=\"\",\"\",VLOOKUP($S186,'FO-DRE-04'!$A$6:$L$301,2,FALSE))","v":""},{"$f":"IF($S186=\"\",\"\",VLOOKUP($S186,'FO-DRE-04'!$A$6:$L$301,3,FALSE))","v":""},{"$f":"IF($S186=\"\",\"\",VLOOKUP($S186,'FO-DRE-04'!$A$6:$L$301,4,FALSE))","v":""},{"$f":"IF($S186=\"\",\"\",VLOOKUP($S186,'FO-DRE-04'!$A$6:$L$301,6,FALSE))","v":""},{"$f":"IF($S186=\"\",\"\",VLOOKUP($S186,'FO-DRE-04'!$A$6:$L$301,11,FALSE))","v":""},{"$f":"IF($T186=\"\",\"\",VLOOKUP($T186,'FO-DRE-02'!$A$6:$M$101,2,FALSE))","v":""},{"$f":"IF($T186=\"\",\"\",VLOOKUP($T186,'FO-DRE-02'!$A$6:$M$101,3,FALSE))","v":""},{"$f":"IF($T186=\"\",\"\",VLOOKUP($T186,'FO-DRE-02'!$A$6:$M$101,6,FALSE))","v":""},{"$f":"IF($T186=\"\",\"\",VLOOKUP($T186,'FO-DRE-02'!$A$6:$M$101,4,FALSE))","v":""},{"$f":"IF($T186=\"\",\"\",VLOOKUP($T186,'FO-DRE-02'!$A$6:$M$101,5,FALSE))","v":""},{"$f":"IF($T186=\"\",\"\",VLOOKUP($T186,'FO-DRE-02'!$A$6:$M$101,8,FALSE))","v":""},{"$f":"IF($T186=\"\",\"\",VLOOKUP($T186,'FO-DRE-02'!$A$6:$M$101,7,FALSE))","v":""},{"$f":"IF($T186=\"\",\"\",VLOOKUP($T186,'FO-DRE-02'!$A$6:$M$101,9,FALSE))","v":""},{"$f":"IF($T186=\"\",\"\",VLOOKUP($T186,'FO-DRE-02'!$A$6:$M$101,11,FALSE))","v":""},{"$f":"IF($T186=\"\",\"\",VLOOKUP($T186,'FO-DRE-02'!$A$6:$M$101,12,FALSE))","v":""},{"$f":"IF($T186=\"\",\"\",VLOOKUP($T186,'FO-DRE-02'!$A$6:$M$101,13,FALSE))","v":""},null,null,null,177,"","F/D","F/D","","","","","","","","","","","","","","",""]
[null,null,null,null,null,null,null,null,{"$f":"IF(H187=\"1a\",Hoja1!$B$126,IF(H187=\"1b\",Hoja1!$B$127,IF(H187=\"2a\",Hoja1!$B$128,IF(H187=\"2b\",Hoja1!$B$129,IF(H187=\"3 \",Hoja1!$B$130,IF(H187=\"4 \",Hoja1!$B$131,IF(H187=\"5 \",Hoja1!$B$132,IF(H187=\"6 \",Hoja1!$B$133,IF(H187=\"7 \",Hoja1!$B$134,IF(H187=\"8 \",Hoja1!$B$135,\" \"))))))))))","v":" "},{"$f":"CONCATENATE(#REF!,\"-\",\"TX\")","v":{"$error":"#REF!"}},{"$f":"CONCATENATE(#REF!,\"-\",\"RX\")","v":{"$error":"#REF!"}},null,null,null,null,0,null,null,null,null,null,{"$f":"IF($R187=\"\",\"\",VLOOKUP($R187,'FO-DRE-01'!$A$7:$U$301,18,FALSE))","v":""},{"$f":"IF($R187=\"\",\"\",VLOOKUP($R187,'FO-DRE-01'!$A$7:$U$301,16,FALSE))","v":""},{"$f":"IF($R187=\"\",\"\",VLOOKUP($R187,'FO-DRE-01'!$A$7:$U$301,17,FALSE))","v":""},{"$f":"IF($R187=\"\",\"\",VLOOKUP($R187,'FO-DRE-01'!$A$7:$U$301,3,FALSE))","v":""},{"$f":"IF($R187=\"\",\"\",VLOOKUP($R187,'FO-DRE-01'!$A$7:$U$301,4,FALSE))","v":""},{"$f":"IF($R187=\"\",\"\",VLOOKUP($R187,'FO-DRE-01'!$A$7:$U$301,5,FALSE))","v":""},{"$f":"IF($R187=\"\",\"\",VLOOKUP($R187,'FO-DRE-01'!$A$7:$U$301,7,FALSE))","v":""},{"$f":"IF($R187=\"\",\"\",VLOOKUP($R187,'FO-DRE-01'!$A$7:$U$301,8,FALSE))","v":""},{"$f":"IF($R187=\"\",\"\",VLOOKUP($R187,'FO-DRE-01'!$A$7:$U$301,9,FALSE))","v":""},{"$f":"IF($R187=\"\",\"\",VLOOKUP($R187,'FO-DRE-01'!$A$7:$U$301,10,FALSE))","v":""},{"$f":"IF($R187=\"\",\"\",VLOOKUP($R187,'FO-DRE-01'!$A$7:$U$301,11,FALSE))","v":""},{"$f":"IF($R187=\"\",\"\",VLOOKUP($R187,'FO-DRE-01'!$A$7:$U$301,12,FALSE))","v":""},{"$f":"IF($R187=\"\",\"\",VLOOKUP($R187,'FO-DRE-01'!$A$7:$U$301,13,FALSE))","v":""},{"$f":"IF($R187=\"\",\"\",VLOOKUP($R187,'FO-DRE-01'!$A$7:$U$301,14,FALSE))","v":""},{"$f":"IF($R187=\"\",\"\",VLOOKUP($R187,'FO-DRE-01'!$A$7:$U$301,15,FALSE))","v":""},{"$f":"IF($S187=\"\",\"\",VLOOKUP($S187,'FO-DRE-04'!$A$6:$L$301,2,FALSE))","v":""},{"$f":"IF($S187=\"\",\"\",VLOOKUP($S187,'FO-DRE-04'!$A$6:$L$301,3,FALSE))","v":""},{"$f":"IF($S187=\"\",\"\",VLOOKUP($S187,'FO-DRE-04'!$A$6:$L$301,4,FALSE))","v":""},{"$f":"IF($S187=\"\",\"\",VLOOKUP($S187,'FO-DRE-04'!$A$6:$L$301,6,FALSE))","v":""},{"$f":"IF($S187=\"\",\"\",VLOOKUP($S187,'FO-DRE-04'!$A$6:$L$301,11,FALSE))","v":""},{"$f":"IF($T187=\"\",\"\",VLOOKUP($T187,'FO-DRE-02'!$A$6:$M$101,2,FALSE))","v":""},{"$f":"IF($T187=\"\",\"\",VLOOKUP($T187,'FO-DRE-02'!$A$6:$M$101,3,FALSE))","v":""},{"$f":"IF($T187=\"\",\"\",VLOOKUP($T187,'FO-DRE-02'!$A$6:$M$101,6,FALSE))","v":""},{"$f":"IF($T187=\"\",\"\",VLOOKUP($T187,'FO-DRE-02'!$A$6:$M$101,4,FALSE))","v":""},{"$f":"IF($T187=\"\",\"\",VLOOKUP($T187,'FO-DRE-02'!$A$6:$M$101,5,FALSE))","v":""},{"$f":"IF($T187=\"\",\"\",VLOOKUP($T187,'FO-DRE-02'!$A$6:$M$101,8,FALSE))","v":""},{"$f":"IF($T187=\"\",\"\",VLOOKUP($T187,'FO-DRE-02'!$A$6:$M$101,7,FALSE))","v":""},{"$f":"IF($T187=\"\",\"\",VLOOKUP($T187,'FO-DRE-02'!$A$6:$M$101,9,FALSE))","v":""},{"$f":"IF($T187=\"\",\"\",VLOOKUP($T187,'FO-DRE-02'!$A$6:$M$101,11,FALSE))","v":""},{"$f":"IF($T187=\"\",\"\",VLOOKUP($T187,'FO-DRE-02'!$A$6:$M$101,12,FALSE))","v":""},{"$f":"IF($T187=\"\",\"\",VLOOKUP($T187,'FO-DRE-02'!$A$6:$M$101,13,FALSE))","v":""},null,null,null,178,"","F/D","F/D","","","","","","","","","","","","","","",""]
[null,null,null,null,null,null,null,null,{"$f":"IF(H188=\"1a\",Hoja1!$B$126,IF(H188=\"1b\",Hoja1!$B$127,IF(H188=\"2a\",Hoja1!$B$128,IF(H188=\"2b\",Hoja1!$B$129,IF(H188=\"3 \",Hoja1!$B$130,IF(H188=\"4 \",Hoja1!$B$131,IF(H188=\"5 \",Hoja1!$B$132,IF(H188=\"6 \",Hoja1!$B$133,IF(H188=\"7 \",Hoja1!$B$134,IF(H188=\"8 \",Hoja1!$B$135,\" \"))))))))))","v":" "},{"$f":"CONCATENATE(#REF!,\"-\",\"TX\")","v":{"$error":"#REF!"}},{"$f":"CONCATENATE(#REF!,\"-\",\"RX\")","v":{"$error":"#REF!"}},null,null,null,null,0,null,null,null,null,null,{"$f":"IF($R188=\"\",\"\",VLOOKUP($R188,'FO-DRE-01'!$A$7:$U$301,18,FALSE))","v":""},{"$f":"IF($R188=\"\",\"\",VLOOKUP($R188,'FO-DRE-01'!$A$7:$U$301,16,FALSE))","v":""},{"$f":"IF($R188=\"\",\"\",VLOOKUP($R188,'FO-DRE-01'!$A$7:$U$301,17,FALSE))","v":""},{"$f":"IF($R188=\"\",\"\",VLOOKUP($R188,'FO-DRE-01'!$A$7:$U$301,3,FALSE))","v":""},{"$f":"IF($R188=\"\",\"\",VLOOKUP($R188,'FO-DRE-01'!$A$7:$U$301,4,FALSE))","v":""},{"$f":"IF($R188=\"\",\"\",VLOOKUP($R188,'FO-DRE-01'!$A$7:$U$301,5,FALSE))","v":""},{"$f":"IF($R188=\"\",\"\",VLOOKUP($R188,'FO-DRE-01'!$A$7:$U$301,7,FALSE))","v":""},{"$f":"IF($R188=\"\",\"\",VLOOKUP($R188,'FO-DRE-01'!$A$7:$U$301,8,FALSE))","v":""},{"$f":"IF($R188=\"\",\"\",VLOOKUP($R188,'FO-DRE-01'!$A$7:$U$301,9,FALSE))","v":""},{"$f":"IF($R188=\"\",\"\",VLOOKUP($R188,'FO-DRE-01'!$A$7:$U$301,10,FALSE))","v":""},{"$f":"IF($R188=\"\",\"\",VLOOKUP($R188,'FO-DRE-01'!$A$7:$U$301,11,FALSE))","v":""},{"$f":"IF($R188=\"\",\"\",VLOOKUP($R188,'FO-DRE-01'!$A$7:$U$301,12,FALSE))","v":""},{"$f":"IF($R188=\"\",\"\",VLOOKUP($R188,'FO-DRE-01'!$A$7:$U$301,13,FALSE))","v":""},{"$f":"IF($R188=\"\",\"\",VLOOKUP($R188,'FO-DRE-01'!$A$7:$U$301,14,FALSE))","v":""},{"$f":"IF($R188=\"\",\"\",VLOOKUP($R188,'FO-DRE-01'!$A$7:$U$301,15,FALSE))","v":""},{"$f":"IF($S188=\"\",\"\",VLOOKUP($S188,'FO-DRE-04'!$A$6:$L$301,2,FALSE))","v":""},{"$f":"IF($S188=\"\",\"\",VLOOKUP($S188,'FO-DRE-04'!$A$6:$L$301,3,FALSE))","v":""},{"$f":"IF($S188=\"\",\"\",VLOOKUP($S188,'FO-DRE-04'!$A$6:$L$301,4,FALSE))","v":""},{"$f":"IF($S188=\"\",\"\",VLOOKUP($S188,'FO-DRE-04'!$A$6:$L$301,6,FALSE))","v":""},{"$f":"IF($S188=\"\",\"\",VLOOKUP($S188,'FO-DRE-04'!$A$6:$L$301,11,FALSE))","v":""},{"$f":"IF($T188=\"\",\"\",VLOOKUP($T188,'FO-DRE-02'!$A$6:$M$101,2,FALSE))","v":""},{"$f":"IF($T188=\"\",\"\",VLOOKUP($T188,'FO-DRE-02'!$A$6:$M$101,3,FALSE))","v":""},{"$f":"IF($T188=\"\",\"\",VLOOKUP($T188,'FO-DRE-02'!$A$6:$M$101,6,FALSE))","v":""},{"$f":"IF($T188=\"\",\"\",VLOOKUP($T188,'FO-DRE-02'!$A$6:$M$101,4,FALSE))","v":""},{"$f":"IF($T188=\"\",\"\",VLOOKUP($T188,'FO-DRE-02'!$A$6:$M$101,5,FALSE))","v":""},{"$f":"IF($T188=\"\",\"\",VLOOKUP($T188,'FO-DRE-02'!$A$6:$M$101,8,FALSE))","v":""},{"$f":"IF($T188=\"\",\"\",VLOOKUP($T188,'FO-DRE-02'!$A$6:$M$101,7,FALSE))","v":""},{"$f":"IF($T188=\"\",\"\",VLOOKUP($T188,'FO-DRE-02'!$A$6:$M$101,9,FALSE))","v":""},{"$f":"IF($T188=\"\",\"\",VLOOKUP($T188,'FO-DRE-02'!$A$6:$M$101,11,FALSE))","v":""},{"$f":"IF($T188=\"\",\"\",VLOOKUP($T188,'FO-DRE-02'!$A$6:$M$101,12,FALSE))","v":""},{"$f":"IF($T188=\"\",\"\",VLOOKUP($T188,'FO-DRE-02'!$A$6:$M$101,13,FALSE))","v":""},null,null,null,179,"","F/D","F/D","","","","","","","","","","","","","","",""]
[null,null,null,null,null,null,null,null,{"$f":"IF(H189=\"1a\",Hoja1!$B$126,IF(H189=\"1b\",Hoja1!$B$127,IF(H189=\"2a\",Hoja1!$B$128,IF(H189=\"2b\",Hoja1!$B$129,IF(H189=\"3 \",Hoja1!$B$130,IF(H189=\"4 \",Hoja1!$B$131,IF(H189=\"5 \",Hoja1!$B$132,IF(H189=\"6 \",Hoja1!$B$133,IF(H189=\"7 \",Hoja1!$B$134,IF(H189=\"8 \",Hoja1!$B$135,\" \"))))))))))","v":" "},{"$f":"CONCATENATE(#REF!,\"-\",\"TX\")","v":{"$error":"#REF!"}},{"$f":"CONCATENATE(#REF!,\"-\",\"RX\")","v":{"$error":"#REF!"}},null,null,null,null,0,null,null,null,null,null,{"$f":"IF($R189=\"\",\"\",VLOOKUP($R189,'FO-DRE-01'!$A$7:$U$301,18,FALSE))","v":""},{"$f":"IF($R189=\"\",\"\",VLOOKUP($R189,'FO-DRE-01'!$A$7:$U$301,16,FALSE))","v":""},{"$f":"IF($R189=\"\",\"\",VLOOKUP($R189,'FO-DRE-01'!$A$7:$U$301,17,FALSE))","v":""},{"$f":"IF($R189=\"\",\"\",VLOOKUP($R189,'FO-DRE-01'!$A$7:$U$301,3,FALSE))","v":""},{"$f":"IF($R189=\"\",\"\",VLOOKUP($R189,'FO-DRE-01'!$A$7:$U$301,4,FALSE))","v":""},{"$f":"IF($R189=\"\",\"\",VLOOKUP($R189,'FO-DRE-01'!$A$7:$U$301,5,FALSE))","v":""},{"$f":"IF($R189=\"\",\"\",VLOOKUP($R189,'FO-DRE-01'!$A$7:$U$301,7,FALSE))","v":""},{"$f":"IF($R189=\"\",\"\",VLOOKUP($R189,'FO-DRE-01'!$A$7:$U$301,8,FALSE))","v":""},{"$f":"IF($R189=\"\",\"\",VLOOKUP($R189,'FO-DRE-01'!$A$7:$U$301,9,FALSE))","v":""},{"$f":"IF($R189=\"\",\"\",VLOOKUP($R189,'FO-DRE-01'!$A$7:$U$301,10,FALSE))","v":""},{"$f":"IF($R189=\"\",\"\",VLOOKUP($R189,'FO-DRE-01'!$A$7:$U$301,11,FALSE))","v":""},{"$f":"IF($R189=\"\",\"\",VLOOKUP($R189,'FO-DRE-01'!$A$7:$U$301,12,FALSE))","v":""},{"$f":"IF($R189=\"\",\"\",VLOOKUP($R189,'FO-DRE-01'!$A$7:$U$301,13,FALSE))","v":""},{"$f":"IF($R189=\"\",\"\",VLOOKUP($R189,'FO-DRE-01'!$A$7:$U$301,14,FALSE))","v":""},{"$f":"IF($R189=\"\",\"\",VLOOKUP($R189,'FO-DRE-01'!$A$7:$U$301,15,FALSE))","v":""},{"$f":"IF($S189=\"\",\"\",VLOOKUP($S189,'FO-DRE-04'!$A$6:$L$301,2,FALSE))","v":""},{"$f":"IF($S189=\"\",\"\",VLOOKUP($S189,'FO-DRE-04'!$A$6:$L$301,3,FALSE))","v":""},{"$f":"IF($S189=\"\",\"\",VLOOKUP($S189,'FO-DRE-04'!$A$6:$L$301,4,FALSE))","v":""},{"$f":"IF($S189=\"\",\"\",VLOOKUP($S189,'FO-DRE-04'!$A$6:$L$301,6,FALSE))","v":""},{"$f":"IF($S189=\"\",\"\",VLOOKUP($S189,'FO-DRE-04'!$A$6:$L$301,11,FALSE))","v":""},{"$f":"IF($T189=\"\",\"\",VLOOKUP($T189,'FO-DRE-02'!$A$6:$M$101,2,FALSE))","v":""},{"$f":"IF($T189=\"\",\"\",VLOOKUP($T189,'FO-DRE-02'!$A$6:$M$101,3,FALSE))","v":""},{"$f":"IF($T189=\"\",\"\",VLOOKUP($T189,'FO-DRE-02'!$A$6:$M$101,6,FALSE))","v":""},{"$f":"IF($T189=\"\",\"\",VLOOKUP($T189,'FO-DRE-02'!$A$6:$M$101,4,FALSE))","v":""},{"$f":"IF($T189=\"\",\"\",VLOOKUP($T189,'FO-DRE-02'!$A$6:$M$101,5,FALSE))","v":""},{"$f":"IF($T189=\"\",\"\",VLOOKUP($T189,'FO-DRE-02'!$A$6:$M$101,8,FALSE))","v":""},{"$f":"IF($T189=\"\",\"\",VLOOKUP($T189,'FO-DRE-02'!$A$6:$M$101,7,FALSE))","v":""},{"$f":"IF($T189=\"\",\"\",VLOOKUP($T189,'FO-DRE-02'!$A$6:$M$101,9,FALSE))","v":""},{"$f":"IF($T189=\"\",\"\",VLOOKUP($T189,'FO-DRE-02'!$A$6:$M$101,11,FALSE))","v":""},{"$f":"IF($T189=\"\",\"\",VLOOKUP($T189,'FO-DRE-02'!$A$6:$M$101,12,FALSE))","v":""},{"$f":"IF($T189=\"\",\"\",VLOOKUP($T189,'FO-DRE-02'!$A$6:$M$101,13,FALSE))","v":""},null,null,null,180,"","F/D","F/D","","","","","","","","","","","","","","",""]
[null,null,null,null,null,null,null,null,{"$f":"IF(H190=\"1a\",Hoja1!$B$126,IF(H190=\"1b\",Hoja1!$B$127,IF(H190=\"2a\",Hoja1!$B$128,IF(H190=\"2b\",Hoja1!$B$129,IF(H190=\"3 \",Hoja1!$B$130,IF(H190=\"4 \",Hoja1!$B$131,IF(H190=\"5 \",Hoja1!$B$132,IF(H190=\"6 \",Hoja1!$B$133,IF(H190=\"7 \",Hoja1!$B$134,IF(H190=\"8 \",Hoja1!$B$135,\" \"))))))))))","v":" "},{"$f":"CONCATENATE(#REF!,\"-\",\"TX\")","v":{"$error":"#REF!"}},{"$f":"CONCATENATE(#REF!,\"-\",\"RX\")","v":{"$error":"#REF!"}},null,null,null,null,0,null,null,null,null,null,{"$f":"IF($R190=\"\",\"\",VLOOKUP($R190,'FO-DRE-01'!$A$7:$U$301,18,FALSE))","v":""},{"$f":"IF($R190=\"\",\"\",VLOOKUP($R190,'FO-DRE-01'!$A$7:$U$301,16,FALSE))","v":""},{"$f":"IF($R190=\"\",\"\",VLOOKUP($R190,'FO-DRE-01'!$A$7:$U$301,17,FALSE))","v":""},{"$f":"IF($R190=\"\",\"\",VLOOKUP($R190,'FO-DRE-01'!$A$7:$U$301,3,FALSE))","v":""},{"$f":"IF($R190=\"\",\"\",VLOOKUP($R190,'FO-DRE-01'!$A$7:$U$301,4,FALSE))","v":""},{"$f":"IF($R190=\"\",\"\",VLOOKUP($R190,'FO-DRE-01'!$A$7:$U$301,5,FALSE))","v":""},{"$f":"IF($R190=\"\",\"\",VLOOKUP($R190,'FO-DRE-01'!$A$7:$U$301,7,FALSE))","v":""},{"$f":"IF($R190=\"\",\"\",VLOOKUP($R190,'FO-DRE-01'!$A$7:$U$301,8,FALSE))","v":""},{"$f":"IF($R190=\"\",\"\",VLOOKUP($R190,'FO-DRE-01'!$A$7:$U$301,9,FALSE))","v":""},{"$f":"IF($R190=\"\",\"\",VLOOKUP($R190,'FO-DRE-01'!$A$7:$U$301,10,FALSE))","v":""},{"$f":"IF($R190=\"\",\"\",VLOOKUP($R190,'FO-DRE-01'!$A$7:$U$301,11,FALSE))","v":""},{"$f":"IF($R190=\"\",\"\",VLOOKUP($R190,'FO-DRE-01'!$A$7:$U$301,12,FALSE))","v":""},{"$f":"IF($R190=\"\",\"\",VLOOKUP($R190,'FO-DRE-01'!$A$7:$U$301,13,FALSE))","v":""},{"$f":"IF($R190=\"\",\"\",VLOOKUP($R190,'FO-DRE-01'!$A$7:$U$301,14,FALSE))","v":""},{"$f":"IF($R190=\"\",\"\",VLOOKUP($R190,'FO-DRE-01'!$A$7:$U$301,15,FALSE))","v":""},{"$f":"IF($S190=\"\",\"\",VLOOKUP($S190,'FO-DRE-04'!$A$6:$L$301,2,FALSE))","v":""},{"$f":"IF($S190=\"\",\"\",VLOOKUP($S190,'FO-DRE-04'!$A$6:$L$301,3,FALSE))","v":""},{"$f":"IF($S190=\"\",\"\",VLOOKUP($S190,'FO-DRE-04'!$A$6:$L$301,4,FALSE))","v":""},{"$f":"IF($S190=\"\",\"\",VLOOKUP($S190,'FO-DRE-04'!$A$6:$L$301,6,FALSE))","v":""},{"$f":"IF($S190=\"\",\"\",VLOOKUP($S190,'FO-DRE-04'!$A$6:$L$301,11,FALSE))","v":""},{"$f":"IF($T190=\"\",\"\",VLOOKUP($T190,'FO-DRE-02'!$A$6:$M$101,2,FALSE))","v":""},{"$f":"IF($T190=\"\",\"\",VLOOKUP($T190,'FO-DRE-02'!$A$6:$M$101,3,FALSE))","v":""},{"$f":"IF($T190=\"\",\"\",VLOOKUP($T190,'FO-DRE-02'!$A$6:$M$101,6,FALSE))","v":""},{"$f":"IF($T190=\"\",\"\",VLOOKUP($T190,'FO-DRE-02'!$A$6:$M$101,4,FALSE))","v":""},{"$f":"IF($T190=\"\",\"\",VLOOKUP($T190,'FO-DRE-02'!$A$6:$M$101,5,FALSE))","v":""},{"$f":"IF($T190=\"\",\"\",VLOOKUP($T190,'FO-DRE-02'!$A$6:$M$101,8,FALSE))","v":""},{"$f":"IF($T190=\"\",\"\",VLOOKUP($T190,'FO-DRE-02'!$A$6:$M$101,7,FALSE))","v":""},{"$f":"IF($T190=\"\",\"\",VLOOKUP($T190,'FO-DRE-02'!$A$6:$M$101,9,FALSE))","v":""},{"$f":"IF($T190=\"\",\"\",VLOOKUP($T190,'FO-DRE-02'!$A$6:$M$101,11,FALSE))","v":""},{"$f":"IF($T190=\"\",\"\",VLOOKUP($T190,'FO-DRE-02'!$A$6:$M$101,12,FALSE))","v":""},{"$f":"IF($T190=\"\",\"\",VLOOKUP($T190,'FO-DRE-02'!$A$6:$M$101,13,FALSE))","v":""},null,null,null,181,"","F/D","F/D","","","","","","","","","","","","","","",""]
[null,null,null,null,null,null,null,null,{"$f":"IF(H191=\"1a\",Hoja1!$B$126,IF(H191=\"1b\",Hoja1!$B$127,IF(H191=\"2a\",Hoja1!$B$128,IF(H191=\"2b\",Hoja1!$B$129,IF(H191=\"3 \",Hoja1!$B$130,IF(H191=\"4 \",Hoja1!$B$131,IF(H191=\"5 \",Hoja1!$B$132,IF(H191=\"6 \",Hoja1!$B$133,IF(H191=\"7 \",Hoja1!$B$134,IF(H191=\"8 \",Hoja1!$B$135,\" \"))))))))))","v":" "},{"$f":"CONCATENATE(#REF!,\"-\",\"TX\")","v":{"$error":"#REF!"}},{"$f":"CONCATENATE(#REF!,\"-\",\"RX\")","v":{"$error":"#REF!"}},null,null,null,null,0,null,null,null,null,null,{"$f":"IF($R191=\"\",\"\",VLOOKUP($R191,'FO-DRE-01'!$A$7:$U$301,18,FALSE))","v":""},{"$f":"IF($R191=\"\",\"\",VLOOKUP($R191,'FO-DRE-01'!$A$7:$U$301,16,FALSE))","v":""},{"$f":"IF($R191=\"\",\"\",VLOOKUP($R191,'FO-DRE-01'!$A$7:$U$301,17,FALSE))","v":""},{"$f":"IF($R191=\"\",\"\",VLOOKUP($R191,'FO-DRE-01'!$A$7:$U$301,3,FALSE))","v":""},{"$f":"IF($R191=\"\",\"\",VLOOKUP($R191,'FO-DRE-01'!$A$7:$U$301,4,FALSE))","v":""},{"$f":"IF($R191=\"\",\"\",VLOOKUP($R191,'FO-DRE-01'!$A$7:$U$301,5,FALSE))","v":""},{"$f":"IF($R191=\"\",\"\",VLOOKUP($R191,'FO-DRE-01'!$A$7:$U$301,7,FALSE))","v":""},{"$f":"IF($R191=\"\",\"\",VLOOKUP($R191,'FO-DRE-01'!$A$7:$U$301,8,FALSE))","v":""},{"$f":"IF($R191=\"\",\"\",VLOOKUP($R191,'FO-DRE-01'!$A$7:$U$301,9,FALSE))","v":""},{"$f":"IF($R191=\"\",\"\",VLOOKUP($R191,'FO-DRE-01'!$A$7:$U$301,10,FALSE))","v":""},{"$f":"IF($R191=\"\",\"\",VLOOKUP($R191,'FO-DRE-01'!$A$7:$U$301,11,FALSE))","v":""},{"$f":"IF($R191=\"\",\"\",VLOOKUP($R191,'FO-DRE-01'!$A$7:$U$301,12,FALSE))","v":""},{"$f":"IF($R191=\"\",\"\",VLOOKUP($R191,'FO-DRE-01'!$A$7:$U$301,13,FALSE))","v":""},{"$f":"IF($R191=\"\",\"\",VLOOKUP($R191,'FO-DRE-01'!$A$7:$U$301,14,FALSE))","v":""},{"$f":"IF($R191=\"\",\"\",VLOOKUP($R191,'FO-DRE-01'!$A$7:$U$301,15,FALSE))","v":""},{"$f":"IF($S191=\"\",\"\",VLOOKUP($S191,'FO-DRE-04'!$A$6:$L$301,2,FALSE))","v":""},{"$f":"IF($S191=\"\",\"\",VLOOKUP($S191,'FO-DRE-04'!$A$6:$L$301,3,FALSE))","v":""},{"$f":"IF($S191=\"\",\"\",VLOOKUP($S191,'FO-DRE-04'!$A$6:$L$301,4,FALSE))","v":""},{"$f":"IF($S191=\"\",\"\",VLOOKUP($S191,'FO-DRE-04'!$A$6:$L$301,6,FALSE))","v":""},{"$f":"IF($S191=\"\",\"\",VLOOKUP($S191,'FO-DRE-04'!$A$6:$L$301,11,FALSE))","v":""},{"$f":"IF($T191=\"\",\"\",VLOOKUP($T191,'FO-DRE-02'!$A$6:$M$101,2,FALSE))","v":""},{"$f":"IF($T191=\"\",\"\",VLOOKUP($T191,'FO-DRE-02'!$A$6:$M$101,3,FALSE))","v":""},{"$f":"IF($T191=\"\",\"\",VLOOKUP($T191,'FO-DRE-02'!$A$6:$M$101,6,FALSE))","v":""},{"$f":"IF($T191=\"\",\"\",VLOOKUP($T191,'FO-DRE-02'!$A$6:$M$101,4,FALSE))","v":""},{"$f":"IF($T191=\"\",\"\",VLOOKUP($T191,'FO-DRE-02'!$A$6:$M$101,5,FALSE))","v":""},{"$f":"IF($T191=\"\",\"\",VLOOKUP($T191,'FO-DRE-02'!$A$6:$M$101,8,FALSE))","v":""},{"$f":"IF($T191=\"\",\"\",VLOOKUP($T191,'FO-DRE-02'!$A$6:$M$101,7,FALSE))","v":""},{"$f":"IF($T191=\"\",\"\",VLOOKUP($T191,'FO-DRE-02'!$A$6:$M$101,9,FALSE))","v":""},{"$f":"IF($T191=\"\",\"\",VLOOKUP($T191,'FO-DRE-02'!$A$6:$M$101,11,FALSE))","v":""},{"$f":"IF($T191=\"\",\"\",VLOOKUP($T191,'FO-DRE-02'!$A$6:$M$101,12,FALSE))","v":""},{"$f":"IF($T191=\"\",\"\",VLOOKUP($T191,'FO-DRE-02'!$A$6:$M$101,13,FALSE))","v":""},null,null,null,182,"","F/D","F/D","","","","","","","","","","","","","","",""]
[null,null,null,null,null,null,null,null,{"$f":"IF(H192=\"1a\",Hoja1!$B$126,IF(H192=\"1b\",Hoja1!$B$127,IF(H192=\"2a\",Hoja1!$B$128,IF(H192=\"2b\",Hoja1!$B$129,IF(H192=\"3 \",Hoja1!$B$130,IF(H192=\"4 \",Hoja1!$B$131,IF(H192=\"5 \",Hoja1!$B$132,IF(H192=\"6 \",Hoja1!$B$133,IF(H192=\"7 \",Hoja1!$B$134,IF(H192=\"8 \",Hoja1!$B$135,\" \"))))))))))","v":" "},{"$f":"CONCATENATE(#REF!,\"-\",\"TX\")","v":{"$error":"#REF!"}},{"$f":"CONCATENATE(#REF!,\"-\",\"RX\")","v":{"$error":"#REF!"}},null,null,null,null,0,null,null,null,null,null,{"$f":"IF($R192=\"\",\"\",VLOOKUP($R192,'FO-DRE-01'!$A$7:$U$301,18,FALSE))","v":""},{"$f":"IF($R192=\"\",\"\",VLOOKUP($R192,'FO-DRE-01'!$A$7:$U$301,16,FALSE))","v":""},{"$f":"IF($R192=\"\",\"\",VLOOKUP($R192,'FO-DRE-01'!$A$7:$U$301,17,FALSE))","v":""},{"$f":"IF($R192=\"\",\"\",VLOOKUP($R192,'FO-DRE-01'!$A$7:$U$301,3,FALSE))","v":""},{"$f":"IF($R192=\"\",\"\",VLOOKUP($R192,'FO-DRE-01'!$A$7:$U$301,4,FALSE))","v":""},{"$f":"IF($R192=\"\",\"\",VLOOKUP($R192,'FO-DRE-01'!$A$7:$U$301,5,FALSE))","v":""},{"$f":"IF($R192=\"\",\"\",VLOOKUP($R192,'FO-DRE-01'!$A$7:$U$301,7,FALSE))","v":""},{"$f":"IF($R192=\"\",\"\",VLOOKUP($R192,'FO-DRE-01'!$A$7:$U$301,8,FALSE))","v":""},{"$f":"IF($R192=\"\",\"\",VLOOKUP($R192,'FO-DRE-01'!$A$7:$U$301,9,FALSE))","v":""},{"$f":"IF($R192=\"\",\"\",VLOOKUP($R192,'FO-DRE-01'!$A$7:$U$301,10,FALSE))","v":""},{"$f":"IF($R192=\"\",\"\",VLOOKUP($R192,'FO-DRE-01'!$A$7:$U$301,11,FALSE))","v":""},{"$f":"IF($R192=\"\",\"\",VLOOKUP($R192,'FO-DRE-01'!$A$7:$U$301,12,FALSE))","v":""},{"$f":"IF($R192=\"\",\"\",VLOOKUP($R192,'FO-DRE-01'!$A$7:$U$301,13,FALSE))","v":""},{"$f":"IF($R192=\"\",\"\",VLOOKUP($R192,'FO-DRE-01'!$A$7:$U$301,14,FALSE))","v":""},{"$f":"IF($R192=\"\",\"\",VLOOKUP($R192,'FO-DRE-01'!$A$7:$U$301,15,FALSE))","v":""},{"$f":"IF($S192=\"\",\"\",VLOOKUP($S192,'FO-DRE-04'!$A$6:$L$301,2,FALSE))","v":""},{"$f":"IF($S192=\"\",\"\",VLOOKUP($S192,'FO-DRE-04'!$A$6:$L$301,3,FALSE))","v":""},{"$f":"IF($S192=\"\",\"\",VLOOKUP($S192,'FO-DRE-04'!$A$6:$L$301,4,FALSE))","v":""},{"$f":"IF($S192=\"\",\"\",VLOOKUP($S192,'FO-DRE-04'!$A$6:$L$301,6,FALSE))","v":""},{"$f":"IF($S192=\"\",\"\",VLOOKUP($S192,'FO-DRE-04'!$A$6:$L$301,11,FALSE))","v":""},{"$f":"IF($T192=\"\",\"\",VLOOKUP($T192,'FO-DRE-02'!$A$6:$M$101,2,FALSE))","v":""},{"$f":"IF($T192=\"\",\"\",VLOOKUP($T192,'FO-DRE-02'!$A$6:$M$101,3,FALSE))","v":""},{"$f":"IF($T192=\"\",\"\",VLOOKUP($T192,'FO-DRE-02'!$A$6:$M$101,6,FALSE))","v":""},{"$f":"IF($T192=\"\",\"\",VLOOKUP($T192,'FO-DRE-02'!$A$6:$M$101,4,FALSE))","v":""},{"$f":"IF($T192=\"\",\"\",VLOOKUP($T192,'FO-DRE-02'!$A$6:$M$101,5,FALSE))","v":""},{"$f":"IF($T192=\"\",\"\",VLOOKUP($T192,'FO-DRE-02'!$A$6:$M$101,8,FALSE))","v":""},{"$f":"IF($T192=\"\",\"\",VLOOKUP($T192,'FO-DRE-02'!$A$6:$M$101,7,FALSE))","v":""},{"$f":"IF($T192=\"\",\"\",VLOOKUP($T192,'FO-DRE-02'!$A$6:$M$101,9,FALSE))","v":""},{"$f":"IF($T192=\"\",\"\",VLOOKUP($T192,'FO-DRE-02'!$A$6:$M$101,11,FALSE))","v":""},{"$f":"IF($T192=\"\",\"\",VLOOKUP($T192,'FO-DRE-02'!$A$6:$M$101,12,FALSE))","v":""},{"$f":"IF($T192=\"\",\"\",VLOOKUP($T192,'FO-DRE-02'!$A$6:$M$101,13,FALSE))","v":""},null,null,null,183,"","F/D","F/D","","","","","","","","","","","","","","",""]
[null,null,null,null,null,null,null,null,{"$f":"IF(H193=\"1a\",Hoja1!$B$126,IF(H193=\"1b\",Hoja1!$B$127,IF(H193=\"2a\",Hoja1!$B$128,IF(H193=\"2b\",Hoja1!$B$129,IF(H193=\"3 \",Hoja1!$B$130,IF(H193=\"4 \",Hoja1!$B$131,IF(H193=\"5 \",Hoja1!$B$132,IF(H193=\"6 \",Hoja1!$B$133,IF(H193=\"7 \",Hoja1!$B$134,IF(H193=\"8 \",Hoja1!$B$135,\" \"))))))))))","v":" "},{"$f":"CONCATENATE(#REF!,\"-\",\"TX\")","v":{"$error":"#REF!"}},{"$f":"CONCATENATE(#REF!,\"-\",\"RX\")","v":{"$error":"#REF!"}},null,null,null,null,0,null,null,null,null,null,{"$f":"IF($R193=\"\",\"\",VLOOKUP($R193,'FO-DRE-01'!$A$7:$U$301,18,FALSE))","v":""},{"$f":"IF($R193=\"\",\"\",VLOOKUP($R193,'FO-DRE-01'!$A$7:$U$301,16,FALSE))","v":""},{"$f":"IF($R193=\"\",\"\",VLOOKUP($R193,'FO-DRE-01'!$A$7:$U$301,17,FALSE))","v":""},{"$f":"IF($R193=\"\",\"\",VLOOKUP($R193,'FO-DRE-01'!$A$7:$U$301,3,FALSE))","v":""},{"$f":"IF($R193=\"\",\"\",VLOOKUP($R193,'FO-DRE-01'!$A$7:$U$301,4,FALSE))","v":""},{"$f":"IF($R193=\"\",\"\",VLOOKUP($R193,'FO-DRE-01'!$A$7:$U$301,5,FALSE))","v":""},{"$f":"IF($R193=\"\",\"\",VLOOKUP($R193,'FO-DRE-01'!$A$7:$U$301,7,FALSE))","v":""},{"$f":"IF($R193=\"\",\"\",VLOOKUP($R193,'FO-DRE-01'!$A$7:$U$301,8,FALSE))","v":""},{"$f":"IF($R193=\"\",\"\",VLOOKUP($R193,'FO-DRE-01'!$A$7:$U$301,9,FALSE))","v":""},{"$f":"IF($R193=\"\",\"\",VLOOKUP($R193,'FO-DRE-01'!$A$7:$U$301,10,FALSE))","v":""},{"$f":"IF($R193=\"\",\"\",VLOOKUP($R193,'FO-DRE-01'!$A$7:$U$301,11,FALSE))","v":""},{"$f":"IF($R193=\"\",\"\",VLOOKUP($R193,'FO-DRE-01'!$A$7:$U$301,12,FALSE))","v":""},{"$f":"IF($R193=\"\",\"\",VLOOKUP($R193,'FO-DRE-01'!$A$7:$U$301,13,FALSE))","v":""},{"$f":"IF($R193=\"\",\"\",VLOOKUP($R193,'FO-DRE-01'!$A$7:$U$301,14,FALSE))","v":""},{"$f":"IF($R193=\"\",\"\",VLOOKUP($R193,'FO-DRE-01'!$A$7:$U$301,15,FALSE))","v":""},{"$f":"IF($S193=\"\",\"\",VLOOKUP($S193,'FO-DRE-04'!$A$6:$L$301,2,FALSE))","v":""},{"$f":"IF($S193=\"\",\"\",VLOOKUP($S193,'FO-DRE-04'!$A$6:$L$301,3,FALSE))","v":""},{"$f":"IF($S193=\"\",\"\",VLOOKUP($S193,'FO-DRE-04'!$A$6:$L$301,4,FALSE))","v":""},{"$f":"IF($S193=\"\",\"\",VLOOKUP($S193,'FO-DRE-04'!$A$6:$L$301,6,FALSE))","v":""},{"$f":"IF($S193=\"\",\"\",VLOOKUP($S193,'FO-DRE-04'!$A$6:$L$301,11,FALSE))","v":""},{"$f":"IF($T193=\"\",\"\",VLOOKUP($T193,'FO-DRE-02'!$A$6:$M$101,2,FALSE))","v":""},{"$f":"IF($T193=\"\",\"\",VLOOKUP($T193,'FO-DRE-02'!$A$6:$M$101,3,FALSE))","v":""},{"$f":"IF($T193=\"\",\"\",VLOOKUP($T193,'FO-DRE-02'!$A$6:$M$101,6,FALSE))","v":""},{"$f":"IF($T193=\"\",\"\",VLOOKUP($T193,'FO-DRE-02'!$A$6:$M$101,4,FALSE))","v":""},{"$f":"IF($T193=\"\",\"\",VLOOKUP($T193,'FO-DRE-02'!$A$6:$M$101,5,FALSE))","v":""},{"$f":"IF($T193=\"\",\"\",VLOOKUP($T193,'FO-DRE-02'!$A$6:$M$101,8,FALSE))","v":""},{"$f":"IF($T193=\"\",\"\",VLOOKUP($T193,'FO-DRE-02'!$A$6:$M$101,7,FALSE))","v":""},{"$f":"IF($T193=\"\",\"\",VLOOKUP($T193,'FO-DRE-02'!$A$6:$M$101,9,FALSE))","v":""},{"$f":"IF($T193=\"\",\"\",VLOOKUP($T193,'FO-DRE-02'!$A$6:$M$101,11,FALSE))","v":""},{"$f":"IF($T193=\"\",\"\",VLOOKUP($T193,'FO-DRE-02'!$A$6:$M$101,12,FALSE))","v":""},{"$f":"IF($T193=\"\",\"\",VLOOKUP($T193,'FO-DRE-02'!$A$6:$M$101,13,FALSE))","v":""},null,null,null,184,"","F/D","F/D","","","","","","","","","","","","","","",""]
[null,null,null,null,null,null,null,null,{"$f":"IF(H194=\"1a\",Hoja1!$B$126,IF(H194=\"1b\",Hoja1!$B$127,IF(H194=\"2a\",Hoja1!$B$128,IF(H194=\"2b\",Hoja1!$B$129,IF(H194=\"3 \",Hoja1!$B$130,IF(H194=\"4 \",Hoja1!$B$131,IF(H194=\"5 \",Hoja1!$B$132,IF(H194=\"6 \",Hoja1!$B$133,IF(H194=\"7 \",Hoja1!$B$134,IF(H194=\"8 \",Hoja1!$B$135,\" \"))))))))))","v":" "},{"$f":"CONCATENATE(#REF!,\"-\",\"TX\")","v":{"$error":"#REF!"}},{"$f":"CONCATENATE(#REF!,\"-\",\"RX\")","v":{"$error":"#REF!"}},null,null,null,null,0,null,null,null,null,null,{"$f":"IF($R194=\"\",\"\",VLOOKUP($R194,'FO-DRE-01'!$A$7:$U$301,18,FALSE))","v":""},{"$f":"IF($R194=\"\",\"\",VLOOKUP($R194,'FO-DRE-01'!$A$7:$U$301,16,FALSE))","v":""},{"$f":"IF($R194=\"\",\"\",VLOOKUP($R194,'FO-DRE-01'!$A$7:$U$301,17,FALSE))","v":""},{"$f":"IF($R194=\"\",\"\",VLOOKUP($R194,'FO-DRE-01'!$A$7:$U$301,3,FALSE))","v":""},{"$f":"IF($R194=\"\",\"\",VLOOKUP($R194,'FO-DRE-01'!$A$7:$U$301,4,FALSE))","v":""},{"$f":"IF($R194=\"\",\"\",VLOOKUP($R194,'FO-DRE-01'!$A$7:$U$301,5,FALSE))","v":""},{"$f":"IF($R194=\"\",\"\",VLOOKUP($R194,'FO-DRE-01'!$A$7:$U$301,7,FALSE))","v":""},{"$f":"IF($R194=\"\",\"\",VLOOKUP($R194,'FO-DRE-01'!$A$7:$U$301,8,FALSE))","v":""},{"$f":"IF($R194=\"\",\"\",VLOOKUP($R194,'FO-DRE-01'!$A$7:$U$301,9,FALSE))","v":""},{"$f":"IF($R194=\"\",\"\",VLOOKUP($R194,'FO-DRE-01'!$A$7:$U$301,10,FALSE))","v":""},{"$f":"IF($R194=\"\",\"\",VLOOKUP($R194,'FO-DRE-01'!$A$7:$U$301,11,FALSE))","v":""},{"$f":"IF($R194=\"\",\"\",VLOOKUP($R194,'FO-DRE-01'!$A$7:$U$301,12,FALSE))","v":""},{"$f":"IF($R194=\"\",\"\",VLOOKUP($R194,'FO-DRE-01'!$A$7:$U$301,13,FALSE))","v":""},{"$f":"IF($R194=\"\",\"\",VLOOKUP($R194,'FO-DRE-01'!$A$7:$U$301,14,FALSE))","v":""},{"$f":"IF($R194=\"\",\"\",VLOOKUP($R194,'FO-DRE-01'!$A$7:$U$301,15,FALSE))","v":""},{"$f":"IF($S194=\"\",\"\",VLOOKUP($S194,'FO-DRE-04'!$A$6:$L$301,2,FALSE))","v":""},{"$f":"IF($S194=\"\",\"\",VLOOKUP($S194,'FO-DRE-04'!$A$6:$L$301,3,FALSE))","v":""},{"$f":"IF($S194=\"\",\"\",VLOOKUP($S194,'FO-DRE-04'!$A$6:$L$301,4,FALSE))","v":""},{"$f":"IF($S194=\"\",\"\",VLOOKUP($S194,'FO-DRE-04'!$A$6:$L$301,6,FALSE))","v":""},{"$f":"IF($S194=\"\",\"\",VLOOKUP($S194,'FO-DRE-04'!$A$6:$L$301,11,FALSE))","v":""},{"$f":"IF($T194=\"\",\"\",VLOOKUP($T194,'FO-DRE-02'!$A$6:$M$101,2,FALSE))","v":""},{"$f":"IF($T194=\"\",\"\",VLOOKUP($T194,'FO-DRE-02'!$A$6:$M$101,3,FALSE))","v":""},{"$f":"IF($T194=\"\",\"\",VLOOKUP($T194,'FO-DRE-02'!$A$6:$M$101,6,FALSE))","v":""},{"$f":"IF($T194=\"\",\"\",VLOOKUP($T194,'FO-DRE-02'!$A$6:$M$101,4,FALSE))","v":""},{"$f":"IF($T194=\"\",\"\",VLOOKUP($T194,'FO-DRE-02'!$A$6:$M$101,5,FALSE))","v":""},{"$f":"IF($T194=\"\",\"\",VLOOKUP($T194,'FO-DRE-02'!$A$6:$M$101,8,FALSE))","v":""},{"$f":"IF($T194=\"\",\"\",VLOOKUP($T194,'FO-DRE-02'!$A$6:$M$101,7,FALSE))","v":""},{"$f":"IF($T194=\"\",\"\",VLOOKUP($T194,'FO-DRE-02'!$A$6:$M$101,9,FALSE))","v":""},{"$f":"IF($T194=\"\",\"\",VLOOKUP($T194,'FO-DRE-02'!$A$6:$M$101,11,FALSE))","v":""},{"$f":"IF($T194=\"\",\"\",VLOOKUP($T194,'FO-DRE-02'!$A$6:$M$101,12,FALSE))","v":""},{"$f":"IF($T194=\"\",\"\",VLOOKUP($T194,'FO-DRE-02'!$A$6:$M$101,13,FALSE))","v":""},null,null,null,185,"","F/D","F/D","","","","","","","","","","","","","","",""]
[null,null,null,null,null,null,null,null,{"$f":"IF(H195=\"1a\",Hoja1!$B$126,IF(H195=\"1b\",Hoja1!$B$127,IF(H195=\"2a\",Hoja1!$B$128,IF(H195=\"2b\",Hoja1!$B$129,IF(H195=\"3 \",Hoja1!$B$130,IF(H195=\"4 \",Hoja1!$B$131,IF(H195=\"5 \",Hoja1!$B$132,IF(H195=\"6 \",Hoja1!$B$133,IF(H195=\"7 \",Hoja1!$B$134,IF(H195=\"8 \",Hoja1!$B$135,\" \"))))))))))","v":" "},{"$f":"CONCATENATE(#REF!,\"-\",\"TX\")","v":{"$error":"#REF!"}},{"$f":"CONCATENATE(#REF!,\"-\",\"RX\")","v":{"$error":"#REF!"}},null,null,null,null,0,null,null,null,null,null,{"$f":"IF($R195=\"\",\"\",VLOOKUP($R195,'FO-DRE-01'!$A$7:$U$301,18,FALSE))","v":""},{"$f":"IF($R195=\"\",\"\",VLOOKUP($R195,'FO-DRE-01'!$A$7:$U$301,16,FALSE))","v":""},{"$f":"IF($R195=\"\",\"\",VLOOKUP($R195,'FO-DRE-01'!$A$7:$U$301,17,FALSE))","v":""},{"$f":"IF($R195=\"\",\"\",VLOOKUP($R195,'FO-DRE-01'!$A$7:$U$301,3,FALSE))","v":""},{"$f":"IF($R195=\"\",\"\",VLOOKUP($R195,'FO-DRE-01'!$A$7:$U$301,4,FALSE))","v":""},{"$f":"IF($R195=\"\",\"\",VLOOKUP($R195,'FO-DRE-01'!$A$7:$U$301,5,FALSE))","v":""},{"$f":"IF($R195=\"\",\"\",VLOOKUP($R195,'FO-DRE-01'!$A$7:$U$301,7,FALSE))","v":""},{"$f":"IF($R195=\"\",\"\",VLOOKUP($R195,'FO-DRE-01'!$A$7:$U$301,8,FALSE))","v":""},{"$f":"IF($R195=\"\",\"\",VLOOKUP($R195,'FO-DRE-01'!$A$7:$U$301,9,FALSE))","v":""},{"$f":"IF($R195=\"\",\"\",VLOOKUP($R195,'FO-DRE-01'!$A$7:$U$301,10,FALSE))","v":""},{"$f":"IF($R195=\"\",\"\",VLOOKUP($R195,'FO-DRE-01'!$A$7:$U$301,11,FALSE))","v":""},{"$f":"IF($R195=\"\",\"\",VLOOKUP($R195,'FO-DRE-01'!$A$7:$U$301,12,FALSE))","v":""},{"$f":"IF($R195=\"\",\"\",VLOOKUP($R195,'FO-DRE-01'!$A$7:$U$301,13,FALSE))","v":""},{"$f":"IF($R195=\"\",\"\",VLOOKUP($R195,'FO-DRE-01'!$A$7:$U$301,14,FALSE))","v":""},{"$f":"IF($R195=\"\",\"\",VLOOKUP($R195,'FO-DRE-01'!$A$7:$U$301,15,FALSE))","v":""},{"$f":"IF($S195=\"\",\"\",VLOOKUP($S195,'FO-DRE-04'!$A$6:$L$301,2,FALSE))","v":""},{"$f":"IF($S195=\"\",\"\",VLOOKUP($S195,'FO-DRE-04'!$A$6:$L$301,3,FALSE))","v":""},{"$f":"IF($S195=\"\",\"\",VLOOKUP($S195,'FO-DRE-04'!$A$6:$L$301,4,FALSE))","v":""},{"$f":"IF($S195=\"\",\"\",VLOOKUP($S195,'FO-DRE-04'!$A$6:$L$301,6,FALSE))","v":""},{"$f":"IF($S195=\"\",\"\",VLOOKUP($S195,'FO-DRE-04'!$A$6:$L$301,11,FALSE))","v":""},{"$f":"IF($T195=\"\",\"\",VLOOKUP($T195,'FO-DRE-02'!$A$6:$M$101,2,FALSE))","v":""},{"$f":"IF($T195=\"\",\"\",VLOOKUP($T195,'FO-DRE-02'!$A$6:$M$101,3,FALSE))","v":""},{"$f":"IF($T195=\"\",\"\",VLOOKUP($T195,'FO-DRE-02'!$A$6:$M$101,6,FALSE))","v":""},{"$f":"IF($T195=\"\",\"\",VLOOKUP($T195,'FO-DRE-02'!$A$6:$M$101,4,FALSE))","v":""},{"$f":"IF($T195=\"\",\"\",VLOOKUP($T195,'FO-DRE-02'!$A$6:$M$101,5,FALSE))","v":""},{"$f":"IF($T195=\"\",\"\",VLOOKUP($T195,'FO-DRE-02'!$A$6:$M$101,8,FALSE))","v":""},{"$f":"IF($T195=\"\",\"\",VLOOKUP($T195,'FO-DRE-02'!$A$6:$M$101,7,FALSE))","v":""},{"$f":"IF($T195=\"\",\"\",VLOOKUP($T195,'FO-DRE-02'!$A$6:$M$101,9,FALSE))","v":""},{"$f":"IF($T195=\"\",\"\",VLOOKUP($T195,'FO-DRE-02'!$A$6:$M$101,11,FALSE))","v":""},{"$f":"IF($T195=\"\",\"\",VLOOKUP($T195,'FO-DRE-02'!$A$6:$M$101,12,FALSE))","v":""},{"$f":"IF($T195=\"\",\"\",VLOOKUP($T195,'FO-DRE-02'!$A$6:$M$101,13,FALSE))","v":""},null,null,null,186,"","F/D","F/D","","","","","","","","","","","","","","",""]
[null,null,null,null,null,null,null,null,{"$f":"IF(H196=\"1a\",Hoja1!$B$126,IF(H196=\"1b\",Hoja1!$B$127,IF(H196=\"2a\",Hoja1!$B$128,IF(H196=\"2b\",Hoja1!$B$129,IF(H196=\"3 \",Hoja1!$B$130,IF(H196=\"4 \",Hoja1!$B$131,IF(H196=\"5 \",Hoja1!$B$132,IF(H196=\"6 \",Hoja1!$B$133,IF(H196=\"7 \",Hoja1!$B$134,IF(H196=\"8 \",Hoja1!$B$135,\" \"))))))))))","v":" "},{"$f":"CONCATENATE(#REF!,\"-\",\"TX\")","v":{"$error":"#REF!"}},{"$f":"CONCATENATE(#REF!,\"-\",\"RX\")","v":{"$error":"#REF!"}},null,null,null,null,0,null,null,null,null,null,{"$f":"IF($R196=\"\",\"\",VLOOKUP($R196,'FO-DRE-01'!$A$7:$U$301,18,FALSE))","v":""},{"$f":"IF($R196=\"\",\"\",VLOOKUP($R196,'FO-DRE-01'!$A$7:$U$301,16,FALSE))","v":""},{"$f":"IF($R196=\"\",\"\",VLOOKUP($R196,'FO-DRE-01'!$A$7:$U$301,17,FALSE))","v":""},{"$f":"IF($R196=\"\",\"\",VLOOKUP($R196,'FO-DRE-01'!$A$7:$U$301,3,FALSE))","v":""},{"$f":"IF($R196=\"\",\"\",VLOOKUP($R196,'FO-DRE-01'!$A$7:$U$301,4,FALSE))","v":""},{"$f":"IF($R196=\"\",\"\",VLOOKUP($R196,'FO-DRE-01'!$A$7:$U$301,5,FALSE))","v":""},{"$f":"IF($R196=\"\",\"\",VLOOKUP($R196,'FO-DRE-01'!$A$7:$U$301,7,FALSE))","v":""},{"$f":"IF($R196=\"\",\"\",VLOOKUP($R196,'FO-DRE-01'!$A$7:$U$301,8,FALSE))","v":""},{"$f":"IF($R196=\"\",\"\",VLOOKUP($R196,'FO-DRE-01'!$A$7:$U$301,9,FALSE))","v":""},{"$f":"IF($R196=\"\",\"\",VLOOKUP($R196,'FO-DRE-01'!$A$7:$U$301,10,FALSE))","v":""},{"$f":"IF($R196=\"\",\"\",VLOOKUP($R196,'FO-DRE-01'!$A$7:$U$301,11,FALSE))","v":""},{"$f":"IF($R196=\"\",\"\",VLOOKUP($R196,'FO-DRE-01'!$A$7:$U$301,12,FALSE))","v":""},{"$f":"IF($R196=\"\",\"\",VLOOKUP($R196,'FO-DRE-01'!$A$7:$U$301,13,FALSE))","v":""},{"$f":"IF($R196=\"\",\"\",VLOOKUP($R196,'FO-DRE-01'!$A$7:$U$301,14,FALSE))","v":""},{"$f":"IF($R196=\"\",\"\",VLOOKUP($R196,'FO-DRE-01'!$A$7:$U$301,15,FALSE))","v":""},{"$f":"IF($S196=\"\",\"\",VLOOKUP($S196,'FO-DRE-04'!$A$6:$L$301,2,FALSE))","v":""},{"$f":"IF($S196=\"\",\"\",VLOOKUP($S196,'FO-DRE-04'!$A$6:$L$301,3,FALSE))","v":""},{"$f":"IF($S196=\"\",\"\",VLOOKUP($S196,'FO-DRE-04'!$A$6:$L$301,4,FALSE))","v":""},{"$f":"IF($S196=\"\",\"\",VLOOKUP($S196,'FO-DRE-04'!$A$6:$L$301,6,FALSE))","v":""},{"$f":"IF($S196=\"\",\"\",VLOOKUP($S196,'FO-DRE-04'!$A$6:$L$301,11,FALSE))","v":""},{"$f":"IF($T196=\"\",\"\",VLOOKUP($T196,'FO-DRE-02'!$A$6:$M$101,2,FALSE))","v":""},{"$f":"IF($T196=\"\",\"\",VLOOKUP($T196,'FO-DRE-02'!$A$6:$M$101,3,FALSE))","v":""},{"$f":"IF($T196=\"\",\"\",VLOOKUP($T196,'FO-DRE-02'!$A$6:$M$101,6,FALSE))","v":""},{"$f":"IF($T196=\"\",\"\",VLOOKUP($T196,'FO-DRE-02'!$A$6:$M$101,4,FALSE))","v":""},{"$f":"IF($T196=\"\",\"\",VLOOKUP($T196,'FO-DRE-02'!$A$6:$M$101,5,FALSE))","v":""},{"$f":"IF($T196=\"\",\"\",VLOOKUP($T196,'FO-DRE-02'!$A$6:$M$101,8,FALSE))","v":""},{"$f":"IF($T196=\"\",\"\",VLOOKUP($T196,'FO-DRE-02'!$A$6:$M$101,7,FALSE))","v":""},{"$f":"IF($T196=\"\",\"\",VLOOKUP($T196,'FO-DRE-02'!$A$6:$M$101,9,FALSE))","v":""},{"$f":"IF($T196=\"\",\"\",VLOOKUP($T196,'FO-DRE-02'!$A$6:$M$101,11,FALSE))","v":""},{"$f":"IF($T196=\"\",\"\",VLOOKUP($T196,'FO-DRE-02'!$A$6:$M$101,12,FALSE))","v":""},{"$f":"IF($T196=\"\",\"\",VLOOKUP($T196,'FO-DRE-02'!$A$6:$M$101,13,FALSE))","v":""},null,null,null,187,"","F/D","F/D","","","","","","","","","","","","","","",""]
[null,null,null,null,null,null,null,null,{"$f":"IF(H197=\"1a\",Hoja1!$B$126,IF(H197=\"1b\",Hoja1!$B$127,IF(H197=\"2a\",Hoja1!$B$128,IF(H197=\"2b\",Hoja1!$B$129,IF(H197=\"3 \",Hoja1!$B$130,IF(H197=\"4 \",Hoja1!$B$131,IF(H197=\"5 \",Hoja1!$B$132,IF(H197=\"6 \",Hoja1!$B$133,IF(H197=\"7 \",Hoja1!$B$134,IF(H197=\"8 \",Hoja1!$B$135,\" \"))))))))))","v":" "},{"$f":"CONCATENATE(#REF!,\"-\",\"TX\")","v":{"$error":"#REF!"}},{"$f":"CONCATENATE(#REF!,\"-\",\"RX\")","v":{"$error":"#REF!"}},null,null,null,null,0,null,null,null,null,null,{"$f":"IF($R197=\"\",\"\",VLOOKUP($R197,'FO-DRE-01'!$A$7:$U$301,18,FALSE))","v":""},{"$f":"IF($R197=\"\",\"\",VLOOKUP($R197,'FO-DRE-01'!$A$7:$U$301,16,FALSE))","v":""},{"$f":"IF($R197=\"\",\"\",VLOOKUP($R197,'FO-DRE-01'!$A$7:$U$301,17,FALSE))","v":""},{"$f":"IF($R197=\"\",\"\",VLOOKUP($R197,'FO-DRE-01'!$A$7:$U$301,3,FALSE))","v":""},{"$f":"IF($R197=\"\",\"\",VLOOKUP($R197,'FO-DRE-01'!$A$7:$U$301,4,FALSE))","v":""},{"$f":"IF($R197=\"\",\"\",VLOOKUP($R197,'FO-DRE-01'!$A$7:$U$301,5,FALSE))","v":""},{"$f":"IF($R197=\"\",\"\",VLOOKUP($R197,'FO-DRE-01'!$A$7:$U$301,7,FALSE))","v":""},{"$f":"IF($R197=\"\",\"\",VLOOKUP($R197,'FO-DRE-01'!$A$7:$U$301,8,FALSE))","v":""},{"$f":"IF($R197=\"\",\"\",VLOOKUP($R197,'FO-DRE-01'!$A$7:$U$301,9,FALSE))","v":""},{"$f":"IF($R197=\"\",\"\",VLOOKUP($R197,'FO-DRE-01'!$A$7:$U$301,10,FALSE))","v":""},{"$f":"IF($R197=\"\",\"\",VLOOKUP($R197,'FO-DRE-01'!$A$7:$U$301,11,FALSE))","v":""},{"$f":"IF($R197=\"\",\"\",VLOOKUP($R197,'FO-DRE-01'!$A$7:$U$301,12,FALSE))","v":""},{"$f":"IF($R197=\"\",\"\",VLOOKUP($R197,'FO-DRE-01'!$A$7:$U$301,13,FALSE))","v":""},{"$f":"IF($R197=\"\",\"\",VLOOKUP($R197,'FO-DRE-01'!$A$7:$U$301,14,FALSE))","v":""},{"$f":"IF($R197=\"\",\"\",VLOOKUP($R197,'FO-DRE-01'!$A$7:$U$301,15,FALSE))","v":""},{"$f":"IF($S197=\"\",\"\",VLOOKUP($S197,'FO-DRE-04'!$A$6:$L$301,2,FALSE))","v":""},{"$f":"IF($S197=\"\",\"\",VLOOKUP($S197,'FO-DRE-04'!$A$6:$L$301,3,FALSE))","v":""},{"$f":"IF($S197=\"\",\"\",VLOOKUP($S197,'FO-DRE-04'!$A$6:$L$301,4,FALSE))","v":""},{"$f":"IF($S197=\"\",\"\",VLOOKUP($S197,'FO-DRE-04'!$A$6:$L$301,6,FALSE))","v":""},{"$f":"IF($S197=\"\",\"\",VLOOKUP($S197,'FO-DRE-04'!$A$6:$L$301,11,FALSE))","v":""},{"$f":"IF($T197=\"\",\"\",VLOOKUP($T197,'FO-DRE-02'!$A$6:$M$101,2,FALSE))","v":""},{"$f":"IF($T197=\"\",\"\",VLOOKUP($T197,'FO-DRE-02'!$A$6:$M$101,3,FALSE))","v":""},{"$f":"IF($T197=\"\",\"\",VLOOKUP($T197,'FO-DRE-02'!$A$6:$M$101,6,FALSE))","v":""},{"$f":"IF($T197=\"\",\"\",VLOOKUP($T197,'FO-DRE-02'!$A$6:$M$101,4,FALSE))","v":""},{"$f":"IF($T197=\"\",\"\",VLOOKUP($T197,'FO-DRE-02'!$A$6:$M$101,5,FALSE))","v":""},{"$f":"IF($T197=\"\",\"\",VLOOKUP($T197,'FO-DRE-02'!$A$6:$M$101,8,FALSE))","v":""},{"$f":"IF($T197=\"\",\"\",VLOOKUP($T197,'FO-DRE-02'!$A$6:$M$101,7,FALSE))","v":""},{"$f":"IF($T197=\"\",\"\",VLOOKUP($T197,'FO-DRE-02'!$A$6:$M$101,9,FALSE))","v":""},{"$f":"IF($T197=\"\",\"\",VLOOKUP($T197,'FO-DRE-02'!$A$6:$M$101,11,FALSE))","v":""},{"$f":"IF($T197=\"\",\"\",VLOOKUP($T197,'FO-DRE-02'!$A$6:$M$101,12,FALSE))","v":""},{"$f":"IF($T197=\"\",\"\",VLOOKUP($T197,'FO-DRE-02'!$A$6:$M$101,13,FALSE))","v":""},null,null,null,188,"","F/D","F/D","","","","","","","","","","","","","","",""]
[null,null,null,null,null,null,null,null,{"$f":"IF(H198=\"1a\",Hoja1!$B$126,IF(H198=\"1b\",Hoja1!$B$127,IF(H198=\"2a\",Hoja1!$B$128,IF(H198=\"2b\",Hoja1!$B$129,IF(H198=\"3 \",Hoja1!$B$130,IF(H198=\"4 \",Hoja1!$B$131,IF(H198=\"5 \",Hoja1!$B$132,IF(H198=\"6 \",Hoja1!$B$133,IF(H198=\"7 \",Hoja1!$B$134,IF(H198=\"8 \",Hoja1!$B$135,\" \"))))))))))","v":" "},{"$f":"CONCATENATE(#REF!,\"-\",\"TX\")","v":{"$error":"#REF!"}},{"$f":"CONCATENATE(#REF!,\"-\",\"RX\")","v":{"$error":"#REF!"}},null,null,null,null,0,null,null,null,null,null,{"$f":"IF($R198=\"\",\"\",VLOOKUP($R198,'FO-DRE-01'!$A$7:$U$301,18,FALSE))","v":""},{"$f":"IF($R198=\"\",\"\",VLOOKUP($R198,'FO-DRE-01'!$A$7:$U$301,16,FALSE))","v":""},{"$f":"IF($R198=\"\",\"\",VLOOKUP($R198,'FO-DRE-01'!$A$7:$U$301,17,FALSE))","v":""},{"$f":"IF($R198=\"\",\"\",VLOOKUP($R198,'FO-DRE-01'!$A$7:$U$301,3,FALSE))","v":""},{"$f":"IF($R198=\"\",\"\",VLOOKUP($R198,'FO-DRE-01'!$A$7:$U$301,4,FALSE))","v":""},{"$f":"IF($R198=\"\",\"\",VLOOKUP($R198,'FO-DRE-01'!$A$7:$U$301,5,FALSE))","v":""},{"$f":"IF($R198=\"\",\"\",VLOOKUP($R198,'FO-DRE-01'!$A$7:$U$301,7,FALSE))","v":""},{"$f":"IF($R198=\"\",\"\",VLOOKUP($R198,'FO-DRE-01'!$A$7:$U$301,8,FALSE))","v":""},{"$f":"IF($R198=\"\",\"\",VLOOKUP($R198,'FO-DRE-01'!$A$7:$U$301,9,FALSE))","v":""},{"$f":"IF($R198=\"\",\"\",VLOOKUP($R198,'FO-DRE-01'!$A$7:$U$301,10,FALSE))","v":""},{"$f":"IF($R198=\"\",\"\",VLOOKUP($R198,'FO-DRE-01'!$A$7:$U$301,11,FALSE))","v":""},{"$f":"IF($R198=\"\",\"\",VLOOKUP($R198,'FO-DRE-01'!$A$7:$U$301,12,FALSE))","v":""},{"$f":"IF($R198=\"\",\"\",VLOOKUP($R198,'FO-DRE-01'!$A$7:$U$301,13,FALSE))","v":""},{"$f":"IF($R198=\"\",\"\",VLOOKUP($R198,'FO-DRE-01'!$A$7:$U$301,14,FALSE))","v":""},{"$f":"IF($R198=\"\",\"\",VLOOKUP($R198,'FO-DRE-01'!$A$7:$U$301,15,FALSE))","v":""},{"$f":"IF($S198=\"\",\"\",VLOOKUP($S198,'FO-DRE-04'!$A$6:$L$301,2,FALSE))","v":""},{"$f":"IF($S198=\"\",\"\",VLOOKUP($S198,'FO-DRE-04'!$A$6:$L$301,3,FALSE))","v":""},{"$f":"IF($S198=\"\",\"\",VLOOKUP($S198,'FO-DRE-04'!$A$6:$L$301,4,FALSE))","v":""},{"$f":"IF($S198=\"\",\"\",VLOOKUP($S198,'FO-DRE-04'!$A$6:$L$301,6,FALSE))","v":""},{"$f":"IF($S198=\"\",\"\",VLOOKUP($S198,'FO-DRE-04'!$A$6:$L$301,11,FALSE))","v":""},{"$f":"IF($T198=\"\",\"\",VLOOKUP($T198,'FO-DRE-02'!$A$6:$M$101,2,FALSE))","v":""},{"$f":"IF($T198=\"\",\"\",VLOOKUP($T198,'FO-DRE-02'!$A$6:$M$101,3,FALSE))","v":""},{"$f":"IF($T198=\"\",\"\",VLOOKUP($T198,'FO-DRE-02'!$A$6:$M$101,6,FALSE))","v":""},{"$f":"IF($T198=\"\",\"\",VLOOKUP($T198,'FO-DRE-02'!$A$6:$M$101,4,FALSE))","v":""},{"$f":"IF($T198=\"\",\"\",VLOOKUP($T198,'FO-DRE-02'!$A$6:$M$101,5,FALSE))","v":""},{"$f":"IF($T198=\"\",\"\",VLOOKUP($T198,'FO-DRE-02'!$A$6:$M$101,8,FALSE))","v":""},{"$f":"IF($T198=\"\",\"\",VLOOKUP($T198,'FO-DRE-02'!$A$6:$M$101,7,FALSE))","v":""},{"$f":"IF($T198=\"\",\"\",VLOOKUP($T198,'FO-DRE-02'!$A$6:$M$101,9,FALSE))","v":""},{"$f":"IF($T198=\"\",\"\",VLOOKUP($T198,'FO-DRE-02'!$A$6:$M$101,11,FALSE))","v":""},{"$f":"IF($T198=\"\",\"\",VLOOKUP($T198,'FO-DRE-02'!$A$6:$M$101,12,FALSE))","v":""},{"$f":"IF($T198=\"\",\"\",VLOOKUP($T198,'FO-DRE-02'!$A$6:$M$101,13,FALSE))","v":""},null,null,null,189,"","F/D","F/D","","","","","","","","","","","","","","",""]
[null,null,null,null,null,null,null,null,{"$f":"IF(H199=\"1a\",Hoja1!$B$126,IF(H199=\"1b\",Hoja1!$B$127,IF(H199=\"2a\",Hoja1!$B$128,IF(H199=\"2b\",Hoja1!$B$129,IF(H199=\"3 \",Hoja1!$B$130,IF(H199=\"4 \",Hoja1!$B$131,IF(H199=\"5 \",Hoja1!$B$132,IF(H199=\"6 \",Hoja1!$B$133,IF(H199=\"7 \",Hoja1!$B$134,IF(H199=\"8 \",Hoja1!$B$135,\" \"))))))))))","v":" "},{"$f":"CONCATENATE(#REF!,\"-\",\"TX\")","v":{"$error":"#REF!"}},{"$f":"CONCATENATE(#REF!,\"-\",\"RX\")","v":{"$error":"#REF!"}},null,null,null,null,0,null,null,null,null,null,{"$f":"IF($R199=\"\",\"\",VLOOKUP($R199,'FO-DRE-01'!$A$7:$U$301,18,FALSE))","v":""},{"$f":"IF($R199=\"\",\"\",VLOOKUP($R199,'FO-DRE-01'!$A$7:$U$301,16,FALSE))","v":""},{"$f":"IF($R199=\"\",\"\",VLOOKUP($R199,'FO-DRE-01'!$A$7:$U$301,17,FALSE))","v":""},{"$f":"IF($R199=\"\",\"\",VLOOKUP($R199,'FO-DRE-01'!$A$7:$U$301,3,FALSE))","v":""},{"$f":"IF($R199=\"\",\"\",VLOOKUP($R199,'FO-DRE-01'!$A$7:$U$301,4,FALSE))","v":""},{"$f":"IF($R199=\"\",\"\",VLOOKUP($R199,'FO-DRE-01'!$A$7:$U$301,5,FALSE))","v":""},{"$f":"IF($R199=\"\",\"\",VLOOKUP($R199,'FO-DRE-01'!$A$7:$U$301,7,FALSE))","v":""},{"$f":"IF($R199=\"\",\"\",VLOOKUP($R199,'FO-DRE-01'!$A$7:$U$301,8,FALSE))","v":""},{"$f":"IF($R199=\"\",\"\",VLOOKUP($R199,'FO-DRE-01'!$A$7:$U$301,9,FALSE))","v":""},{"$f":"IF($R199=\"\",\"\",VLOOKUP($R199,'FO-DRE-01'!$A$7:$U$301,10,FALSE))","v":""},{"$f":"IF($R199=\"\",\"\",VLOOKUP($R199,'FO-DRE-01'!$A$7:$U$301,11,FALSE))","v":""},{"$f":"IF($R199=\"\",\"\",VLOOKUP($R199,'FO-DRE-01'!$A$7:$U$301,12,FALSE))","v":""},{"$f":"IF($R199=\"\",\"\",VLOOKUP($R199,'FO-DRE-01'!$A$7:$U$301,13,FALSE))","v":""},{"$f":"IF($R199=\"\",\"\",VLOOKUP($R199,'FO-DRE-01'!$A$7:$U$301,14,FALSE))","v":""},{"$f":"IF($R199=\"\",\"\",VLOOKUP($R199,'FO-DRE-01'!$A$7:$U$301,15,FALSE))","v":""},{"$f":"IF($S199=\"\",\"\",VLOOKUP($S199,'FO-DRE-04'!$A$6:$L$301,2,FALSE))","v":""},{"$f":"IF($S199=\"\",\"\",VLOOKUP($S199,'FO-DRE-04'!$A$6:$L$301,3,FALSE))","v":""},{"$f":"IF($S199=\"\",\"\",VLOOKUP($S199,'FO-DRE-04'!$A$6:$L$301,4,FALSE))","v":""},{"$f":"IF($S199=\"\",\"\",VLOOKUP($S199,'FO-DRE-04'!$A$6:$L$301,6,FALSE))","v":""},{"$f":"IF($S199=\"\",\"\",VLOOKUP($S199,'FO-DRE-04'!$A$6:$L$301,11,FALSE))","v":""},{"$f":"IF($T199=\"\",\"\",VLOOKUP($T199,'FO-DRE-02'!$A$6:$M$101,2,FALSE))","v":""},{"$f":"IF($T199=\"\",\"\",VLOOKUP($T199,'FO-DRE-02'!$A$6:$M$101,3,FALSE))","v":""},{"$f":"IF($T199=\"\",\"\",VLOOKUP($T199,'FO-DRE-02'!$A$6:$M$101,6,FALSE))","v":""},{"$f":"IF($T199=\"\",\"\",VLOOKUP($T199,'FO-DRE-02'!$A$6:$M$101,4,FALSE))","v":""},{"$f":"IF($T199=\"\",\"\",VLOOKUP($T199,'FO-DRE-02'!$A$6:$M$101,5,FALSE))","v":""},{"$f":"IF($T199=\"\",\"\",VLOOKUP($T199,'FO-DRE-02'!$A$6:$M$101,8,FALSE))","v":""},{"$f":"IF($T199=\"\",\"\",VLOOKUP($T199,'FO-DRE-02'!$A$6:$M$101,7,FALSE))","v":""},{"$f":"IF($T199=\"\",\"\",VLOOKUP($T199,'FO-DRE-02'!$A$6:$M$101,9,FALSE))","v":""},{"$f":"IF($T199=\"\",\"\",VLOOKUP($T199,'FO-DRE-02'!$A$6:$M$101,11,FALSE))","v":""},{"$f":"IF($T199=\"\",\"\",VLOOKUP($T199,'FO-DRE-02'!$A$6:$M$101,12,FALSE))","v":""},{"$f":"IF($T199=\"\",\"\",VLOOKUP($T199,'FO-DRE-02'!$A$6:$M$101,13,FALSE))","v":""},null,null,null,190,"","F/D","F/D","","","","","","","","","","","","","","",""]
[null,null,null,null,null,null,null,null,{"$f":"IF(H200=\"1a\",Hoja1!$B$126,IF(H200=\"1b\",Hoja1!$B$127,IF(H200=\"2a\",Hoja1!$B$128,IF(H200=\"2b\",Hoja1!$B$129,IF(H200=\"3 \",Hoja1!$B$130,IF(H200=\"4 \",Hoja1!$B$131,IF(H200=\"5 \",Hoja1!$B$132,IF(H200=\"6 \",Hoja1!$B$133,IF(H200=\"7 \",Hoja1!$B$134,IF(H200=\"8 \",Hoja1!$B$135,\" \"))))))))))","v":" "},{"$f":"CONCATENATE(#REF!,\"-\",\"TX\")","v":{"$error":"#REF!"}},{"$f":"CONCATENATE(#REF!,\"-\",\"RX\")","v":{"$error":"#REF!"}},null,null,null,null,0,null,null,null,null,null,{"$f":"IF($R200=\"\",\"\",VLOOKUP($R200,'FO-DRE-01'!$A$7:$U$301,18,FALSE))","v":""},{"$f":"IF($R200=\"\",\"\",VLOOKUP($R200,'FO-DRE-01'!$A$7:$U$301,16,FALSE))","v":""},{"$f":"IF($R200=\"\",\"\",VLOOKUP($R200,'FO-DRE-01'!$A$7:$U$301,17,FALSE))","v":""},{"$f":"IF($R200=\"\",\"\",VLOOKUP($R200,'FO-DRE-01'!$A$7:$U$301,3,FALSE))","v":""},{"$f":"IF($R200=\"\",\"\",VLOOKUP($R200,'FO-DRE-01'!$A$7:$U$301,4,FALSE))","v":""},{"$f":"IF($R200=\"\",\"\",VLOOKUP($R200,'FO-DRE-01'!$A$7:$U$301,5,FALSE))","v":""},{"$f":"IF($R200=\"\",\"\",VLOOKUP($R200,'FO-DRE-01'!$A$7:$U$301,7,FALSE))","v":""},{"$f":"IF($R200=\"\",\"\",VLOOKUP($R200,'FO-DRE-01'!$A$7:$U$301,8,FALSE))","v":""},{"$f":"IF($R200=\"\",\"\",VLOOKUP($R200,'FO-DRE-01'!$A$7:$U$301,9,FALSE))","v":""},{"$f":"IF($R200=\"\",\"\",VLOOKUP($R200,'FO-DRE-01'!$A$7:$U$301,10,FALSE))","v":""},{"$f":"IF($R200=\"\",\"\",VLOOKUP($R200,'FO-DRE-01'!$A$7:$U$301,11,FALSE))","v":""},{"$f":"IF($R200=\"\",\"\",VLOOKUP($R200,'FO-DRE-01'!$A$7:$U$301,12,FALSE))","v":""},{"$f":"IF($R200=\"\",\"\",VLOOKUP($R200,'FO-DRE-01'!$A$7:$U$301,13,FALSE))","v":""},{"$f":"IF($R200=\"\",\"\",VLOOKUP($R200,'FO-DRE-01'!$A$7:$U$301,14,FALSE))","v":""},{"$f":"IF($R200=\"\",\"\",VLOOKUP($R200,'FO-DRE-01'!$A$7:$U$301,15,FALSE))","v":""},{"$f":"IF($S200=\"\",\"\",VLOOKUP($S200,'FO-DRE-04'!$A$6:$L$301,2,FALSE))","v":""},{"$f":"IF($S200=\"\",\"\",VLOOKUP($S200,'FO-DRE-04'!$A$6:$L$301,3,FALSE))","v":""},{"$f":"IF($S200=\"\",\"\",VLOOKUP($S200,'FO-DRE-04'!$A$6:$L$301,4,FALSE))","v":""},{"$f":"IF($S200=\"\",\"\",VLOOKUP($S200,'FO-DRE-04'!$A$6:$L$301,6,FALSE))","v":""},{"$f":"IF($S200=\"\",\"\",VLOOKUP($S200,'FO-DRE-04'!$A$6:$L$301,11,FALSE))","v":""},{"$f":"IF($T200=\"\",\"\",VLOOKUP($T200,'FO-DRE-02'!$A$6:$M$101,2,FALSE))","v":""},{"$f":"IF($T200=\"\",\"\",VLOOKUP($T200,'FO-DRE-02'!$A$6:$M$101,3,FALSE))","v":""},{"$f":"IF($T200=\"\",\"\",VLOOKUP($T200,'FO-DRE-02'!$A$6:$M$101,6,FALSE))","v":""},{"$f":"IF($T200=\"\",\"\",VLOOKUP($T200,'FO-DRE-02'!$A$6:$M$101,4,FALSE))","v":""},{"$f":"IF($T200=\"\",\"\",VLOOKUP($T200,'FO-DRE-02'!$A$6:$M$101,5,FALSE))","v":""},{"$f":"IF($T200=\"\",\"\",VLOOKUP($T200,'FO-DRE-02'!$A$6:$M$101,8,FALSE))","v":""},{"$f":"IF($T200=\"\",\"\",VLOOKUP($T200,'FO-DRE-02'!$A$6:$M$101,7,FALSE))","v":""},{"$f":"IF($T200=\"\",\"\",VLOOKUP($T200,'FO-DRE-02'!$A$6:$M$101,9,FALSE))","v":""},{"$f":"IF($T200=\"\",\"\",VLOOKUP($T200,'FO-DRE-02'!$A$6:$M$101,11,FALSE))","v":""},{"$f":"IF($T200=\"\",\"\",VLOOKUP($T200,'FO-DRE-02'!$A$6:$M$101,12,FALSE))","v":""},{"$f":"IF($T200=\"\",\"\",VLOOKUP($T200,'FO-DRE-02'!$A$6:$M$101,13,FALSE))","v":""},null,null,null,191,"","F/D","F/D","","","","","","","","","","","","","","",""]
[null,null,null,null,null,null,null,null,{"$f":"IF(H201=\"1a\",Hoja1!$B$126,IF(H201=\"1b\",Hoja1!$B$127,IF(H201=\"2a\",Hoja1!$B$128,IF(H201=\"2b\",Hoja1!$B$129,IF(H201=\"3 \",Hoja1!$B$130,IF(H201=\"4 \",Hoja1!$B$131,IF(H201=\"5 \",Hoja1!$B$132,IF(H201=\"6 \",Hoja1!$B$133,IF(H201=\"7 \",Hoja1!$B$134,IF(H201=\"8 \",Hoja1!$B$135,\" \"))))))))))","v":" "},{"$f":"CONCATENATE(#REF!,\"-\",\"TX\")","v":{"$error":"#REF!"}},{"$f":"CONCATENATE(#REF!,\"-\",\"RX\")","v":{"$error":"#REF!"}},null,null,null,null,0,null,null,null,null,null,{"$f":"IF($R201=\"\",\"\",VLOOKUP($R201,'FO-DRE-01'!$A$7:$U$301,18,FALSE))","v":""},{"$f":"IF($R201=\"\",\"\",VLOOKUP($R201,'FO-DRE-01'!$A$7:$U$301,16,FALSE))","v":""},{"$f":"IF($R201=\"\",\"\",VLOOKUP($R201,'FO-DRE-01'!$A$7:$U$301,17,FALSE))","v":""},{"$f":"IF($R201=\"\",\"\",VLOOKUP($R201,'FO-DRE-01'!$A$7:$U$301,3,FALSE))","v":""},{"$f":"IF($R201=\"\",\"\",VLOOKUP($R201,'FO-DRE-01'!$A$7:$U$301,4,FALSE))","v":""},{"$f":"IF($R201=\"\",\"\",VLOOKUP($R201,'FO-DRE-01'!$A$7:$U$301,5,FALSE))","v":""},{"$f":"IF($R201=\"\",\"\",VLOOKUP($R201,'FO-DRE-01'!$A$7:$U$301,7,FALSE))","v":""},{"$f":"IF($R201=\"\",\"\",VLOOKUP($R201,'FO-DRE-01'!$A$7:$U$301,8,FALSE))","v":""},{"$f":"IF($R201=\"\",\"\",VLOOKUP($R201,'FO-DRE-01'!$A$7:$U$301,9,FALSE))","v":""},{"$f":"IF($R201=\"\",\"\",VLOOKUP($R201,'FO-DRE-01'!$A$7:$U$301,10,FALSE))","v":""},{"$f":"IF($R201=\"\",\"\",VLOOKUP($R201,'FO-DRE-01'!$A$7:$U$301,11,FALSE))","v":""},{"$f":"IF($R201=\"\",\"\",VLOOKUP($R201,'FO-DRE-01'!$A$7:$U$301,12,FALSE))","v":""},{"$f":"IF($R201=\"\",\"\",VLOOKUP($R201,'FO-DRE-01'!$A$7:$U$301,13,FALSE))","v":""},{"$f":"IF($R201=\"\",\"\",VLOOKUP($R201,'FO-DRE-01'!$A$7:$U$301,14,FALSE))","v":""},{"$f":"IF($R201=\"\",\"\",VLOOKUP($R201,'FO-DRE-01'!$A$7:$U$301,15,FALSE))","v":""},{"$f":"IF($S201=\"\",\"\",VLOOKUP($S201,'FO-DRE-04'!$A$6:$L$301,2,FALSE))","v":""},{"$f":"IF($S201=\"\",\"\",VLOOKUP($S201,'FO-DRE-04'!$A$6:$L$301,3,FALSE))","v":""},{"$f":"IF($S201=\"\",\"\",VLOOKUP($S201,'FO-DRE-04'!$A$6:$L$301,4,FALSE))","v":""},{"$f":"IF($S201=\"\",\"\",VLOOKUP($S201,'FO-DRE-04'!$A$6:$L$301,6,FALSE))","v":""},{"$f":"IF($S201=\"\",\"\",VLOOKUP($S201,'FO-DRE-04'!$A$6:$L$301,11,FALSE))","v":""},{"$f":"IF($T201=\"\",\"\",VLOOKUP($T201,'FO-DRE-02'!$A$6:$M$101,2,FALSE))","v":""},{"$f":"IF($T201=\"\",\"\",VLOOKUP($T201,'FO-DRE-02'!$A$6:$M$101,3,FALSE))","v":""},{"$f":"IF($T201=\"\",\"\",VLOOKUP($T201,'FO-DRE-02'!$A$6:$M$101,6,FALSE))","v":""},{"$f":"IF($T201=\"\",\"\",VLOOKUP($T201,'FO-DRE-02'!$A$6:$M$101,4,FALSE))","v":""},{"$f":"IF($T201=\"\",\"\",VLOOKUP($T201,'FO-DRE-02'!$A$6:$M$101,5,FALSE))","v":""},{"$f":"IF($T201=\"\",\"\",VLOOKUP($T201,'FO-DRE-02'!$A$6:$M$101,8,FALSE))","v":""},{"$f":"IF($T201=\"\",\"\",VLOOKUP($T201,'FO-DRE-02'!$A$6:$M$101,7,FALSE))","v":""},{"$f":"IF($T201=\"\",\"\",VLOOKUP($T201,'FO-DRE-02'!$A$6:$M$101,9,FALSE))","v":""},{"$f":"IF($T201=\"\",\"\",VLOOKUP($T201,'FO-DRE-02'!$A$6:$M$101,11,FALSE))","v":""},{"$f":"IF($T201=\"\",\"\",VLOOKUP($T201,'FO-DRE-02'!$A$6:$M$101,12,FALSE))","v":""},{"$f":"IF($T201=\"\",\"\",VLOOKUP($T201,'FO-DRE-02'!$A$6:$M$101,13,FALSE))","v":""},null,null,null,192,"","F/D","F/D","","","","","","","","","","","","","","",""]
[null,null,null,null,null,null,null,null,{"$f":"IF(H202=\"1a\",Hoja1!$B$126,IF(H202=\"1b\",Hoja1!$B$127,IF(H202=\"2a\",Hoja1!$B$128,IF(H202=\"2b\",Hoja1!$B$129,IF(H202=\"3 \",Hoja1!$B$130,IF(H202=\"4 \",Hoja1!$B$131,IF(H202=\"5 \",Hoja1!$B$132,IF(H202=\"6 \",Hoja1!$B$133,IF(H202=\"7 \",Hoja1!$B$134,IF(H202=\"8 \",Hoja1!$B$135,\" \"))))))))))","v":" "},{"$f":"CONCATENATE(#REF!,\"-\",\"TX\")","v":{"$error":"#REF!"}},{"$f":"CONCATENATE(#REF!,\"-\",\"RX\")","v":{"$error":"#REF!"}},null,null,null,null,0,null,null,null,null,null,{"$f":"IF($R202=\"\",\"\",VLOOKUP($R202,'FO-DRE-01'!$A$7:$U$301,18,FALSE))","v":""},{"$f":"IF($R202=\"\",\"\",VLOOKUP($R202,'FO-DRE-01'!$A$7:$U$301,16,FALSE))","v":""},{"$f":"IF($R202=\"\",\"\",VLOOKUP($R202,'FO-DRE-01'!$A$7:$U$301,17,FALSE))","v":""},{"$f":"IF($R202=\"\",\"\",VLOOKUP($R202,'FO-DRE-01'!$A$7:$U$301,3,FALSE))","v":""},{"$f":"IF($R202=\"\",\"\",VLOOKUP($R202,'FO-DRE-01'!$A$7:$U$301,4,FALSE))","v":""},{"$f":"IF($R202=\"\",\"\",VLOOKUP($R202,'FO-DRE-01'!$A$7:$U$301,5,FALSE))","v":""},{"$f":"IF($R202=\"\",\"\",VLOOKUP($R202,'FO-DRE-01'!$A$7:$U$301,7,FALSE))","v":""},{"$f":"IF($R202=\"\",\"\",VLOOKUP($R202,'FO-DRE-01'!$A$7:$U$301,8,FALSE))","v":""},{"$f":"IF($R202=\"\",\"\",VLOOKUP($R202,'FO-DRE-01'!$A$7:$U$301,9,FALSE))","v":""},{"$f":"IF($R202=\"\",\"\",VLOOKUP($R202,'FO-DRE-01'!$A$7:$U$301,10,FALSE))","v":""},{"$f":"IF($R202=\"\",\"\",VLOOKUP($R202,'FO-DRE-01'!$A$7:$U$301,11,FALSE))","v":""},{"$f":"IF($R202=\"\",\"\",VLOOKUP($R202,'FO-DRE-01'!$A$7:$U$301,12,FALSE))","v":""},{"$f":"IF($R202=\"\",\"\",VLOOKUP($R202,'FO-DRE-01'!$A$7:$U$301,13,FALSE))","v":""},{"$f":"IF($R202=\"\",\"\",VLOOKUP($R202,'FO-DRE-01'!$A$7:$U$301,14,FALSE))","v":""},{"$f":"IF($R202=\"\",\"\",VLOOKUP($R202,'FO-DRE-01'!$A$7:$U$301,15,FALSE))","v":""},{"$f":"IF($S202=\"\",\"\",VLOOKUP($S202,'FO-DRE-04'!$A$6:$L$301,2,FALSE))","v":""},{"$f":"IF($S202=\"\",\"\",VLOOKUP($S202,'FO-DRE-04'!$A$6:$L$301,3,FALSE))","v":""},{"$f":"IF($S202=\"\",\"\",VLOOKUP($S202,'FO-DRE-04'!$A$6:$L$301,4,FALSE))","v":""},{"$f":"IF($S202=\"\",\"\",VLOOKUP($S202,'FO-DRE-04'!$A$6:$L$301,6,FALSE))","v":""},{"$f":"IF($S202=\"\",\"\",VLOOKUP($S202,'FO-DRE-04'!$A$6:$L$301,11,FALSE))","v":""},{"$f":"IF($T202=\"\",\"\",VLOOKUP($T202,'FO-DRE-02'!$A$6:$M$101,2,FALSE))","v":""},{"$f":"IF($T202=\"\",\"\",VLOOKUP($T202,'FO-DRE-02'!$A$6:$M$101,3,FALSE))","v":""},{"$f":"IF($T202=\"\",\"\",VLOOKUP($T202,'FO-DRE-02'!$A$6:$M$101,6,FALSE))","v":""},{"$f":"IF($T202=\"\",\"\",VLOOKUP($T202,'FO-DRE-02'!$A$6:$M$101,4,FALSE))","v":""},{"$f":"IF($T202=\"\",\"\",VLOOKUP($T202,'FO-DRE-02'!$A$6:$M$101,5,FALSE))","v":""},{"$f":"IF($T202=\"\",\"\",VLOOKUP($T202,'FO-DRE-02'!$A$6:$M$101,8,FALSE))","v":""},{"$f":"IF($T202=\"\",\"\",VLOOKUP($T202,'FO-DRE-02'!$A$6:$M$101,7,FALSE))","v":""},{"$f":"IF($T202=\"\",\"\",VLOOKUP($T202,'FO-DRE-02'!$A$6:$M$101,9,FALSE))","v":""},{"$f":"IF($T202=\"\",\"\",VLOOKUP($T202,'FO-DRE-02'!$A$6:$M$101,11,FALSE))","v":""},{"$f":"IF($T202=\"\",\"\",VLOOKUP($T202,'FO-DRE-02'!$A$6:$M$101,12,FALSE))","v":""},{"$f":"IF($T202=\"\",\"\",VLOOKUP($T202,'FO-DRE-02'!$A$6:$M$101,13,FALSE))","v":""},null,null,null,193,"",{"$f":"IF(OR($C202=\"\",$AN202=\"\",$AW202=\"\"),\"F/D\",IF(BR202>BH202,\"SI\",\"\"))","v":"F/D"},{"$f":"IF(OR($C202=\"\",$AN202=\"\",$AW202=\"\"),\"F/D\",IF(BR202>BI202,\"SI\",\"\"))","v":"F/D"},{"$f":"IF(D202=\"\",\"\",IF(AND(10<BB202,BB202<=400),10,IF(AND(400<BB202,BB202<=2000),(BB202/40),IF(AND(2000<BB202,B202<=300000),50,0))))","v":""},{"$f":"IF(D202=\"\",\"\",IF(AND(10<BB202,BB202<=400),2,IF(AND(400<BB202,BB202<=2000),(BB202/200),IF(AND(2000<BB202,BB202<=300000),10,0))))","v":""},{"$f":"IF(M202=\"\",\"\",SQRT(POWER($BJ$9,2)+POWER((AZ202-1.5),2)))","v":""},{"$f":"IF(M202=\"\",\"\",SQRT(POWER($BK$9,2)+POWER((AZ202-1.5),2)))","v":""},{"$f":"IF(M202=\"\",\"\",SQRT(POWER($BL$9,2)+POWER((AZ202-1.5),2)))","v":""},{"$f":"IF(M202=\"\",\"\",SQRT(POWER($BM$9,2)+POWER((AZ202-1.5),2)))","v":""},{"$f":"IF(M202=\"\",\"\",SQRT(POWER($BN$9,2)+POWER((AZ202-1.5),2)))","v":""},"",{"$f":"IF(M202=\"\",\"\",POWER(10,(AW202+2.15)/10))","v":""},"",{"$f":"IF(M202=\"\",\"\",$BQ202/(PI()*BJ202^2))","v":""},{"$f":"IF(M202=\"\",\"\",$BQ202/(PI()*BK202^2))","v":""},{"$f":"IF(M202=\"\",\"\",$BQ202/(PI()*BL202^2))","v":""},{"$f":"IF(M202=\"\",\"\",$BQ202/(PI()*BM202^2))","v":""},{"$f":"IF(M202=\"\",\"\",$BQ202/(PI()*BN202^2))","v":""}]
[null,null,null,null,null,null,null,null,{"$f":"IF(H203=\"1a\",Hoja1!$B$126,IF(H203=\"1b\",Hoja1!$B$127,IF(H203=\"2a\",Hoja1!$B$128,IF(H203=\"2b\",Hoja1!$B$129,IF(H203=\"3 \",Hoja1!$B$130,IF(H203=\"4 \",Hoja1!$B$131,IF(H203=\"5 \",Hoja1!$B$132,IF(H203=\"6 \",Hoja1!$B$133,IF(H203=\"7 \",Hoja1!$B$134,IF(H203=\"8 \",Hoja1!$B$135,\" \"))))))))))","v":" "},{"$f":"CONCATENATE(#REF!,\"-\",\"TX\")","v":{"$error":"#REF!"}},{"$f":"CONCATENATE(#REF!,\"-\",\"RX\")","v":{"$error":"#REF!"}},null,null,null,null,0,null,null,null,null,null,{"$f":"IF($R203=\"\",\"\",VLOOKUP($R203,'FO-DRE-01'!$A$7:$U$301,18,FALSE))","v":""},{"$f":"IF($R203=\"\",\"\",VLOOKUP($R203,'FO-DRE-01'!$A$7:$U$301,16,FALSE))","v":""},{"$f":"IF($R203=\"\",\"\",VLOOKUP($R203,'FO-DRE-01'!$A$7:$U$301,17,FALSE))","v":""},{"$f":"IF($R203=\"\",\"\",VLOOKUP($R203,'FO-DRE-01'!$A$7:$U$301,3,FALSE))","v":""},{"$f":"IF($R203=\"\",\"\",VLOOKUP($R203,'FO-DRE-01'!$A$7:$U$301,4,FALSE))","v":""},{"$f":"IF($R203=\"\",\"\",VLOOKUP($R203,'FO-DRE-01'!$A$7:$U$301,5,FALSE))","v":""},{"$f":"IF($R203=\"\",\"\",VLOOKUP($R203,'FO-DRE-01'!$A$7:$U$301,7,FALSE))","v":""},{"$f":"IF($R203=\"\",\"\",VLOOKUP($R203,'FO-DRE-01'!$A$7:$U$301,8,FALSE))","v":""},{"$f":"IF($R203=\"\",\"\",VLOOKUP($R203,'FO-DRE-01'!$A$7:$U$301,9,FALSE))","v":""},{"$f":"IF($R203=\"\",\"\",VLOOKUP($R203,'FO-DRE-01'!$A$7:$U$301,10,FALSE))","v":""},{"$f":"IF($R203=\"\",\"\",VLOOKUP($R203,'FO-DRE-01'!$A$7:$U$301,11,FALSE))","v":""},{"$f":"IF($R203=\"\",\"\",VLOOKUP($R203,'FO-DRE-01'!$A$7:$U$301,12,FALSE))","v":""},{"$f":"IF($R203=\"\",\"\",VLOOKUP($R203,'FO-DRE-01'!$A$7:$U$301,13,FALSE))","v":""},{"$f":"IF($R203=\"\",\"\",VLOOKUP($R203,'FO-DRE-01'!$A$7:$U$301,14,FALSE))","v":""},{"$f":"IF($R203=\"\",\"\",VLOOKUP($R203,'FO-DRE-01'!$A$7:$U$301,15,FALSE))","v":""},{"$f":"IF($S203=\"\",\"\",VLOOKUP($S203,'FO-DRE-04'!$A$6:$L$301,2,FALSE))","v":""},{"$f":"IF($S203=\"\",\"\",VLOOKUP($S203,'FO-DRE-04'!$A$6:$L$301,3,FALSE))","v":""},{"$f":"IF($S203=\"\",\"\",VLOOKUP($S203,'FO-DRE-04'!$A$6:$L$301,4,FALSE))","v":""},{"$f":"IF($S203=\"\",\"\",VLOOKUP($S203,'FO-DRE-04'!$A$6:$L$301,6,FALSE))","v":""},{"$f":"IF($S203=\"\",\"\",VLOOKUP($S203,'FO-DRE-04'!$A$6:$L$301,11,FALSE))","v":""},{"$f":"IF($T203=\"\",\"\",VLOOKUP($T203,'FO-DRE-02'!$A$6:$M$101,2,FALSE))","v":""},{"$f":"IF($T203=\"\",\"\",VLOOKUP($T203,'FO-DRE-02'!$A$6:$M$101,3,FALSE))","v":""},{"$f":"IF($T203=\"\",\"\",VLOOKUP($T203,'FO-DRE-02'!$A$6:$M$101,6,FALSE))","v":""},{"$f":"IF($T203=\"\",\"\",VLOOKUP($T203,'FO-DRE-02'!$A$6:$M$101,4,FALSE))","v":""},{"$f":"IF($T203=\"\",\"\",VLOOKUP($T203,'FO-DRE-02'!$A$6:$M$101,5,FALSE))","v":""},{"$f":"IF($T203=\"\",\"\",VLOOKUP($T203,'FO-DRE-02'!$A$6:$M$101,8,FALSE))","v":""},{"$f":"IF($T203=\"\",\"\",VLOOKUP($T203,'FO-DRE-02'!$A$6:$M$101,7,FALSE))","v":""},{"$f":"IF($T203=\"\",\"\",VLOOKUP($T203,'FO-DRE-02'!$A$6:$M$101,9,FALSE))","v":""},{"$f":"IF($T203=\"\",\"\",VLOOKUP($T203,'FO-DRE-02'!$A$6:$M$101,11,FALSE))","v":""},{"$f":"IF($T203=\"\",\"\",VLOOKUP($T203,'FO-DRE-02'!$A$6:$M$101,12,FALSE))","v":""},{"$f":"IF($T203=\"\",\"\",VLOOKUP($T203,'FO-DRE-02'!$A$6:$M$101,13,FALSE))","v":""},null,null,null,194,"","F/D","F/D","","","","","","","","","","","","","","",""]
[null,null,null,null,null,null,null,null,{"$f":"IF(H204=\"1a\",Hoja1!$B$126,IF(H204=\"1b\",Hoja1!$B$127,IF(H204=\"2a\",Hoja1!$B$128,IF(H204=\"2b\",Hoja1!$B$129,IF(H204=\"3 \",Hoja1!$B$130,IF(H204=\"4 \",Hoja1!$B$131,IF(H204=\"5 \",Hoja1!$B$132,IF(H204=\"6 \",Hoja1!$B$133,IF(H204=\"7 \",Hoja1!$B$134,IF(H204=\"8 \",Hoja1!$B$135,\" \"))))))))))","v":" "},{"$f":"CONCATENATE(#REF!,\"-\",\"TX\")","v":{"$error":"#REF!"}},{"$f":"CONCATENATE(#REF!,\"-\",\"RX\")","v":{"$error":"#REF!"}},null,null,null,null,{"$f":"B204","v":0},null,null,null,null,null,{"$f":"IF($R204=\"\",\"\",VLOOKUP($R204,'FO-DRE-01'!$A$7:$U$301,18,FALSE))","v":""},{"$f":"IF($R204=\"\",\"\",VLOOKUP($R204,'FO-DRE-01'!$A$7:$U$301,16,FALSE))","v":""},{"$f":"IF($R204=\"\",\"\",VLOOKUP($R204,'FO-DRE-01'!$A$7:$U$301,17,FALSE))","v":""},{"$f":"IF($R204=\"\",\"\",VLOOKUP($R204,'FO-DRE-01'!$A$7:$U$301,3,FALSE))","v":""},{"$f":"IF($R204=\"\",\"\",VLOOKUP($R204,'FO-DRE-01'!$A$7:$U$301,4,FALSE))","v":""},{"$f":"IF($R204=\"\",\"\",VLOOKUP($R204,'FO-DRE-01'!$A$7:$U$301,5,FALSE))","v":""},{"$f":"IF($R204=\"\",\"\",VLOOKUP($R204,'FO-DRE-01'!$A$7:$U$301,7,FALSE))","v":""},{"$f":"IF($R204=\"\",\"\",VLOOKUP($R204,'FO-DRE-01'!$A$7:$U$301,8,FALSE))","v":""},{"$f":"IF($R204=\"\",\"\",VLOOKUP($R204,'FO-DRE-01'!$A$7:$U$301,9,FALSE))","v":""},{"$f":"IF($R204=\"\",\"\",VLOOKUP($R204,'FO-DRE-01'!$A$7:$U$301,10,FALSE))","v":""},{"$f":"IF($R204=\"\",\"\",VLOOKUP($R204,'FO-DRE-01'!$A$7:$U$301,11,FALSE))","v":""},{"$f":"IF($R204=\"\",\"\",VLOOKUP($R204,'FO-DRE-01'!$A$7:$U$301,12,FALSE))","v":""},{"$f":"IF($R204=\"\",\"\",VLOOKUP($R204,'FO-DRE-01'!$A$7:$U$301,13,FALSE))","v":""},{"$f":"IF($R204=\"\",\"\",VLOOKUP($R204,'FO-DRE-01'!$A$7:$U$301,14,FALSE))","v":""},{"$f":"IF($R204=\"\",\"\",VLOOKUP($R204,'FO-DRE-01'!$A$7:$U$301,15,FALSE))","v":""},{"$f":"IF($S204=\"\",\"\",VLOOKUP($S204,'FO-DRE-04'!$A$6:$L$301,2,FALSE))","v":""},{"$f":"IF($S204=\"\",\"\",VLOOKUP($S204,'FO-DRE-04'!$A$6:$L$301,3,FALSE))","v":""},{"$f":"IF($S204=\"\",\"\",VLOOKUP($S204,'FO-DRE-04'!$A$6:$L$301,4,FALSE))","v":""},{"$f":"IF($S204=\"\",\"\",VLOOKUP($S204,'FO-DRE-04'!$A$6:$L$301,6,FALSE))","v":""},{"$f":"IF($S204=\"\",\"\",VLOOKUP($S204,'FO-DRE-04'!$A$6:$L$301,11,FALSE))","v":""},{"$f":"IF($T204=\"\",\"\",VLOOKUP($T204,'FO-DRE-02'!$A$6:$M$101,2,FALSE))","v":""},{"$f":"IF($T204=\"\",\"\",VLOOKUP($T204,'FO-DRE-02'!$A$6:$M$101,3,FALSE))","v":""},{"$f":"IF($T204=\"\",\"\",VLOOKUP($T204,'FO-DRE-02'!$A$6:$M$101,6,FALSE))","v":""},{"$f":"IF($T204=\"\",\"\",VLOOKUP($T204,'FO-DRE-02'!$A$6:$M$101,4,FALSE))","v":""},{"$f":"IF($T204=\"\",\"\",VLOOKUP($T204,'FO-DRE-02'!$A$6:$M$101,5,FALSE))","v":""},{"$f":"IF($T204=\"\",\"\",VLOOKUP($T204,'FO-DRE-02'!$A$6:$M$101,8,FALSE))","v":""},{"$f":"IF($T204=\"\",\"\",VLOOKUP($T204,'FO-DRE-02'!$A$6:$M$101,7,FALSE))","v":""},{"$f":"IF($T204=\"\",\"\",VLOOKUP($T204,'FO-DRE-02'!$A$6:$M$101,9,FALSE))","v":""},{"$f":"IF($T204=\"\",\"\",VLOOKUP($T204,'FO-DRE-02'!$A$6:$M$101,11,FALSE))","v":""},{"$f":"IF($T204=\"\",\"\",VLOOKUP($T204,'FO-DRE-02'!$A$6:$M$101,12,FALSE))","v":""},{"$f":"IF($T204=\"\",\"\",VLOOKUP($T204,'FO-DRE-02'!$A$6:$M$101,13,FALSE))","v":""},null,null,null,195,"","F/D","F/D","","","","","","","","","","","","","","",""]
[null,null,null,null,null,null,null,null,{"$f":"IF(H205=\"1a\",Hoja1!$B$126,IF(H205=\"1b\",Hoja1!$B$127,IF(H205=\"2a\",Hoja1!$B$128,IF(H205=\"2b\",Hoja1!$B$129,IF(H205=\"3 \",Hoja1!$B$130,IF(H205=\"4 \",Hoja1!$B$131,IF(H205=\"5 \",Hoja1!$B$132,IF(H205=\"6 \",Hoja1!$B$133,IF(H205=\"7 \",Hoja1!$B$134,IF(H205=\"8 \",Hoja1!$B$135,\" \"))))))))))","v":" "},{"$f":"CONCATENATE(#REF!,\"-\",\"TX\")","v":{"$error":"#REF!"}},{"$f":"CONCATENATE(#REF!,\"-\",\"RX\")","v":{"$error":"#REF!"}},null,null,null,null,0,null,null,null,null,null,{"$f":"IF($R205=\"\",\"\",VLOOKUP($R205,'FO-DRE-01'!$A$7:$U$301,18,FALSE))","v":""},{"$f":"IF($R205=\"\",\"\",VLOOKUP($R205,'FO-DRE-01'!$A$7:$U$301,16,FALSE))","v":""},{"$f":"IF($R205=\"\",\"\",VLOOKUP($R205,'FO-DRE-01'!$A$7:$U$301,17,FALSE))","v":""},{"$f":"IF($R205=\"\",\"\",VLOOKUP($R205,'FO-DRE-01'!$A$7:$U$301,3,FALSE))","v":""},{"$f":"IF($R205=\"\",\"\",VLOOKUP($R205,'FO-DRE-01'!$A$7:$U$301,4,FALSE))","v":""},{"$f":"IF($R205=\"\",\"\",VLOOKUP($R205,'FO-DRE-01'!$A$7:$U$301,5,FALSE))","v":""},{"$f":"IF($R205=\"\",\"\",VLOOKUP($R205,'FO-DRE-01'!$A$7:$U$301,7,FALSE))","v":""},{"$f":"IF($R205=\"\",\"\",VLOOKUP($R205,'FO-DRE-01'!$A$7:$U$301,8,FALSE))","v":""},{"$f":"IF($R205=\"\",\"\",VLOOKUP($R205,'FO-DRE-01'!$A$7:$U$301,9,FALSE))","v":""},{"$f":"IF($R205=\"\",\"\",VLOOKUP($R205,'FO-DRE-01'!$A$7:$U$301,10,FALSE))","v":""},{"$f":"IF($R205=\"\",\"\",VLOOKUP($R205,'FO-DRE-01'!$A$7:$U$301,11,FALSE))","v":""},{"$f":"IF($R205=\"\",\"\",VLOOKUP($R205,'FO-DRE-01'!$A$7:$U$301,12,FALSE))","v":""},{"$f":"IF($R205=\"\",\"\",VLOOKUP($R205,'FO-DRE-01'!$A$7:$U$301,13,FALSE))","v":""},{"$f":"IF($R205=\"\",\"\",VLOOKUP($R205,'FO-DRE-01'!$A$7:$U$301,14,FALSE))","v":""},{"$f":"IF($R205=\"\",\"\",VLOOKUP($R205,'FO-DRE-01'!$A$7:$U$301,15,FALSE))","v":""},{"$f":"IF($S205=\"\",\"\",VLOOKUP($S205,'FO-DRE-04'!$A$6:$L$301,2,FALSE))","v":""},{"$f":"IF($S205=\"\",\"\",VLOOKUP($S205,'FO-DRE-04'!$A$6:$L$301,3,FALSE))","v":""},{"$f":"IF($S205=\"\",\"\",VLOOKUP($S205,'FO-DRE-04'!$A$6:$L$301,4,FALSE))","v":""},{"$f":"IF($S205=\"\",\"\",VLOOKUP($S205,'FO-DRE-04'!$A$6:$L$301,6,FALSE))","v":""},{"$f":"IF($S205=\"\",\"\",VLOOKUP($S205,'FO-DRE-04'!$A$6:$L$301,11,FALSE))","v":""},{"$f":"IF($T205=\"\",\"\",VLOOKUP($T205,'FO-DRE-02'!$A$6:$M$101,2,FALSE))","v":""},{"$f":"IF($T205=\"\",\"\",VLOOKUP($T205,'FO-DRE-02'!$A$6:$M$101,3,FALSE))","v":""},{"$f":"IF($T205=\"\",\"\",VLOOKUP($T205,'FO-DRE-02'!$A$6:$M$101,6,FALSE))","v":""},{"$f":"IF($T205=\"\",\"\",VLOOKUP($T205,'FO-DRE-02'!$A$6:$M$101,4,FALSE))","v":""},{"$f":"IF($T205=\"\",\"\",VLOOKUP($T205,'FO-DRE-02'!$A$6:$M$101,5,FALSE))","v":""},{"$f":"IF($T205=\"\",\"\",VLOOKUP($T205,'FO-DRE-02'!$A$6:$M$101,8,FALSE))","v":""},{"$f":"IF($T205=\"\",\"\",VLOOKUP($T205,'FO-DRE-02'!$A$6:$M$101,7,FALSE))","v":""},{"$f":"IF($T205=\"\",\"\",VLOOKUP($T205,'FO-DRE-02'!$A$6:$M$101,9,FALSE))","v":""},{"$f":"IF($T205=\"\",\"\",VLOOKUP($T205,'FO-DRE-02'!$A$6:$M$101,11,FALSE))","v":""},{"$f":"IF($T205=\"\",\"\",VLOOKUP($T205,'FO-DRE-02'!$A$6:$M$101,12,FALSE))","v":""},{"$f":"IF($T205=\"\",\"\",VLOOKUP($T205,'FO-DRE-02'!$A$6:$M$101,13,FALSE))","v":""},null,null,null,196,"","F/D","F/D","","","","","","","","","","","","","","",""]
[null,null,null,null,null,null,null,null,{"$f":"IF(H206=\"1a\",Hoja1!$B$126,IF(H206=\"1b\",Hoja1!$B$127,IF(H206=\"2a\",Hoja1!$B$128,IF(H206=\"2b\",Hoja1!$B$129,IF(H206=\"3 \",Hoja1!$B$130,IF(H206=\"4 \",Hoja1!$B$131,IF(H206=\"5 \",Hoja1!$B$132,IF(H206=\"6 \",Hoja1!$B$133,IF(H206=\"7 \",Hoja1!$B$134,IF(H206=\"8 \",Hoja1!$B$135,\" \"))))))))))","v":" "},{"$f":"CONCATENATE(#REF!,\"-\",\"TX\")","v":{"$error":"#REF!"}},{"$f":"CONCATENATE(#REF!,\"-\",\"RX\")","v":{"$error":"#REF!"}},null,null,null,null,0,null,null,null,null,null,{"$f":"IF($R206=\"\",\"\",VLOOKUP($R206,'FO-DRE-01'!$A$7:$U$301,18,FALSE))","v":""},{"$f":"IF($R206=\"\",\"\",VLOOKUP($R206,'FO-DRE-01'!$A$7:$U$301,16,FALSE))","v":""},{"$f":"IF($R206=\"\",\"\",VLOOKUP($R206,'FO-DRE-01'!$A$7:$U$301,17,FALSE))","v":""},{"$f":"IF($R206=\"\",\"\",VLOOKUP($R206,'FO-DRE-01'!$A$7:$U$301,3,FALSE))","v":""},{"$f":"IF($R206=\"\",\"\",VLOOKUP($R206,'FO-DRE-01'!$A$7:$U$301,4,FALSE))","v":""},{"$f":"IF($R206=\"\",\"\",VLOOKUP($R206,'FO-DRE-01'!$A$7:$U$301,5,FALSE))","v":""},{"$f":"IF($R206=\"\",\"\",VLOOKUP($R206,'FO-DRE-01'!$A$7:$U$301,7,FALSE))","v":""},{"$f":"IF($R206=\"\",\"\",VLOOKUP($R206,'FO-DRE-01'!$A$7:$U$301,8,FALSE))","v":""},{"$f":"IF($R206=\"\",\"\",VLOOKUP($R206,'FO-DRE-01'!$A$7:$U$301,9,FALSE))","v":""},{"$f":"IF($R206=\"\",\"\",VLOOKUP($R206,'FO-DRE-01'!$A$7:$U$301,10,FALSE))","v":""},{"$f":"IF($R206=\"\",\"\",VLOOKUP($R206,'FO-DRE-01'!$A$7:$U$301,11,FALSE))","v":""},{"$f":"IF($R206=\"\",\"\",VLOOKUP($R206,'FO-DRE-01'!$A$7:$U$301,12,FALSE))","v":""},{"$f":"IF($R206=\"\",\"\",VLOOKUP($R206,'FO-DRE-01'!$A$7:$U$301,13,FALSE))","v":""},{"$f":"IF($R206=\"\",\"\",VLOOKUP($R206,'FO-DRE-01'!$A$7:$U$301,14,FALSE))","v":""},{"$f":"IF($R206=\"\",\"\",VLOOKUP($R206,'FO-DRE-01'!$A$7:$U$301,15,FALSE))","v":""},{"$f":"IF($S206=\"\",\"\",VLOOKUP($S206,'FO-DRE-04'!$A$6:$L$301,2,FALSE))","v":""},{"$f":"IF($S206=\"\",\"\",VLOOKUP($S206,'FO-DRE-04'!$A$6:$L$301,3,FALSE))","v":""},{"$f":"IF($S206=\"\",\"\",VLOOKUP($S206,'FO-DRE-04'!$A$6:$L$301,4,FALSE))","v":""},{"$f":"IF($S206=\"\",\"\",VLOOKUP($S206,'FO-DRE-04'!$A$6:$L$301,6,FALSE))","v":""},{"$f":"IF($S206=\"\",\"\",VLOOKUP($S206,'FO-DRE-04'!$A$6:$L$301,11,FALSE))","v":""},{"$f":"IF($T206=\"\",\"\",VLOOKUP($T206,'FO-DRE-02'!$A$6:$M$101,2,FALSE))","v":""},{"$f":"IF($T206=\"\",\"\",VLOOKUP($T206,'FO-DRE-02'!$A$6:$M$101,3,FALSE))","v":""},{"$f":"IF($T206=\"\",\"\",VLOOKUP($T206,'FO-DRE-02'!$A$6:$M$101,6,FALSE))","v":""},{"$f":"IF($T206=\"\",\"\",VLOOKUP($T206,'FO-DRE-02'!$A$6:$M$101,4,FALSE))","v":""},{"$f":"IF($T206=\"\",\"\",VLOOKUP($T206,'FO-DRE-02'!$A$6:$M$101,5,FALSE))","v":""},{"$f":"IF($T206=\"\",\"\",VLOOKUP($T206,'FO-DRE-02'!$A$6:$M$101,8,FALSE))","v":""},{"$f":"IF($T206=\"\",\"\",VLOOKUP($T206,'FO-DRE-02'!$A$6:$M$101,7,FALSE))","v":""},{"$f":"IF($T206=\"\",\"\",VLOOKUP($T206,'FO-DRE-02'!$A$6:$M$101,9,FALSE))","v":""},{"$f":"IF($T206=\"\",\"\",VLOOKUP($T206,'FO-DRE-02'!$A$6:$M$101,11,FALSE))","v":""},{"$f":"IF($T206=\"\",\"\",VLOOKUP($T206,'FO-DRE-02'!$A$6:$M$101,12,FALSE))","v":""},{"$f":"IF($T206=\"\",\"\",VLOOKUP($T206,'FO-DRE-02'!$A$6:$M$101,13,FALSE))","v":""},null,null,null,197,{"$f":"IF($R206=\"\",\"\",$R206)","v":""},"F/D","F/D","","","","","","","","","","","","","","",""]
[null,null,null,null,null,null,null,null,{"$f":"IF(H207=\"1a\",Hoja1!$B$126,IF(H207=\"1b\",Hoja1!$B$127,IF(H207=\"2a\",Hoja1!$B$128,IF(H207=\"2b\",Hoja1!$B$129,IF(H207=\"3 \",Hoja1!$B$130,IF(H207=\"4 \",Hoja1!$B$131,IF(H207=\"5 \",Hoja1!$B$132,IF(H207=\"6 \",Hoja1!$B$133,IF(H207=\"7 \",Hoja1!$B$134,IF(H207=\"8 \",Hoja1!$B$135,\" \"))))))))))","v":" "},{"$f":"CONCATENATE(#REF!,\"-\",\"TX\")","v":{"$error":"#REF!"}},{"$f":"CONCATENATE(#REF!,\"-\",\"RX\")","v":{"$error":"#REF!"}},null,null,null,null,0,null,null,null,null,null,{"$f":"IF($R207=\"\",\"\",VLOOKUP($R207,'FO-DRE-01'!$A$7:$U$301,18,FALSE))","v":""},{"$f":"IF($R207=\"\",\"\",VLOOKUP($R207,'FO-DRE-01'!$A$7:$U$301,16,FALSE))","v":""},{"$f":"IF($R207=\"\",\"\",VLOOKUP($R207,'FO-DRE-01'!$A$7:$U$301,17,FALSE))","v":""},{"$f":"IF($R207=\"\",\"\",VLOOKUP($R207,'FO-DRE-01'!$A$7:$U$301,3,FALSE))","v":""},{"$f":"IF($R207=\"\",\"\",VLOOKUP($R207,'FO-DRE-01'!$A$7:$U$301,4,FALSE))","v":""},{"$f":"IF($R207=\"\",\"\",VLOOKUP($R207,'FO-DRE-01'!$A$7:$U$301,5,FALSE))","v":""},{"$f":"IF($R207=\"\",\"\",VLOOKUP($R207,'FO-DRE-01'!$A$7:$U$301,7,FALSE))","v":""},{"$f":"IF($R207=\"\",\"\",VLOOKUP($R207,'FO-DRE-01'!$A$7:$U$301,8,FALSE))","v":""},{"$f":"IF($R207=\"\",\"\",VLOOKUP($R207,'FO-DRE-01'!$A$7:$U$301,9,FALSE))","v":""},{"$f":"IF($R207=\"\",\"\",VLOOKUP($R207,'FO-DRE-01'!$A$7:$U$301,10,FALSE))","v":""},{"$f":"IF($R207=\"\",\"\",VLOOKUP($R207,'FO-DRE-01'!$A$7:$U$301,11,FALSE))","v":""},{"$f":"IF($R207=\"\",\"\",VLOOKUP($R207,'FO-DRE-01'!$A$7:$U$301,12,FALSE))","v":""},{"$f":"IF($R207=\"\",\"\",VLOOKUP($R207,'FO-DRE-01'!$A$7:$U$301,13,FALSE))","v":""},{"$f":"IF($R207=\"\",\"\",VLOOKUP($R207,'FO-DRE-01'!$A$7:$U$301,14,FALSE))","v":""},{"$f":"IF($R207=\"\",\"\",VLOOKUP($R207,'FO-DRE-01'!$A$7:$U$301,15,FALSE))","v":""},{"$f":"IF($S207=\"\",\"\",VLOOKUP($S207,'FO-DRE-04'!$A$6:$L$301,2,FALSE))","v":""},{"$f":"IF($S207=\"\",\"\",VLOOKUP($S207,'FO-DRE-04'!$A$6:$L$301,3,FALSE))","v":""},{"$f":"IF($S207=\"\",\"\",VLOOKUP($S207,'FO-DRE-04'!$A$6:$L$301,4,FALSE))","v":""},{"$f":"IF($S207=\"\",\"\",VLOOKUP($S207,'FO-DRE-04'!$A$6:$L$301,6,FALSE))","v":""},{"$f":"IF($S207=\"\",\"\",VLOOKUP($S207,'FO-DRE-04'!$A$6:$L$301,11,FALSE))","v":""},{"$f":"IF($T207=\"\",\"\",VLOOKUP($T207,'FO-DRE-02'!$A$6:$M$101,2,FALSE))","v":""},{"$f":"IF($T207=\"\",\"\",VLOOKUP($T207,'FO-DRE-02'!$A$6:$M$101,3,FALSE))","v":""},{"$f":"IF($T207=\"\",\"\",VLOOKUP($T207,'FO-DRE-02'!$A$6:$M$101,6,FALSE))","v":""},{"$f":"IF($T207=\"\",\"\",VLOOKUP($T207,'FO-DRE-02'!$A$6:$M$101,4,FALSE))","v":""},{"$f":"IF($T207=\"\",\"\",VLOOKUP($T207,'FO-DRE-02'!$A$6:$M$101,5,FALSE))","v":""},{"$f":"IF($T207=\"\",\"\",VLOOKUP($T207,'FO-DRE-02'!$A$6:$M$101,8,FALSE))","v":""},{"$f":"IF($T207=\"\",\"\",VLOOKUP($T207,'FO-DRE-02'!$A$6:$M$101,7,FALSE))","v":""},{"$f":"IF($T207=\"\",\"\",VLOOKUP($T207,'FO-DRE-02'!$A$6:$M$101,9,FALSE))","v":""},{"$f":"IF($T207=\"\",\"\",VLOOKUP($T207,'FO-DRE-02'!$A$6:$M$101,11,FALSE))","v":""},{"$f":"IF($T207=\"\",\"\",VLOOKUP($T207,'FO-DRE-02'!$A$6:$M$101,12,FALSE))","v":""},{"$f":"IF($T207=\"\",\"\",VLOOKUP($T207,'FO-DRE-02'!$A$6:$M$101,13,FALSE))","v":""},null,null,null,198,"","F/D","F/D","","","","","","","","","","","","","","",""]
[null,null,null,null,null,null,null,null,{"$f":"IF(H208=\"1a\",Hoja1!$B$126,IF(H208=\"1b\",Hoja1!$B$127,IF(H208=\"2a\",Hoja1!$B$128,IF(H208=\"2b\",Hoja1!$B$129,IF(H208=\"3 \",Hoja1!$B$130,IF(H208=\"4 \",Hoja1!$B$131,IF(H208=\"5 \",Hoja1!$B$132,IF(H208=\"6 \",Hoja1!$B$133,IF(H208=\"7 \",Hoja1!$B$134,IF(H208=\"8 \",Hoja1!$B$135,\" \"))))))))))","v":" "},{"$f":"CONCATENATE(#REF!,\"-\",\"TX\")","v":{"$error":"#REF!"}},{"$f":"CONCATENATE(#REF!,\"-\",\"RX\")","v":{"$error":"#REF!"}},null,null,null,null,0,null,null,null,null,null,{"$f":"IF($R208=\"\",\"\",VLOOKUP($R208,'FO-DRE-01'!$A$7:$U$301,18,FALSE))","v":""},{"$f":"IF($R208=\"\",\"\",VLOOKUP($R208,'FO-DRE-01'!$A$7:$U$301,16,FALSE))","v":""},{"$f":"IF($R208=\"\",\"\",VLOOKUP($R208,'FO-DRE-01'!$A$7:$U$301,17,FALSE))","v":""},{"$f":"IF($R208=\"\",\"\",VLOOKUP($R208,'FO-DRE-01'!$A$7:$U$301,3,FALSE))","v":""},{"$f":"IF($R208=\"\",\"\",VLOOKUP($R208,'FO-DRE-01'!$A$7:$U$301,4,FALSE))","v":""},{"$f":"IF($R208=\"\",\"\",VLOOKUP($R208,'FO-DRE-01'!$A$7:$U$301,5,FALSE))","v":""},{"$f":"IF($R208=\"\",\"\",VLOOKUP($R208,'FO-DRE-01'!$A$7:$U$301,7,FALSE))","v":""},{"$f":"IF($R208=\"\",\"\",VLOOKUP($R208,'FO-DRE-01'!$A$7:$U$301,8,FALSE))","v":""},{"$f":"IF($R208=\"\",\"\",VLOOKUP($R208,'FO-DRE-01'!$A$7:$U$301,9,FALSE))","v":""},{"$f":"IF($R208=\"\",\"\",VLOOKUP($R208,'FO-DRE-01'!$A$7:$U$301,10,FALSE))","v":""},{"$f":"IF($R208=\"\",\"\",VLOOKUP($R208,'FO-DRE-01'!$A$7:$U$301,11,FALSE))","v":""},{"$f":"IF($R208=\"\",\"\",VLOOKUP($R208,'FO-DRE-01'!$A$7:$U$301,12,FALSE))","v":""},{"$f":"IF($R208=\"\",\"\",VLOOKUP($R208,'FO-DRE-01'!$A$7:$U$301,13,FALSE))","v":""},{"$f":"IF($R208=\"\",\"\",VLOOKUP($R208,'FO-DRE-01'!$A$7:$U$301,14,FALSE))","v":""},{"$f":"IF($R208=\"\",\"\",VLOOKUP($R208,'FO-DRE-01'!$A$7:$U$301,15,FALSE))","v":""},{"$f":"IF($S208=\"\",\"\",VLOOKUP($S208,'FO-DRE-04'!$A$6:$L$301,2,FALSE))","v":""},{"$f":"IF($S208=\"\",\"\",VLOOKUP($S208,'FO-DRE-04'!$A$6:$L$301,3,FALSE))","v":""},{"$f":"IF($S208=\"\",\"\",VLOOKUP($S208,'FO-DRE-04'!$A$6:$L$301,4,FALSE))","v":""},{"$f":"IF($S208=\"\",\"\",VLOOKUP($S208,'FO-DRE-04'!$A$6:$L$301,6,FALSE))","v":""},{"$f":"IF($S208=\"\",\"\",VLOOKUP($S208,'FO-DRE-04'!$A$6:$L$301,11,FALSE))","v":""},{"$f":"IF($T208=\"\",\"\",VLOOKUP($T208,'FO-DRE-02'!$A$6:$M$101,2,FALSE))","v":""},{"$f":"IF($T208=\"\",\"\",VLOOKUP($T208,'FO-DRE-02'!$A$6:$M$101,3,FALSE))","v":""},{"$f":"IF($T208=\"\",\"\",VLOOKUP($T208,'FO-DRE-02'!$A$6:$M$101,6,FALSE))","v":""},{"$f":"IF($T208=\"\",\"\",VLOOKUP($T208,'FO-DRE-02'!$A$6:$M$101,4,FALSE))","v":""},{"$f":"IF($T208=\"\",\"\",VLOOKUP($T208,'FO-DRE-02'!$A$6:$M$101,5,FALSE))","v":""},{"$f":"IF($T208=\"\",\"\",VLOOKUP($T208,'FO-DRE-02'!$A$6:$M$101,8,FALSE))","v":""},{"$f":"IF($T208=\"\",\"\",VLOOKUP($T208,'FO-DRE-02'!$A$6:$M$101,7,FALSE))","v":""},{"$f":"IF($T208=\"\",\"\",VLOOKUP($T208,'FO-DRE-02'!$A$6:$M$101,9,FALSE))","v":""},{"$f":"IF($T208=\"\",\"\",VLOOKUP($T208,'FO-DRE-02'!$A$6:$M$101,11,FALSE))","v":""},{"$f":"IF($T208=\"\",\"\",VLOOKUP($T208,'FO-DRE-02'!$A$6:$M$101,12,FALSE))","v":""},{"$f":"IF($T208=\"\",\"\",VLOOKUP($T208,'FO-DRE-02'!$A$6:$M$101,13,FALSE))","v":""},null,null,null,199,"","F/D","F/D","","","","","","","","","","","","","","",""]
[null,null,null,null,null,null,null,null,{"$f":"IF(H209=\"1a\",Hoja1!$B$126,IF(H209=\"1b\",Hoja1!$B$127,IF(H209=\"2a\",Hoja1!$B$128,IF(H209=\"2b\",Hoja1!$B$129,IF(H209=\"3 \",Hoja1!$B$130,IF(H209=\"4 \",Hoja1!$B$131,IF(H209=\"5 \",Hoja1!$B$132,IF(H209=\"6 \",Hoja1!$B$133,IF(H209=\"7 \",Hoja1!$B$134,IF(H209=\"8 \",Hoja1!$B$135,\" \"))))))))))","v":" "},{"$f":"CONCATENATE(#REF!,\"-\",\"TX\")","v":{"$error":"#REF!"}},{"$f":"CONCATENATE(#REF!,\"-\",\"RX\")","v":{"$error":"#REF!"}},null,null,null,null,0,null,null,null,null,null,{"$f":"IF($R209=\"\",\"\",VLOOKUP($R209,'FO-DRE-01'!$A$7:$U$301,18,FALSE))","v":""},{"$f":"IF($R209=\"\",\"\",VLOOKUP($R209,'FO-DRE-01'!$A$7:$U$301,16,FALSE))","v":""},{"$f":"IF($R209=\"\",\"\",VLOOKUP($R209,'FO-DRE-01'!$A$7:$U$301,17,FALSE))","v":""},{"$f":"IF($R209=\"\",\"\",VLOOKUP($R209,'FO-DRE-01'!$A$7:$U$301,3,FALSE))","v":""},{"$f":"IF($R209=\"\",\"\",VLOOKUP($R209,'FO-DRE-01'!$A$7:$U$301,4,FALSE))","v":""},{"$f":"IF($R209=\"\",\"\",VLOOKUP($R209,'FO-DRE-01'!$A$7:$U$301,5,FALSE))","v":""},{"$f":"IF($R209=\"\",\"\",VLOOKUP($R209,'FO-DRE-01'!$A$7:$U$301,7,FALSE))","v":""},{"$f":"IF($R209=\"\",\"\",VLOOKUP($R209,'FO-DRE-01'!$A$7:$U$301,8,FALSE))","v":""},{"$f":"IF($R209=\"\",\"\",VLOOKUP($R209,'FO-DRE-01'!$A$7:$U$301,9,FALSE))","v":""},{"$f":"IF($R209=\"\",\"\",VLOOKUP($R209,'FO-DRE-01'!$A$7:$U$301,10,FALSE))","v":""},{"$f":"IF($R209=\"\",\"\",VLOOKUP($R209,'FO-DRE-01'!$A$7:$U$301,11,FALSE))","v":""},{"$f":"IF($R209=\"\",\"\",VLOOKUP($R209,'FO-DRE-01'!$A$7:$U$301,12,FALSE))","v":""},{"$f":"IF($R209=\"\",\"\",VLOOKUP($R209,'FO-DRE-01'!$A$7:$U$301,13,FALSE))","v":""},{"$f":"IF($R209=\"\",\"\",VLOOKUP($R209,'FO-DRE-01'!$A$7:$U$301,14,FALSE))","v":""},{"$f":"IF($R209=\"\",\"\",VLOOKUP($R209,'FO-DRE-01'!$A$7:$U$301,15,FALSE))","v":""},{"$f":"IF($S209=\"\",\"\",VLOOKUP($S209,'FO-DRE-04'!$A$6:$L$301,2,FALSE))","v":""},{"$f":"IF($S209=\"\",\"\",VLOOKUP($S209,'FO-DRE-04'!$A$6:$L$301,3,FALSE))","v":""},{"$f":"IF($S209=\"\",\"\",VLOOKUP($S209,'FO-DRE-04'!$A$6:$L$301,4,FALSE))","v":""},{"$f":"IF($S209=\"\",\"\",VLOOKUP($S209,'FO-DRE-04'!$A$6:$L$301,6,FALSE))","v":""},{"$f":"IF($S209=\"\",\"\",VLOOKUP($S209,'FO-DRE-04'!$A$6:$L$301,11,FALSE))","v":""},{"$f":"IF($T209=\"\",\"\",VLOOKUP($T209,'FO-DRE-02'!$A$6:$M$101,2,FALSE))","v":""},{"$f":"IF($T209=\"\",\"\",VLOOKUP($T209,'FO-DRE-02'!$A$6:$M$101,3,FALSE))","v":""},{"$f":"IF($T209=\"\",\"\",VLOOKUP($T209,'FO-DRE-02'!$A$6:$M$101,6,FALSE))","v":""},{"$f":"IF($T209=\"\",\"\",VLOOKUP($T209,'FO-DRE-02'!$A$6:$M$101,4,FALSE))","v":""},{"$f":"IF($T209=\"\",\"\",VLOOKUP($T209,'FO-DRE-02'!$A$6:$M$101,5,FALSE))","v":""},{"$f":"IF($T209=\"\",\"\",VLOOKUP($T209,'FO-DRE-02'!$A$6:$M$101,8,FALSE))","v":""},{"$f":"IF($T209=\"\",\"\",VLOOKUP($T209,'FO-DRE-02'!$A$6:$M$101,7,FALSE))","v":""},{"$f":"IF($T209=\"\",\"\",VLOOKUP($T209,'FO-DRE-02'!$A$6:$M$101,9,FALSE))","v":""},{"$f":"IF($T209=\"\",\"\",VLOOKUP($T209,'FO-DRE-02'!$A$6:$M$101,11,FALSE))","v":""},{"$f":"IF($T209=\"\",\"\",VLOOKUP($T209,'FO-DRE-02'!$A$6:$M$101,12,FALSE))","v":""},{"$f":"IF($T209=\"\",\"\",VLOOKUP($T209,'FO-DRE-02'!$A$6:$M$101,13,FALSE))","v":""},null,null,null,200,"","F/D","F/D","","","","","","","","","","","","","","",""]
[null,null,null,null,null,null,null,null,{"$f":"IF(H210=\"1a\",Hoja1!$B$126,IF(H210=\"1b\",Hoja1!$B$127,IF(H210=\"2a\",Hoja1!$B$128,IF(H210=\"2b\",Hoja1!$B$129,IF(H210=\"3 \",Hoja1!$B$130,IF(H210=\"4 \",Hoja1!$B$131,IF(H210=\"5 \",Hoja1!$B$132,IF(H210=\"6 \",Hoja1!$B$133,IF(H210=\"7 \",Hoja1!$B$134,IF(H210=\"8 \",Hoja1!$B$135,\" \"))))))))))","v":" "},{"$f":"CONCATENATE(#REF!,\"-\",\"TX\")","v":{"$error":"#REF!"}},{"$f":"CONCATENATE(#REF!,\"-\",\"RX\")","v":{"$error":"#REF!"}},null,null,null,null,0,null,null,null,null,null,{"$f":"IF($R210=\"\",\"\",VLOOKUP($R210,'FO-DRE-01'!$A$7:$U$301,18,FALSE))","v":""},{"$f":"IF($R210=\"\",\"\",VLOOKUP($R210,'FO-DRE-01'!$A$7:$U$301,16,FALSE))","v":""},{"$f":"IF($R210=\"\",\"\",VLOOKUP($R210,'FO-DRE-01'!$A$7:$U$301,17,FALSE))","v":""},{"$f":"IF($R210=\"\",\"\",VLOOKUP($R210,'FO-DRE-01'!$A$7:$U$301,3,FALSE))","v":""},{"$f":"IF($R210=\"\",\"\",VLOOKUP($R210,'FO-DRE-01'!$A$7:$U$301,4,FALSE))","v":""},{"$f":"IF($R210=\"\",\"\",VLOOKUP($R210,'FO-DRE-01'!$A$7:$U$301,5,FALSE))","v":""},{"$f":"IF($R210=\"\",\"\",VLOOKUP($R210,'FO-DRE-01'!$A$7:$U$301,7,FALSE))","v":""},{"$f":"IF($R210=\"\",\"\",VLOOKUP($R210,'FO-DRE-01'!$A$7:$U$301,8,FALSE))","v":""},{"$f":"IF($R210=\"\",\"\",VLOOKUP($R210,'FO-DRE-01'!$A$7:$U$301,9,FALSE))","v":""},{"$f":"IF($R210=\"\",\"\",VLOOKUP($R210,'FO-DRE-01'!$A$7:$U$301,10,FALSE))","v":""},{"$f":"IF($R210=\"\",\"\",VLOOKUP($R210,'FO-DRE-01'!$A$7:$U$301,11,FALSE))","v":""},{"$f":"IF($R210=\"\",\"\",VLOOKUP($R210,'FO-DRE-01'!$A$7:$U$301,12,FALSE))","v":""},{"$f":"IF($R210=\"\",\"\",VLOOKUP($R210,'FO-DRE-01'!$A$7:$U$301,13,FALSE))","v":""},{"$f":"IF($R210=\"\",\"\",VLOOKUP($R210,'FO-DRE-01'!$A$7:$U$301,14,FALSE))","v":""},{"$f":"IF($R210=\"\",\"\",VLOOKUP($R210,'FO-DRE-01'!$A$7:$U$301,15,FALSE))","v":""},{"$f":"IF($S210=\"\",\"\",VLOOKUP($S210,'FO-DRE-04'!$A$6:$L$301,2,FALSE))","v":""},{"$f":"IF($S210=\"\",\"\",VLOOKUP($S210,'FO-DRE-04'!$A$6:$L$301,3,FALSE))","v":""},{"$f":"IF($S210=\"\",\"\",VLOOKUP($S210,'FO-DRE-04'!$A$6:$L$301,4,FALSE))","v":""},{"$f":"IF($S210=\"\",\"\",VLOOKUP($S210,'FO-DRE-04'!$A$6:$L$301,6,FALSE))","v":""},{"$f":"IF($S210=\"\",\"\",VLOOKUP($S210,'FO-DRE-04'!$A$6:$L$301,11,FALSE))","v":""},{"$f":"IF($T210=\"\",\"\",VLOOKUP($T210,'FO-DRE-02'!$A$6:$M$101,2,FALSE))","v":""},{"$f":"IF($T210=\"\",\"\",VLOOKUP($T210,'FO-DRE-02'!$A$6:$M$101,3,FALSE))","v":""},{"$f":"IF($T210=\"\",\"\",VLOOKUP($T210,'FO-DRE-02'!$A$6:$M$101,6,FALSE))","v":""},{"$f":"IF($T210=\"\",\"\",VLOOKUP($T210,'FO-DRE-02'!$A$6:$M$101,4,FALSE))","v":""},{"$f":"IF($T210=\"\",\"\",VLOOKUP($T210,'FO-DRE-02'!$A$6:$M$101,5,FALSE))","v":""},{"$f":"IF($T210=\"\",\"\",VLOOKUP($T210,'FO-DRE-02'!$A$6:$M$101,8,FALSE))","v":""},{"$f":"IF($T210=\"\",\"\",VLOOKUP($T210,'FO-DRE-02'!$A$6:$M$101,7,FALSE))","v":""},{"$f":"IF($T210=\"\",\"\",VLOOKUP($T210,'FO-DRE-02'!$A$6:$M$101,9,FALSE))","v":""},{"$f":"IF($T210=\"\",\"\",VLOOKUP($T210,'FO-DRE-02'!$A$6:$M$101,11,FALSE))","v":""},{"$f":"IF($T210=\"\",\"\",VLOOKUP($T210,'FO-DRE-02'!$A$6:$M$101,12,FALSE))","v":""},{"$f":"IF($T210=\"\",\"\",VLOOKUP($T210,'FO-DRE-02'!$A$6:$M$101,13,FALSE))","v":""},null,null,null,201,"","F/D","F/D","","","","","","","","","","","","","","",""]
[null,null,null,null,null,null,null,null,{"$f":"IF(H211=\"1a\",Hoja1!$B$126,IF(H211=\"1b\",Hoja1!$B$127,IF(H211=\"2a\",Hoja1!$B$128,IF(H211=\"2b\",Hoja1!$B$129,IF(H211=\"3 \",Hoja1!$B$130,IF(H211=\"4 \",Hoja1!$B$131,IF(H211=\"5 \",Hoja1!$B$132,IF(H211=\"6 \",Hoja1!$B$133,IF(H211=\"7 \",Hoja1!$B$134,IF(H211=\"8 \",Hoja1!$B$135,\" \"))))))))))","v":" "},{"$f":"CONCATENATE(#REF!,\"-\",\"TX\")","v":{"$error":"#REF!"}},{"$f":"CONCATENATE(#REF!,\"-\",\"RX\")","v":{"$error":"#REF!"}},null,null,null,null,0,null,null,null,null,null,{"$f":"IF($R211=\"\",\"\",VLOOKUP($R211,'FO-DRE-01'!$A$7:$U$301,18,FALSE))","v":""},{"$f":"IF($R211=\"\",\"\",VLOOKUP($R211,'FO-DRE-01'!$A$7:$U$301,16,FALSE))","v":""},{"$f":"IF($R211=\"\",\"\",VLOOKUP($R211,'FO-DRE-01'!$A$7:$U$301,17,FALSE))","v":""},{"$f":"IF($R211=\"\",\"\",VLOOKUP($R211,'FO-DRE-01'!$A$7:$U$301,3,FALSE))","v":""},{"$f":"IF($R211=\"\",\"\",VLOOKUP($R211,'FO-DRE-01'!$A$7:$U$301,4,FALSE))","v":""},{"$f":"IF($R211=\"\",\"\",VLOOKUP($R211,'FO-DRE-01'!$A$7:$U$301,5,FALSE))","v":""},{"$f":"IF($R211=\"\",\"\",VLOOKUP($R211,'FO-DRE-01'!$A$7:$U$301,7,FALSE))","v":""},{"$f":"IF($R211=\"\",\"\",VLOOKUP($R211,'FO-DRE-01'!$A$7:$U$301,8,FALSE))","v":""},{"$f":"IF($R211=\"\",\"\",VLOOKUP($R211,'FO-DRE-01'!$A$7:$U$301,9,FALSE))","v":""},{"$f":"IF($R211=\"\",\"\",VLOOKUP($R211,'FO-DRE-01'!$A$7:$U$301,10,FALSE))","v":""},{"$f":"IF($R211=\"\",\"\",VLOOKUP($R211,'FO-DRE-01'!$A$7:$U$301,11,FALSE))","v":""},{"$f":"IF($R211=\"\",\"\",VLOOKUP($R211,'FO-DRE-01'!$A$7:$U$301,12,FALSE))","v":""},{"$f":"IF($R211=\"\",\"\",VLOOKUP($R211,'FO-DRE-01'!$A$7:$U$301,13,FALSE))","v":""},{"$f":"IF($R211=\"\",\"\",VLOOKUP($R211,'FO-DRE-01'!$A$7:$U$301,14,FALSE))","v":""},{"$f":"IF($R211=\"\",\"\",VLOOKUP($R211,'FO-DRE-01'!$A$7:$U$301,15,FALSE))","v":""},{"$f":"IF($S211=\"\",\"\",VLOOKUP($S211,'FO-DRE-04'!$A$6:$L$301,2,FALSE))","v":""},{"$f":"IF($S211=\"\",\"\",VLOOKUP($S211,'FO-DRE-04'!$A$6:$L$301,3,FALSE))","v":""},{"$f":"IF($S211=\"\",\"\",VLOOKUP($S211,'FO-DRE-04'!$A$6:$L$301,4,FALSE))","v":""},{"$f":"IF($S211=\"\",\"\",VLOOKUP($S211,'FO-DRE-04'!$A$6:$L$301,6,FALSE))","v":""},{"$f":"IF($S211=\"\",\"\",VLOOKUP($S211,'FO-DRE-04'!$A$6:$L$301,11,FALSE))","v":""},{"$f":"IF($T211=\"\",\"\",VLOOKUP($T211,'FO-DRE-02'!$A$6:$M$101,2,FALSE))","v":""},{"$f":"IF($T211=\"\",\"\",VLOOKUP($T211,'FO-DRE-02'!$A$6:$M$101,3,FALSE))","v":""},{"$f":"IF($T211=\"\",\"\",VLOOKUP($T211,'FO-DRE-02'!$A$6:$M$101,6,FALSE))","v":""},{"$f":"IF($T211=\"\",\"\",VLOOKUP($T211,'FO-DRE-02'!$A$6:$M$101,4,FALSE))","v":""},{"$f":"IF($T211=\"\",\"\",VLOOKUP($T211,'FO-DRE-02'!$A$6:$M$101,5,FALSE))","v":""},{"$f":"IF($T211=\"\",\"\",VLOOKUP($T211,'FO-DRE-02'!$A$6:$M$101,8,FALSE))","v":""},{"$f":"IF($T211=\"\",\"\",VLOOKUP($T211,'FO-DRE-02'!$A$6:$M$101,7,FALSE))","v":""},{"$f":"IF($T211=\"\",\"\",VLOOKUP($T211,'FO-DRE-02'!$A$6:$M$101,9,FALSE))","v":""},{"$f":"IF($T211=\"\",\"\",VLOOKUP($T211,'FO-DRE-02'!$A$6:$M$101,11,FALSE))","v":""},{"$f":"IF($T211=\"\",\"\",VLOOKUP($T211,'FO-DRE-02'!$A$6:$M$101,12,FALSE))","v":""},{"$f":"IF($T211=\"\",\"\",VLOOKUP($T211,'FO-DRE-02'!$A$6:$M$101,13,FALSE))","v":""},null,null,null,202,"","F/D","F/D","","","","","","","","","","","","","","",""]
[null,null,null,null,null,null,null,null,{"$f":"IF(H212=\"1a\",Hoja1!$B$126,IF(H212=\"1b\",Hoja1!$B$127,IF(H212=\"2a\",Hoja1!$B$128,IF(H212=\"2b\",Hoja1!$B$129,IF(H212=\"3 \",Hoja1!$B$130,IF(H212=\"4 \",Hoja1!$B$131,IF(H212=\"5 \",Hoja1!$B$132,IF(H212=\"6 \",Hoja1!$B$133,IF(H212=\"7 \",Hoja1!$B$134,IF(H212=\"8 \",Hoja1!$B$135,\" \"))))))))))","v":" "},{"$f":"CONCATENATE(#REF!,\"-\",\"TX\")","v":{"$error":"#REF!"}},{"$f":"CONCATENATE(#REF!,\"-\",\"RX\")","v":{"$error":"#REF!"}},null,null,null,null,0,null,null,null,null,null,{"$f":"IF($R212=\"\",\"\",VLOOKUP($R212,'FO-DRE-01'!$A$7:$U$301,18,FALSE))","v":""},{"$f":"IF($R212=\"\",\"\",VLOOKUP($R212,'FO-DRE-01'!$A$7:$U$301,16,FALSE))","v":""},{"$f":"IF($R212=\"\",\"\",VLOOKUP($R212,'FO-DRE-01'!$A$7:$U$301,17,FALSE))","v":""},{"$f":"IF($R212=\"\",\"\",VLOOKUP($R212,'FO-DRE-01'!$A$7:$U$301,3,FALSE))","v":""},{"$f":"IF($R212=\"\",\"\",VLOOKUP($R212,'FO-DRE-01'!$A$7:$U$301,4,FALSE))","v":""},{"$f":"IF($R212=\"\",\"\",VLOOKUP($R212,'FO-DRE-01'!$A$7:$U$301,5,FALSE))","v":""},{"$f":"IF($R212=\"\",\"\",VLOOKUP($R212,'FO-DRE-01'!$A$7:$U$301,7,FALSE))","v":""},{"$f":"IF($R212=\"\",\"\",VLOOKUP($R212,'FO-DRE-01'!$A$7:$U$301,8,FALSE))","v":""},{"$f":"IF($R212=\"\",\"\",VLOOKUP($R212,'FO-DRE-01'!$A$7:$U$301,9,FALSE))","v":""},{"$f":"IF($R212=\"\",\"\",VLOOKUP($R212,'FO-DRE-01'!$A$7:$U$301,10,FALSE))","v":""},{"$f":"IF($R212=\"\",\"\",VLOOKUP($R212,'FO-DRE-01'!$A$7:$U$301,11,FALSE))","v":""},{"$f":"IF($R212=\"\",\"\",VLOOKUP($R212,'FO-DRE-01'!$A$7:$U$301,12,FALSE))","v":""},{"$f":"IF($R212=\"\",\"\",VLOOKUP($R212,'FO-DRE-01'!$A$7:$U$301,13,FALSE))","v":""},{"$f":"IF($R212=\"\",\"\",VLOOKUP($R212,'FO-DRE-01'!$A$7:$U$301,14,FALSE))","v":""},{"$f":"IF($R212=\"\",\"\",VLOOKUP($R212,'FO-DRE-01'!$A$7:$U$301,15,FALSE))","v":""},{"$f":"IF($S212=\"\",\"\",VLOOKUP($S212,'FO-DRE-04'!$A$6:$L$301,2,FALSE))","v":""},{"$f":"IF($S212=\"\",\"\",VLOOKUP($S212,'FO-DRE-04'!$A$6:$L$301,3,FALSE))","v":""},{"$f":"IF($S212=\"\",\"\",VLOOKUP($S212,'FO-DRE-04'!$A$6:$L$301,4,FALSE))","v":""},{"$f":"IF($S212=\"\",\"\",VLOOKUP($S212,'FO-DRE-04'!$A$6:$L$301,6,FALSE))","v":""},{"$f":"IF($S212=\"\",\"\",VLOOKUP($S212,'FO-DRE-04'!$A$6:$L$301,11,FALSE))","v":""},{"$f":"IF($T212=\"\",\"\",VLOOKUP($T212,'FO-DRE-02'!$A$6:$M$101,2,FALSE))","v":""},{"$f":"IF($T212=\"\",\"\",VLOOKUP($T212,'FO-DRE-02'!$A$6:$M$101,3,FALSE))","v":""},{"$f":"IF($T212=\"\",\"\",VLOOKUP($T212,'FO-DRE-02'!$A$6:$M$101,6,FALSE))","v":""},{"$f":"IF($T212=\"\",\"\",VLOOKUP($T212,'FO-DRE-02'!$A$6:$M$101,4,FALSE))","v":""},{"$f":"IF($T212=\"\",\"\",VLOOKUP($T212,'FO-DRE-02'!$A$6:$M$101,5,FALSE))","v":""},{"$f":"IF($T212=\"\",\"\",VLOOKUP($T212,'FO-DRE-02'!$A$6:$M$101,8,FALSE))","v":""},{"$f":"IF($T212=\"\",\"\",VLOOKUP($T212,'FO-DRE-02'!$A$6:$M$101,7,FALSE))","v":""},{"$f":"IF($T212=\"\",\"\",VLOOKUP($T212,'FO-DRE-02'!$A$6:$M$101,9,FALSE))","v":""},{"$f":"IF($T212=\"\",\"\",VLOOKUP($T212,'FO-DRE-02'!$A$6:$M$101,11,FALSE))","v":""},{"$f":"IF($T212=\"\",\"\",VLOOKUP($T212,'FO-DRE-02'!$A$6:$M$101,12,FALSE))","v":""},{"$f":"IF($T212=\"\",\"\",VLOOKUP($T212,'FO-DRE-02'!$A$6:$M$101,13,FALSE))","v":""},null,null,null,203,"","F/D","F/D","","","","","","","","","","","","","","",""]
[null,null,null,null,null,null,null,null,{"$f":"IF(H213=\"1a\",Hoja1!$B$126,IF(H213=\"1b\",Hoja1!$B$127,IF(H213=\"2a\",Hoja1!$B$128,IF(H213=\"2b\",Hoja1!$B$129,IF(H213=\"3 \",Hoja1!$B$130,IF(H213=\"4 \",Hoja1!$B$131,IF(H213=\"5 \",Hoja1!$B$132,IF(H213=\"6 \",Hoja1!$B$133,IF(H213=\"7 \",Hoja1!$B$134,IF(H213=\"8 \",Hoja1!$B$135,\" \"))))))))))","v":" "},{"$f":"CONCATENATE(#REF!,\"-\",\"TX\")","v":{"$error":"#REF!"}},{"$f":"CONCATENATE(#REF!,\"-\",\"RX\")","v":{"$error":"#REF!"}},null,null,null,null,0,null,null,null,null,null,{"$f":"IF($R213=\"\",\"\",VLOOKUP($R213,'FO-DRE-01'!$A$7:$U$301,18,FALSE))","v":""},{"$f":"IF($R213=\"\",\"\",VLOOKUP($R213,'FO-DRE-01'!$A$7:$U$301,16,FALSE))","v":""},{"$f":"IF($R213=\"\",\"\",VLOOKUP($R213,'FO-DRE-01'!$A$7:$U$301,17,FALSE))","v":""},{"$f":"IF($R213=\"\",\"\",VLOOKUP($R213,'FO-DRE-01'!$A$7:$U$301,3,FALSE))","v":""},{"$f":"IF($R213=\"\",\"\",VLOOKUP($R213,'FO-DRE-01'!$A$7:$U$301,4,FALSE))","v":""},{"$f":"IF($R213=\"\",\"\",VLOOKUP($R213,'FO-DRE-01'!$A$7:$U$301,5,FALSE))","v":""},{"$f":"IF($R213=\"\",\"\",VLOOKUP($R213,'FO-DRE-01'!$A$7:$U$301,7,FALSE))","v":""},{"$f":"IF($R213=\"\",\"\",VLOOKUP($R213,'FO-DRE-01'!$A$7:$U$301,8,FALSE))","v":""},{"$f":"IF($R213=\"\",\"\",VLOOKUP($R213,'FO-DRE-01'!$A$7:$U$301,9,FALSE))","v":""},{"$f":"IF($R213=\"\",\"\",VLOOKUP($R213,'FO-DRE-01'!$A$7:$U$301,10,FALSE))","v":""},{"$f":"IF($R213=\"\",\"\",VLOOKUP($R213,'FO-DRE-01'!$A$7:$U$301,11,FALSE))","v":""},{"$f":"IF($R213=\"\",\"\",VLOOKUP($R213,'FO-DRE-01'!$A$7:$U$301,12,FALSE))","v":""},{"$f":"IF($R213=\"\",\"\",VLOOKUP($R213,'FO-DRE-01'!$A$7:$U$301,13,FALSE))","v":""},{"$f":"IF($R213=\"\",\"\",VLOOKUP($R213,'FO-DRE-01'!$A$7:$U$301,14,FALSE))","v":""},{"$f":"IF($R213=\"\",\"\",VLOOKUP($R213,'FO-DRE-01'!$A$7:$U$301,15,FALSE))","v":""},{"$f":"IF($S213=\"\",\"\",VLOOKUP($S213,'FO-DRE-04'!$A$6:$L$301,2,FALSE))","v":""},{"$f":"IF($S213=\"\",\"\",VLOOKUP($S213,'FO-DRE-04'!$A$6:$L$301,3,FALSE))","v":""},{"$f":"IF($S213=\"\",\"\",VLOOKUP($S213,'FO-DRE-04'!$A$6:$L$301,4,FALSE))","v":""},{"$f":"IF($S213=\"\",\"\",VLOOKUP($S213,'FO-DRE-04'!$A$6:$L$301,6,FALSE))","v":""},{"$f":"IF($S213=\"\",\"\",VLOOKUP($S213,'FO-DRE-04'!$A$6:$L$301,11,FALSE))","v":""},{"$f":"IF($T213=\"\",\"\",VLOOKUP($T213,'FO-DRE-02'!$A$6:$M$101,2,FALSE))","v":""},{"$f":"IF($T213=\"\",\"\",VLOOKUP($T213,'FO-DRE-02'!$A$6:$M$101,3,FALSE))","v":""},{"$f":"IF($T213=\"\",\"\",VLOOKUP($T213,'FO-DRE-02'!$A$6:$M$101,6,FALSE))","v":""},{"$f":"IF($T213=\"\",\"\",VLOOKUP($T213,'FO-DRE-02'!$A$6:$M$101,4,FALSE))","v":""},{"$f":"IF($T213=\"\",\"\",VLOOKUP($T213,'FO-DRE-02'!$A$6:$M$101,5,FALSE))","v":""},{"$f":"IF($T213=\"\",\"\",VLOOKUP($T213,'FO-DRE-02'!$A$6:$M$101,8,FALSE))","v":""},{"$f":"IF($T213=\"\",\"\",VLOOKUP($T213,'FO-DRE-02'!$A$6:$M$101,7,FALSE))","v":""},{"$f":"IF($T213=\"\",\"\",VLOOKUP($T213,'FO-DRE-02'!$A$6:$M$101,9,FALSE))","v":""},{"$f":"IF($T213=\"\",\"\",VLOOKUP($T213,'FO-DRE-02'!$A$6:$M$101,11,FALSE))","v":""},{"$f":"IF($T213=\"\",\"\",VLOOKUP($T213,'FO-DRE-02'!$A$6:$M$101,12,FALSE))","v":""},{"$f":"IF($T213=\"\",\"\",VLOOKUP($T213,'FO-DRE-02'!$A$6:$M$101,13,FALSE))","v":""},null,null,null,204,"","F/D","F/D","","","","","","","","","","","","","","",""]
[null,null,null,null,null,null,null,null,{"$f":"IF(H214=\"1a\",Hoja1!$B$126,IF(H214=\"1b\",Hoja1!$B$127,IF(H214=\"2a\",Hoja1!$B$128,IF(H214=\"2b\",Hoja1!$B$129,IF(H214=\"3 \",Hoja1!$B$130,IF(H214=\"4 \",Hoja1!$B$131,IF(H214=\"5 \",Hoja1!$B$132,IF(H214=\"6 \",Hoja1!$B$133,IF(H214=\"7 \",Hoja1!$B$134,IF(H214=\"8 \",Hoja1!$B$135,\" \"))))))))))","v":" "},{"$f":"CONCATENATE(#REF!,\"-\",\"TX\")","v":{"$error":"#REF!"}},{"$f":"CONCATENATE(#REF!,\"-\",\"RX\")","v":{"$error":"#REF!"}},null,null,null,null,0,null,null,null,null,null,{"$f":"IF($R214=\"\",\"\",VLOOKUP($R214,'FO-DRE-01'!$A$7:$U$301,18,FALSE))","v":""},{"$f":"IF($R214=\"\",\"\",VLOOKUP($R214,'FO-DRE-01'!$A$7:$U$301,16,FALSE))","v":""},{"$f":"IF($R214=\"\",\"\",VLOOKUP($R214,'FO-DRE-01'!$A$7:$U$301,17,FALSE))","v":""},{"$f":"IF($R214=\"\",\"\",VLOOKUP($R214,'FO-DRE-01'!$A$7:$U$301,3,FALSE))","v":""},{"$f":"IF($R214=\"\",\"\",VLOOKUP($R214,'FO-DRE-01'!$A$7:$U$301,4,FALSE))","v":""},{"$f":"IF($R214=\"\",\"\",VLOOKUP($R214,'FO-DRE-01'!$A$7:$U$301,5,FALSE))","v":""},{"$f":"IF($R214=\"\",\"\",VLOOKUP($R214,'FO-DRE-01'!$A$7:$U$301,7,FALSE))","v":""},{"$f":"IF($R214=\"\",\"\",VLOOKUP($R214,'FO-DRE-01'!$A$7:$U$301,8,FALSE))","v":""},{"$f":"IF($R214=\"\",\"\",VLOOKUP($R214,'FO-DRE-01'!$A$7:$U$301,9,FALSE))","v":""},{"$f":"IF($R214=\"\",\"\",VLOOKUP($R214,'FO-DRE-01'!$A$7:$U$301,10,FALSE))","v":""},{"$f":"IF($R214=\"\",\"\",VLOOKUP($R214,'FO-DRE-01'!$A$7:$U$301,11,FALSE))","v":""},{"$f":"IF($R214=\"\",\"\",VLOOKUP($R214,'FO-DRE-01'!$A$7:$U$301,12,FALSE))","v":""},{"$f":"IF($R214=\"\",\"\",VLOOKUP($R214,'FO-DRE-01'!$A$7:$U$301,13,FALSE))","v":""},{"$f":"IF($R214=\"\",\"\",VLOOKUP($R214,'FO-DRE-01'!$A$7:$U$301,14,FALSE))","v":""},{"$f":"IF($R214=\"\",\"\",VLOOKUP($R214,'FO-DRE-01'!$A$7:$U$301,15,FALSE))","v":""},{"$f":"IF($S214=\"\",\"\",VLOOKUP($S214,'FO-DRE-04'!$A$6:$L$301,2,FALSE))","v":""},{"$f":"IF($S214=\"\",\"\",VLOOKUP($S214,'FO-DRE-04'!$A$6:$L$301,3,FALSE))","v":""},{"$f":"IF($S214=\"\",\"\",VLOOKUP($S214,'FO-DRE-04'!$A$6:$L$301,4,FALSE))","v":""},{"$f":"IF($S214=\"\",\"\",VLOOKUP($S214,'FO-DRE-04'!$A$6:$L$301,6,FALSE))","v":""},{"$f":"IF($S214=\"\",\"\",VLOOKUP($S214,'FO-DRE-04'!$A$6:$L$301,11,FALSE))","v":""},{"$f":"IF($T214=\"\",\"\",VLOOKUP($T214,'FO-DRE-02'!$A$6:$M$101,2,FALSE))","v":""},{"$f":"IF($T214=\"\",\"\",VLOOKUP($T214,'FO-DRE-02'!$A$6:$M$101,3,FALSE))","v":""},{"$f":"IF($T214=\"\",\"\",VLOOKUP($T214,'FO-DRE-02'!$A$6:$M$101,6,FALSE))","v":""},{"$f":"IF($T214=\"\",\"\",VLOOKUP($T214,'FO-DRE-02'!$A$6:$M$101,4,FALSE))","v":""},{"$f":"IF($T214=\"\",\"\",VLOOKUP($T214,'FO-DRE-02'!$A$6:$M$101,5,FALSE))","v":""},{"$f":"IF($T214=\"\",\"\",VLOOKUP($T214,'FO-DRE-02'!$A$6:$M$101,8,FALSE))","v":""},{"$f":"IF($T214=\"\",\"\",VLOOKUP($T214,'FO-DRE-02'!$A$6:$M$101,7,FALSE))","v":""},{"$f":"IF($T214=\"\",\"\",VLOOKUP($T214,'FO-DRE-02'!$A$6:$M$101,9,FALSE))","v":""},{"$f":"IF($T214=\"\",\"\",VLOOKUP($T214,'FO-DRE-02'!$A$6:$M$101,11,FALSE))","v":""},{"$f":"IF($T214=\"\",\"\",VLOOKUP($T214,'FO-DRE-02'!$A$6:$M$101,12,FALSE))","v":""},{"$f":"IF($T214=\"\",\"\",VLOOKUP($T214,'FO-DRE-02'!$A$6:$M$101,13,FALSE))","v":""},null,null,null,205,"","F/D","F/D","","","","","","","","","","","","","","",""]
[null,null,null,null,null,null,null,null,{"$f":"IF(H215=\"1a\",Hoja1!$B$126,IF(H215=\"1b\",Hoja1!$B$127,IF(H215=\"2a\",Hoja1!$B$128,IF(H215=\"2b\",Hoja1!$B$129,IF(H215=\"3 \",Hoja1!$B$130,IF(H215=\"4 \",Hoja1!$B$131,IF(H215=\"5 \",Hoja1!$B$132,IF(H215=\"6 \",Hoja1!$B$133,IF(H215=\"7 \",Hoja1!$B$134,IF(H215=\"8 \",Hoja1!$B$135,\" \"))))))))))","v":" "},{"$f":"CONCATENATE(#REF!,\"-\",\"TX\")","v":{"$error":"#REF!"}},{"$f":"CONCATENATE(#REF!,\"-\",\"RX\")","v":{"$error":"#REF!"}},null,null,null,null,0,null,null,null,null,null,{"$f":"IF($R215=\"\",\"\",VLOOKUP($R215,'FO-DRE-01'!$A$7:$U$301,18,FALSE))","v":""},{"$f":"IF($R215=\"\",\"\",VLOOKUP($R215,'FO-DRE-01'!$A$7:$U$301,16,FALSE))","v":""},{"$f":"IF($R215=\"\",\"\",VLOOKUP($R215,'FO-DRE-01'!$A$7:$U$301,17,FALSE))","v":""},{"$f":"IF($R215=\"\",\"\",VLOOKUP($R215,'FO-DRE-01'!$A$7:$U$301,3,FALSE))","v":""},{"$f":"IF($R215=\"\",\"\",VLOOKUP($R215,'FO-DRE-01'!$A$7:$U$301,4,FALSE))","v":""},{"$f":"IF($R215=\"\",\"\",VLOOKUP($R215,'FO-DRE-01'!$A$7:$U$301,5,FALSE))","v":""},{"$f":"IF($R215=\"\",\"\",VLOOKUP($R215,'FO-DRE-01'!$A$7:$U$301,7,FALSE))","v":""},{"$f":"IF($R215=\"\",\"\",VLOOKUP($R215,'FO-DRE-01'!$A$7:$U$301,8,FALSE))","v":""},{"$f":"IF($R215=\"\",\"\",VLOOKUP($R215,'FO-DRE-01'!$A$7:$U$301,9,FALSE))","v":""},{"$f":"IF($R215=\"\",\"\",VLOOKUP($R215,'FO-DRE-01'!$A$7:$U$301,10,FALSE))","v":""},{"$f":"IF($R215=\"\",\"\",VLOOKUP($R215,'FO-DRE-01'!$A$7:$U$301,11,FALSE))","v":""},{"$f":"IF($R215=\"\",\"\",VLOOKUP($R215,'FO-DRE-01'!$A$7:$U$301,12,FALSE))","v":""},{"$f":"IF($R215=\"\",\"\",VLOOKUP($R215,'FO-DRE-01'!$A$7:$U$301,13,FALSE))","v":""},{"$f":"IF($R215=\"\",\"\",VLOOKUP($R215,'FO-DRE-01'!$A$7:$U$301,14,FALSE))","v":""},{"$f":"IF($R215=\"\",\"\",VLOOKUP($R215,'FO-DRE-01'!$A$7:$U$301,15,FALSE))","v":""},{"$f":"IF($S215=\"\",\"\",VLOOKUP($S215,'FO-DRE-04'!$A$6:$L$301,2,FALSE))","v":""},{"$f":"IF($S215=\"\",\"\",VLOOKUP($S215,'FO-DRE-04'!$A$6:$L$301,3,FALSE))","v":""},{"$f":"IF($S215=\"\",\"\",VLOOKUP($S215,'FO-DRE-04'!$A$6:$L$301,4,FALSE))","v":""},{"$f":"IF($S215=\"\",\"\",VLOOKUP($S215,'FO-DRE-04'!$A$6:$L$301,6,FALSE))","v":""},{"$f":"IF($S215=\"\",\"\",VLOOKUP($S215,'FO-DRE-04'!$A$6:$L$301,11,FALSE))","v":""},{"$f":"IF($T215=\"\",\"\",VLOOKUP($T215,'FO-DRE-02'!$A$6:$M$101,2,FALSE))","v":""},{"$f":"IF($T215=\"\",\"\",VLOOKUP($T215,'FO-DRE-02'!$A$6:$M$101,3,FALSE))","v":""},{"$f":"IF($T215=\"\",\"\",VLOOKUP($T215,'FO-DRE-02'!$A$6:$M$101,6,FALSE))","v":""},{"$f":"IF($T215=\"\",\"\",VLOOKUP($T215,'FO-DRE-02'!$A$6:$M$101,4,FALSE))","v":""},{"$f":"IF($T215=\"\",\"\",VLOOKUP($T215,'FO-DRE-02'!$A$6:$M$101,5,FALSE))","v":""},{"$f":"IF($T215=\"\",\"\",VLOOKUP($T215,'FO-DRE-02'!$A$6:$M$101,8,FALSE))","v":""},{"$f":"IF($T215=\"\",\"\",VLOOKUP($T215,'FO-DRE-02'!$A$6:$M$101,7,FALSE))","v":""},{"$f":"IF($T215=\"\",\"\",VLOOKUP($T215,'FO-DRE-02'!$A$6:$M$101,9,FALSE))","v":""},{"$f":"IF($T215=\"\",\"\",VLOOKUP($T215,'FO-DRE-02'!$A$6:$M$101,11,FALSE))","v":""},{"$f":"IF($T215=\"\",\"\",VLOOKUP($T215,'FO-DRE-02'!$A$6:$M$101,12,FALSE))","v":""},{"$f":"IF($T215=\"\",\"\",VLOOKUP($T215,'FO-DRE-02'!$A$6:$M$101,13,FALSE))","v":""},null,null,null,206,"","F/D","F/D","","","","","","","","","","","","","","",""]
[null,null,null,null,null,null,null,null,{"$f":"IF(H216=\"1a\",Hoja1!$B$126,IF(H216=\"1b\",Hoja1!$B$127,IF(H216=\"2a\",Hoja1!$B$128,IF(H216=\"2b\",Hoja1!$B$129,IF(H216=\"3 \",Hoja1!$B$130,IF(H216=\"4 \",Hoja1!$B$131,IF(H216=\"5 \",Hoja1!$B$132,IF(H216=\"6 \",Hoja1!$B$133,IF(H216=\"7 \",Hoja1!$B$134,IF(H216=\"8 \",Hoja1!$B$135,\" \"))))))))))","v":" "},{"$f":"CONCATENATE(#REF!,\"-\",\"TX\")","v":{"$error":"#REF!"}},{"$f":"CONCATENATE(#REF!,\"-\",\"RX\")","v":{"$error":"#REF!"}},null,null,null,null,0,null,null,null,null,null,{"$f":"IF($R216=\"\",\"\",VLOOKUP($R216,'FO-DRE-01'!$A$7:$U$301,18,FALSE))","v":""},{"$f":"IF($R216=\"\",\"\",VLOOKUP($R216,'FO-DRE-01'!$A$7:$U$301,16,FALSE))","v":""},{"$f":"IF($R216=\"\",\"\",VLOOKUP($R216,'FO-DRE-01'!$A$7:$U$301,17,FALSE))","v":""},{"$f":"IF($R216=\"\",\"\",VLOOKUP($R216,'FO-DRE-01'!$A$7:$U$301,3,FALSE))","v":""},{"$f":"IF($R216=\"\",\"\",VLOOKUP($R216,'FO-DRE-01'!$A$7:$U$301,4,FALSE))","v":""},{"$f":"IF($R216=\"\",\"\",VLOOKUP($R216,'FO-DRE-01'!$A$7:$U$301,5,FALSE))","v":""},{"$f":"IF($R216=\"\",\"\",VLOOKUP($R216,'FO-DRE-01'!$A$7:$U$301,7,FALSE))","v":""},{"$f":"IF($R216=\"\",\"\",VLOOKUP($R216,'FO-DRE-01'!$A$7:$U$301,8,FALSE))","v":""},{"$f":"IF($R216=\"\",\"\",VLOOKUP($R216,'FO-DRE-01'!$A$7:$U$301,9,FALSE))","v":""},{"$f":"IF($R216=\"\",\"\",VLOOKUP($R216,'FO-DRE-01'!$A$7:$U$301,10,FALSE))","v":""},{"$f":"IF($R216=\"\",\"\",VLOOKUP($R216,'FO-DRE-01'!$A$7:$U$301,11,FALSE))","v":""},{"$f":"IF($R216=\"\",\"\",VLOOKUP($R216,'FO-DRE-01'!$A$7:$U$301,12,FALSE))","v":""},{"$f":"IF($R216=\"\",\"\",VLOOKUP($R216,'FO-DRE-01'!$A$7:$U$301,13,FALSE))","v":""},{"$f":"IF($R216=\"\",\"\",VLOOKUP($R216,'FO-DRE-01'!$A$7:$U$301,14,FALSE))","v":""},{"$f":"IF($R216=\"\",\"\",VLOOKUP($R216,'FO-DRE-01'!$A$7:$U$301,15,FALSE))","v":""},{"$f":"IF($S216=\"\",\"\",VLOOKUP($S216,'FO-DRE-04'!$A$6:$L$301,2,FALSE))","v":""},{"$f":"IF($S216=\"\",\"\",VLOOKUP($S216,'FO-DRE-04'!$A$6:$L$301,3,FALSE))","v":""},{"$f":"IF($S216=\"\",\"\",VLOOKUP($S216,'FO-DRE-04'!$A$6:$L$301,4,FALSE))","v":""},{"$f":"IF($S216=\"\",\"\",VLOOKUP($S216,'FO-DRE-04'!$A$6:$L$301,6,FALSE))","v":""},{"$f":"IF($S216=\"\",\"\",VLOOKUP($S216,'FO-DRE-04'!$A$6:$L$301,11,FALSE))","v":""},{"$f":"IF($T216=\"\",\"\",VLOOKUP($T216,'FO-DRE-02'!$A$6:$M$101,2,FALSE))","v":""},{"$f":"IF($T216=\"\",\"\",VLOOKUP($T216,'FO-DRE-02'!$A$6:$M$101,3,FALSE))","v":""},{"$f":"IF($T216=\"\",\"\",VLOOKUP($T216,'FO-DRE-02'!$A$6:$M$101,6,FALSE))","v":""},{"$f":"IF($T216=\"\",\"\",VLOOKUP($T216,'FO-DRE-02'!$A$6:$M$101,4,FALSE))","v":""},{"$f":"IF($T216=\"\",\"\",VLOOKUP($T216,'FO-DRE-02'!$A$6:$M$101,5,FALSE))","v":""},{"$f":"IF($T216=\"\",\"\",VLOOKUP($T216,'FO-DRE-02'!$A$6:$M$101,8,FALSE))","v":""},{"$f":"IF($T216=\"\",\"\",VLOOKUP($T216,'FO-DRE-02'!$A$6:$M$101,7,FALSE))","v":""},{"$f":"IF($T216=\"\",\"\",VLOOKUP($T216,'FO-DRE-02'!$A$6:$M$101,9,FALSE))","v":""},{"$f":"IF($T216=\"\",\"\",VLOOKUP($T216,'FO-DRE-02'!$A$6:$M$101,11,FALSE))","v":""},{"$f":"IF($T216=\"\",\"\",VLOOKUP($T216,'FO-DRE-02'!$A$6:$M$101,12,FALSE))","v":""},{"$f":"IF($T216=\"\",\"\",VLOOKUP($T216,'FO-DRE-02'!$A$6:$M$101,13,FALSE))","v":""},null,null,null,207,"","F/D","F/D","","","","","","","","","","","","","","",""]
[null,null,null,null,null,null,null,null,{"$f":"IF(H217=\"1a\",Hoja1!$B$126,IF(H217=\"1b\",Hoja1!$B$127,IF(H217=\"2a\",Hoja1!$B$128,IF(H217=\"2b\",Hoja1!$B$129,IF(H217=\"3 \",Hoja1!$B$130,IF(H217=\"4 \",Hoja1!$B$131,IF(H217=\"5 \",Hoja1!$B$132,IF(H217=\"6 \",Hoja1!$B$133,IF(H217=\"7 \",Hoja1!$B$134,IF(H217=\"8 \",Hoja1!$B$135,\" \"))))))))))","v":" "},{"$f":"CONCATENATE(#REF!,\"-\",\"TX\")","v":{"$error":"#REF!"}},{"$f":"CONCATENATE(#REF!,\"-\",\"RX\")","v":{"$error":"#REF!"}},null,null,null,null,0,null,null,null,null,null,{"$f":"IF($R217=\"\",\"\",VLOOKUP($R217,'FO-DRE-01'!$A$7:$U$301,18,FALSE))","v":""},{"$f":"IF($R217=\"\",\"\",VLOOKUP($R217,'FO-DRE-01'!$A$7:$U$301,16,FALSE))","v":""},{"$f":"IF($R217=\"\",\"\",VLOOKUP($R217,'FO-DRE-01'!$A$7:$U$301,17,FALSE))","v":""},{"$f":"IF($R217=\"\",\"\",VLOOKUP($R217,'FO-DRE-01'!$A$7:$U$301,3,FALSE))","v":""},{"$f":"IF($R217=\"\",\"\",VLOOKUP($R217,'FO-DRE-01'!$A$7:$U$301,4,FALSE))","v":""},{"$f":"IF($R217=\"\",\"\",VLOOKUP($R217,'FO-DRE-01'!$A$7:$U$301,5,FALSE))","v":""},{"$f":"IF($R217=\"\",\"\",VLOOKUP($R217,'FO-DRE-01'!$A$7:$U$301,7,FALSE))","v":""},{"$f":"IF($R217=\"\",\"\",VLOOKUP($R217,'FO-DRE-01'!$A$7:$U$301,8,FALSE))","v":""},{"$f":"IF($R217=\"\",\"\",VLOOKUP($R217,'FO-DRE-01'!$A$7:$U$301,9,FALSE))","v":""},{"$f":"IF($R217=\"\",\"\",VLOOKUP($R217,'FO-DRE-01'!$A$7:$U$301,10,FALSE))","v":""},{"$f":"IF($R217=\"\",\"\",VLOOKUP($R217,'FO-DRE-01'!$A$7:$U$301,11,FALSE))","v":""},{"$f":"IF($R217=\"\",\"\",VLOOKUP($R217,'FO-DRE-01'!$A$7:$U$301,12,FALSE))","v":""},{"$f":"IF($R217=\"\",\"\",VLOOKUP($R217,'FO-DRE-01'!$A$7:$U$301,13,FALSE))","v":""},{"$f":"IF($R217=\"\",\"\",VLOOKUP($R217,'FO-DRE-01'!$A$7:$U$301,14,FALSE))","v":""},{"$f":"IF($R217=\"\",\"\",VLOOKUP($R217,'FO-DRE-01'!$A$7:$U$301,15,FALSE))","v":""},{"$f":"IF($S217=\"\",\"\",VLOOKUP($S217,'FO-DRE-04'!$A$6:$L$301,2,FALSE))","v":""},{"$f":"IF($S217=\"\",\"\",VLOOKUP($S217,'FO-DRE-04'!$A$6:$L$301,3,FALSE))","v":""},{"$f":"IF($S217=\"\",\"\",VLOOKUP($S217,'FO-DRE-04'!$A$6:$L$301,4,FALSE))","v":""},{"$f":"IF($S217=\"\",\"\",VLOOKUP($S217,'FO-DRE-04'!$A$6:$L$301,6,FALSE))","v":""},{"$f":"IF($S217=\"\",\"\",VLOOKUP($S217,'FO-DRE-04'!$A$6:$L$301,11,FALSE))","v":""},{"$f":"IF($T217=\"\",\"\",VLOOKUP($T217,'FO-DRE-02'!$A$6:$M$101,2,FALSE))","v":""},{"$f":"IF($T217=\"\",\"\",VLOOKUP($T217,'FO-DRE-02'!$A$6:$M$101,3,FALSE))","v":""},{"$f":"IF($T217=\"\",\"\",VLOOKUP($T217,'FO-DRE-02'!$A$6:$M$101,6,FALSE))","v":""},{"$f":"IF($T217=\"\",\"\",VLOOKUP($T217,'FO-DRE-02'!$A$6:$M$101,4,FALSE))","v":""},{"$f":"IF($T217=\"\",\"\",VLOOKUP($T217,'FO-DRE-02'!$A$6:$M$101,5,FALSE))","v":""},{"$f":"IF($T217=\"\",\"\",VLOOKUP($T217,'FO-DRE-02'!$A$6:$M$101,8,FALSE))","v":""},{"$f":"IF($T217=\"\",\"\",VLOOKUP($T217,'FO-DRE-02'!$A$6:$M$101,7,FALSE))","v":""},{"$f":"IF($T217=\"\",\"\",VLOOKUP($T217,'FO-DRE-02'!$A$6:$M$101,9,FALSE))","v":""},{"$f":"IF($T217=\"\",\"\",VLOOKUP($T217,'FO-DRE-02'!$A$6:$M$101,11,FALSE))","v":""},{"$f":"IF($T217=\"\",\"\",VLOOKUP($T217,'FO-DRE-02'!$A$6:$M$101,12,FALSE))","v":""},{"$f":"IF($T217=\"\",\"\",VLOOKUP($T217,'FO-DRE-02'!$A$6:$M$101,13,FALSE))","v":""},null,null,null,208,"","F/D","F/D","","","","","","","","","","","","","","",""]
[null,null,null,null,null,null,null,null,{"$f":"IF(H218=\"1a\",Hoja1!$B$126,IF(H218=\"1b\",Hoja1!$B$127,IF(H218=\"2a\",Hoja1!$B$128,IF(H218=\"2b\",Hoja1!$B$129,IF(H218=\"3 \",Hoja1!$B$130,IF(H218=\"4 \",Hoja1!$B$131,IF(H218=\"5 \",Hoja1!$B$132,IF(H218=\"6 \",Hoja1!$B$133,IF(H218=\"7 \",Hoja1!$B$134,IF(H218=\"8 \",Hoja1!$B$135,\" \"))))))))))","v":" "},{"$f":"CONCATENATE(#REF!,\"-\",\"TX\")","v":{"$error":"#REF!"}},{"$f":"CONCATENATE(#REF!,\"-\",\"RX\")","v":{"$error":"#REF!"}},null,null,null,null,0,null,null,null,null,null,{"$f":"IF($R218=\"\",\"\",VLOOKUP($R218,'FO-DRE-01'!$A$7:$U$301,18,FALSE))","v":""},{"$f":"IF($R218=\"\",\"\",VLOOKUP($R218,'FO-DRE-01'!$A$7:$U$301,16,FALSE))","v":""},{"$f":"IF($R218=\"\",\"\",VLOOKUP($R218,'FO-DRE-01'!$A$7:$U$301,17,FALSE))","v":""},{"$f":"IF($R218=\"\",\"\",VLOOKUP($R218,'FO-DRE-01'!$A$7:$U$301,3,FALSE))","v":""},{"$f":"IF($R218=\"\",\"\",VLOOKUP($R218,'FO-DRE-01'!$A$7:$U$301,4,FALSE))","v":""},{"$f":"IF($R218=\"\",\"\",VLOOKUP($R218,'FO-DRE-01'!$A$7:$U$301,5,FALSE))","v":""},{"$f":"IF($R218=\"\",\"\",VLOOKUP($R218,'FO-DRE-01'!$A$7:$U$301,7,FALSE))","v":""},{"$f":"IF($R218=\"\",\"\",VLOOKUP($R218,'FO-DRE-01'!$A$7:$U$301,8,FALSE))","v":""},{"$f":"IF($R218=\"\",\"\",VLOOKUP($R218,'FO-DRE-01'!$A$7:$U$301,9,FALSE))","v":""},{"$f":"IF($R218=\"\",\"\",VLOOKUP($R218,'FO-DRE-01'!$A$7:$U$301,10,FALSE))","v":""},{"$f":"IF($R218=\"\",\"\",VLOOKUP($R218,'FO-DRE-01'!$A$7:$U$301,11,FALSE))","v":""},{"$f":"IF($R218=\"\",\"\",VLOOKUP($R218,'FO-DRE-01'!$A$7:$U$301,12,FALSE))","v":""},{"$f":"IF($R218=\"\",\"\",VLOOKUP($R218,'FO-DRE-01'!$A$7:$U$301,13,FALSE))","v":""},{"$f":"IF($R218=\"\",\"\",VLOOKUP($R218,'FO-DRE-01'!$A$7:$U$301,14,FALSE))","v":""},{"$f":"IF($R218=\"\",\"\",VLOOKUP($R218,'FO-DRE-01'!$A$7:$U$301,15,FALSE))","v":""},{"$f":"IF($S218=\"\",\"\",VLOOKUP($S218,'FO-DRE-04'!$A$6:$L$301,2,FALSE))","v":""},{"$f":"IF($S218=\"\",\"\",VLOOKUP($S218,'FO-DRE-04'!$A$6:$L$301,3,FALSE))","v":""},{"$f":"IF($S218=\"\",\"\",VLOOKUP($S218,'FO-DRE-04'!$A$6:$L$301,4,FALSE))","v":""},{"$f":"IF($S218=\"\",\"\",VLOOKUP($S218,'FO-DRE-04'!$A$6:$L$301,6,FALSE))","v":""},{"$f":"IF($S218=\"\",\"\",VLOOKUP($S218,'FO-DRE-04'!$A$6:$L$301,11,FALSE))","v":""},{"$f":"IF($T218=\"\",\"\",VLOOKUP($T218,'FO-DRE-02'!$A$6:$M$101,2,FALSE))","v":""},{"$f":"IF($T218=\"\",\"\",VLOOKUP($T218,'FO-DRE-02'!$A$6:$M$101,3,FALSE))","v":""},{"$f":"IF($T218=\"\",\"\",VLOOKUP($T218,'FO-DRE-02'!$A$6:$M$101,6,FALSE))","v":""},{"$f":"IF($T218=\"\",\"\",VLOOKUP($T218,'FO-DRE-02'!$A$6:$M$101,4,FALSE))","v":""},{"$f":"IF($T218=\"\",\"\",VLOOKUP($T218,'FO-DRE-02'!$A$6:$M$101,5,FALSE))","v":""},{"$f":"IF($T218=\"\",\"\",VLOOKUP($T218,'FO-DRE-02'!$A$6:$M$101,8,FALSE))","v":""},{"$f":"IF($T218=\"\",\"\",VLOOKUP($T218,'FO-DRE-02'!$A$6:$M$101,7,FALSE))","v":""},{"$f":"IF($T218=\"\",\"\",VLOOKUP($T218,'FO-DRE-02'!$A$6:$M$101,9,FALSE))","v":""},{"$f":"IF($T218=\"\",\"\",VLOOKUP($T218,'FO-DRE-02'!$A$6:$M$101,11,FALSE))","v":""},{"$f":"IF($T218=\"\",\"\",VLOOKUP($T218,'FO-DRE-02'!$A$6:$M$101,12,FALSE))","v":""},{"$f":"IF($T218=\"\",\"\",VLOOKUP($T218,'FO-DRE-02'!$A$6:$M$101,13,FALSE))","v":""},null,null,null,209,"","F/D","F/D","","","","","","","","","","","","","","",""]
[null,null,null,null,null,null,null,null,{"$f":"IF(H219=\"1a\",Hoja1!$B$126,IF(H219=\"1b\",Hoja1!$B$127,IF(H219=\"2a\",Hoja1!$B$128,IF(H219=\"2b\",Hoja1!$B$129,IF(H219=\"3 \",Hoja1!$B$130,IF(H219=\"4 \",Hoja1!$B$131,IF(H219=\"5 \",Hoja1!$B$132,IF(H219=\"6 \",Hoja1!$B$133,IF(H219=\"7 \",Hoja1!$B$134,IF(H219=\"8 \",Hoja1!$B$135,\" \"))))))))))","v":" "},{"$f":"CONCATENATE(#REF!,\"-\",\"TX\")","v":{"$error":"#REF!"}},{"$f":"CONCATENATE(#REF!,\"-\",\"RX\")","v":{"$error":"#REF!"}},null,null,null,null,0,null,null,null,null,null,{"$f":"IF($R219=\"\",\"\",VLOOKUP($R219,'FO-DRE-01'!$A$7:$U$301,18,FALSE))","v":""},{"$f":"IF($R219=\"\",\"\",VLOOKUP($R219,'FO-DRE-01'!$A$7:$U$301,16,FALSE))","v":""},{"$f":"IF($R219=\"\",\"\",VLOOKUP($R219,'FO-DRE-01'!$A$7:$U$301,17,FALSE))","v":""},{"$f":"IF($R219=\"\",\"\",VLOOKUP($R219,'FO-DRE-01'!$A$7:$U$301,3,FALSE))","v":""},{"$f":"IF($R219=\"\",\"\",VLOOKUP($R219,'FO-DRE-01'!$A$7:$U$301,4,FALSE))","v":""},{"$f":"IF($R219=\"\",\"\",VLOOKUP($R219,'FO-DRE-01'!$A$7:$U$301,5,FALSE))","v":""},{"$f":"IF($R219=\"\",\"\",VLOOKUP($R219,'FO-DRE-01'!$A$7:$U$301,7,FALSE))","v":""},{"$f":"IF($R219=\"\",\"\",VLOOKUP($R219,'FO-DRE-01'!$A$7:$U$301,8,FALSE))","v":""},{"$f":"IF($R219=\"\",\"\",VLOOKUP($R219,'FO-DRE-01'!$A$7:$U$301,9,FALSE))","v":""},{"$f":"IF($R219=\"\",\"\",VLOOKUP($R219,'FO-DRE-01'!$A$7:$U$301,10,FALSE))","v":""},{"$f":"IF($R219=\"\",\"\",VLOOKUP($R219,'FO-DRE-01'!$A$7:$U$301,11,FALSE))","v":""},{"$f":"IF($R219=\"\",\"\",VLOOKUP($R219,'FO-DRE-01'!$A$7:$U$301,12,FALSE))","v":""},{"$f":"IF($R219=\"\",\"\",VLOOKUP($R219,'FO-DRE-01'!$A$7:$U$301,13,FALSE))","v":""},{"$f":"IF($R219=\"\",\"\",VLOOKUP($R219,'FO-DRE-01'!$A$7:$U$301,14,FALSE))","v":""},{"$f":"IF($R219=\"\",\"\",VLOOKUP($R219,'FO-DRE-01'!$A$7:$U$301,15,FALSE))","v":""},{"$f":"IF($S219=\"\",\"\",VLOOKUP($S219,'FO-DRE-04'!$A$6:$L$301,2,FALSE))","v":""},{"$f":"IF($S219=\"\",\"\",VLOOKUP($S219,'FO-DRE-04'!$A$6:$L$301,3,FALSE))","v":""},{"$f":"IF($S219=\"\",\"\",VLOOKUP($S219,'FO-DRE-04'!$A$6:$L$301,4,FALSE))","v":""},{"$f":"IF($S219=\"\",\"\",VLOOKUP($S219,'FO-DRE-04'!$A$6:$L$301,6,FALSE))","v":""},{"$f":"IF($S219=\"\",\"\",VLOOKUP($S219,'FO-DRE-04'!$A$6:$L$301,11,FALSE))","v":""},{"$f":"IF($T219=\"\",\"\",VLOOKUP($T219,'FO-DRE-02'!$A$6:$M$101,2,FALSE))","v":""},{"$f":"IF($T219=\"\",\"\",VLOOKUP($T219,'FO-DRE-02'!$A$6:$M$101,3,FALSE))","v":""},{"$f":"IF($T219=\"\",\"\",VLOOKUP($T219,'FO-DRE-02'!$A$6:$M$101,6,FALSE))","v":""},{"$f":"IF($T219=\"\",\"\",VLOOKUP($T219,'FO-DRE-02'!$A$6:$M$101,4,FALSE))","v":""},{"$f":"IF($T219=\"\",\"\",VLOOKUP($T219,'FO-DRE-02'!$A$6:$M$101,5,FALSE))","v":""},{"$f":"IF($T219=\"\",\"\",VLOOKUP($T219,'FO-DRE-02'!$A$6:$M$101,8,FALSE))","v":""},{"$f":"IF($T219=\"\",\"\",VLOOKUP($T219,'FO-DRE-02'!$A$6:$M$101,7,FALSE))","v":""},{"$f":"IF($T219=\"\",\"\",VLOOKUP($T219,'FO-DRE-02'!$A$6:$M$101,9,FALSE))","v":""},{"$f":"IF($T219=\"\",\"\",VLOOKUP($T219,'FO-DRE-02'!$A$6:$M$101,11,FALSE))","v":""},{"$f":"IF($T219=\"\",\"\",VLOOKUP($T219,'FO-DRE-02'!$A$6:$M$101,12,FALSE))","v":""},{"$f":"IF($T219=\"\",\"\",VLOOKUP($T219,'FO-DRE-02'!$A$6:$M$101,13,FALSE))","v":""},null,null,null,210,"","F/D","F/D","","","","","","","","","","","","","","",""]
[null,null,null,null,null,null,null,null,{"$f":"IF(H220=\"1a\",Hoja1!$B$126,IF(H220=\"1b\",Hoja1!$B$127,IF(H220=\"2a\",Hoja1!$B$128,IF(H220=\"2b\",Hoja1!$B$129,IF(H220=\"3 \",Hoja1!$B$130,IF(H220=\"4 \",Hoja1!$B$131,IF(H220=\"5 \",Hoja1!$B$132,IF(H220=\"6 \",Hoja1!$B$133,IF(H220=\"7 \",Hoja1!$B$134,IF(H220=\"8 \",Hoja1!$B$135,\" \"))))))))))","v":" "},{"$f":"CONCATENATE(#REF!,\"-\",\"TX\")","v":{"$error":"#REF!"}},{"$f":"CONCATENATE(#REF!,\"-\",\"RX\")","v":{"$error":"#REF!"}},null,null,null,null,0,null,null,null,null,null,{"$f":"IF($R220=\"\",\"\",VLOOKUP($R220,'FO-DRE-01'!$A$7:$U$301,18,FALSE))","v":""},{"$f":"IF($R220=\"\",\"\",VLOOKUP($R220,'FO-DRE-01'!$A$7:$U$301,16,FALSE))","v":""},{"$f":"IF($R220=\"\",\"\",VLOOKUP($R220,'FO-DRE-01'!$A$7:$U$301,17,FALSE))","v":""},{"$f":"IF($R220=\"\",\"\",VLOOKUP($R220,'FO-DRE-01'!$A$7:$U$301,3,FALSE))","v":""},{"$f":"IF($R220=\"\",\"\",VLOOKUP($R220,'FO-DRE-01'!$A$7:$U$301,4,FALSE))","v":""},{"$f":"IF($R220=\"\",\"\",VLOOKUP($R220,'FO-DRE-01'!$A$7:$U$301,5,FALSE))","v":""},{"$f":"IF($R220=\"\",\"\",VLOOKUP($R220,'FO-DRE-01'!$A$7:$U$301,7,FALSE))","v":""},{"$f":"IF($R220=\"\",\"\",VLOOKUP($R220,'FO-DRE-01'!$A$7:$U$301,8,FALSE))","v":""},{"$f":"IF($R220=\"\",\"\",VLOOKUP($R220,'FO-DRE-01'!$A$7:$U$301,9,FALSE))","v":""},{"$f":"IF($R220=\"\",\"\",VLOOKUP($R220,'FO-DRE-01'!$A$7:$U$301,10,FALSE))","v":""},{"$f":"IF($R220=\"\",\"\",VLOOKUP($R220,'FO-DRE-01'!$A$7:$U$301,11,FALSE))","v":""},{"$f":"IF($R220=\"\",\"\",VLOOKUP($R220,'FO-DRE-01'!$A$7:$U$301,12,FALSE))","v":""},{"$f":"IF($R220=\"\",\"\",VLOOKUP($R220,'FO-DRE-01'!$A$7:$U$301,13,FALSE))","v":""},{"$f":"IF($R220=\"\",\"\",VLOOKUP($R220,'FO-DRE-01'!$A$7:$U$301,14,FALSE))","v":""},{"$f":"IF($R220=\"\",\"\",VLOOKUP($R220,'FO-DRE-01'!$A$7:$U$301,15,FALSE))","v":""},{"$f":"IF($S220=\"\",\"\",VLOOKUP($S220,'FO-DRE-04'!$A$6:$L$301,2,FALSE))","v":""},{"$f":"IF($S220=\"\",\"\",VLOOKUP($S220,'FO-DRE-04'!$A$6:$L$301,3,FALSE))","v":""},{"$f":"IF($S220=\"\",\"\",VLOOKUP($S220,'FO-DRE-04'!$A$6:$L$301,4,FALSE))","v":""},{"$f":"IF($S220=\"\",\"\",VLOOKUP($S220,'FO-DRE-04'!$A$6:$L$301,6,FALSE))","v":""},{"$f":"IF($S220=\"\",\"\",VLOOKUP($S220,'FO-DRE-04'!$A$6:$L$301,11,FALSE))","v":""},{"$f":"IF($T220=\"\",\"\",VLOOKUP($T220,'FO-DRE-02'!$A$6:$M$101,2,FALSE))","v":""},{"$f":"IF($T220=\"\",\"\",VLOOKUP($T220,'FO-DRE-02'!$A$6:$M$101,3,FALSE))","v":""},{"$f":"IF($T220=\"\",\"\",VLOOKUP($T220,'FO-DRE-02'!$A$6:$M$101,6,FALSE))","v":""},{"$f":"IF($T220=\"\",\"\",VLOOKUP($T220,'FO-DRE-02'!$A$6:$M$101,4,FALSE))","v":""},{"$f":"IF($T220=\"\",\"\",VLOOKUP($T220,'FO-DRE-02'!$A$6:$M$101,5,FALSE))","v":""},{"$f":"IF($T220=\"\",\"\",VLOOKUP($T220,'FO-DRE-02'!$A$6:$M$101,8,FALSE))","v":""},{"$f":"IF($T220=\"\",\"\",VLOOKUP($T220,'FO-DRE-02'!$A$6:$M$101,7,FALSE))","v":""},{"$f":"IF($T220=\"\",\"\",VLOOKUP($T220,'FO-DRE-02'!$A$6:$M$101,9,FALSE))","v":""},{"$f":"IF($T220=\"\",\"\",VLOOKUP($T220,'FO-DRE-02'!$A$6:$M$101,11,FALSE))","v":""},{"$f":"IF($T220=\"\",\"\",VLOOKUP($T220,'FO-DRE-02'!$A$6:$M$101,12,FALSE))","v":""},{"$f":"IF($T220=\"\",\"\",VLOOKUP($T220,'FO-DRE-02'!$A$6:$M$101,13,FALSE))","v":""},null,null,null,211,"","F/D","F/D","","","","","","","","","","","","","","",""]
[null,null,null,null,null,null,null,null,{"$f":"IF(H221=\"1a\",Hoja1!$B$126,IF(H221=\"1b\",Hoja1!$B$127,IF(H221=\"2a\",Hoja1!$B$128,IF(H221=\"2b\",Hoja1!$B$129,IF(H221=\"3 \",Hoja1!$B$130,IF(H221=\"4 \",Hoja1!$B$131,IF(H221=\"5 \",Hoja1!$B$132,IF(H221=\"6 \",Hoja1!$B$133,IF(H221=\"7 \",Hoja1!$B$134,IF(H221=\"8 \",Hoja1!$B$135,\" \"))))))))))","v":" "},{"$f":"CONCATENATE(#REF!,\"-\",\"TX\")","v":{"$error":"#REF!"}},{"$f":"CONCATENATE(#REF!,\"-\",\"RX\")","v":{"$error":"#REF!"}},null,null,null,null,0,null,null,null,null,null,{"$f":"IF($R221=\"\",\"\",VLOOKUP($R221,'FO-DRE-01'!$A$7:$U$301,18,FALSE))","v":""},{"$f":"IF($R221=\"\",\"\",VLOOKUP($R221,'FO-DRE-01'!$A$7:$U$301,16,FALSE))","v":""},{"$f":"IF($R221=\"\",\"\",VLOOKUP($R221,'FO-DRE-01'!$A$7:$U$301,17,FALSE))","v":""},{"$f":"IF($R221=\"\",\"\",VLOOKUP($R221,'FO-DRE-01'!$A$7:$U$301,3,FALSE))","v":""},{"$f":"IF($R221=\"\",\"\",VLOOKUP($R221,'FO-DRE-01'!$A$7:$U$301,4,FALSE))","v":""},{"$f":"IF($R221=\"\",\"\",VLOOKUP($R221,'FO-DRE-01'!$A$7:$U$301,5,FALSE))","v":""},{"$f":"IF($R221=\"\",\"\",VLOOKUP($R221,'FO-DRE-01'!$A$7:$U$301,7,FALSE))","v":""},{"$f":"IF($R221=\"\",\"\",VLOOKUP($R221,'FO-DRE-01'!$A$7:$U$301,8,FALSE))","v":""},{"$f":"IF($R221=\"\",\"\",VLOOKUP($R221,'FO-DRE-01'!$A$7:$U$301,9,FALSE))","v":""},{"$f":"IF($R221=\"\",\"\",VLOOKUP($R221,'FO-DRE-01'!$A$7:$U$301,10,FALSE))","v":""},{"$f":"IF($R221=\"\",\"\",VLOOKUP($R221,'FO-DRE-01'!$A$7:$U$301,11,FALSE))","v":""},{"$f":"IF($R221=\"\",\"\",VLOOKUP($R221,'FO-DRE-01'!$A$7:$U$301,12,FALSE))","v":""},{"$f":"IF($R221=\"\",\"\",VLOOKUP($R221,'FO-DRE-01'!$A$7:$U$301,13,FALSE))","v":""},{"$f":"IF($R221=\"\",\"\",VLOOKUP($R221,'FO-DRE-01'!$A$7:$U$301,14,FALSE))","v":""},{"$f":"IF($R221=\"\",\"\",VLOOKUP($R221,'FO-DRE-01'!$A$7:$U$301,15,FALSE))","v":""},{"$f":"IF($S221=\"\",\"\",VLOOKUP($S221,'FO-DRE-04'!$A$6:$L$301,2,FALSE))","v":""},{"$f":"IF($S221=\"\",\"\",VLOOKUP($S221,'FO-DRE-04'!$A$6:$L$301,3,FALSE))","v":""},{"$f":"IF($S221=\"\",\"\",VLOOKUP($S221,'FO-DRE-04'!$A$6:$L$301,4,FALSE))","v":""},{"$f":"IF($S221=\"\",\"\",VLOOKUP($S221,'FO-DRE-04'!$A$6:$L$301,6,FALSE))","v":""},{"$f":"IF($S221=\"\",\"\",VLOOKUP($S221,'FO-DRE-04'!$A$6:$L$301,11,FALSE))","v":""},{"$f":"IF($T221=\"\",\"\",VLOOKUP($T221,'FO-DRE-02'!$A$6:$M$101,2,FALSE))","v":""},{"$f":"IF($T221=\"\",\"\",VLOOKUP($T221,'FO-DRE-02'!$A$6:$M$101,3,FALSE))","v":""},{"$f":"IF($T221=\"\",\"\",VLOOKUP($T221,'FO-DRE-02'!$A$6:$M$101,6,FALSE))","v":""},{"$f":"IF($T221=\"\",\"\",VLOOKUP($T221,'FO-DRE-02'!$A$6:$M$101,4,FALSE))","v":""},{"$f":"IF($T221=\"\",\"\",VLOOKUP($T221,'FO-DRE-02'!$A$6:$M$101,5,FALSE))","v":""},{"$f":"IF($T221=\"\",\"\",VLOOKUP($T221,'FO-DRE-02'!$A$6:$M$101,8,FALSE))","v":""},{"$f":"IF($T221=\"\",\"\",VLOOKUP($T221,'FO-DRE-02'!$A$6:$M$101,7,FALSE))","v":""},{"$f":"IF($T221=\"\",\"\",VLOOKUP($T221,'FO-DRE-02'!$A$6:$M$101,9,FALSE))","v":""},{"$f":"IF($T221=\"\",\"\",VLOOKUP($T221,'FO-DRE-02'!$A$6:$M$101,11,FALSE))","v":""},{"$f":"IF($T221=\"\",\"\",VLOOKUP($T221,'FO-DRE-02'!$A$6:$M$101,12,FALSE))","v":""},{"$f":"IF($T221=\"\",\"\",VLOOKUP($T221,'FO-DRE-02'!$A$6:$M$101,13,FALSE))","v":""},null,null,null,212,"","F/D","F/D","","","","","","","","","","","","","","",""]
[null,null,null,null,null,null,null,null,{"$f":"IF(H222=\"1a\",Hoja1!$B$126,IF(H222=\"1b\",Hoja1!$B$127,IF(H222=\"2a\",Hoja1!$B$128,IF(H222=\"2b\",Hoja1!$B$129,IF(H222=\"3 \",Hoja1!$B$130,IF(H222=\"4 \",Hoja1!$B$131,IF(H222=\"5 \",Hoja1!$B$132,IF(H222=\"6 \",Hoja1!$B$133,IF(H222=\"7 \",Hoja1!$B$134,IF(H222=\"8 \",Hoja1!$B$135,\" \"))))))))))","v":" "},{"$f":"CONCATENATE(#REF!,\"-\",\"TX\")","v":{"$error":"#REF!"}},{"$f":"CONCATENATE(#REF!,\"-\",\"RX\")","v":{"$error":"#REF!"}},null,null,null,null,0,null,null,null,null,null,{"$f":"IF($R222=\"\",\"\",VLOOKUP($R222,'FO-DRE-01'!$A$7:$U$301,18,FALSE))","v":""},{"$f":"IF($R222=\"\",\"\",VLOOKUP($R222,'FO-DRE-01'!$A$7:$U$301,16,FALSE))","v":""},{"$f":"IF($R222=\"\",\"\",VLOOKUP($R222,'FO-DRE-01'!$A$7:$U$301,17,FALSE))","v":""},{"$f":"IF($R222=\"\",\"\",VLOOKUP($R222,'FO-DRE-01'!$A$7:$U$301,3,FALSE))","v":""},{"$f":"IF($R222=\"\",\"\",VLOOKUP($R222,'FO-DRE-01'!$A$7:$U$301,4,FALSE))","v":""},{"$f":"IF($R222=\"\",\"\",VLOOKUP($R222,'FO-DRE-01'!$A$7:$U$301,5,FALSE))","v":""},{"$f":"IF($R222=\"\",\"\",VLOOKUP($R222,'FO-DRE-01'!$A$7:$U$301,7,FALSE))","v":""},{"$f":"IF($R222=\"\",\"\",VLOOKUP($R222,'FO-DRE-01'!$A$7:$U$301,8,FALSE))","v":""},{"$f":"IF($R222=\"\",\"\",VLOOKUP($R222,'FO-DRE-01'!$A$7:$U$301,9,FALSE))","v":""},{"$f":"IF($R222=\"\",\"\",VLOOKUP($R222,'FO-DRE-01'!$A$7:$U$301,10,FALSE))","v":""},{"$f":"IF($R222=\"\",\"\",VLOOKUP($R222,'FO-DRE-01'!$A$7:$U$301,11,FALSE))","v":""},{"$f":"IF($R222=\"\",\"\",VLOOKUP($R222,'FO-DRE-01'!$A$7:$U$301,12,FALSE))","v":""},{"$f":"IF($R222=\"\",\"\",VLOOKUP($R222,'FO-DRE-01'!$A$7:$U$301,13,FALSE))","v":""},{"$f":"IF($R222=\"\",\"\",VLOOKUP($R222,'FO-DRE-01'!$A$7:$U$301,14,FALSE))","v":""},{"$f":"IF($R222=\"\",\"\",VLOOKUP($R222,'FO-DRE-01'!$A$7:$U$301,15,FALSE))","v":""},{"$f":"IF($S222=\"\",\"\",VLOOKUP($S222,'FO-DRE-04'!$A$6:$L$301,2,FALSE))","v":""},{"$f":"IF($S222=\"\",\"\",VLOOKUP($S222,'FO-DRE-04'!$A$6:$L$301,3,FALSE))","v":""},{"$f":"IF($S222=\"\",\"\",VLOOKUP($S222,'FO-DRE-04'!$A$6:$L$301,4,FALSE))","v":""},{"$f":"IF($S222=\"\",\"\",VLOOKUP($S222,'FO-DRE-04'!$A$6:$L$301,6,FALSE))","v":""},{"$f":"IF($S222=\"\",\"\",VLOOKUP($S222,'FO-DRE-04'!$A$6:$L$301,11,FALSE))","v":""},{"$f":"IF($T222=\"\",\"\",VLOOKUP($T222,'FO-DRE-02'!$A$6:$M$101,2,FALSE))","v":""},{"$f":"IF($T222=\"\",\"\",VLOOKUP($T222,'FO-DRE-02'!$A$6:$M$101,3,FALSE))","v":""},{"$f":"IF($T222=\"\",\"\",VLOOKUP($T222,'FO-DRE-02'!$A$6:$M$101,6,FALSE))","v":""},{"$f":"IF($T222=\"\",\"\",VLOOKUP($T222,'FO-DRE-02'!$A$6:$M$101,4,FALSE))","v":""},{"$f":"IF($T222=\"\",\"\",VLOOKUP($T222,'FO-DRE-02'!$A$6:$M$101,5,FALSE))","v":""},{"$f":"IF($T222=\"\",\"\",VLOOKUP($T222,'FO-DRE-02'!$A$6:$M$101,8,FALSE))","v":""},{"$f":"IF($T222=\"\",\"\",VLOOKUP($T222,'FO-DRE-02'!$A$6:$M$101,7,FALSE))","v":""},{"$f":"IF($T222=\"\",\"\",VLOOKUP($T222,'FO-DRE-02'!$A$6:$M$101,9,FALSE))","v":""},{"$f":"IF($T222=\"\",\"\",VLOOKUP($T222,'FO-DRE-02'!$A$6:$M$101,11,FALSE))","v":""},{"$f":"IF($T222=\"\",\"\",VLOOKUP($T222,'FO-DRE-02'!$A$6:$M$101,12,FALSE))","v":""},{"$f":"IF($T222=\"\",\"\",VLOOKUP($T222,'FO-DRE-02'!$A$6:$M$101,13,FALSE))","v":""},null,null,null,213,"","F/D","F/D","","","","","","","","","","","","","","",""]
[null,null,null,null,null,null,null,null,{"$f":"IF(H223=\"1a\",Hoja1!$B$126,IF(H223=\"1b\",Hoja1!$B$127,IF(H223=\"2a\",Hoja1!$B$128,IF(H223=\"2b\",Hoja1!$B$129,IF(H223=\"3 \",Hoja1!$B$130,IF(H223=\"4 \",Hoja1!$B$131,IF(H223=\"5 \",Hoja1!$B$132,IF(H223=\"6 \",Hoja1!$B$133,IF(H223=\"7 \",Hoja1!$B$134,IF(H223=\"8 \",Hoja1!$B$135,\" \"))))))))))","v":" "},{"$f":"CONCATENATE(#REF!,\"-\",\"TX\")","v":{"$error":"#REF!"}},{"$f":"CONCATENATE(#REF!,\"-\",\"RX\")","v":{"$error":"#REF!"}},null,null,null,null,0,null,null,null,null,null,{"$f":"IF($R223=\"\",\"\",VLOOKUP($R223,'FO-DRE-01'!$A$7:$U$301,18,FALSE))","v":""},{"$f":"IF($R223=\"\",\"\",VLOOKUP($R223,'FO-DRE-01'!$A$7:$U$301,16,FALSE))","v":""},{"$f":"IF($R223=\"\",\"\",VLOOKUP($R223,'FO-DRE-01'!$A$7:$U$301,17,FALSE))","v":""},{"$f":"IF($R223=\"\",\"\",VLOOKUP($R223,'FO-DRE-01'!$A$7:$U$301,3,FALSE))","v":""},{"$f":"IF($R223=\"\",\"\",VLOOKUP($R223,'FO-DRE-01'!$A$7:$U$301,4,FALSE))","v":""},{"$f":"IF($R223=\"\",\"\",VLOOKUP($R223,'FO-DRE-01'!$A$7:$U$301,5,FALSE))","v":""},{"$f":"IF($R223=\"\",\"\",VLOOKUP($R223,'FO-DRE-01'!$A$7:$U$301,7,FALSE))","v":""},{"$f":"IF($R223=\"\",\"\",VLOOKUP($R223,'FO-DRE-01'!$A$7:$U$301,8,FALSE))","v":""},{"$f":"IF($R223=\"\",\"\",VLOOKUP($R223,'FO-DRE-01'!$A$7:$U$301,9,FALSE))","v":""},{"$f":"IF($R223=\"\",\"\",VLOOKUP($R223,'FO-DRE-01'!$A$7:$U$301,10,FALSE))","v":""},{"$f":"IF($R223=\"\",\"\",VLOOKUP($R223,'FO-DRE-01'!$A$7:$U$301,11,FALSE))","v":""},{"$f":"IF($R223=\"\",\"\",VLOOKUP($R223,'FO-DRE-01'!$A$7:$U$301,12,FALSE))","v":""},{"$f":"IF($R223=\"\",\"\",VLOOKUP($R223,'FO-DRE-01'!$A$7:$U$301,13,FALSE))","v":""},{"$f":"IF($R223=\"\",\"\",VLOOKUP($R223,'FO-DRE-01'!$A$7:$U$301,14,FALSE))","v":""},{"$f":"IF($R223=\"\",\"\",VLOOKUP($R223,'FO-DRE-01'!$A$7:$U$301,15,FALSE))","v":""},{"$f":"IF($S223=\"\",\"\",VLOOKUP($S223,'FO-DRE-04'!$A$6:$L$301,2,FALSE))","v":""},{"$f":"IF($S223=\"\",\"\",VLOOKUP($S223,'FO-DRE-04'!$A$6:$L$301,3,FALSE))","v":""},{"$f":"IF($S223=\"\",\"\",VLOOKUP($S223,'FO-DRE-04'!$A$6:$L$301,4,FALSE))","v":""},{"$f":"IF($S223=\"\",\"\",VLOOKUP($S223,'FO-DRE-04'!$A$6:$L$301,6,FALSE))","v":""},{"$f":"IF($S223=\"\",\"\",VLOOKUP($S223,'FO-DRE-04'!$A$6:$L$301,11,FALSE))","v":""},{"$f":"IF($T223=\"\",\"\",VLOOKUP($T223,'FO-DRE-02'!$A$6:$M$101,2,FALSE))","v":""},{"$f":"IF($T223=\"\",\"\",VLOOKUP($T223,'FO-DRE-02'!$A$6:$M$101,3,FALSE))","v":""},{"$f":"IF($T223=\"\",\"\",VLOOKUP($T223,'FO-DRE-02'!$A$6:$M$101,6,FALSE))","v":""},{"$f":"IF($T223=\"\",\"\",VLOOKUP($T223,'FO-DRE-02'!$A$6:$M$101,4,FALSE))","v":""},{"$f":"IF($T223=\"\",\"\",VLOOKUP($T223,'FO-DRE-02'!$A$6:$M$101,5,FALSE))","v":""},{"$f":"IF($T223=\"\",\"\",VLOOKUP($T223,'FO-DRE-02'!$A$6:$M$101,8,FALSE))","v":""},{"$f":"IF($T223=\"\",\"\",VLOOKUP($T223,'FO-DRE-02'!$A$6:$M$101,7,FALSE))","v":""},{"$f":"IF($T223=\"\",\"\",VLOOKUP($T223,'FO-DRE-02'!$A$6:$M$101,9,FALSE))","v":""},{"$f":"IF($T223=\"\",\"\",VLOOKUP($T223,'FO-DRE-02'!$A$6:$M$101,11,FALSE))","v":""},{"$f":"IF($T223=\"\",\"\",VLOOKUP($T223,'FO-DRE-02'!$A$6:$M$101,12,FALSE))","v":""},{"$f":"IF($T223=\"\",\"\",VLOOKUP($T223,'FO-DRE-02'!$A$6:$M$101,13,FALSE))","v":""},null,null,null,214,"","F/D","F/D","","","","","","","","","","","","","","",""]
[null,null,null,null,null,null,null,null,{"$f":"IF(H224=\"1a\",Hoja1!$B$126,IF(H224=\"1b\",Hoja1!$B$127,IF(H224=\"2a\",Hoja1!$B$128,IF(H224=\"2b\",Hoja1!$B$129,IF(H224=\"3 \",Hoja1!$B$130,IF(H224=\"4 \",Hoja1!$B$131,IF(H224=\"5 \",Hoja1!$B$132,IF(H224=\"6 \",Hoja1!$B$133,IF(H224=\"7 \",Hoja1!$B$134,IF(H224=\"8 \",Hoja1!$B$135,\" \"))))))))))","v":" "},{"$f":"CONCATENATE(#REF!,\"-\",\"TX\")","v":{"$error":"#REF!"}},{"$f":"CONCATENATE(#REF!,\"-\",\"RX\")","v":{"$error":"#REF!"}},null,null,null,null,0,null,null,null,null,null,{"$f":"IF($R224=\"\",\"\",VLOOKUP($R224,'FO-DRE-01'!$A$7:$U$301,18,FALSE))","v":""},{"$f":"IF($R224=\"\",\"\",VLOOKUP($R224,'FO-DRE-01'!$A$7:$U$301,16,FALSE))","v":""},{"$f":"IF($R224=\"\",\"\",VLOOKUP($R224,'FO-DRE-01'!$A$7:$U$301,17,FALSE))","v":""},{"$f":"IF($R224=\"\",\"\",VLOOKUP($R224,'FO-DRE-01'!$A$7:$U$301,3,FALSE))","v":""},{"$f":"IF($R224=\"\",\"\",VLOOKUP($R224,'FO-DRE-01'!$A$7:$U$301,4,FALSE))","v":""},{"$f":"IF($R224=\"\",\"\",VLOOKUP($R224,'FO-DRE-01'!$A$7:$U$301,5,FALSE))","v":""},{"$f":"IF($R224=\"\",\"\",VLOOKUP($R224,'FO-DRE-01'!$A$7:$U$301,7,FALSE))","v":""},{"$f":"IF($R224=\"\",\"\",VLOOKUP($R224,'FO-DRE-01'!$A$7:$U$301,8,FALSE))","v":""},{"$f":"IF($R224=\"\",\"\",VLOOKUP($R224,'FO-DRE-01'!$A$7:$U$301,9,FALSE))","v":""},{"$f":"IF($R224=\"\",\"\",VLOOKUP($R224,'FO-DRE-01'!$A$7:$U$301,10,FALSE))","v":""},{"$f":"IF($R224=\"\",\"\",VLOOKUP($R224,'FO-DRE-01'!$A$7:$U$301,11,FALSE))","v":""},{"$f":"IF($R224=\"\",\"\",VLOOKUP($R224,'FO-DRE-01'!$A$7:$U$301,12,FALSE))","v":""},{"$f":"IF($R224=\"\",\"\",VLOOKUP($R224,'FO-DRE-01'!$A$7:$U$301,13,FALSE))","v":""},{"$f":"IF($R224=\"\",\"\",VLOOKUP($R224,'FO-DRE-01'!$A$7:$U$301,14,FALSE))","v":""},{"$f":"IF($R224=\"\",\"\",VLOOKUP($R224,'FO-DRE-01'!$A$7:$U$301,15,FALSE))","v":""},{"$f":"IF($S224=\"\",\"\",VLOOKUP($S224,'FO-DRE-04'!$A$6:$L$301,2,FALSE))","v":""},{"$f":"IF($S224=\"\",\"\",VLOOKUP($S224,'FO-DRE-04'!$A$6:$L$301,3,FALSE))","v":""},{"$f":"IF($S224=\"\",\"\",VLOOKUP($S224,'FO-DRE-04'!$A$6:$L$301,4,FALSE))","v":""},{"$f":"IF($S224=\"\",\"\",VLOOKUP($S224,'FO-DRE-04'!$A$6:$L$301,6,FALSE))","v":""},{"$f":"IF($S224=\"\",\"\",VLOOKUP($S224,'FO-DRE-04'!$A$6:$L$301,11,FALSE))","v":""},{"$f":"IF($T224=\"\",\"\",VLOOKUP($T224,'FO-DRE-02'!$A$6:$M$101,2,FALSE))","v":""},{"$f":"IF($T224=\"\",\"\",VLOOKUP($T224,'FO-DRE-02'!$A$6:$M$101,3,FALSE))","v":""},{"$f":"IF($T224=\"\",\"\",VLOOKUP($T224,'FO-DRE-02'!$A$6:$M$101,6,FALSE))","v":""},{"$f":"IF($T224=\"\",\"\",VLOOKUP($T224,'FO-DRE-02'!$A$6:$M$101,4,FALSE))","v":""},{"$f":"IF($T224=\"\",\"\",VLOOKUP($T224,'FO-DRE-02'!$A$6:$M$101,5,FALSE))","v":""},{"$f":"IF($T224=\"\",\"\",VLOOKUP($T224,'FO-DRE-02'!$A$6:$M$101,8,FALSE))","v":""},{"$f":"IF($T224=\"\",\"\",VLOOKUP($T224,'FO-DRE-02'!$A$6:$M$101,7,FALSE))","v":""},{"$f":"IF($T224=\"\",\"\",VLOOKUP($T224,'FO-DRE-02'!$A$6:$M$101,9,FALSE))","v":""},{"$f":"IF($T224=\"\",\"\",VLOOKUP($T224,'FO-DRE-02'!$A$6:$M$101,11,FALSE))","v":""},{"$f":"IF($T224=\"\",\"\",VLOOKUP($T224,'FO-DRE-02'!$A$6:$M$101,12,FALSE))","v":""},{"$f":"IF($T224=\"\",\"\",VLOOKUP($T224,'FO-DRE-02'!$A$6:$M$101,13,FALSE))","v":""},null,null,null,215,"","F/D","F/D","","","","","","","","","","","","","","",""]
[null,null,null,null,null,null,null,null,{"$f":"IF(H225=\"1a\",Hoja1!$B$126,IF(H225=\"1b\",Hoja1!$B$127,IF(H225=\"2a\",Hoja1!$B$128,IF(H225=\"2b\",Hoja1!$B$129,IF(H225=\"3 \",Hoja1!$B$130,IF(H225=\"4 \",Hoja1!$B$131,IF(H225=\"5 \",Hoja1!$B$132,IF(H225=\"6 \",Hoja1!$B$133,IF(H225=\"7 \",Hoja1!$B$134,IF(H225=\"8 \",Hoja1!$B$135,\" \"))))))))))","v":" "},{"$f":"CONCATENATE(#REF!,\"-\",\"TX\")","v":{"$error":"#REF!"}},{"$f":"CONCATENATE(#REF!,\"-\",\"RX\")","v":{"$error":"#REF!"}},null,null,null,null,0,null,null,null,null,null,{"$f":"IF($R225=\"\",\"\",VLOOKUP($R225,'FO-DRE-01'!$A$7:$U$301,18,FALSE))","v":""},{"$f":"IF($R225=\"\",\"\",VLOOKUP($R225,'FO-DRE-01'!$A$7:$U$301,16,FALSE))","v":""},{"$f":"IF($R225=\"\",\"\",VLOOKUP($R225,'FO-DRE-01'!$A$7:$U$301,17,FALSE))","v":""},{"$f":"IF($R225=\"\",\"\",VLOOKUP($R225,'FO-DRE-01'!$A$7:$U$301,3,FALSE))","v":""},{"$f":"IF($R225=\"\",\"\",VLOOKUP($R225,'FO-DRE-01'!$A$7:$U$301,4,FALSE))","v":""},{"$f":"IF($R225=\"\",\"\",VLOOKUP($R225,'FO-DRE-01'!$A$7:$U$301,5,FALSE))","v":""},{"$f":"IF($R225=\"\",\"\",VLOOKUP($R225,'FO-DRE-01'!$A$7:$U$301,7,FALSE))","v":""},{"$f":"IF($R225=\"\",\"\",VLOOKUP($R225,'FO-DRE-01'!$A$7:$U$301,8,FALSE))","v":""},{"$f":"IF($R225=\"\",\"\",VLOOKUP($R225,'FO-DRE-01'!$A$7:$U$301,9,FALSE))","v":""},{"$f":"IF($R225=\"\",\"\",VLOOKUP($R225,'FO-DRE-01'!$A$7:$U$301,10,FALSE))","v":""},{"$f":"IF($R225=\"\",\"\",VLOOKUP($R225,'FO-DRE-01'!$A$7:$U$301,11,FALSE))","v":""},{"$f":"IF($R225=\"\",\"\",VLOOKUP($R225,'FO-DRE-01'!$A$7:$U$301,12,FALSE))","v":""},{"$f":"IF($R225=\"\",\"\",VLOOKUP($R225,'FO-DRE-01'!$A$7:$U$301,13,FALSE))","v":""},{"$f":"IF($R225=\"\",\"\",VLOOKUP($R225,'FO-DRE-01'!$A$7:$U$301,14,FALSE))","v":""},{"$f":"IF($R225=\"\",\"\",VLOOKUP($R225,'FO-DRE-01'!$A$7:$U$301,15,FALSE))","v":""},{"$f":"IF($S225=\"\",\"\",VLOOKUP($S225,'FO-DRE-04'!$A$6:$L$301,2,FALSE))","v":""},{"$f":"IF($S225=\"\",\"\",VLOOKUP($S225,'FO-DRE-04'!$A$6:$L$301,3,FALSE))","v":""},{"$f":"IF($S225=\"\",\"\",VLOOKUP($S225,'FO-DRE-04'!$A$6:$L$301,4,FALSE))","v":""},{"$f":"IF($S225=\"\",\"\",VLOOKUP($S225,'FO-DRE-04'!$A$6:$L$301,6,FALSE))","v":""},{"$f":"IF($S225=\"\",\"\",VLOOKUP($S225,'FO-DRE-04'!$A$6:$L$301,11,FALSE))","v":""},{"$f":"IF($T225=\"\",\"\",VLOOKUP($T225,'FO-DRE-02'!$A$6:$M$101,2,FALSE))","v":""},{"$f":"IF($T225=\"\",\"\",VLOOKUP($T225,'FO-DRE-02'!$A$6:$M$101,3,FALSE))","v":""},{"$f":"IF($T225=\"\",\"\",VLOOKUP($T225,'FO-DRE-02'!$A$6:$M$101,6,FALSE))","v":""},{"$f":"IF($T225=\"\",\"\",VLOOKUP($T225,'FO-DRE-02'!$A$6:$M$101,4,FALSE))","v":""},{"$f":"IF($T225=\"\",\"\",VLOOKUP($T225,'FO-DRE-02'!$A$6:$M$101,5,FALSE))","v":""},{"$f":"IF($T225=\"\",\"\",VLOOKUP($T225,'FO-DRE-02'!$A$6:$M$101,8,FALSE))","v":""},{"$f":"IF($T225=\"\",\"\",VLOOKUP($T225,'FO-DRE-02'!$A$6:$M$101,7,FALSE))","v":""},{"$f":"IF($T225=\"\",\"\",VLOOKUP($T225,'FO-DRE-02'!$A$6:$M$101,9,FALSE))","v":""},{"$f":"IF($T225=\"\",\"\",VLOOKUP($T225,'FO-DRE-02'!$A$6:$M$101,11,FALSE))","v":""},{"$f":"IF($T225=\"\",\"\",VLOOKUP($T225,'FO-DRE-02'!$A$6:$M$101,12,FALSE))","v":""},{"$f":"IF($T225=\"\",\"\",VLOOKUP($T225,'FO-DRE-02'!$A$6:$M$101,13,FALSE))","v":""},null,null,null,216,"","F/D","F/D","","","","","","","","","","","","","","",""]
[null,null,null,null,null,null,null,null,{"$f":"IF(H226=\"1a\",Hoja1!$B$126,IF(H226=\"1b\",Hoja1!$B$127,IF(H226=\"2a\",Hoja1!$B$128,IF(H226=\"2b\",Hoja1!$B$129,IF(H226=\"3 \",Hoja1!$B$130,IF(H226=\"4 \",Hoja1!$B$131,IF(H226=\"5 \",Hoja1!$B$132,IF(H226=\"6 \",Hoja1!$B$133,IF(H226=\"7 \",Hoja1!$B$134,IF(H226=\"8 \",Hoja1!$B$135,\" \"))))))))))","v":" "},{"$f":"CONCATENATE(#REF!,\"-\",\"TX\")","v":{"$error":"#REF!"}},{"$f":"CONCATENATE(#REF!,\"-\",\"RX\")","v":{"$error":"#REF!"}},null,null,null,null,0,null,null,null,null,null,{"$f":"IF($R226=\"\",\"\",VLOOKUP($R226,'FO-DRE-01'!$A$7:$U$301,18,FALSE))","v":""},{"$f":"IF($R226=\"\",\"\",VLOOKUP($R226,'FO-DRE-01'!$A$7:$U$301,16,FALSE))","v":""},{"$f":"IF($R226=\"\",\"\",VLOOKUP($R226,'FO-DRE-01'!$A$7:$U$301,17,FALSE))","v":""},{"$f":"IF($R226=\"\",\"\",VLOOKUP($R226,'FO-DRE-01'!$A$7:$U$301,3,FALSE))","v":""},{"$f":"IF($R226=\"\",\"\",VLOOKUP($R226,'FO-DRE-01'!$A$7:$U$301,4,FALSE))","v":""},{"$f":"IF($R226=\"\",\"\",VLOOKUP($R226,'FO-DRE-01'!$A$7:$U$301,5,FALSE))","v":""},{"$f":"IF($R226=\"\",\"\",VLOOKUP($R226,'FO-DRE-01'!$A$7:$U$301,7,FALSE))","v":""},{"$f":"IF($R226=\"\",\"\",VLOOKUP($R226,'FO-DRE-01'!$A$7:$U$301,8,FALSE))","v":""},{"$f":"IF($R226=\"\",\"\",VLOOKUP($R226,'FO-DRE-01'!$A$7:$U$301,9,FALSE))","v":""},{"$f":"IF($R226=\"\",\"\",VLOOKUP($R226,'FO-DRE-01'!$A$7:$U$301,10,FALSE))","v":""},{"$f":"IF($R226=\"\",\"\",VLOOKUP($R226,'FO-DRE-01'!$A$7:$U$301,11,FALSE))","v":""},{"$f":"IF($R226=\"\",\"\",VLOOKUP($R226,'FO-DRE-01'!$A$7:$U$301,12,FALSE))","v":""},{"$f":"IF($R226=\"\",\"\",VLOOKUP($R226,'FO-DRE-01'!$A$7:$U$301,13,FALSE))","v":""},{"$f":"IF($R226=\"\",\"\",VLOOKUP($R226,'FO-DRE-01'!$A$7:$U$301,14,FALSE))","v":""},{"$f":"IF($R226=\"\",\"\",VLOOKUP($R226,'FO-DRE-01'!$A$7:$U$301,15,FALSE))","v":""},{"$f":"IF($S226=\"\",\"\",VLOOKUP($S226,'FO-DRE-04'!$A$6:$L$301,2,FALSE))","v":""},{"$f":"IF($S226=\"\",\"\",VLOOKUP($S226,'FO-DRE-04'!$A$6:$L$301,3,FALSE))","v":""},{"$f":"IF($S226=\"\",\"\",VLOOKUP($S226,'FO-DRE-04'!$A$6:$L$301,4,FALSE))","v":""},{"$f":"IF($S226=\"\",\"\",VLOOKUP($S226,'FO-DRE-04'!$A$6:$L$301,6,FALSE))","v":""},{"$f":"IF($S226=\"\",\"\",VLOOKUP($S226,'FO-DRE-04'!$A$6:$L$301,11,FALSE))","v":""},{"$f":"IF($T226=\"\",\"\",VLOOKUP($T226,'FO-DRE-02'!$A$6:$M$101,2,FALSE))","v":""},{"$f":"IF($T226=\"\",\"\",VLOOKUP($T226,'FO-DRE-02'!$A$6:$M$101,3,FALSE))","v":""},{"$f":"IF($T226=\"\",\"\",VLOOKUP($T226,'FO-DRE-02'!$A$6:$M$101,6,FALSE))","v":""},{"$f":"IF($T226=\"\",\"\",VLOOKUP($T226,'FO-DRE-02'!$A$6:$M$101,4,FALSE))","v":""},{"$f":"IF($T226=\"\",\"\",VLOOKUP($T226,'FO-DRE-02'!$A$6:$M$101,5,FALSE))","v":""},{"$f":"IF($T226=\"\",\"\",VLOOKUP($T226,'FO-DRE-02'!$A$6:$M$101,8,FALSE))","v":""},{"$f":"IF($T226=\"\",\"\",VLOOKUP($T226,'FO-DRE-02'!$A$6:$M$101,7,FALSE))","v":""},{"$f":"IF($T226=\"\",\"\",VLOOKUP($T226,'FO-DRE-02'!$A$6:$M$101,9,FALSE))","v":""},{"$f":"IF($T226=\"\",\"\",VLOOKUP($T226,'FO-DRE-02'!$A$6:$M$101,11,FALSE))","v":""},{"$f":"IF($T226=\"\",\"\",VLOOKUP($T226,'FO-DRE-02'!$A$6:$M$101,12,FALSE))","v":""},{"$f":"IF($T226=\"\",\"\",VLOOKUP($T226,'FO-DRE-02'!$A$6:$M$101,13,FALSE))","v":""},null,null,null,217,"","F/D","F/D","","","","","","","",{"$f":"IF(OR(AK226=\"MOVIL\",AK226=\"PORTATIL\"),\"\",IF(AN226=\"\",\"\",AN226))","v":""},"",{"$f":"IF(OR(BO226=\"\",BP226=\"\"),\"\",BP226*BO226)","v":""},"","","","",""]
[null,null,null,null,null,null,null,null,{"$f":"IF(H227=\"1a\",Hoja1!$B$126,IF(H227=\"1b\",Hoja1!$B$127,IF(H227=\"2a\",Hoja1!$B$128,IF(H227=\"2b\",Hoja1!$B$129,IF(H227=\"3 \",Hoja1!$B$130,IF(H227=\"4 \",Hoja1!$B$131,IF(H227=\"5 \",Hoja1!$B$132,IF(H227=\"6 \",Hoja1!$B$133,IF(H227=\"7 \",Hoja1!$B$134,IF(H227=\"8 \",Hoja1!$B$135,\" \"))))))))))","v":" "},{"$f":"CONCATENATE(#REF!,\"-\",\"TX\")","v":{"$error":"#REF!"}},{"$f":"CONCATENATE(#REF!,\"-\",\"RX\")","v":{"$error":"#REF!"}},null,null,null,null,0,null,null,null,null,null,{"$f":"IF($R227=\"\",\"\",VLOOKUP($R227,'FO-DRE-01'!$A$7:$U$301,18,FALSE))","v":""},{"$f":"IF($R227=\"\",\"\",VLOOKUP($R227,'FO-DRE-01'!$A$7:$U$301,16,FALSE))","v":""},{"$f":"IF($R227=\"\",\"\",VLOOKUP($R227,'FO-DRE-01'!$A$7:$U$301,17,FALSE))","v":""},{"$f":"IF($R227=\"\",\"\",VLOOKUP($R227,'FO-DRE-01'!$A$7:$U$301,3,FALSE))","v":""},{"$f":"IF($R227=\"\",\"\",VLOOKUP($R227,'FO-DRE-01'!$A$7:$U$301,4,FALSE))","v":""},{"$f":"IF($R227=\"\",\"\",VLOOKUP($R227,'FO-DRE-01'!$A$7:$U$301,5,FALSE))","v":""},{"$f":"IF($R227=\"\",\"\",VLOOKUP($R227,'FO-DRE-01'!$A$7:$U$301,7,FALSE))","v":""},{"$f":"IF($R227=\"\",\"\",VLOOKUP($R227,'FO-DRE-01'!$A$7:$U$301,8,FALSE))","v":""},{"$f":"IF($R227=\"\",\"\",VLOOKUP($R227,'FO-DRE-01'!$A$7:$U$301,9,FALSE))","v":""},{"$f":"IF($R227=\"\",\"\",VLOOKUP($R227,'FO-DRE-01'!$A$7:$U$301,10,FALSE))","v":""},{"$f":"IF($R227=\"\",\"\",VLOOKUP($R227,'FO-DRE-01'!$A$7:$U$301,11,FALSE))","v":""},{"$f":"IF($R227=\"\",\"\",VLOOKUP($R227,'FO-DRE-01'!$A$7:$U$301,12,FALSE))","v":""},{"$f":"IF($R227=\"\",\"\",VLOOKUP($R227,'FO-DRE-01'!$A$7:$U$301,13,FALSE))","v":""},{"$f":"IF($R227=\"\",\"\",VLOOKUP($R227,'FO-DRE-01'!$A$7:$U$301,14,FALSE))","v":""},{"$f":"IF($R227=\"\",\"\",VLOOKUP($R227,'FO-DRE-01'!$A$7:$U$301,15,FALSE))","v":""},{"$f":"IF($S227=\"\",\"\",VLOOKUP($S227,'FO-DRE-04'!$A$6:$L$301,2,FALSE))","v":""},{"$f":"IF($S227=\"\",\"\",VLOOKUP($S227,'FO-DRE-04'!$A$6:$L$301,3,FALSE))","v":""},{"$f":"IF($S227=\"\",\"\",VLOOKUP($S227,'FO-DRE-04'!$A$6:$L$301,4,FALSE))","v":""},{"$f":"IF($S227=\"\",\"\",VLOOKUP($S227,'FO-DRE-04'!$A$6:$L$301,6,FALSE))","v":""},{"$f":"IF($S227=\"\",\"\",VLOOKUP($S227,'FO-DRE-04'!$A$6:$L$301,11,FALSE))","v":""},{"$f":"IF($T227=\"\",\"\",VLOOKUP($T227,'FO-DRE-02'!$A$6:$M$101,2,FALSE))","v":""},{"$f":"IF($T227=\"\",\"\",VLOOKUP($T227,'FO-DRE-02'!$A$6:$M$101,3,FALSE))","v":""},{"$f":"IF($T227=\"\",\"\",VLOOKUP($T227,'FO-DRE-02'!$A$6:$M$101,6,FALSE))","v":""},{"$f":"IF($T227=\"\",\"\",VLOOKUP($T227,'FO-DRE-02'!$A$6:$M$101,4,FALSE))","v":""},{"$f":"IF($T227=\"\",\"\",VLOOKUP($T227,'FO-DRE-02'!$A$6:$M$101,5,FALSE))","v":""},{"$f":"IF($T227=\"\",\"\",VLOOKUP($T227,'FO-DRE-02'!$A$6:$M$101,8,FALSE))","v":""},{"$f":"IF($T227=\"\",\"\",VLOOKUP($T227,'FO-DRE-02'!$A$6:$M$101,7,FALSE))","v":""},{"$f":"IF($T227=\"\",\"\",VLOOKUP($T227,'FO-DRE-02'!$A$6:$M$101,9,FALSE))","v":""},{"$f":"IF($T227=\"\",\"\",VLOOKUP($T227,'FO-DRE-02'!$A$6:$M$101,11,FALSE))","v":""},{"$f":"IF($T227=\"\",\"\",VLOOKUP($T227,'FO-DRE-02'!$A$6:$M$101,12,FALSE))","v":""},{"$f":"IF($T227=\"\",\"\",VLOOKUP($T227,'FO-DRE-02'!$A$6:$M$101,13,FALSE))","v":""},null,null,null,218,"","F/D","F/D","","","","","","","","","","","","","","",""]
[null,null,null,null,null,null,null,null,{"$f":"IF(H228=\"1a\",Hoja1!$B$126,IF(H228=\"1b\",Hoja1!$B$127,IF(H228=\"2a\",Hoja1!$B$128,IF(H228=\"2b\",Hoja1!$B$129,IF(H228=\"3 \",Hoja1!$B$130,IF(H228=\"4 \",Hoja1!$B$131,IF(H228=\"5 \",Hoja1!$B$132,IF(H228=\"6 \",Hoja1!$B$133,IF(H228=\"7 \",Hoja1!$B$134,IF(H228=\"8 \",Hoja1!$B$135,\" \"))))))))))","v":" "},{"$f":"CONCATENATE(#REF!,\"-\",\"TX\")","v":{"$error":"#REF!"}},{"$f":"CONCATENATE(#REF!,\"-\",\"RX\")","v":{"$error":"#REF!"}},null,null,null,null,0,null,null,null,null,null,{"$f":"IF($R228=\"\",\"\",VLOOKUP($R228,'FO-DRE-01'!$A$7:$U$301,18,FALSE))","v":""},{"$f":"IF($R228=\"\",\"\",VLOOKUP($R228,'FO-DRE-01'!$A$7:$U$301,16,FALSE))","v":""},{"$f":"IF($R228=\"\",\"\",VLOOKUP($R228,'FO-DRE-01'!$A$7:$U$301,17,FALSE))","v":""},{"$f":"IF($R228=\"\",\"\",VLOOKUP($R228,'FO-DRE-01'!$A$7:$U$301,3,FALSE))","v":""},{"$f":"IF($R228=\"\",\"\",VLOOKUP($R228,'FO-DRE-01'!$A$7:$U$301,4,FALSE))","v":""},{"$f":"IF($R228=\"\",\"\",VLOOKUP($R228,'FO-DRE-01'!$A$7:$U$301,5,FALSE))","v":""},{"$f":"IF($R228=\"\",\"\",VLOOKUP($R228,'FO-DRE-01'!$A$7:$U$301,7,FALSE))","v":""},{"$f":"IF($R228=\"\",\"\",VLOOKUP($R228,'FO-DRE-01'!$A$7:$U$301,8,FALSE))","v":""},{"$f":"IF($R228=\"\",\"\",VLOOKUP($R228,'FO-DRE-01'!$A$7:$U$301,9,FALSE))","v":""},{"$f":"IF($R228=\"\",\"\",VLOOKUP($R228,'FO-DRE-01'!$A$7:$U$301,10,FALSE))","v":""},{"$f":"IF($R228=\"\",\"\",VLOOKUP($R228,'FO-DRE-01'!$A$7:$U$301,11,FALSE))","v":""},{"$f":"IF($R228=\"\",\"\",VLOOKUP($R228,'FO-DRE-01'!$A$7:$U$301,12,FALSE))","v":""},{"$f":"IF($R228=\"\",\"\",VLOOKUP($R228,'FO-DRE-01'!$A$7:$U$301,13,FALSE))","v":""},{"$f":"IF($R228=\"\",\"\",VLOOKUP($R228,'FO-DRE-01'!$A$7:$U$301,14,FALSE))","v":""},{"$f":"IF($R228=\"\",\"\",VLOOKUP($R228,'FO-DRE-01'!$A$7:$U$301,15,FALSE))","v":""},{"$f":"IF($S228=\"\",\"\",VLOOKUP($S228,'FO-DRE-04'!$A$6:$L$301,2,FALSE))","v":""},{"$f":"IF($S228=\"\",\"\",VLOOKUP($S228,'FO-DRE-04'!$A$6:$L$301,3,FALSE))","v":""},{"$f":"IF($S228=\"\",\"\",VLOOKUP($S228,'FO-DRE-04'!$A$6:$L$301,4,FALSE))","v":""},{"$f":"IF($S228=\"\",\"\",VLOOKUP($S228,'FO-DRE-04'!$A$6:$L$301,6,FALSE))","v":""},{"$f":"IF($S228=\"\",\"\",VLOOKUP($S228,'FO-DRE-04'!$A$6:$L$301,11,FALSE))","v":""},{"$f":"IF($T228=\"\",\"\",VLOOKUP($T228,'FO-DRE-02'!$A$6:$M$101,2,FALSE))","v":""},{"$f":"IF($T228=\"\",\"\",VLOOKUP($T228,'FO-DRE-02'!$A$6:$M$101,3,FALSE))","v":""},{"$f":"IF($T228=\"\",\"\",VLOOKUP($T228,'FO-DRE-02'!$A$6:$M$101,6,FALSE))","v":""},{"$f":"IF($T228=\"\",\"\",VLOOKUP($T228,'FO-DRE-02'!$A$6:$M$101,4,FALSE))","v":""},{"$f":"IF($T228=\"\",\"\",VLOOKUP($T228,'FO-DRE-02'!$A$6:$M$101,5,FALSE))","v":""},{"$f":"IF($T228=\"\",\"\",VLOOKUP($T228,'FO-DRE-02'!$A$6:$M$101,8,FALSE))","v":""},{"$f":"IF($T228=\"\",\"\",VLOOKUP($T228,'FO-DRE-02'!$A$6:$M$101,7,FALSE))","v":""},{"$f":"IF($T228=\"\",\"\",VLOOKUP($T228,'FO-DRE-02'!$A$6:$M$101,9,FALSE))","v":""},{"$f":"IF($T228=\"\",\"\",VLOOKUP($T228,'FO-DRE-02'!$A$6:$M$101,11,FALSE))","v":""},{"$f":"IF($T228=\"\",\"\",VLOOKUP($T228,'FO-DRE-02'!$A$6:$M$101,12,FALSE))","v":""},{"$f":"IF($T228=\"\",\"\",VLOOKUP($T228,'FO-DRE-02'!$A$6:$M$101,13,FALSE))","v":""},null,null,null,219,"","F/D","F/D","","","","","","","","","","","","","","",""]
[null,null,null,null,null,null,null,null,{"$f":"IF(H229=\"1a\",Hoja1!$B$126,IF(H229=\"1b\",Hoja1!$B$127,IF(H229=\"2a\",Hoja1!$B$128,IF(H229=\"2b\",Hoja1!$B$129,IF(H229=\"3 \",Hoja1!$B$130,IF(H229=\"4 \",Hoja1!$B$131,IF(H229=\"5 \",Hoja1!$B$132,IF(H229=\"6 \",Hoja1!$B$133,IF(H229=\"7 \",Hoja1!$B$134,IF(H229=\"8 \",Hoja1!$B$135,\" \"))))))))))","v":" "},{"$f":"CONCATENATE(#REF!,\"-\",\"TX\")","v":{"$error":"#REF!"}},{"$f":"CONCATENATE(#REF!,\"-\",\"RX\")","v":{"$error":"#REF!"}},null,null,null,null,0,null,null,null,null,null,{"$f":"IF($R229=\"\",\"\",VLOOKUP($R229,'FO-DRE-01'!$A$7:$U$301,18,FALSE))","v":""},{"$f":"IF($R229=\"\",\"\",VLOOKUP($R229,'FO-DRE-01'!$A$7:$U$301,16,FALSE))","v":""},{"$f":"IF($R229=\"\",\"\",VLOOKUP($R229,'FO-DRE-01'!$A$7:$U$301,17,FALSE))","v":""},{"$f":"IF($R229=\"\",\"\",VLOOKUP($R229,'FO-DRE-01'!$A$7:$U$301,3,FALSE))","v":""},{"$f":"IF($R229=\"\",\"\",VLOOKUP($R229,'FO-DRE-01'!$A$7:$U$301,4,FALSE))","v":""},{"$f":"IF($R229=\"\",\"\",VLOOKUP($R229,'FO-DRE-01'!$A$7:$U$301,5,FALSE))","v":""},{"$f":"IF($R229=\"\",\"\",VLOOKUP($R229,'FO-DRE-01'!$A$7:$U$301,7,FALSE))","v":""},{"$f":"IF($R229=\"\",\"\",VLOOKUP($R229,'FO-DRE-01'!$A$7:$U$301,8,FALSE))","v":""},{"$f":"IF($R229=\"\",\"\",VLOOKUP($R229,'FO-DRE-01'!$A$7:$U$301,9,FALSE))","v":""},{"$f":"IF($R229=\"\",\"\",VLOOKUP($R229,'FO-DRE-01'!$A$7:$U$301,10,FALSE))","v":""},{"$f":"IF($R229=\"\",\"\",VLOOKUP($R229,'FO-DRE-01'!$A$7:$U$301,11,FALSE))","v":""},{"$f":"IF($R229=\"\",\"\",VLOOKUP($R229,'FO-DRE-01'!$A$7:$U$301,12,FALSE))","v":""},{"$f":"IF($R229=\"\",\"\",VLOOKUP($R229,'FO-DRE-01'!$A$7:$U$301,13,FALSE))","v":""},{"$f":"IF($R229=\"\",\"\",VLOOKUP($R229,'FO-DRE-01'!$A$7:$U$301,14,FALSE))","v":""},{"$f":"IF($R229=\"\",\"\",VLOOKUP($R229,'FO-DRE-01'!$A$7:$U$301,15,FALSE))","v":""},{"$f":"IF($S229=\"\",\"\",VLOOKUP($S229,'FO-DRE-04'!$A$6:$L$301,2,FALSE))","v":""},{"$f":"IF($S229=\"\",\"\",VLOOKUP($S229,'FO-DRE-04'!$A$6:$L$301,3,FALSE))","v":""},{"$f":"IF($S229=\"\",\"\",VLOOKUP($S229,'FO-DRE-04'!$A$6:$L$301,4,FALSE))","v":""},{"$f":"IF($S229=\"\",\"\",VLOOKUP($S229,'FO-DRE-04'!$A$6:$L$301,6,FALSE))","v":""},{"$f":"IF($S229=\"\",\"\",VLOOKUP($S229,'FO-DRE-04'!$A$6:$L$301,11,FALSE))","v":""},{"$f":"IF($T229=\"\",\"\",VLOOKUP($T229,'FO-DRE-02'!$A$6:$M$101,2,FALSE))","v":""},{"$f":"IF($T229=\"\",\"\",VLOOKUP($T229,'FO-DRE-02'!$A$6:$M$101,3,FALSE))","v":""},{"$f":"IF($T229=\"\",\"\",VLOOKUP($T229,'FO-DRE-02'!$A$6:$M$101,6,FALSE))","v":""},{"$f":"IF($T229=\"\",\"\",VLOOKUP($T229,'FO-DRE-02'!$A$6:$M$101,4,FALSE))","v":""},{"$f":"IF($T229=\"\",\"\",VLOOKUP($T229,'FO-DRE-02'!$A$6:$M$101,5,FALSE))","v":""},{"$f":"IF($T229=\"\",\"\",VLOOKUP($T229,'FO-DRE-02'!$A$6:$M$101,8,FALSE))","v":""},{"$f":"IF($T229=\"\",\"\",VLOOKUP($T229,'FO-DRE-02'!$A$6:$M$101,7,FALSE))","v":""},{"$f":"IF($T229=\"\",\"\",VLOOKUP($T229,'FO-DRE-02'!$A$6:$M$101,9,FALSE))","v":""},{"$f":"IF($T229=\"\",\"\",VLOOKUP($T229,'FO-DRE-02'!$A$6:$M$101,11,FALSE))","v":""},{"$f":"IF($T229=\"\",\"\",VLOOKUP($T229,'FO-DRE-02'!$A$6:$M$101,12,FALSE))","v":""},{"$f":"IF($T229=\"\",\"\",VLOOKUP($T229,'FO-DRE-02'!$A$6:$M$101,13,FALSE))","v":""},null,null,null,220,"","F/D","F/D","","","","","","","","","","","","","","",""]
[null,null,null,null,null,null,null,null,{"$f":"IF(H230=\"1a\",Hoja1!$B$126,IF(H230=\"1b\",Hoja1!$B$127,IF(H230=\"2a\",Hoja1!$B$128,IF(H230=\"2b\",Hoja1!$B$129,IF(H230=\"3 \",Hoja1!$B$130,IF(H230=\"4 \",Hoja1!$B$131,IF(H230=\"5 \",Hoja1!$B$132,IF(H230=\"6 \",Hoja1!$B$133,IF(H230=\"7 \",Hoja1!$B$134,IF(H230=\"8 \",Hoja1!$B$135,\" \"))))))))))","v":" "},{"$f":"CONCATENATE(#REF!,\"-\",\"TX\")","v":{"$error":"#REF!"}},{"$f":"CONCATENATE(#REF!,\"-\",\"RX\")","v":{"$error":"#REF!"}},null,null,null,null,0,null,null,null,null,null,{"$f":"IF($R230=\"\",\"\",VLOOKUP($R230,'FO-DRE-01'!$A$7:$U$301,18,FALSE))","v":""},{"$f":"IF($R230=\"\",\"\",VLOOKUP($R230,'FO-DRE-01'!$A$7:$U$301,16,FALSE))","v":""},{"$f":"IF($R230=\"\",\"\",VLOOKUP($R230,'FO-DRE-01'!$A$7:$U$301,17,FALSE))","v":""},{"$f":"IF($R230=\"\",\"\",VLOOKUP($R230,'FO-DRE-01'!$A$7:$U$301,3,FALSE))","v":""},{"$f":"IF($R230=\"\",\"\",VLOOKUP($R230,'FO-DRE-01'!$A$7:$U$301,4,FALSE))","v":""},{"$f":"IF($R230=\"\",\"\",VLOOKUP($R230,'FO-DRE-01'!$A$7:$U$301,5,FALSE))","v":""},{"$f":"IF($R230=\"\",\"\",VLOOKUP($R230,'FO-DRE-01'!$A$7:$U$301,7,FALSE))","v":""},{"$f":"IF($R230=\"\",\"\",VLOOKUP($R230,'FO-DRE-01'!$A$7:$U$301,8,FALSE))","v":""},{"$f":"IF($R230=\"\",\"\",VLOOKUP($R230,'FO-DRE-01'!$A$7:$U$301,9,FALSE))","v":""},{"$f":"IF($R230=\"\",\"\",VLOOKUP($R230,'FO-DRE-01'!$A$7:$U$301,10,FALSE))","v":""},{"$f":"IF($R230=\"\",\"\",VLOOKUP($R230,'FO-DRE-01'!$A$7:$U$301,11,FALSE))","v":""},{"$f":"IF($R230=\"\",\"\",VLOOKUP($R230,'FO-DRE-01'!$A$7:$U$301,12,FALSE))","v":""},{"$f":"IF($R230=\"\",\"\",VLOOKUP($R230,'FO-DRE-01'!$A$7:$U$301,13,FALSE))","v":""},{"$f":"IF($R230=\"\",\"\",VLOOKUP($R230,'FO-DRE-01'!$A$7:$U$301,14,FALSE))","v":""},{"$f":"IF($R230=\"\",\"\",VLOOKUP($R230,'FO-DRE-01'!$A$7:$U$301,15,FALSE))","v":""},{"$f":"IF($S230=\"\",\"\",VLOOKUP($S230,'FO-DRE-04'!$A$6:$L$301,2,FALSE))","v":""},{"$f":"IF($S230=\"\",\"\",VLOOKUP($S230,'FO-DRE-04'!$A$6:$L$301,3,FALSE))","v":""},{"$f":"IF($S230=\"\",\"\",VLOOKUP($S230,'FO-DRE-04'!$A$6:$L$301,4,FALSE))","v":""},{"$f":"IF($S230=\"\",\"\",VLOOKUP($S230,'FO-DRE-04'!$A$6:$L$301,6,FALSE))","v":""},{"$f":"IF($S230=\"\",\"\",VLOOKUP($S230,'FO-DRE-04'!$A$6:$L$301,11,FALSE))","v":""},{"$f":"IF($T230=\"\",\"\",VLOOKUP($T230,'FO-DRE-02'!$A$6:$M$101,2,FALSE))","v":""},{"$f":"IF($T230=\"\",\"\",VLOOKUP($T230,'FO-DRE-02'!$A$6:$M$101,3,FALSE))","v":""},{"$f":"IF($T230=\"\",\"\",VLOOKUP($T230,'FO-DRE-02'!$A$6:$M$101,6,FALSE))","v":""},{"$f":"IF($T230=\"\",\"\",VLOOKUP($T230,'FO-DRE-02'!$A$6:$M$101,4,FALSE))","v":""},{"$f":"IF($T230=\"\",\"\",VLOOKUP($T230,'FO-DRE-02'!$A$6:$M$101,5,FALSE))","v":""},{"$f":"IF($T230=\"\",\"\",VLOOKUP($T230,'FO-DRE-02'!$A$6:$M$101,8,FALSE))","v":""},{"$f":"IF($T230=\"\",\"\",VLOOKUP($T230,'FO-DRE-02'!$A$6:$M$101,7,FALSE))","v":""},{"$f":"IF($T230=\"\",\"\",VLOOKUP($T230,'FO-DRE-02'!$A$6:$M$101,9,FALSE))","v":""},{"$f":"IF($T230=\"\",\"\",VLOOKUP($T230,'FO-DRE-02'!$A$6:$M$101,11,FALSE))","v":""},{"$f":"IF($T230=\"\",\"\",VLOOKUP($T230,'FO-DRE-02'!$A$6:$M$101,12,FALSE))","v":""},{"$f":"IF($T230=\"\",\"\",VLOOKUP($T230,'FO-DRE-02'!$A$6:$M$101,13,FALSE))","v":""},null,null,null,221,"","F/D","F/D","","","","","","","","","","","","","","",""]
[null,null,null,null,null,null,null,null,{"$f":"IF(H231=\"1a\",Hoja1!$B$126,IF(H231=\"1b\",Hoja1!$B$127,IF(H231=\"2a\",Hoja1!$B$128,IF(H231=\"2b\",Hoja1!$B$129,IF(H231=\"3 \",Hoja1!$B$130,IF(H231=\"4 \",Hoja1!$B$131,IF(H231=\"5 \",Hoja1!$B$132,IF(H231=\"6 \",Hoja1!$B$133,IF(H231=\"7 \",Hoja1!$B$134,IF(H231=\"8 \",Hoja1!$B$135,\" \"))))))))))","v":" "},{"$f":"CONCATENATE(#REF!,\"-\",\"TX\")","v":{"$error":"#REF!"}},{"$f":"CONCATENATE(#REF!,\"-\",\"RX\")","v":{"$error":"#REF!"}},null,null,null,null,0,null,null,null,null,null,{"$f":"IF($R231=\"\",\"\",VLOOKUP($R231,'FO-DRE-01'!$A$7:$U$301,18,FALSE))","v":""},{"$f":"IF($R231=\"\",\"\",VLOOKUP($R231,'FO-DRE-01'!$A$7:$U$301,16,FALSE))","v":""},{"$f":"IF($R231=\"\",\"\",VLOOKUP($R231,'FO-DRE-01'!$A$7:$U$301,17,FALSE))","v":""},{"$f":"IF($R231=\"\",\"\",VLOOKUP($R231,'FO-DRE-01'!$A$7:$U$301,3,FALSE))","v":""},{"$f":"IF($R231=\"\",\"\",VLOOKUP($R231,'FO-DRE-01'!$A$7:$U$301,4,FALSE))","v":""},{"$f":"IF($R231=\"\",\"\",VLOOKUP($R231,'FO-DRE-01'!$A$7:$U$301,5,FALSE))","v":""},{"$f":"IF($R231=\"\",\"\",VLOOKUP($R231,'FO-DRE-01'!$A$7:$U$301,7,FALSE))","v":""},{"$f":"IF($R231=\"\",\"\",VLOOKUP($R231,'FO-DRE-01'!$A$7:$U$301,8,FALSE))","v":""},{"$f":"IF($R231=\"\",\"\",VLOOKUP($R231,'FO-DRE-01'!$A$7:$U$301,9,FALSE))","v":""},{"$f":"IF($R231=\"\",\"\",VLOOKUP($R231,'FO-DRE-01'!$A$7:$U$301,10,FALSE))","v":""},{"$f":"IF($R231=\"\",\"\",VLOOKUP($R231,'FO-DRE-01'!$A$7:$U$301,11,FALSE))","v":""},{"$f":"IF($R231=\"\",\"\",VLOOKUP($R231,'FO-DRE-01'!$A$7:$U$301,12,FALSE))","v":""},{"$f":"IF($R231=\"\",\"\",VLOOKUP($R231,'FO-DRE-01'!$A$7:$U$301,13,FALSE))","v":""},{"$f":"IF($R231=\"\",\"\",VLOOKUP($R231,'FO-DRE-01'!$A$7:$U$301,14,FALSE))","v":""},{"$f":"IF($R231=\"\",\"\",VLOOKUP($R231,'FO-DRE-01'!$A$7:$U$301,15,FALSE))","v":""},{"$f":"IF($S231=\"\",\"\",VLOOKUP($S231,'FO-DRE-04'!$A$6:$L$301,2,FALSE))","v":""},{"$f":"IF($S231=\"\",\"\",VLOOKUP($S231,'FO-DRE-04'!$A$6:$L$301,3,FALSE))","v":""},{"$f":"IF($S231=\"\",\"\",VLOOKUP($S231,'FO-DRE-04'!$A$6:$L$301,4,FALSE))","v":""},{"$f":"IF($S231=\"\",\"\",VLOOKUP($S231,'FO-DRE-04'!$A$6:$L$301,6,FALSE))","v":""},{"$f":"IF($S231=\"\",\"\",VLOOKUP($S231,'FO-DRE-04'!$A$6:$L$301,11,FALSE))","v":""},{"$f":"IF($T231=\"\",\"\",VLOOKUP($T231,'FO-DRE-02'!$A$6:$M$101,2,FALSE))","v":""},{"$f":"IF($T231=\"\",\"\",VLOOKUP($T231,'FO-DRE-02'!$A$6:$M$101,3,FALSE))","v":""},{"$f":"IF($T231=\"\",\"\",VLOOKUP($T231,'FO-DRE-02'!$A$6:$M$101,6,FALSE))","v":""},{"$f":"IF($T231=\"\",\"\",VLOOKUP($T231,'FO-DRE-02'!$A$6:$M$101,4,FALSE))","v":""},{"$f":"IF($T231=\"\",\"\",VLOOKUP($T231,'FO-DRE-02'!$A$6:$M$101,5,FALSE))","v":""},{"$f":"IF($T231=\"\",\"\",VLOOKUP($T231,'FO-DRE-02'!$A$6:$M$101,8,FALSE))","v":""},{"$f":"IF($T231=\"\",\"\",VLOOKUP($T231,'FO-DRE-02'!$A$6:$M$101,7,FALSE))","v":""},{"$f":"IF($T231=\"\",\"\",VLOOKUP($T231,'FO-DRE-02'!$A$6:$M$101,9,FALSE))","v":""},{"$f":"IF($T231=\"\",\"\",VLOOKUP($T231,'FO-DRE-02'!$A$6:$M$101,11,FALSE))","v":""},{"$f":"IF($T231=\"\",\"\",VLOOKUP($T231,'FO-DRE-02'!$A$6:$M$101,12,FALSE))","v":""},{"$f":"IF($T231=\"\",\"\",VLOOKUP($T231,'FO-DRE-02'!$A$6:$M$101,13,FALSE))","v":""},null,null,null,222,"","F/D","F/D","","","","","","","","","","","","","","",""]
[null,null,null,null,null,null,null,null,{"$f":"IF(H232=\"1a\",Hoja1!$B$126,IF(H232=\"1b\",Hoja1!$B$127,IF(H232=\"2a\",Hoja1!$B$128,IF(H232=\"2b\",Hoja1!$B$129,IF(H232=\"3 \",Hoja1!$B$130,IF(H232=\"4 \",Hoja1!$B$131,IF(H232=\"5 \",Hoja1!$B$132,IF(H232=\"6 \",Hoja1!$B$133,IF(H232=\"7 \",Hoja1!$B$134,IF(H232=\"8 \",Hoja1!$B$135,\" \"))))))))))","v":" "},{"$f":"CONCATENATE(#REF!,\"-\",\"TX\")","v":{"$error":"#REF!"}},{"$f":"CONCATENATE(#REF!,\"-\",\"RX\")","v":{"$error":"#REF!"}},null,null,null,null,0,null,null,null,null,null,{"$f":"IF($R232=\"\",\"\",VLOOKUP($R232,'FO-DRE-01'!$A$7:$U$301,18,FALSE))","v":""},{"$f":"IF($R232=\"\",\"\",VLOOKUP($R232,'FO-DRE-01'!$A$7:$U$301,16,FALSE))","v":""},{"$f":"IF($R232=\"\",\"\",VLOOKUP($R232,'FO-DRE-01'!$A$7:$U$301,17,FALSE))","v":""},{"$f":"IF($R232=\"\",\"\",VLOOKUP($R232,'FO-DRE-01'!$A$7:$U$301,3,FALSE))","v":""},{"$f":"IF($R232=\"\",\"\",VLOOKUP($R232,'FO-DRE-01'!$A$7:$U$301,4,FALSE))","v":""},{"$f":"IF($R232=\"\",\"\",VLOOKUP($R232,'FO-DRE-01'!$A$7:$U$301,5,FALSE))","v":""},{"$f":"IF($R232=\"\",\"\",VLOOKUP($R232,'FO-DRE-01'!$A$7:$U$301,7,FALSE))","v":""},{"$f":"IF($R232=\"\",\"\",VLOOKUP($R232,'FO-DRE-01'!$A$7:$U$301,8,FALSE))","v":""},{"$f":"IF($R232=\"\",\"\",VLOOKUP($R232,'FO-DRE-01'!$A$7:$U$301,9,FALSE))","v":""},{"$f":"IF($R232=\"\",\"\",VLOOKUP($R232,'FO-DRE-01'!$A$7:$U$301,10,FALSE))","v":""},{"$f":"IF($R232=\"\",\"\",VLOOKUP($R232,'FO-DRE-01'!$A$7:$U$301,11,FALSE))","v":""},{"$f":"IF($R232=\"\",\"\",VLOOKUP($R232,'FO-DRE-01'!$A$7:$U$301,12,FALSE))","v":""},{"$f":"IF($R232=\"\",\"\",VLOOKUP($R232,'FO-DRE-01'!$A$7:$U$301,13,FALSE))","v":""},{"$f":"IF($R232=\"\",\"\",VLOOKUP($R232,'FO-DRE-01'!$A$7:$U$301,14,FALSE))","v":""},{"$f":"IF($R232=\"\",\"\",VLOOKUP($R232,'FO-DRE-01'!$A$7:$U$301,15,FALSE))","v":""},{"$f":"IF($S232=\"\",\"\",VLOOKUP($S232,'FO-DRE-04'!$A$6:$L$301,2,FALSE))","v":""},{"$f":"IF($S232=\"\",\"\",VLOOKUP($S232,'FO-DRE-04'!$A$6:$L$301,3,FALSE))","v":""},{"$f":"IF($S232=\"\",\"\",VLOOKUP($S232,'FO-DRE-04'!$A$6:$L$301,4,FALSE))","v":""},{"$f":"IF($S232=\"\",\"\",VLOOKUP($S232,'FO-DRE-04'!$A$6:$L$301,6,FALSE))","v":""},{"$f":"IF($S232=\"\",\"\",VLOOKUP($S232,'FO-DRE-04'!$A$6:$L$301,11,FALSE))","v":""},{"$f":"IF($T232=\"\",\"\",VLOOKUP($T232,'FO-DRE-02'!$A$6:$M$101,2,FALSE))","v":""},{"$f":"IF($T232=\"\",\"\",VLOOKUP($T232,'FO-DRE-02'!$A$6:$M$101,3,FALSE))","v":""},{"$f":"IF($T232=\"\",\"\",VLOOKUP($T232,'FO-DRE-02'!$A$6:$M$101,6,FALSE))","v":""},{"$f":"IF($T232=\"\",\"\",VLOOKUP($T232,'FO-DRE-02'!$A$6:$M$101,4,FALSE))","v":""},{"$f":"IF($T232=\"\",\"\",VLOOKUP($T232,'FO-DRE-02'!$A$6:$M$101,5,FALSE))","v":""},{"$f":"IF($T232=\"\",\"\",VLOOKUP($T232,'FO-DRE-02'!$A$6:$M$101,8,FALSE))","v":""},{"$f":"IF($T232=\"\",\"\",VLOOKUP($T232,'FO-DRE-02'!$A$6:$M$101,7,FALSE))","v":""},{"$f":"IF($T232=\"\",\"\",VLOOKUP($T232,'FO-DRE-02'!$A$6:$M$101,9,FALSE))","v":""},{"$f":"IF($T232=\"\",\"\",VLOOKUP($T232,'FO-DRE-02'!$A$6:$M$101,11,FALSE))","v":""},{"$f":"IF($T232=\"\",\"\",VLOOKUP($T232,'FO-DRE-02'!$A$6:$M$101,12,FALSE))","v":""},{"$f":"IF($T232=\"\",\"\",VLOOKUP($T232,'FO-DRE-02'!$A$6:$M$101,13,FALSE))","v":""},null,null,null,223,"","F/D","F/D","","","","","","","","","","","","","","",""]
[null,null,null,null,null,null,null,null,{"$f":"IF(H233=\"1a\",Hoja1!$B$126,IF(H233=\"1b\",Hoja1!$B$127,IF(H233=\"2a\",Hoja1!$B$128,IF(H233=\"2b\",Hoja1!$B$129,IF(H233=\"3 \",Hoja1!$B$130,IF(H233=\"4 \",Hoja1!$B$131,IF(H233=\"5 \",Hoja1!$B$132,IF(H233=\"6 \",Hoja1!$B$133,IF(H233=\"7 \",Hoja1!$B$134,IF(H233=\"8 \",Hoja1!$B$135,\" \"))))))))))","v":" "},{"$f":"CONCATENATE(#REF!,\"-\",\"TX\")","v":{"$error":"#REF!"}},{"$f":"CONCATENATE(#REF!,\"-\",\"RX\")","v":{"$error":"#REF!"}},null,null,null,null,0,null,null,null,null,null,{"$f":"IF($R233=\"\",\"\",VLOOKUP($R233,'FO-DRE-01'!$A$7:$U$301,18,FALSE))","v":""},{"$f":"IF($R233=\"\",\"\",VLOOKUP($R233,'FO-DRE-01'!$A$7:$U$301,16,FALSE))","v":""},{"$f":"IF($R233=\"\",\"\",VLOOKUP($R233,'FO-DRE-01'!$A$7:$U$301,17,FALSE))","v":""},{"$f":"IF($R233=\"\",\"\",VLOOKUP($R233,'FO-DRE-01'!$A$7:$U$301,3,FALSE))","v":""},{"$f":"IF($R233=\"\",\"\",VLOOKUP($R233,'FO-DRE-01'!$A$7:$U$301,4,FALSE))","v":""},{"$f":"IF($R233=\"\",\"\",VLOOKUP($R233,'FO-DRE-01'!$A$7:$U$301,5,FALSE))","v":""},{"$f":"IF($R233=\"\",\"\",VLOOKUP($R233,'FO-DRE-01'!$A$7:$U$301,7,FALSE))","v":""},{"$f":"IF($R233=\"\",\"\",VLOOKUP($R233,'FO-DRE-01'!$A$7:$U$301,8,FALSE))","v":""},{"$f":"IF($R233=\"\",\"\",VLOOKUP($R233,'FO-DRE-01'!$A$7:$U$301,9,FALSE))","v":""},{"$f":"IF($R233=\"\",\"\",VLOOKUP($R233,'FO-DRE-01'!$A$7:$U$301,10,FALSE))","v":""},{"$f":"IF($R233=\"\",\"\",VLOOKUP($R233,'FO-DRE-01'!$A$7:$U$301,11,FALSE))","v":""},{"$f":"IF($R233=\"\",\"\",VLOOKUP($R233,'FO-DRE-01'!$A$7:$U$301,12,FALSE))","v":""},{"$f":"IF($R233=\"\",\"\",VLOOKUP($R233,'FO-DRE-01'!$A$7:$U$301,13,FALSE))","v":""},{"$f":"IF($R233=\"\",\"\",VLOOKUP($R233,'FO-DRE-01'!$A$7:$U$301,14,FALSE))","v":""},{"$f":"IF($R233=\"\",\"\",VLOOKUP($R233,'FO-DRE-01'!$A$7:$U$301,15,FALSE))","v":""},{"$f":"IF($S233=\"\",\"\",VLOOKUP($S233,'FO-DRE-04'!$A$6:$L$301,2,FALSE))","v":""},{"$f":"IF($S233=\"\",\"\",VLOOKUP($S233,'FO-DRE-04'!$A$6:$L$301,3,FALSE))","v":""},{"$f":"IF($S233=\"\",\"\",VLOOKUP($S233,'FO-DRE-04'!$A$6:$L$301,4,FALSE))","v":""},{"$f":"IF($S233=\"\",\"\",VLOOKUP($S233,'FO-DRE-04'!$A$6:$L$301,6,FALSE))","v":""},{"$f":"IF($S233=\"\",\"\",VLOOKUP($S233,'FO-DRE-04'!$A$6:$L$301,11,FALSE))","v":""},{"$f":"IF($T233=\"\",\"\",VLOOKUP($T233,'FO-DRE-02'!$A$6:$M$101,2,FALSE))","v":""},{"$f":"IF($T233=\"\",\"\",VLOOKUP($T233,'FO-DRE-02'!$A$6:$M$101,3,FALSE))","v":""},{"$f":"IF($T233=\"\",\"\",VLOOKUP($T233,'FO-DRE-02'!$A$6:$M$101,6,FALSE))","v":""},{"$f":"IF($T233=\"\",\"\",VLOOKUP($T233,'FO-DRE-02'!$A$6:$M$101,4,FALSE))","v":""},{"$f":"IF($T233=\"\",\"\",VLOOKUP($T233,'FO-DRE-02'!$A$6:$M$101,5,FALSE))","v":""},{"$f":"IF($T233=\"\",\"\",VLOOKUP($T233,'FO-DRE-02'!$A$6:$M$101,8,FALSE))","v":""},{"$f":"IF($T233=\"\",\"\",VLOOKUP($T233,'FO-DRE-02'!$A$6:$M$101,7,FALSE))","v":""},{"$f":"IF($T233=\"\",\"\",VLOOKUP($T233,'FO-DRE-02'!$A$6:$M$101,9,FALSE))","v":""},{"$f":"IF($T233=\"\",\"\",VLOOKUP($T233,'FO-DRE-02'!$A$6:$M$101,11,FALSE))","v":""},{"$f":"IF($T233=\"\",\"\",VLOOKUP($T233,'FO-DRE-02'!$A$6:$M$101,12,FALSE))","v":""},{"$f":"IF($T233=\"\",\"\",VLOOKUP($T233,'FO-DRE-02'!$A$6:$M$101,13,FALSE))","v":""},null,null,null,224,"","F/D","F/D","","","","","","","","","","","","","","",""]
[null,null,null,null,null,null,null,null,{"$f":"IF(H234=\"1a\",Hoja1!$B$126,IF(H234=\"1b\",Hoja1!$B$127,IF(H234=\"2a\",Hoja1!$B$128,IF(H234=\"2b\",Hoja1!$B$129,IF(H234=\"3 \",Hoja1!$B$130,IF(H234=\"4 \",Hoja1!$B$131,IF(H234=\"5 \",Hoja1!$B$132,IF(H234=\"6 \",Hoja1!$B$133,IF(H234=\"7 \",Hoja1!$B$134,IF(H234=\"8 \",Hoja1!$B$135,\" \"))))))))))","v":" "},{"$f":"CONCATENATE(#REF!,\"-\",\"TX\")","v":{"$error":"#REF!"}},{"$f":"CONCATENATE(#REF!,\"-\",\"RX\")","v":{"$error":"#REF!"}},null,null,null,null,0,null,null,null,null,null,{"$f":"IF($R234=\"\",\"\",VLOOKUP($R234,'FO-DRE-01'!$A$7:$U$301,18,FALSE))","v":""},{"$f":"IF($R234=\"\",\"\",VLOOKUP($R234,'FO-DRE-01'!$A$7:$U$301,16,FALSE))","v":""},{"$f":"IF($R234=\"\",\"\",VLOOKUP($R234,'FO-DRE-01'!$A$7:$U$301,17,FALSE))","v":""},{"$f":"IF($R234=\"\",\"\",VLOOKUP($R234,'FO-DRE-01'!$A$7:$U$301,3,FALSE))","v":""},{"$f":"IF($R234=\"\",\"\",VLOOKUP($R234,'FO-DRE-01'!$A$7:$U$301,4,FALSE))","v":""},{"$f":"IF($R234=\"\",\"\",VLOOKUP($R234,'FO-DRE-01'!$A$7:$U$301,5,FALSE))","v":""},{"$f":"IF($R234=\"\",\"\",VLOOKUP($R234,'FO-DRE-01'!$A$7:$U$301,7,FALSE))","v":""},{"$f":"IF($R234=\"\",\"\",VLOOKUP($R234,'FO-DRE-01'!$A$7:$U$301,8,FALSE))","v":""},{"$f":"IF($R234=\"\",\"\",VLOOKUP($R234,'FO-DRE-01'!$A$7:$U$301,9,FALSE))","v":""},{"$f":"IF($R234=\"\",\"\",VLOOKUP($R234,'FO-DRE-01'!$A$7:$U$301,10,FALSE))","v":""},{"$f":"IF($R234=\"\",\"\",VLOOKUP($R234,'FO-DRE-01'!$A$7:$U$301,11,FALSE))","v":""},{"$f":"IF($R234=\"\",\"\",VLOOKUP($R234,'FO-DRE-01'!$A$7:$U$301,12,FALSE))","v":""},{"$f":"IF($R234=\"\",\"\",VLOOKUP($R234,'FO-DRE-01'!$A$7:$U$301,13,FALSE))","v":""},{"$f":"IF($R234=\"\",\"\",VLOOKUP($R234,'FO-DRE-01'!$A$7:$U$301,14,FALSE))","v":""},{"$f":"IF($R234=\"\",\"\",VLOOKUP($R234,'FO-DRE-01'!$A$7:$U$301,15,FALSE))","v":""},{"$f":"IF($S234=\"\",\"\",VLOOKUP($S234,'FO-DRE-04'!$A$6:$L$301,2,FALSE))","v":""},{"$f":"IF($S234=\"\",\"\",VLOOKUP($S234,'FO-DRE-04'!$A$6:$L$301,3,FALSE))","v":""},{"$f":"IF($S234=\"\",\"\",VLOOKUP($S234,'FO-DRE-04'!$A$6:$L$301,4,FALSE))","v":""},{"$f":"IF($S234=\"\",\"\",VLOOKUP($S234,'FO-DRE-04'!$A$6:$L$301,6,FALSE))","v":""},{"$f":"IF($S234=\"\",\"\",VLOOKUP($S234,'FO-DRE-04'!$A$6:$L$301,11,FALSE))","v":""},{"$f":"IF($T234=\"\",\"\",VLOOKUP($T234,'FO-DRE-02'!$A$6:$M$101,2,FALSE))","v":""},{"$f":"IF($T234=\"\",\"\",VLOOKUP($T234,'FO-DRE-02'!$A$6:$M$101,3,FALSE))","v":""},{"$f":"IF($T234=\"\",\"\",VLOOKUP($T234,'FO-DRE-02'!$A$6:$M$101,6,FALSE))","v":""},{"$f":"IF($T234=\"\",\"\",VLOOKUP($T234,'FO-DRE-02'!$A$6:$M$101,4,FALSE))","v":""},{"$f":"IF($T234=\"\",\"\",VLOOKUP($T234,'FO-DRE-02'!$A$6:$M$101,5,FALSE))","v":""},{"$f":"IF($T234=\"\",\"\",VLOOKUP($T234,'FO-DRE-02'!$A$6:$M$101,8,FALSE))","v":""},{"$f":"IF($T234=\"\",\"\",VLOOKUP($T234,'FO-DRE-02'!$A$6:$M$101,7,FALSE))","v":""},{"$f":"IF($T234=\"\",\"\",VLOOKUP($T234,'FO-DRE-02'!$A$6:$M$101,9,FALSE))","v":""},{"$f":"IF($T234=\"\",\"\",VLOOKUP($T234,'FO-DRE-02'!$A$6:$M$101,11,FALSE))","v":""},{"$f":"IF($T234=\"\",\"\",VLOOKUP($T234,'FO-DRE-02'!$A$6:$M$101,12,FALSE))","v":""},{"$f":"IF($T234=\"\",\"\",VLOOKUP($T234,'FO-DRE-02'!$A$6:$M$101,13,FALSE))","v":""},null,null,null,225,"","F/D","F/D","","","","","","","","","","","","","","",""]
[null,null,null,null,null,null,null,null,{"$f":"IF(H235=\"1a\",Hoja1!$B$126,IF(H235=\"1b\",Hoja1!$B$127,IF(H235=\"2a\",Hoja1!$B$128,IF(H235=\"2b\",Hoja1!$B$129,IF(H235=\"3 \",Hoja1!$B$130,IF(H235=\"4 \",Hoja1!$B$131,IF(H235=\"5 \",Hoja1!$B$132,IF(H235=\"6 \",Hoja1!$B$133,IF(H235=\"7 \",Hoja1!$B$134,IF(H235=\"8 \",Hoja1!$B$135,\" \"))))))))))","v":" "},{"$f":"CONCATENATE(#REF!,\"-\",\"TX\")","v":{"$error":"#REF!"}},{"$f":"CONCATENATE(#REF!,\"-\",\"RX\")","v":{"$error":"#REF!"}},null,null,null,null,0,null,null,null,null,null,{"$f":"IF($R235=\"\",\"\",VLOOKUP($R235,'FO-DRE-01'!$A$7:$U$301,18,FALSE))","v":""},{"$f":"IF($R235=\"\",\"\",VLOOKUP($R235,'FO-DRE-01'!$A$7:$U$301,16,FALSE))","v":""},{"$f":"IF($R235=\"\",\"\",VLOOKUP($R235,'FO-DRE-01'!$A$7:$U$301,17,FALSE))","v":""},{"$f":"IF($R235=\"\",\"\",VLOOKUP($R235,'FO-DRE-01'!$A$7:$U$301,3,FALSE))","v":""},{"$f":"IF($R235=\"\",\"\",VLOOKUP($R235,'FO-DRE-01'!$A$7:$U$301,4,FALSE))","v":""},{"$f":"IF($R235=\"\",\"\",VLOOKUP($R235,'FO-DRE-01'!$A$7:$U$301,5,FALSE))","v":""},{"$f":"IF($R235=\"\",\"\",VLOOKUP($R235,'FO-DRE-01'!$A$7:$U$301,7,FALSE))","v":""},{"$f":"IF($R235=\"\",\"\",VLOOKUP($R235,'FO-DRE-01'!$A$7:$U$301,8,FALSE))","v":""},{"$f":"IF($R235=\"\",\"\",VLOOKUP($R235,'FO-DRE-01'!$A$7:$U$301,9,FALSE))","v":""},{"$f":"IF($R235=\"\",\"\",VLOOKUP($R235,'FO-DRE-01'!$A$7:$U$301,10,FALSE))","v":""},{"$f":"IF($R235=\"\",\"\",VLOOKUP($R235,'FO-DRE-01'!$A$7:$U$301,11,FALSE))","v":""},{"$f":"IF($R235=\"\",\"\",VLOOKUP($R235,'FO-DRE-01'!$A$7:$U$301,12,FALSE))","v":""},{"$f":"IF($R235=\"\",\"\",VLOOKUP($R235,'FO-DRE-01'!$A$7:$U$301,13,FALSE))","v":""},{"$f":"IF($R235=\"\",\"\",VLOOKUP($R235,'FO-DRE-01'!$A$7:$U$301,14,FALSE))","v":""},{"$f":"IF($R235=\"\",\"\",VLOOKUP($R235,'FO-DRE-01'!$A$7:$U$301,15,FALSE))","v":""},{"$f":"IF($S235=\"\",\"\",VLOOKUP($S235,'FO-DRE-04'!$A$6:$L$301,2,FALSE))","v":""},{"$f":"IF($S235=\"\",\"\",VLOOKUP($S235,'FO-DRE-04'!$A$6:$L$301,3,FALSE))","v":""},{"$f":"IF($S235=\"\",\"\",VLOOKUP($S235,'FO-DRE-04'!$A$6:$L$301,4,FALSE))","v":""},{"$f":"IF($S235=\"\",\"\",VLOOKUP($S235,'FO-DRE-04'!$A$6:$L$301,6,FALSE))","v":""},{"$f":"IF($S235=\"\",\"\",VLOOKUP($S235,'FO-DRE-04'!$A$6:$L$301,11,FALSE))","v":""},{"$f":"IF($T235=\"\",\"\",VLOOKUP($T235,'FO-DRE-02'!$A$6:$M$101,2,FALSE))","v":""},{"$f":"IF($T235=\"\",\"\",VLOOKUP($T235,'FO-DRE-02'!$A$6:$M$101,3,FALSE))","v":""},{"$f":"IF($T235=\"\",\"\",VLOOKUP($T235,'FO-DRE-02'!$A$6:$M$101,6,FALSE))","v":""},{"$f":"IF($T235=\"\",\"\",VLOOKUP($T235,'FO-DRE-02'!$A$6:$M$101,4,FALSE))","v":""},{"$f":"IF($T235=\"\",\"\",VLOOKUP($T235,'FO-DRE-02'!$A$6:$M$101,5,FALSE))","v":""},{"$f":"IF($T235=\"\",\"\",VLOOKUP($T235,'FO-DRE-02'!$A$6:$M$101,8,FALSE))","v":""},{"$f":"IF($T235=\"\",\"\",VLOOKUP($T235,'FO-DRE-02'!$A$6:$M$101,7,FALSE))","v":""},{"$f":"IF($T235=\"\",\"\",VLOOKUP($T235,'FO-DRE-02'!$A$6:$M$101,9,FALSE))","v":""},{"$f":"IF($T235=\"\",\"\",VLOOKUP($T235,'FO-DRE-02'!$A$6:$M$101,11,FALSE))","v":""},{"$f":"IF($T235=\"\",\"\",VLOOKUP($T235,'FO-DRE-02'!$A$6:$M$101,12,FALSE))","v":""},{"$f":"IF($T235=\"\",\"\",VLOOKUP($T235,'FO-DRE-02'!$A$6:$M$101,13,FALSE))","v":""},null,null,null,226,"","F/D","F/D","","","","","","","","","","","","","","",""]
[null,null,null,null,null,null,null,null,{"$f":"IF(H236=\"1a\",Hoja1!$B$126,IF(H236=\"1b\",Hoja1!$B$127,IF(H236=\"2a\",Hoja1!$B$128,IF(H236=\"2b\",Hoja1!$B$129,IF(H236=\"3 \",Hoja1!$B$130,IF(H236=\"4 \",Hoja1!$B$131,IF(H236=\"5 \",Hoja1!$B$132,IF(H236=\"6 \",Hoja1!$B$133,IF(H236=\"7 \",Hoja1!$B$134,IF(H236=\"8 \",Hoja1!$B$135,\" \"))))))))))","v":" "},{"$f":"CONCATENATE(#REF!,\"-\",\"TX\")","v":{"$error":"#REF!"}},{"$f":"CONCATENATE(#REF!,\"-\",\"RX\")","v":{"$error":"#REF!"}},null,null,null,null,0,null,null,null,null,null,{"$f":"IF($R236=\"\",\"\",VLOOKUP($R236,'FO-DRE-01'!$A$7:$U$301,18,FALSE))","v":""},{"$f":"IF($R236=\"\",\"\",VLOOKUP($R236,'FO-DRE-01'!$A$7:$U$301,16,FALSE))","v":""},{"$f":"IF($R236=\"\",\"\",VLOOKUP($R236,'FO-DRE-01'!$A$7:$U$301,17,FALSE))","v":""},{"$f":"IF($R236=\"\",\"\",VLOOKUP($R236,'FO-DRE-01'!$A$7:$U$301,3,FALSE))","v":""},{"$f":"IF($R236=\"\",\"\",VLOOKUP($R236,'FO-DRE-01'!$A$7:$U$301,4,FALSE))","v":""},{"$f":"IF($R236=\"\",\"\",VLOOKUP($R236,'FO-DRE-01'!$A$7:$U$301,5,FALSE))","v":""},{"$f":"IF($R236=\"\",\"\",VLOOKUP($R236,'FO-DRE-01'!$A$7:$U$301,7,FALSE))","v":""},{"$f":"IF($R236=\"\",\"\",VLOOKUP($R236,'FO-DRE-01'!$A$7:$U$301,8,FALSE))","v":""},{"$f":"IF($R236=\"\",\"\",VLOOKUP($R236,'FO-DRE-01'!$A$7:$U$301,9,FALSE))","v":""},{"$f":"IF($R236=\"\",\"\",VLOOKUP($R236,'FO-DRE-01'!$A$7:$U$301,10,FALSE))","v":""},{"$f":"IF($R236=\"\",\"\",VLOOKUP($R236,'FO-DRE-01'!$A$7:$U$301,11,FALSE))","v":""},{"$f":"IF($R236=\"\",\"\",VLOOKUP($R236,'FO-DRE-01'!$A$7:$U$301,12,FALSE))","v":""},{"$f":"IF($R236=\"\",\"\",VLOOKUP($R236,'FO-DRE-01'!$A$7:$U$301,13,FALSE))","v":""},{"$f":"IF($R236=\"\",\"\",VLOOKUP($R236,'FO-DRE-01'!$A$7:$U$301,14,FALSE))","v":""},{"$f":"IF($R236=\"\",\"\",VLOOKUP($R236,'FO-DRE-01'!$A$7:$U$301,15,FALSE))","v":""},{"$f":"IF($S236=\"\",\"\",VLOOKUP($S236,'FO-DRE-04'!$A$6:$L$301,2,FALSE))","v":""},{"$f":"IF($S236=\"\",\"\",VLOOKUP($S236,'FO-DRE-04'!$A$6:$L$301,3,FALSE))","v":""},{"$f":"IF($S236=\"\",\"\",VLOOKUP($S236,'FO-DRE-04'!$A$6:$L$301,4,FALSE))","v":""},{"$f":"IF($S236=\"\",\"\",VLOOKUP($S236,'FO-DRE-04'!$A$6:$L$301,6,FALSE))","v":""},{"$f":"IF($S236=\"\",\"\",VLOOKUP($S236,'FO-DRE-04'!$A$6:$L$301,11,FALSE))","v":""},{"$f":"IF($T236=\"\",\"\",VLOOKUP($T236,'FO-DRE-02'!$A$6:$M$101,2,FALSE))","v":""},{"$f":"IF($T236=\"\",\"\",VLOOKUP($T236,'FO-DRE-02'!$A$6:$M$101,3,FALSE))","v":""},{"$f":"IF($T236=\"\",\"\",VLOOKUP($T236,'FO-DRE-02'!$A$6:$M$101,6,FALSE))","v":""},{"$f":"IF($T236=\"\",\"\",VLOOKUP($T236,'FO-DRE-02'!$A$6:$M$101,4,FALSE))","v":""},{"$f":"IF($T236=\"\",\"\",VLOOKUP($T236,'FO-DRE-02'!$A$6:$M$101,5,FALSE))","v":""},{"$f":"IF($T236=\"\",\"\",VLOOKUP($T236,'FO-DRE-02'!$A$6:$M$101,8,FALSE))","v":""},{"$f":"IF($T236=\"\",\"\",VLOOKUP($T236,'FO-DRE-02'!$A$6:$M$101,7,FALSE))","v":""},{"$f":"IF($T236=\"\",\"\",VLOOKUP($T236,'FO-DRE-02'!$A$6:$M$101,9,FALSE))","v":""},{"$f":"IF($T236=\"\",\"\",VLOOKUP($T236,'FO-DRE-02'!$A$6:$M$101,11,FALSE))","v":""},{"$f":"IF($T236=\"\",\"\",VLOOKUP($T236,'FO-DRE-02'!$A$6:$M$101,12,FALSE))","v":""},{"$f":"IF($T236=\"\",\"\",VLOOKUP($T236,'FO-DRE-02'!$A$6:$M$101,13,FALSE))","v":""},null,null,null,227,"","F/D","F/D","","","","","","","","","","","","","","",""]
[null,null,null,null,null,null,null,null,{"$f":"IF(H237=\"1a\",Hoja1!$B$126,IF(H237=\"1b\",Hoja1!$B$127,IF(H237=\"2a\",Hoja1!$B$128,IF(H237=\"2b\",Hoja1!$B$129,IF(H237=\"3 \",Hoja1!$B$130,IF(H237=\"4 \",Hoja1!$B$131,IF(H237=\"5 \",Hoja1!$B$132,IF(H237=\"6 \",Hoja1!$B$133,IF(H237=\"7 \",Hoja1!$B$134,IF(H237=\"8 \",Hoja1!$B$135,\" \"))))))))))","v":" "},{"$f":"CONCATENATE(#REF!,\"-\",\"TX\")","v":{"$error":"#REF!"}},{"$f":"CONCATENATE(#REF!,\"-\",\"RX\")","v":{"$error":"#REF!"}},null,null,null,null,0,null,null,null,null,null,{"$f":"IF($R237=\"\",\"\",VLOOKUP($R237,'FO-DRE-01'!$A$7:$U$301,18,FALSE))","v":""},{"$f":"IF($R237=\"\",\"\",VLOOKUP($R237,'FO-DRE-01'!$A$7:$U$301,16,FALSE))","v":""},{"$f":"IF($R237=\"\",\"\",VLOOKUP($R237,'FO-DRE-01'!$A$7:$U$301,17,FALSE))","v":""},{"$f":"IF($R237=\"\",\"\",VLOOKUP($R237,'FO-DRE-01'!$A$7:$U$301,3,FALSE))","v":""},{"$f":"IF($R237=\"\",\"\",VLOOKUP($R237,'FO-DRE-01'!$A$7:$U$301,4,FALSE))","v":""},{"$f":"IF($R237=\"\",\"\",VLOOKUP($R237,'FO-DRE-01'!$A$7:$U$301,5,FALSE))","v":""},{"$f":"IF($R237=\"\",\"\",VLOOKUP($R237,'FO-DRE-01'!$A$7:$U$301,7,FALSE))","v":""},{"$f":"IF($R237=\"\",\"\",VLOOKUP($R237,'FO-DRE-01'!$A$7:$U$301,8,FALSE))","v":""},{"$f":"IF($R237=\"\",\"\",VLOOKUP($R237,'FO-DRE-01'!$A$7:$U$301,9,FALSE))","v":""},{"$f":"IF($R237=\"\",\"\",VLOOKUP($R237,'FO-DRE-01'!$A$7:$U$301,10,FALSE))","v":""},{"$f":"IF($R237=\"\",\"\",VLOOKUP($R237,'FO-DRE-01'!$A$7:$U$301,11,FALSE))","v":""},{"$f":"IF($R237=\"\",\"\",VLOOKUP($R237,'FO-DRE-01'!$A$7:$U$301,12,FALSE))","v":""},{"$f":"IF($R237=\"\",\"\",VLOOKUP($R237,'FO-DRE-01'!$A$7:$U$301,13,FALSE))","v":""},{"$f":"IF($R237=\"\",\"\",VLOOKUP($R237,'FO-DRE-01'!$A$7:$U$301,14,FALSE))","v":""},{"$f":"IF($R237=\"\",\"\",VLOOKUP($R237,'FO-DRE-01'!$A$7:$U$301,15,FALSE))","v":""},{"$f":"IF($S237=\"\",\"\",VLOOKUP($S237,'FO-DRE-04'!$A$6:$L$301,2,FALSE))","v":""},{"$f":"IF($S237=\"\",\"\",VLOOKUP($S237,'FO-DRE-04'!$A$6:$L$301,3,FALSE))","v":""},{"$f":"IF($S237=\"\",\"\",VLOOKUP($S237,'FO-DRE-04'!$A$6:$L$301,4,FALSE))","v":""},{"$f":"IF($S237=\"\",\"\",VLOOKUP($S237,'FO-DRE-04'!$A$6:$L$301,6,FALSE))","v":""},{"$f":"IF($S237=\"\",\"\",VLOOKUP($S237,'FO-DRE-04'!$A$6:$L$301,11,FALSE))","v":""},{"$f":"IF($T237=\"\",\"\",VLOOKUP($T237,'FO-DRE-02'!$A$6:$M$101,2,FALSE))","v":""},{"$f":"IF($T237=\"\",\"\",VLOOKUP($T237,'FO-DRE-02'!$A$6:$M$101,3,FALSE))","v":""},{"$f":"IF($T237=\"\",\"\",VLOOKUP($T237,'FO-DRE-02'!$A$6:$M$101,6,FALSE))","v":""},{"$f":"IF($T237=\"\",\"\",VLOOKUP($T237,'FO-DRE-02'!$A$6:$M$101,4,FALSE))","v":""},{"$f":"IF($T237=\"\",\"\",VLOOKUP($T237,'FO-DRE-02'!$A$6:$M$101,5,FALSE))","v":""},{"$f":"IF($T237=\"\",\"\",VLOOKUP($T237,'FO-DRE-02'!$A$6:$M$101,8,FALSE))","v":""},{"$f":"IF($T237=\"\",\"\",VLOOKUP($T237,'FO-DRE-02'!$A$6:$M$101,7,FALSE))","v":""},{"$f":"IF($T237=\"\",\"\",VLOOKUP($T237,'FO-DRE-02'!$A$6:$M$101,9,FALSE))","v":""},{"$f":"IF($T237=\"\",\"\",VLOOKUP($T237,'FO-DRE-02'!$A$6:$M$101,11,FALSE))","v":""},{"$f":"IF($T237=\"\",\"\",VLOOKUP($T237,'FO-DRE-02'!$A$6:$M$101,12,FALSE))","v":""},{"$f":"IF($T237=\"\",\"\",VLOOKUP($T237,'FO-DRE-02'!$A$6:$M$101,13,FALSE))","v":""},null,null,null,228,"","F/D","F/D","","","","","","","","","","","","","","",""]
[null,null,null,null,null,null,null,null,{"$f":"IF(H238=\"1a\",Hoja1!$B$126,IF(H238=\"1b\",Hoja1!$B$127,IF(H238=\"2a\",Hoja1!$B$128,IF(H238=\"2b\",Hoja1!$B$129,IF(H238=\"3 \",Hoja1!$B$130,IF(H238=\"4 \",Hoja1!$B$131,IF(H238=\"5 \",Hoja1!$B$132,IF(H238=\"6 \",Hoja1!$B$133,IF(H238=\"7 \",Hoja1!$B$134,IF(H238=\"8 \",Hoja1!$B$135,\" \"))))))))))","v":" "},{"$f":"CONCATENATE(#REF!,\"-\",\"TX\")","v":{"$error":"#REF!"}},{"$f":"CONCATENATE(#REF!,\"-\",\"RX\")","v":{"$error":"#REF!"}},null,null,null,null,0,null,null,null,null,null,{"$f":"IF($R238=\"\",\"\",VLOOKUP($R238,'FO-DRE-01'!$A$7:$U$301,18,FALSE))","v":""},{"$f":"IF($R238=\"\",\"\",VLOOKUP($R238,'FO-DRE-01'!$A$7:$U$301,16,FALSE))","v":""},{"$f":"IF($R238=\"\",\"\",VLOOKUP($R238,'FO-DRE-01'!$A$7:$U$301,17,FALSE))","v":""},{"$f":"IF($R238=\"\",\"\",VLOOKUP($R238,'FO-DRE-01'!$A$7:$U$301,3,FALSE))","v":""},{"$f":"IF($R238=\"\",\"\",VLOOKUP($R238,'FO-DRE-01'!$A$7:$U$301,4,FALSE))","v":""},{"$f":"IF($R238=\"\",\"\",VLOOKUP($R238,'FO-DRE-01'!$A$7:$U$301,5,FALSE))","v":""},{"$f":"IF($R238=\"\",\"\",VLOOKUP($R238,'FO-DRE-01'!$A$7:$U$301,7,FALSE))","v":""},{"$f":"IF($R238=\"\",\"\",VLOOKUP($R238,'FO-DRE-01'!$A$7:$U$301,8,FALSE))","v":""},{"$f":"IF($R238=\"\",\"\",VLOOKUP($R238,'FO-DRE-01'!$A$7:$U$301,9,FALSE))","v":""},{"$f":"IF($R238=\"\",\"\",VLOOKUP($R238,'FO-DRE-01'!$A$7:$U$301,10,FALSE))","v":""},{"$f":"IF($R238=\"\",\"\",VLOOKUP($R238,'FO-DRE-01'!$A$7:$U$301,11,FALSE))","v":""},{"$f":"IF($R238=\"\",\"\",VLOOKUP($R238,'FO-DRE-01'!$A$7:$U$301,12,FALSE))","v":""},{"$f":"IF($R238=\"\",\"\",VLOOKUP($R238,'FO-DRE-01'!$A$7:$U$301,13,FALSE))","v":""},{"$f":"IF($R238=\"\",\"\",VLOOKUP($R238,'FO-DRE-01'!$A$7:$U$301,14,FALSE))","v":""},{"$f":"IF($R238=\"\",\"\",VLOOKUP($R238,'FO-DRE-01'!$A$7:$U$301,15,FALSE))","v":""},{"$f":"IF($S238=\"\",\"\",VLOOKUP($S238,'FO-DRE-04'!$A$6:$L$301,2,FALSE))","v":""},{"$f":"IF($S238=\"\",\"\",VLOOKUP($S238,'FO-DRE-04'!$A$6:$L$301,3,FALSE))","v":""},{"$f":"IF($S238=\"\",\"\",VLOOKUP($S238,'FO-DRE-04'!$A$6:$L$301,4,FALSE))","v":""},{"$f":"IF($S238=\"\",\"\",VLOOKUP($S238,'FO-DRE-04'!$A$6:$L$301,6,FALSE))","v":""},{"$f":"IF($S238=\"\",\"\",VLOOKUP($S238,'FO-DRE-04'!$A$6:$L$301,11,FALSE))","v":""},{"$f":"IF($T238=\"\",\"\",VLOOKUP($T238,'FO-DRE-02'!$A$6:$M$101,2,FALSE))","v":""},{"$f":"IF($T238=\"\",\"\",VLOOKUP($T238,'FO-DRE-02'!$A$6:$M$101,3,FALSE))","v":""},{"$f":"IF($T238=\"\",\"\",VLOOKUP($T238,'FO-DRE-02'!$A$6:$M$101,6,FALSE))","v":""},{"$f":"IF($T238=\"\",\"\",VLOOKUP($T238,'FO-DRE-02'!$A$6:$M$101,4,FALSE))","v":""},{"$f":"IF($T238=\"\",\"\",VLOOKUP($T238,'FO-DRE-02'!$A$6:$M$101,5,FALSE))","v":""},{"$f":"IF($T238=\"\",\"\",VLOOKUP($T238,'FO-DRE-02'!$A$6:$M$101,8,FALSE))","v":""},{"$f":"IF($T238=\"\",\"\",VLOOKUP($T238,'FO-DRE-02'!$A$6:$M$101,7,FALSE))","v":""},{"$f":"IF($T238=\"\",\"\",VLOOKUP($T238,'FO-DRE-02'!$A$6:$M$101,9,FALSE))","v":""},{"$f":"IF($T238=\"\",\"\",VLOOKUP($T238,'FO-DRE-02'!$A$6:$M$101,11,FALSE))","v":""},{"$f":"IF($T238=\"\",\"\",VLOOKUP($T238,'FO-DRE-02'!$A$6:$M$101,12,FALSE))","v":""},{"$f":"IF($T238=\"\",\"\",VLOOKUP($T238,'FO-DRE-02'!$A$6:$M$101,13,FALSE))","v":""},null,null,null,229,"","F/D","F/D","","","","","","","","","","","","","","",""]
[null,null,null,null,null,null,null,null,{"$f":"IF(H239=\"1a\",Hoja1!$B$126,IF(H239=\"1b\",Hoja1!$B$127,IF(H239=\"2a\",Hoja1!$B$128,IF(H239=\"2b\",Hoja1!$B$129,IF(H239=\"3 \",Hoja1!$B$130,IF(H239=\"4 \",Hoja1!$B$131,IF(H239=\"5 \",Hoja1!$B$132,IF(H239=\"6 \",Hoja1!$B$133,IF(H239=\"7 \",Hoja1!$B$134,IF(H239=\"8 \",Hoja1!$B$135,\" \"))))))))))","v":" "},{"$f":"CONCATENATE(#REF!,\"-\",\"TX\")","v":{"$error":"#REF!"}},{"$f":"CONCATENATE(#REF!,\"-\",\"RX\")","v":{"$error":"#REF!"}},null,null,null,null,0,null,null,null,null,null,{"$f":"IF($R239=\"\",\"\",VLOOKUP($R239,'FO-DRE-01'!$A$7:$U$301,18,FALSE))","v":""},{"$f":"IF($R239=\"\",\"\",VLOOKUP($R239,'FO-DRE-01'!$A$7:$U$301,16,FALSE))","v":""},{"$f":"IF($R239=\"\",\"\",VLOOKUP($R239,'FO-DRE-01'!$A$7:$U$301,17,FALSE))","v":""},{"$f":"IF($R239=\"\",\"\",VLOOKUP($R239,'FO-DRE-01'!$A$7:$U$301,3,FALSE))","v":""},{"$f":"IF($R239=\"\",\"\",VLOOKUP($R239,'FO-DRE-01'!$A$7:$U$301,4,FALSE))","v":""},{"$f":"IF($R239=\"\",\"\",VLOOKUP($R239,'FO-DRE-01'!$A$7:$U$301,5,FALSE))","v":""},{"$f":"IF($R239=\"\",\"\",VLOOKUP($R239,'FO-DRE-01'!$A$7:$U$301,7,FALSE))","v":""},{"$f":"IF($R239=\"\",\"\",VLOOKUP($R239,'FO-DRE-01'!$A$7:$U$301,8,FALSE))","v":""},{"$f":"IF($R239=\"\",\"\",VLOOKUP($R239,'FO-DRE-01'!$A$7:$U$301,9,FALSE))","v":""},{"$f":"IF($R239=\"\",\"\",VLOOKUP($R239,'FO-DRE-01'!$A$7:$U$301,10,FALSE))","v":""},{"$f":"IF($R239=\"\",\"\",VLOOKUP($R239,'FO-DRE-01'!$A$7:$U$301,11,FALSE))","v":""},{"$f":"IF($R239=\"\",\"\",VLOOKUP($R239,'FO-DRE-01'!$A$7:$U$301,12,FALSE))","v":""},{"$f":"IF($R239=\"\",\"\",VLOOKUP($R239,'FO-DRE-01'!$A$7:$U$301,13,FALSE))","v":""},{"$f":"IF($R239=\"\",\"\",VLOOKUP($R239,'FO-DRE-01'!$A$7:$U$301,14,FALSE))","v":""},{"$f":"IF($R239=\"\",\"\",VLOOKUP($R239,'FO-DRE-01'!$A$7:$U$301,15,FALSE))","v":""},{"$f":"IF($S239=\"\",\"\",VLOOKUP($S239,'FO-DRE-04'!$A$6:$L$301,2,FALSE))","v":""},{"$f":"IF($S239=\"\",\"\",VLOOKUP($S239,'FO-DRE-04'!$A$6:$L$301,3,FALSE))","v":""},{"$f":"IF($S239=\"\",\"\",VLOOKUP($S239,'FO-DRE-04'!$A$6:$L$301,4,FALSE))","v":""},{"$f":"IF($S239=\"\",\"\",VLOOKUP($S239,'FO-DRE-04'!$A$6:$L$301,6,FALSE))","v":""},{"$f":"IF($S239=\"\",\"\",VLOOKUP($S239,'FO-DRE-04'!$A$6:$L$301,11,FALSE))","v":""},{"$f":"IF($T239=\"\",\"\",VLOOKUP($T239,'FO-DRE-02'!$A$6:$M$101,2,FALSE))","v":""},{"$f":"IF($T239=\"\",\"\",VLOOKUP($T239,'FO-DRE-02'!$A$6:$M$101,3,FALSE))","v":""},{"$f":"IF($T239=\"\",\"\",VLOOKUP($T239,'FO-DRE-02'!$A$6:$M$101,6,FALSE))","v":""},{"$f":"IF($T239=\"\",\"\",VLOOKUP($T239,'FO-DRE-02'!$A$6:$M$101,4,FALSE))","v":""},{"$f":"IF($T239=\"\",\"\",VLOOKUP($T239,'FO-DRE-02'!$A$6:$M$101,5,FALSE))","v":""},{"$f":"IF($T239=\"\",\"\",VLOOKUP($T239,'FO-DRE-02'!$A$6:$M$101,8,FALSE))","v":""},{"$f":"IF($T239=\"\",\"\",VLOOKUP($T239,'FO-DRE-02'!$A$6:$M$101,7,FALSE))","v":""},{"$f":"IF($T239=\"\",\"\",VLOOKUP($T239,'FO-DRE-02'!$A$6:$M$101,9,FALSE))","v":""},{"$f":"IF($T239=\"\",\"\",VLOOKUP($T239,'FO-DRE-02'!$A$6:$M$101,11,FALSE))","v":""},{"$f":"IF($T239=\"\",\"\",VLOOKUP($T239,'FO-DRE-02'!$A$6:$M$101,12,FALSE))","v":""},{"$f":"IF($T239=\"\",\"\",VLOOKUP($T239,'FO-DRE-02'!$A$6:$M$101,13,FALSE))","v":""},null,null,null,230,"","F/D","F/D","","","","","","","","","","","","","","",""]
[null,null,null,null,null,null,null,null,{"$f":"IF(H240=\"1a\",Hoja1!$B$126,IF(H240=\"1b\",Hoja1!$B$127,IF(H240=\"2a\",Hoja1!$B$128,IF(H240=\"2b\",Hoja1!$B$129,IF(H240=\"3 \",Hoja1!$B$130,IF(H240=\"4 \",Hoja1!$B$131,IF(H240=\"5 \",Hoja1!$B$132,IF(H240=\"6 \",Hoja1!$B$133,IF(H240=\"7 \",Hoja1!$B$134,IF(H240=\"8 \",Hoja1!$B$135,\" \"))))))))))","v":" "},{"$f":"CONCATENATE(#REF!,\"-\",\"TX\")","v":{"$error":"#REF!"}},{"$f":"CONCATENATE(#REF!,\"-\",\"RX\")","v":{"$error":"#REF!"}},null,null,null,null,0,null,null,null,null,null,{"$f":"IF($R240=\"\",\"\",VLOOKUP($R240,'FO-DRE-01'!$A$7:$U$301,18,FALSE))","v":""},{"$f":"IF($R240=\"\",\"\",VLOOKUP($R240,'FO-DRE-01'!$A$7:$U$301,16,FALSE))","v":""},{"$f":"IF($R240=\"\",\"\",VLOOKUP($R240,'FO-DRE-01'!$A$7:$U$301,17,FALSE))","v":""},{"$f":"IF($R240=\"\",\"\",VLOOKUP($R240,'FO-DRE-01'!$A$7:$U$301,3,FALSE))","v":""},{"$f":"IF($R240=\"\",\"\",VLOOKUP($R240,'FO-DRE-01'!$A$7:$U$301,4,FALSE))","v":""},{"$f":"IF($R240=\"\",\"\",VLOOKUP($R240,'FO-DRE-01'!$A$7:$U$301,5,FALSE))","v":""},{"$f":"IF($R240=\"\",\"\",VLOOKUP($R240,'FO-DRE-01'!$A$7:$U$301,7,FALSE))","v":""},{"$f":"IF($R240=\"\",\"\",VLOOKUP($R240,'FO-DRE-01'!$A$7:$U$301,8,FALSE))","v":""},{"$f":"IF($R240=\"\",\"\",VLOOKUP($R240,'FO-DRE-01'!$A$7:$U$301,9,FALSE))","v":""},{"$f":"IF($R240=\"\",\"\",VLOOKUP($R240,'FO-DRE-01'!$A$7:$U$301,10,FALSE))","v":""},{"$f":"IF($R240=\"\",\"\",VLOOKUP($R240,'FO-DRE-01'!$A$7:$U$301,11,FALSE))","v":""},{"$f":"IF($R240=\"\",\"\",VLOOKUP($R240,'FO-DRE-01'!$A$7:$U$301,12,FALSE))","v":""},{"$f":"IF($R240=\"\",\"\",VLOOKUP($R240,'FO-DRE-01'!$A$7:$U$301,13,FALSE))","v":""},{"$f":"IF($R240=\"\",\"\",VLOOKUP($R240,'FO-DRE-01'!$A$7:$U$301,14,FALSE))","v":""},{"$f":"IF($R240=\"\",\"\",VLOOKUP($R240,'FO-DRE-01'!$A$7:$U$301,15,FALSE))","v":""},{"$f":"IF($S240=\"\",\"\",VLOOKUP($S240,'FO-DRE-04'!$A$6:$L$301,2,FALSE))","v":""},{"$f":"IF($S240=\"\",\"\",VLOOKUP($S240,'FO-DRE-04'!$A$6:$L$301,3,FALSE))","v":""},{"$f":"IF($S240=\"\",\"\",VLOOKUP($S240,'FO-DRE-04'!$A$6:$L$301,4,FALSE))","v":""},{"$f":"IF($S240=\"\",\"\",VLOOKUP($S240,'FO-DRE-04'!$A$6:$L$301,6,FALSE))","v":""},{"$f":"IF($S240=\"\",\"\",VLOOKUP($S240,'FO-DRE-04'!$A$6:$L$301,11,FALSE))","v":""},{"$f":"IF($T240=\"\",\"\",VLOOKUP($T240,'FO-DRE-02'!$A$6:$M$101,2,FALSE))","v":""},{"$f":"IF($T240=\"\",\"\",VLOOKUP($T240,'FO-DRE-02'!$A$6:$M$101,3,FALSE))","v":""},{"$f":"IF($T240=\"\",\"\",VLOOKUP($T240,'FO-DRE-02'!$A$6:$M$101,6,FALSE))","v":""},{"$f":"IF($T240=\"\",\"\",VLOOKUP($T240,'FO-DRE-02'!$A$6:$M$101,4,FALSE))","v":""},{"$f":"IF($T240=\"\",\"\",VLOOKUP($T240,'FO-DRE-02'!$A$6:$M$101,5,FALSE))","v":""},{"$f":"IF($T240=\"\",\"\",VLOOKUP($T240,'FO-DRE-02'!$A$6:$M$101,8,FALSE))","v":""},{"$f":"IF($T240=\"\",\"\",VLOOKUP($T240,'FO-DRE-02'!$A$6:$M$101,7,FALSE))","v":""},{"$f":"IF($T240=\"\",\"\",VLOOKUP($T240,'FO-DRE-02'!$A$6:$M$101,9,FALSE))","v":""},{"$f":"IF($T240=\"\",\"\",VLOOKUP($T240,'FO-DRE-02'!$A$6:$M$101,11,FALSE))","v":""},{"$f":"IF($T240=\"\",\"\",VLOOKUP($T240,'FO-DRE-02'!$A$6:$M$101,12,FALSE))","v":""},{"$f":"IF($T240=\"\",\"\",VLOOKUP($T240,'FO-DRE-02'!$A$6:$M$101,13,FALSE))","v":""},null,null,null,231,"","F/D","F/D","","","","","","","","","","","","","","",""]
[null,null,null,null,null,null,null,null,{"$f":"IF(H241=\"1a\",Hoja1!$B$126,IF(H241=\"1b\",Hoja1!$B$127,IF(H241=\"2a\",Hoja1!$B$128,IF(H241=\"2b\",Hoja1!$B$129,IF(H241=\"3 \",Hoja1!$B$130,IF(H241=\"4 \",Hoja1!$B$131,IF(H241=\"5 \",Hoja1!$B$132,IF(H241=\"6 \",Hoja1!$B$133,IF(H241=\"7 \",Hoja1!$B$134,IF(H241=\"8 \",Hoja1!$B$135,\" \"))))))))))","v":" "},{"$f":"CONCATENATE(#REF!,\"-\",\"TX\")","v":{"$error":"#REF!"}},{"$f":"CONCATENATE(#REF!,\"-\",\"RX\")","v":{"$error":"#REF!"}},null,null,null,null,0,null,null,null,null,null,{"$f":"IF($R241=\"\",\"\",VLOOKUP($R241,'FO-DRE-01'!$A$7:$U$301,18,FALSE))","v":""},{"$f":"IF($R241=\"\",\"\",VLOOKUP($R241,'FO-DRE-01'!$A$7:$U$301,16,FALSE))","v":""},{"$f":"IF($R241=\"\",\"\",VLOOKUP($R241,'FO-DRE-01'!$A$7:$U$301,17,FALSE))","v":""},{"$f":"IF($R241=\"\",\"\",VLOOKUP($R241,'FO-DRE-01'!$A$7:$U$301,3,FALSE))","v":""},{"$f":"IF($R241=\"\",\"\",VLOOKUP($R241,'FO-DRE-01'!$A$7:$U$301,4,FALSE))","v":""},{"$f":"IF($R241=\"\",\"\",VLOOKUP($R241,'FO-DRE-01'!$A$7:$U$301,5,FALSE))","v":""},{"$f":"IF($R241=\"\",\"\",VLOOKUP($R241,'FO-DRE-01'!$A$7:$U$301,7,FALSE))","v":""},{"$f":"IF($R241=\"\",\"\",VLOOKUP($R241,'FO-DRE-01'!$A$7:$U$301,8,FALSE))","v":""},{"$f":"IF($R241=\"\",\"\",VLOOKUP($R241,'FO-DRE-01'!$A$7:$U$301,9,FALSE))","v":""},{"$f":"IF($R241=\"\",\"\",VLOOKUP($R241,'FO-DRE-01'!$A$7:$U$301,10,FALSE))","v":""},{"$f":"IF($R241=\"\",\"\",VLOOKUP($R241,'FO-DRE-01'!$A$7:$U$301,11,FALSE))","v":""},{"$f":"IF($R241=\"\",\"\",VLOOKUP($R241,'FO-DRE-01'!$A$7:$U$301,12,FALSE))","v":""},{"$f":"IF($R241=\"\",\"\",VLOOKUP($R241,'FO-DRE-01'!$A$7:$U$301,13,FALSE))","v":""},{"$f":"IF($R241=\"\",\"\",VLOOKUP($R241,'FO-DRE-01'!$A$7:$U$301,14,FALSE))","v":""},{"$f":"IF($R241=\"\",\"\",VLOOKUP($R241,'FO-DRE-01'!$A$7:$U$301,15,FALSE))","v":""},{"$f":"IF($S241=\"\",\"\",VLOOKUP($S241,'FO-DRE-04'!$A$6:$L$301,2,FALSE))","v":""},{"$f":"IF($S241=\"\",\"\",VLOOKUP($S241,'FO-DRE-04'!$A$6:$L$301,3,FALSE))","v":""},{"$f":"IF($S241=\"\",\"\",VLOOKUP($S241,'FO-DRE-04'!$A$6:$L$301,4,FALSE))","v":""},{"$f":"IF($S241=\"\",\"\",VLOOKUP($S241,'FO-DRE-04'!$A$6:$L$301,6,FALSE))","v":""},{"$f":"IF($S241=\"\",\"\",VLOOKUP($S241,'FO-DRE-04'!$A$6:$L$301,11,FALSE))","v":""},{"$f":"IF($T241=\"\",\"\",VLOOKUP($T241,'FO-DRE-02'!$A$6:$M$101,2,FALSE))","v":""},{"$f":"IF($T241=\"\",\"\",VLOOKUP($T241,'FO-DRE-02'!$A$6:$M$101,3,FALSE))","v":""},{"$f":"IF($T241=\"\",\"\",VLOOKUP($T241,'FO-DRE-02'!$A$6:$M$101,6,FALSE))","v":""},{"$f":"IF($T241=\"\",\"\",VLOOKUP($T241,'FO-DRE-02'!$A$6:$M$101,4,FALSE))","v":""},{"$f":"IF($T241=\"\",\"\",VLOOKUP($T241,'FO-DRE-02'!$A$6:$M$101,5,FALSE))","v":""},{"$f":"IF($T241=\"\",\"\",VLOOKUP($T241,'FO-DRE-02'!$A$6:$M$101,8,FALSE))","v":""},{"$f":"IF($T241=\"\",\"\",VLOOKUP($T241,'FO-DRE-02'!$A$6:$M$101,7,FALSE))","v":""},{"$f":"IF($T241=\"\",\"\",VLOOKUP($T241,'FO-DRE-02'!$A$6:$M$101,9,FALSE))","v":""},{"$f":"IF($T241=\"\",\"\",VLOOKUP($T241,'FO-DRE-02'!$A$6:$M$101,11,FALSE))","v":""},{"$f":"IF($T241=\"\",\"\",VLOOKUP($T241,'FO-DRE-02'!$A$6:$M$101,12,FALSE))","v":""},{"$f":"IF($T241=\"\",\"\",VLOOKUP($T241,'FO-DRE-02'!$A$6:$M$101,13,FALSE))","v":""},null,null,null,232,"","F/D","F/D","","","","","","","","","","","","","","",""]
[null,null,null,null,null,null,null,null,{"$f":"IF(H242=\"1a\",Hoja1!$B$126,IF(H242=\"1b\",Hoja1!$B$127,IF(H242=\"2a\",Hoja1!$B$128,IF(H242=\"2b\",Hoja1!$B$129,IF(H242=\"3 \",Hoja1!$B$130,IF(H242=\"4 \",Hoja1!$B$131,IF(H242=\"5 \",Hoja1!$B$132,IF(H242=\"6 \",Hoja1!$B$133,IF(H242=\"7 \",Hoja1!$B$134,IF(H242=\"8 \",Hoja1!$B$135,\" \"))))))))))","v":" "},{"$f":"CONCATENATE(#REF!,\"-\",\"TX\")","v":{"$error":"#REF!"}},{"$f":"CONCATENATE(#REF!,\"-\",\"RX\")","v":{"$error":"#REF!"}},null,null,null,null,0,null,null,null,null,null,{"$f":"IF($R242=\"\",\"\",VLOOKUP($R242,'FO-DRE-01'!$A$7:$U$301,18,FALSE))","v":""},{"$f":"IF($R242=\"\",\"\",VLOOKUP($R242,'FO-DRE-01'!$A$7:$U$301,16,FALSE))","v":""},{"$f":"IF($R242=\"\",\"\",VLOOKUP($R242,'FO-DRE-01'!$A$7:$U$301,17,FALSE))","v":""},{"$f":"IF($R242=\"\",\"\",VLOOKUP($R242,'FO-DRE-01'!$A$7:$U$301,3,FALSE))","v":""},{"$f":"IF($R242=\"\",\"\",VLOOKUP($R242,'FO-DRE-01'!$A$7:$U$301,4,FALSE))","v":""},{"$f":"IF($R242=\"\",\"\",VLOOKUP($R242,'FO-DRE-01'!$A$7:$U$301,5,FALSE))","v":""},{"$f":"IF($R242=\"\",\"\",VLOOKUP($R242,'FO-DRE-01'!$A$7:$U$301,7,FALSE))","v":""},{"$f":"IF($R242=\"\",\"\",VLOOKUP($R242,'FO-DRE-01'!$A$7:$U$301,8,FALSE))","v":""},{"$f":"IF($R242=\"\",\"\",VLOOKUP($R242,'FO-DRE-01'!$A$7:$U$301,9,FALSE))","v":""},{"$f":"IF($R242=\"\",\"\",VLOOKUP($R242,'FO-DRE-01'!$A$7:$U$301,10,FALSE))","v":""},{"$f":"IF($R242=\"\",\"\",VLOOKUP($R242,'FO-DRE-01'!$A$7:$U$301,11,FALSE))","v":""},{"$f":"IF($R242=\"\",\"\",VLOOKUP($R242,'FO-DRE-01'!$A$7:$U$301,12,FALSE))","v":""},{"$f":"IF($R242=\"\",\"\",VLOOKUP($R242,'FO-DRE-01'!$A$7:$U$301,13,FALSE))","v":""},{"$f":"IF($R242=\"\",\"\",VLOOKUP($R242,'FO-DRE-01'!$A$7:$U$301,14,FALSE))","v":""},{"$f":"IF($R242=\"\",\"\",VLOOKUP($R242,'FO-DRE-01'!$A$7:$U$301,15,FALSE))","v":""},{"$f":"IF($S242=\"\",\"\",VLOOKUP($S242,'FO-DRE-04'!$A$6:$L$301,2,FALSE))","v":""},{"$f":"IF($S242=\"\",\"\",VLOOKUP($S242,'FO-DRE-04'!$A$6:$L$301,3,FALSE))","v":""},{"$f":"IF($S242=\"\",\"\",VLOOKUP($S242,'FO-DRE-04'!$A$6:$L$301,4,FALSE))","v":""},{"$f":"IF($S242=\"\",\"\",VLOOKUP($S242,'FO-DRE-04'!$A$6:$L$301,6,FALSE))","v":""},{"$f":"IF($S242=\"\",\"\",VLOOKUP($S242,'FO-DRE-04'!$A$6:$L$301,11,FALSE))","v":""},{"$f":"IF($T242=\"\",\"\",VLOOKUP($T242,'FO-DRE-02'!$A$6:$M$101,2,FALSE))","v":""},{"$f":"IF($T242=\"\",\"\",VLOOKUP($T242,'FO-DRE-02'!$A$6:$M$101,3,FALSE))","v":""},{"$f":"IF($T242=\"\",\"\",VLOOKUP($T242,'FO-DRE-02'!$A$6:$M$101,6,FALSE))","v":""},{"$f":"IF($T242=\"\",\"\",VLOOKUP($T242,'FO-DRE-02'!$A$6:$M$101,4,FALSE))","v":""},{"$f":"IF($T242=\"\",\"\",VLOOKUP($T242,'FO-DRE-02'!$A$6:$M$101,5,FALSE))","v":""},{"$f":"IF($T242=\"\",\"\",VLOOKUP($T242,'FO-DRE-02'!$A$6:$M$101,8,FALSE))","v":""},{"$f":"IF($T242=\"\",\"\",VLOOKUP($T242,'FO-DRE-02'!$A$6:$M$101,7,FALSE))","v":""},{"$f":"IF($T242=\"\",\"\",VLOOKUP($T242,'FO-DRE-02'!$A$6:$M$101,9,FALSE))","v":""},{"$f":"IF($T242=\"\",\"\",VLOOKUP($T242,'FO-DRE-02'!$A$6:$M$101,11,FALSE))","v":""},{"$f":"IF($T242=\"\",\"\",VLOOKUP($T242,'FO-DRE-02'!$A$6:$M$101,12,FALSE))","v":""},{"$f":"IF($T242=\"\",\"\",VLOOKUP($T242,'FO-DRE-02'!$A$6:$M$101,13,FALSE))","v":""},null,null,null,233,"","F/D","F/D","","","","","","","","","","","","","","",""]
[null,null,null,null,null,null,null,null,{"$f":"IF(H243=\"1a\",Hoja1!$B$126,IF(H243=\"1b\",Hoja1!$B$127,IF(H243=\"2a\",Hoja1!$B$128,IF(H243=\"2b\",Hoja1!$B$129,IF(H243=\"3 \",Hoja1!$B$130,IF(H243=\"4 \",Hoja1!$B$131,IF(H243=\"5 \",Hoja1!$B$132,IF(H243=\"6 \",Hoja1!$B$133,IF(H243=\"7 \",Hoja1!$B$134,IF(H243=\"8 \",Hoja1!$B$135,\" \"))))))))))","v":" "},{"$f":"CONCATENATE(#REF!,\"-\",\"TX\")","v":{"$error":"#REF!"}},{"$f":"CONCATENATE(#REF!,\"-\",\"RX\")","v":{"$error":"#REF!"}},null,null,null,null,0,null,null,null,null,null,{"$f":"IF($R243=\"\",\"\",VLOOKUP($R243,'FO-DRE-01'!$A$7:$U$301,18,FALSE))","v":""},{"$f":"IF($R243=\"\",\"\",VLOOKUP($R243,'FO-DRE-01'!$A$7:$U$301,16,FALSE))","v":""},{"$f":"IF($R243=\"\",\"\",VLOOKUP($R243,'FO-DRE-01'!$A$7:$U$301,17,FALSE))","v":""},{"$f":"IF($R243=\"\",\"\",VLOOKUP($R243,'FO-DRE-01'!$A$7:$U$301,3,FALSE))","v":""},{"$f":"IF($R243=\"\",\"\",VLOOKUP($R243,'FO-DRE-01'!$A$7:$U$301,4,FALSE))","v":""},{"$f":"IF($R243=\"\",\"\",VLOOKUP($R243,'FO-DRE-01'!$A$7:$U$301,5,FALSE))","v":""},{"$f":"IF($R243=\"\",\"\",VLOOKUP($R243,'FO-DRE-01'!$A$7:$U$301,7,FALSE))","v":""},{"$f":"IF($R243=\"\",\"\",VLOOKUP($R243,'FO-DRE-01'!$A$7:$U$301,8,FALSE))","v":""},{"$f":"IF($R243=\"\",\"\",VLOOKUP($R243,'FO-DRE-01'!$A$7:$U$301,9,FALSE))","v":""},{"$f":"IF($R243=\"\",\"\",VLOOKUP($R243,'FO-DRE-01'!$A$7:$U$301,10,FALSE))","v":""},{"$f":"IF($R243=\"\",\"\",VLOOKUP($R243,'FO-DRE-01'!$A$7:$U$301,11,FALSE))","v":""},{"$f":"IF($R243=\"\",\"\",VLOOKUP($R243,'FO-DRE-01'!$A$7:$U$301,12,FALSE))","v":""},{"$f":"IF($R243=\"\",\"\",VLOOKUP($R243,'FO-DRE-01'!$A$7:$U$301,13,FALSE))","v":""},{"$f":"IF($R243=\"\",\"\",VLOOKUP($R243,'FO-DRE-01'!$A$7:$U$301,14,FALSE))","v":""},{"$f":"IF($R243=\"\",\"\",VLOOKUP($R243,'FO-DRE-01'!$A$7:$U$301,15,FALSE))","v":""},{"$f":"IF($S243=\"\",\"\",VLOOKUP($S243,'FO-DRE-04'!$A$6:$L$301,2,FALSE))","v":""},{"$f":"IF($S243=\"\",\"\",VLOOKUP($S243,'FO-DRE-04'!$A$6:$L$301,3,FALSE))","v":""},{"$f":"IF($S243=\"\",\"\",VLOOKUP($S243,'FO-DRE-04'!$A$6:$L$301,4,FALSE))","v":""},{"$f":"IF($S243=\"\",\"\",VLOOKUP($S243,'FO-DRE-04'!$A$6:$L$301,6,FALSE))","v":""},{"$f":"IF($S243=\"\",\"\",VLOOKUP($S243,'FO-DRE-04'!$A$6:$L$301,11,FALSE))","v":""},{"$f":"IF($T243=\"\",\"\",VLOOKUP($T243,'FO-DRE-02'!$A$6:$M$101,2,FALSE))","v":""},{"$f":"IF($T243=\"\",\"\",VLOOKUP($T243,'FO-DRE-02'!$A$6:$M$101,3,FALSE))","v":""},{"$f":"IF($T243=\"\",\"\",VLOOKUP($T243,'FO-DRE-02'!$A$6:$M$101,6,FALSE))","v":""},{"$f":"IF($T243=\"\",\"\",VLOOKUP($T243,'FO-DRE-02'!$A$6:$M$101,4,FALSE))","v":""},{"$f":"IF($T243=\"\",\"\",VLOOKUP($T243,'FO-DRE-02'!$A$6:$M$101,5,FALSE))","v":""},{"$f":"IF($T243=\"\",\"\",VLOOKUP($T243,'FO-DRE-02'!$A$6:$M$101,8,FALSE))","v":""},{"$f":"IF($T243=\"\",\"\",VLOOKUP($T243,'FO-DRE-02'!$A$6:$M$101,7,FALSE))","v":""},{"$f":"IF($T243=\"\",\"\",VLOOKUP($T243,'FO-DRE-02'!$A$6:$M$101,9,FALSE))","v":""},{"$f":"IF($T243=\"\",\"\",VLOOKUP($T243,'FO-DRE-02'!$A$6:$M$101,11,FALSE))","v":""},{"$f":"IF($T243=\"\",\"\",VLOOKUP($T243,'FO-DRE-02'!$A$6:$M$101,12,FALSE))","v":""},{"$f":"IF($T243=\"\",\"\",VLOOKUP($T243,'FO-DRE-02'!$A$6:$M$101,13,FALSE))","v":""},null,null,null,234,"","F/D","F/D","","","","","","","","","","","","","","",""]
[null,null,null,null,null,null,null,null,{"$f":"IF(H244=\"1a\",Hoja1!$B$126,IF(H244=\"1b\",Hoja1!$B$127,IF(H244=\"2a\",Hoja1!$B$128,IF(H244=\"2b\",Hoja1!$B$129,IF(H244=\"3 \",Hoja1!$B$130,IF(H244=\"4 \",Hoja1!$B$131,IF(H244=\"5 \",Hoja1!$B$132,IF(H244=\"6 \",Hoja1!$B$133,IF(H244=\"7 \",Hoja1!$B$134,IF(H244=\"8 \",Hoja1!$B$135,\" \"))))))))))","v":" "},{"$f":"CONCATENATE(#REF!,\"-\",\"TX\")","v":{"$error":"#REF!"}},{"$f":"CONCATENATE(#REF!,\"-\",\"RX\")","v":{"$error":"#REF!"}},null,null,null,null,0,null,null,null,null,null,{"$f":"IF($R244=\"\",\"\",VLOOKUP($R244,'FO-DRE-01'!$A$7:$U$301,18,FALSE))","v":""},{"$f":"IF($R244=\"\",\"\",VLOOKUP($R244,'FO-DRE-01'!$A$7:$U$301,16,FALSE))","v":""},{"$f":"IF($R244=\"\",\"\",VLOOKUP($R244,'FO-DRE-01'!$A$7:$U$301,17,FALSE))","v":""},{"$f":"IF($R244=\"\",\"\",VLOOKUP($R244,'FO-DRE-01'!$A$7:$U$301,3,FALSE))","v":""},{"$f":"IF($R244=\"\",\"\",VLOOKUP($R244,'FO-DRE-01'!$A$7:$U$301,4,FALSE))","v":""},{"$f":"IF($R244=\"\",\"\",VLOOKUP($R244,'FO-DRE-01'!$A$7:$U$301,5,FALSE))","v":""},{"$f":"IF($R244=\"\",\"\",VLOOKUP($R244,'FO-DRE-01'!$A$7:$U$301,7,FALSE))","v":""},{"$f":"IF($R244=\"\",\"\",VLOOKUP($R244,'FO-DRE-01'!$A$7:$U$301,8,FALSE))","v":""},{"$f":"IF($R244=\"\",\"\",VLOOKUP($R244,'FO-DRE-01'!$A$7:$U$301,9,FALSE))","v":""},{"$f":"IF($R244=\"\",\"\",VLOOKUP($R244,'FO-DRE-01'!$A$7:$U$301,10,FALSE))","v":""},{"$f":"IF($R244=\"\",\"\",VLOOKUP($R244,'FO-DRE-01'!$A$7:$U$301,11,FALSE))","v":""},{"$f":"IF($R244=\"\",\"\",VLOOKUP($R244,'FO-DRE-01'!$A$7:$U$301,12,FALSE))","v":""},{"$f":"IF($R244=\"\",\"\",VLOOKUP($R244,'FO-DRE-01'!$A$7:$U$301,13,FALSE))","v":""},{"$f":"IF($R244=\"\",\"\",VLOOKUP($R244,'FO-DRE-01'!$A$7:$U$301,14,FALSE))","v":""},{"$f":"IF($R244=\"\",\"\",VLOOKUP($R244,'FO-DRE-01'!$A$7:$U$301,15,FALSE))","v":""},{"$f":"IF($S244=\"\",\"\",VLOOKUP($S244,'FO-DRE-04'!$A$6:$L$301,2,FALSE))","v":""},{"$f":"IF($S244=\"\",\"\",VLOOKUP($S244,'FO-DRE-04'!$A$6:$L$301,3,FALSE))","v":""},{"$f":"IF($S244=\"\",\"\",VLOOKUP($S244,'FO-DRE-04'!$A$6:$L$301,4,FALSE))","v":""},{"$f":"IF($S244=\"\",\"\",VLOOKUP($S244,'FO-DRE-04'!$A$6:$L$301,6,FALSE))","v":""},{"$f":"IF($S244=\"\",\"\",VLOOKUP($S244,'FO-DRE-04'!$A$6:$L$301,11,FALSE))","v":""},{"$f":"IF($T244=\"\",\"\",VLOOKUP($T244,'FO-DRE-02'!$A$6:$M$101,2,FALSE))","v":""},{"$f":"IF($T244=\"\",\"\",VLOOKUP($T244,'FO-DRE-02'!$A$6:$M$101,3,FALSE))","v":""},{"$f":"IF($T244=\"\",\"\",VLOOKUP($T244,'FO-DRE-02'!$A$6:$M$101,6,FALSE))","v":""},{"$f":"IF($T244=\"\",\"\",VLOOKUP($T244,'FO-DRE-02'!$A$6:$M$101,4,FALSE))","v":""},{"$f":"IF($T244=\"\",\"\",VLOOKUP($T244,'FO-DRE-02'!$A$6:$M$101,5,FALSE))","v":""},{"$f":"IF($T244=\"\",\"\",VLOOKUP($T244,'FO-DRE-02'!$A$6:$M$101,8,FALSE))","v":""},{"$f":"IF($T244=\"\",\"\",VLOOKUP($T244,'FO-DRE-02'!$A$6:$M$101,7,FALSE))","v":""},{"$f":"IF($T244=\"\",\"\",VLOOKUP($T244,'FO-DRE-02'!$A$6:$M$101,9,FALSE))","v":""},{"$f":"IF($T244=\"\",\"\",VLOOKUP($T244,'FO-DRE-02'!$A$6:$M$101,11,FALSE))","v":""},{"$f":"IF($T244=\"\",\"\",VLOOKUP($T244,'FO-DRE-02'!$A$6:$M$101,12,FALSE))","v":""},{"$f":"IF($T244=\"\",\"\",VLOOKUP($T244,'FO-DRE-02'!$A$6:$M$101,13,FALSE))","v":""},null,null,null,235,"","F/D","F/D","","","","","","","","","","","","","","",""]
[null,null,null,null,null,null,null,null,{"$f":"IF(H245=\"1a\",Hoja1!$B$126,IF(H245=\"1b\",Hoja1!$B$127,IF(H245=\"2a\",Hoja1!$B$128,IF(H245=\"2b\",Hoja1!$B$129,IF(H245=\"3 \",Hoja1!$B$130,IF(H245=\"4 \",Hoja1!$B$131,IF(H245=\"5 \",Hoja1!$B$132,IF(H245=\"6 \",Hoja1!$B$133,IF(H245=\"7 \",Hoja1!$B$134,IF(H245=\"8 \",Hoja1!$B$135,\" \"))))))))))","v":" "},{"$f":"CONCATENATE(#REF!,\"-\",\"TX\")","v":{"$error":"#REF!"}},{"$f":"CONCATENATE(#REF!,\"-\",\"RX\")","v":{"$error":"#REF!"}},null,null,null,null,0,null,null,null,null,null,{"$f":"IF($R245=\"\",\"\",VLOOKUP($R245,'FO-DRE-01'!$A$7:$U$301,18,FALSE))","v":""},{"$f":"IF($R245=\"\",\"\",VLOOKUP($R245,'FO-DRE-01'!$A$7:$U$301,16,FALSE))","v":""},{"$f":"IF($R245=\"\",\"\",VLOOKUP($R245,'FO-DRE-01'!$A$7:$U$301,17,FALSE))","v":""},{"$f":"IF($R245=\"\",\"\",VLOOKUP($R245,'FO-DRE-01'!$A$7:$U$301,3,FALSE))","v":""},{"$f":"IF($R245=\"\",\"\",VLOOKUP($R245,'FO-DRE-01'!$A$7:$U$301,4,FALSE))","v":""},{"$f":"IF($R245=\"\",\"\",VLOOKUP($R245,'FO-DRE-01'!$A$7:$U$301,5,FALSE))","v":""},{"$f":"IF($R245=\"\",\"\",VLOOKUP($R245,'FO-DRE-01'!$A$7:$U$301,7,FALSE))","v":""},{"$f":"IF($R245=\"\",\"\",VLOOKUP($R245,'FO-DRE-01'!$A$7:$U$301,8,FALSE))","v":""},{"$f":"IF($R245=\"\",\"\",VLOOKUP($R245,'FO-DRE-01'!$A$7:$U$301,9,FALSE))","v":""},{"$f":"IF($R245=\"\",\"\",VLOOKUP($R245,'FO-DRE-01'!$A$7:$U$301,10,FALSE))","v":""},{"$f":"IF($R245=\"\",\"\",VLOOKUP($R245,'FO-DRE-01'!$A$7:$U$301,11,FALSE))","v":""},{"$f":"IF($R245=\"\",\"\",VLOOKUP($R245,'FO-DRE-01'!$A$7:$U$301,12,FALSE))","v":""},{"$f":"IF($R245=\"\",\"\",VLOOKUP($R245,'FO-DRE-01'!$A$7:$U$301,13,FALSE))","v":""},{"$f":"IF($R245=\"\",\"\",VLOOKUP($R245,'FO-DRE-01'!$A$7:$U$301,14,FALSE))","v":""},{"$f":"IF($R245=\"\",\"\",VLOOKUP($R245,'FO-DRE-01'!$A$7:$U$301,15,FALSE))","v":""},{"$f":"IF($S245=\"\",\"\",VLOOKUP($S245,'FO-DRE-04'!$A$6:$L$301,2,FALSE))","v":""},{"$f":"IF($S245=\"\",\"\",VLOOKUP($S245,'FO-DRE-04'!$A$6:$L$301,3,FALSE))","v":""},{"$f":"IF($S245=\"\",\"\",VLOOKUP($S245,'FO-DRE-04'!$A$6:$L$301,4,FALSE))","v":""},{"$f":"IF($S245=\"\",\"\",VLOOKUP($S245,'FO-DRE-04'!$A$6:$L$301,6,FALSE))","v":""},{"$f":"IF($S245=\"\",\"\",VLOOKUP($S245,'FO-DRE-04'!$A$6:$L$301,11,FALSE))","v":""},{"$f":"IF($T245=\"\",\"\",VLOOKUP($T245,'FO-DRE-02'!$A$6:$M$101,2,FALSE))","v":""},{"$f":"IF($T245=\"\",\"\",VLOOKUP($T245,'FO-DRE-02'!$A$6:$M$101,3,FALSE))","v":""},{"$f":"IF($T245=\"\",\"\",VLOOKUP($T245,'FO-DRE-02'!$A$6:$M$101,6,FALSE))","v":""},{"$f":"IF($T245=\"\",\"\",VLOOKUP($T245,'FO-DRE-02'!$A$6:$M$101,4,FALSE))","v":""},{"$f":"IF($T245=\"\",\"\",VLOOKUP($T245,'FO-DRE-02'!$A$6:$M$101,5,FALSE))","v":""},{"$f":"IF($T245=\"\",\"\",VLOOKUP($T245,'FO-DRE-02'!$A$6:$M$101,8,FALSE))","v":""},{"$f":"IF($T245=\"\",\"\",VLOOKUP($T245,'FO-DRE-02'!$A$6:$M$101,7,FALSE))","v":""},{"$f":"IF($T245=\"\",\"\",VLOOKUP($T245,'FO-DRE-02'!$A$6:$M$101,9,FALSE))","v":""},{"$f":"IF($T245=\"\",\"\",VLOOKUP($T245,'FO-DRE-02'!$A$6:$M$101,11,FALSE))","v":""},{"$f":"IF($T245=\"\",\"\",VLOOKUP($T245,'FO-DRE-02'!$A$6:$M$101,12,FALSE))","v":""},{"$f":"IF($T245=\"\",\"\",VLOOKUP($T245,'FO-DRE-02'!$A$6:$M$101,13,FALSE))","v":""},null,null,null,236,"","F/D","F/D","","","","","","","","","","","","","","",""]
[null,null,null,null,null,null,null,null,{"$f":"IF(H246=\"1a\",Hoja1!$B$126,IF(H246=\"1b\",Hoja1!$B$127,IF(H246=\"2a\",Hoja1!$B$128,IF(H246=\"2b\",Hoja1!$B$129,IF(H246=\"3 \",Hoja1!$B$130,IF(H246=\"4 \",Hoja1!$B$131,IF(H246=\"5 \",Hoja1!$B$132,IF(H246=\"6 \",Hoja1!$B$133,IF(H246=\"7 \",Hoja1!$B$134,IF(H246=\"8 \",Hoja1!$B$135,\" \"))))))))))","v":" "},{"$f":"CONCATENATE(#REF!,\"-\",\"TX\")","v":{"$error":"#REF!"}},{"$f":"CONCATENATE(#REF!,\"-\",\"RX\")","v":{"$error":"#REF!"}},null,null,null,null,0,null,null,null,null,null,{"$f":"IF($R246=\"\",\"\",VLOOKUP($R246,'FO-DRE-01'!$A$7:$U$301,18,FALSE))","v":""},{"$f":"IF($R246=\"\",\"\",VLOOKUP($R246,'FO-DRE-01'!$A$7:$U$301,16,FALSE))","v":""},{"$f":"IF($R246=\"\",\"\",VLOOKUP($R246,'FO-DRE-01'!$A$7:$U$301,17,FALSE))","v":""},{"$f":"IF($R246=\"\",\"\",VLOOKUP($R246,'FO-DRE-01'!$A$7:$U$301,3,FALSE))","v":""},{"$f":"IF($R246=\"\",\"\",VLOOKUP($R246,'FO-DRE-01'!$A$7:$U$301,4,FALSE))","v":""},{"$f":"IF($R246=\"\",\"\",VLOOKUP($R246,'FO-DRE-01'!$A$7:$U$301,5,FALSE))","v":""},{"$f":"IF($R246=\"\",\"\",VLOOKUP($R246,'FO-DRE-01'!$A$7:$U$301,7,FALSE))","v":""},{"$f":"IF($R246=\"\",\"\",VLOOKUP($R246,'FO-DRE-01'!$A$7:$U$301,8,FALSE))","v":""},{"$f":"IF($R246=\"\",\"\",VLOOKUP($R246,'FO-DRE-01'!$A$7:$U$301,9,FALSE))","v":""},{"$f":"IF($R246=\"\",\"\",VLOOKUP($R246,'FO-DRE-01'!$A$7:$U$301,10,FALSE))","v":""},{"$f":"IF($R246=\"\",\"\",VLOOKUP($R246,'FO-DRE-01'!$A$7:$U$301,11,FALSE))","v":""},{"$f":"IF($R246=\"\",\"\",VLOOKUP($R246,'FO-DRE-01'!$A$7:$U$301,12,FALSE))","v":""},{"$f":"IF($R246=\"\",\"\",VLOOKUP($R246,'FO-DRE-01'!$A$7:$U$301,13,FALSE))","v":""},{"$f":"IF($R246=\"\",\"\",VLOOKUP($R246,'FO-DRE-01'!$A$7:$U$301,14,FALSE))","v":""},{"$f":"IF($R246=\"\",\"\",VLOOKUP($R246,'FO-DRE-01'!$A$7:$U$301,15,FALSE))","v":""},{"$f":"IF($S246=\"\",\"\",VLOOKUP($S246,'FO-DRE-04'!$A$6:$L$301,2,FALSE))","v":""},{"$f":"IF($S246=\"\",\"\",VLOOKUP($S246,'FO-DRE-04'!$A$6:$L$301,3,FALSE))","v":""},{"$f":"IF($S246=\"\",\"\",VLOOKUP($S246,'FO-DRE-04'!$A$6:$L$301,4,FALSE))","v":""},{"$f":"IF($S246=\"\",\"\",VLOOKUP($S246,'FO-DRE-04'!$A$6:$L$301,6,FALSE))","v":""},{"$f":"IF($S246=\"\",\"\",VLOOKUP($S246,'FO-DRE-04'!$A$6:$L$301,11,FALSE))","v":""},{"$f":"IF($T246=\"\",\"\",VLOOKUP($T246,'FO-DRE-02'!$A$6:$M$101,2,FALSE))","v":""},{"$f":"IF($T246=\"\",\"\",VLOOKUP($T246,'FO-DRE-02'!$A$6:$M$101,3,FALSE))","v":""},{"$f":"IF($T246=\"\",\"\",VLOOKUP($T246,'FO-DRE-02'!$A$6:$M$101,6,FALSE))","v":""},{"$f":"IF($T246=\"\",\"\",VLOOKUP($T246,'FO-DRE-02'!$A$6:$M$101,4,FALSE))","v":""},{"$f":"IF($T246=\"\",\"\",VLOOKUP($T246,'FO-DRE-02'!$A$6:$M$101,5,FALSE))","v":""},{"$f":"IF($T246=\"\",\"\",VLOOKUP($T246,'FO-DRE-02'!$A$6:$M$101,8,FALSE))","v":""},{"$f":"IF($T246=\"\",\"\",VLOOKUP($T246,'FO-DRE-02'!$A$6:$M$101,7,FALSE))","v":""},{"$f":"IF($T246=\"\",\"\",VLOOKUP($T246,'FO-DRE-02'!$A$6:$M$101,9,FALSE))","v":""},{"$f":"IF($T246=\"\",\"\",VLOOKUP($T246,'FO-DRE-02'!$A$6:$M$101,11,FALSE))","v":""},{"$f":"IF($T246=\"\",\"\",VLOOKUP($T246,'FO-DRE-02'!$A$6:$M$101,12,FALSE))","v":""},{"$f":"IF($T246=\"\",\"\",VLOOKUP($T246,'FO-DRE-02'!$A$6:$M$101,13,FALSE))","v":""},null,null,null,237,"","F/D","F/D","","","","","","","","","","","","","","",""]
[null,null,null,null,null,null,null,null,{"$f":"IF(H247=\"1a\",Hoja1!$B$126,IF(H247=\"1b\",Hoja1!$B$127,IF(H247=\"2a\",Hoja1!$B$128,IF(H247=\"2b\",Hoja1!$B$129,IF(H247=\"3 \",Hoja1!$B$130,IF(H247=\"4 \",Hoja1!$B$131,IF(H247=\"5 \",Hoja1!$B$132,IF(H247=\"6 \",Hoja1!$B$133,IF(H247=\"7 \",Hoja1!$B$134,IF(H247=\"8 \",Hoja1!$B$135,\" \"))))))))))","v":" "},{"$f":"CONCATENATE(#REF!,\"-\",\"TX\")","v":{"$error":"#REF!"}},{"$f":"CONCATENATE(#REF!,\"-\",\"RX\")","v":{"$error":"#REF!"}},null,null,null,null,0,null,null,null,null,null,{"$f":"IF($R247=\"\",\"\",VLOOKUP($R247,'FO-DRE-01'!$A$7:$U$301,18,FALSE))","v":""},{"$f":"IF($R247=\"\",\"\",VLOOKUP($R247,'FO-DRE-01'!$A$7:$U$301,16,FALSE))","v":""},{"$f":"IF($R247=\"\",\"\",VLOOKUP($R247,'FO-DRE-01'!$A$7:$U$301,17,FALSE))","v":""},{"$f":"IF($R247=\"\",\"\",VLOOKUP($R247,'FO-DRE-01'!$A$7:$U$301,3,FALSE))","v":""},{"$f":"IF($R247=\"\",\"\",VLOOKUP($R247,'FO-DRE-01'!$A$7:$U$301,4,FALSE))","v":""},{"$f":"IF($R247=\"\",\"\",VLOOKUP($R247,'FO-DRE-01'!$A$7:$U$301,5,FALSE))","v":""},{"$f":"IF($R247=\"\",\"\",VLOOKUP($R247,'FO-DRE-01'!$A$7:$U$301,7,FALSE))","v":""},{"$f":"IF($R247=\"\",\"\",VLOOKUP($R247,'FO-DRE-01'!$A$7:$U$301,8,FALSE))","v":""},{"$f":"IF($R247=\"\",\"\",VLOOKUP($R247,'FO-DRE-01'!$A$7:$U$301,9,FALSE))","v":""},{"$f":"IF($R247=\"\",\"\",VLOOKUP($R247,'FO-DRE-01'!$A$7:$U$301,10,FALSE))","v":""},{"$f":"IF($R247=\"\",\"\",VLOOKUP($R247,'FO-DRE-01'!$A$7:$U$301,11,FALSE))","v":""},{"$f":"IF($R247=\"\",\"\",VLOOKUP($R247,'FO-DRE-01'!$A$7:$U$301,12,FALSE))","v":""},{"$f":"IF($R247=\"\",\"\",VLOOKUP($R247,'FO-DRE-01'!$A$7:$U$301,13,FALSE))","v":""},{"$f":"IF($R247=\"\",\"\",VLOOKUP($R247,'FO-DRE-01'!$A$7:$U$301,14,FALSE))","v":""},{"$f":"IF($R247=\"\",\"\",VLOOKUP($R247,'FO-DRE-01'!$A$7:$U$301,15,FALSE))","v":""},{"$f":"IF($S247=\"\",\"\",VLOOKUP($S247,'FO-DRE-04'!$A$6:$L$301,2,FALSE))","v":""},{"$f":"IF($S247=\"\",\"\",VLOOKUP($S247,'FO-DRE-04'!$A$6:$L$301,3,FALSE))","v":""},{"$f":"IF($S247=\"\",\"\",VLOOKUP($S247,'FO-DRE-04'!$A$6:$L$301,4,FALSE))","v":""},{"$f":"IF($S247=\"\",\"\",VLOOKUP($S247,'FO-DRE-04'!$A$6:$L$301,6,FALSE))","v":""},{"$f":"IF($S247=\"\",\"\",VLOOKUP($S247,'FO-DRE-04'!$A$6:$L$301,11,FALSE))","v":""},{"$f":"IF($T247=\"\",\"\",VLOOKUP($T247,'FO-DRE-02'!$A$6:$M$101,2,FALSE))","v":""},{"$f":"IF($T247=\"\",\"\",VLOOKUP($T247,'FO-DRE-02'!$A$6:$M$101,3,FALSE))","v":""},{"$f":"IF($T247=\"\",\"\",VLOOKUP($T247,'FO-DRE-02'!$A$6:$M$101,6,FALSE))","v":""},{"$f":"IF($T247=\"\",\"\",VLOOKUP($T247,'FO-DRE-02'!$A$6:$M$101,4,FALSE))","v":""},{"$f":"IF($T247=\"\",\"\",VLOOKUP($T247,'FO-DRE-02'!$A$6:$M$101,5,FALSE))","v":""},{"$f":"IF($T247=\"\",\"\",VLOOKUP($T247,'FO-DRE-02'!$A$6:$M$101,8,FALSE))","v":""},{"$f":"IF($T247=\"\",\"\",VLOOKUP($T247,'FO-DRE-02'!$A$6:$M$101,7,FALSE))","v":""},{"$f":"IF($T247=\"\",\"\",VLOOKUP($T247,'FO-DRE-02'!$A$6:$M$101,9,FALSE))","v":""},{"$f":"IF($T247=\"\",\"\",VLOOKUP($T247,'FO-DRE-02'!$A$6:$M$101,11,FALSE))","v":""},{"$f":"IF($T247=\"\",\"\",VLOOKUP($T247,'FO-DRE-02'!$A$6:$M$101,12,FALSE))","v":""},{"$f":"IF($T247=\"\",\"\",VLOOKUP($T247,'FO-DRE-02'!$A$6:$M$101,13,FALSE))","v":""},null,null,null,238,"","F/D","F/D","","","","","","","","","","","","","","",""]
[null,null,null,null,null,null,null,null,{"$f":"IF(H248=\"1a\",Hoja1!$B$126,IF(H248=\"1b\",Hoja1!$B$127,IF(H248=\"2a\",Hoja1!$B$128,IF(H248=\"2b\",Hoja1!$B$129,IF(H248=\"3 \",Hoja1!$B$130,IF(H248=\"4 \",Hoja1!$B$131,IF(H248=\"5 \",Hoja1!$B$132,IF(H248=\"6 \",Hoja1!$B$133,IF(H248=\"7 \",Hoja1!$B$134,IF(H248=\"8 \",Hoja1!$B$135,\" \"))))))))))","v":" "},{"$f":"CONCATENATE(#REF!,\"-\",\"TX\")","v":{"$error":"#REF!"}},{"$f":"CONCATENATE(#REF!,\"-\",\"RX\")","v":{"$error":"#REF!"}},null,null,null,null,0,null,null,null,null,null,{"$f":"IF($R248=\"\",\"\",VLOOKUP($R248,'FO-DRE-01'!$A$7:$U$301,18,FALSE))","v":""},{"$f":"IF($R248=\"\",\"\",VLOOKUP($R248,'FO-DRE-01'!$A$7:$U$301,16,FALSE))","v":""},{"$f":"IF($R248=\"\",\"\",VLOOKUP($R248,'FO-DRE-01'!$A$7:$U$301,17,FALSE))","v":""},{"$f":"IF($R248=\"\",\"\",VLOOKUP($R248,'FO-DRE-01'!$A$7:$U$301,3,FALSE))","v":""},{"$f":"IF($R248=\"\",\"\",VLOOKUP($R248,'FO-DRE-01'!$A$7:$U$301,4,FALSE))","v":""},{"$f":"IF($R248=\"\",\"\",VLOOKUP($R248,'FO-DRE-01'!$A$7:$U$301,5,FALSE))","v":""},{"$f":"IF($R248=\"\",\"\",VLOOKUP($R248,'FO-DRE-01'!$A$7:$U$301,7,FALSE))","v":""},{"$f":"IF($R248=\"\",\"\",VLOOKUP($R248,'FO-DRE-01'!$A$7:$U$301,8,FALSE))","v":""},{"$f":"IF($R248=\"\",\"\",VLOOKUP($R248,'FO-DRE-01'!$A$7:$U$301,9,FALSE))","v":""},{"$f":"IF($R248=\"\",\"\",VLOOKUP($R248,'FO-DRE-01'!$A$7:$U$301,10,FALSE))","v":""},{"$f":"IF($R248=\"\",\"\",VLOOKUP($R248,'FO-DRE-01'!$A$7:$U$301,11,FALSE))","v":""},{"$f":"IF($R248=\"\",\"\",VLOOKUP($R248,'FO-DRE-01'!$A$7:$U$301,12,FALSE))","v":""},{"$f":"IF($R248=\"\",\"\",VLOOKUP($R248,'FO-DRE-01'!$A$7:$U$301,13,FALSE))","v":""},{"$f":"IF($R248=\"\",\"\",VLOOKUP($R248,'FO-DRE-01'!$A$7:$U$301,14,FALSE))","v":""},{"$f":"IF($R248=\"\",\"\",VLOOKUP($R248,'FO-DRE-01'!$A$7:$U$301,15,FALSE))","v":""},{"$f":"IF($S248=\"\",\"\",VLOOKUP($S248,'FO-DRE-04'!$A$6:$L$301,2,FALSE))","v":""},{"$f":"IF($S248=\"\",\"\",VLOOKUP($S248,'FO-DRE-04'!$A$6:$L$301,3,FALSE))","v":""},{"$f":"IF($S248=\"\",\"\",VLOOKUP($S248,'FO-DRE-04'!$A$6:$L$301,4,FALSE))","v":""},{"$f":"IF($S248=\"\",\"\",VLOOKUP($S248,'FO-DRE-04'!$A$6:$L$301,6,FALSE))","v":""},{"$f":"IF($S248=\"\",\"\",VLOOKUP($S248,'FO-DRE-04'!$A$6:$L$301,11,FALSE))","v":""},{"$f":"IF($T248=\"\",\"\",VLOOKUP($T248,'FO-DRE-02'!$A$6:$M$101,2,FALSE))","v":""},{"$f":"IF($T248=\"\",\"\",VLOOKUP($T248,'FO-DRE-02'!$A$6:$M$101,3,FALSE))","v":""},{"$f":"IF($T248=\"\",\"\",VLOOKUP($T248,'FO-DRE-02'!$A$6:$M$101,6,FALSE))","v":""},{"$f":"IF($T248=\"\",\"\",VLOOKUP($T248,'FO-DRE-02'!$A$6:$M$101,4,FALSE))","v":""},{"$f":"IF($T248=\"\",\"\",VLOOKUP($T248,'FO-DRE-02'!$A$6:$M$101,5,FALSE))","v":""},{"$f":"IF($T248=\"\",\"\",VLOOKUP($T248,'FO-DRE-02'!$A$6:$M$101,8,FALSE))","v":""},{"$f":"IF($T248=\"\",\"\",VLOOKUP($T248,'FO-DRE-02'!$A$6:$M$101,7,FALSE))","v":""},{"$f":"IF($T248=\"\",\"\",VLOOKUP($T248,'FO-DRE-02'!$A$6:$M$101,9,FALSE))","v":""},{"$f":"IF($T248=\"\",\"\",VLOOKUP($T248,'FO-DRE-02'!$A$6:$M$101,11,FALSE))","v":""},{"$f":"IF($T248=\"\",\"\",VLOOKUP($T248,'FO-DRE-02'!$A$6:$M$101,12,FALSE))","v":""},{"$f":"IF($T248=\"\",\"\",VLOOKUP($T248,'FO-DRE-02'!$A$6:$M$101,13,FALSE))","v":""},null,null,null,239,"","F/D","F/D","","","","","","","","","","","","","","",""]
[null,null,null,null,null,null,null,null,{"$f":"IF(H249=\"1a\",Hoja1!$B$126,IF(H249=\"1b\",Hoja1!$B$127,IF(H249=\"2a\",Hoja1!$B$128,IF(H249=\"2b\",Hoja1!$B$129,IF(H249=\"3 \",Hoja1!$B$130,IF(H249=\"4 \",Hoja1!$B$131,IF(H249=\"5 \",Hoja1!$B$132,IF(H249=\"6 \",Hoja1!$B$133,IF(H249=\"7 \",Hoja1!$B$134,IF(H249=\"8 \",Hoja1!$B$135,\" \"))))))))))","v":" "},{"$f":"CONCATENATE(#REF!,\"-\",\"TX\")","v":{"$error":"#REF!"}},{"$f":"CONCATENATE(#REF!,\"-\",\"RX\")","v":{"$error":"#REF!"}},null,null,null,null,0,null,null,null,null,null,{"$f":"IF($R249=\"\",\"\",VLOOKUP($R249,'FO-DRE-01'!$A$7:$U$301,18,FALSE))","v":""},{"$f":"IF($R249=\"\",\"\",VLOOKUP($R249,'FO-DRE-01'!$A$7:$U$301,16,FALSE))","v":""},{"$f":"IF($R249=\"\",\"\",VLOOKUP($R249,'FO-DRE-01'!$A$7:$U$301,17,FALSE))","v":""},{"$f":"IF($R249=\"\",\"\",VLOOKUP($R249,'FO-DRE-01'!$A$7:$U$301,3,FALSE))","v":""},{"$f":"IF($R249=\"\",\"\",VLOOKUP($R249,'FO-DRE-01'!$A$7:$U$301,4,FALSE))","v":""},{"$f":"IF($R249=\"\",\"\",VLOOKUP($R249,'FO-DRE-01'!$A$7:$U$301,5,FALSE))","v":""},{"$f":"IF($R249=\"\",\"\",VLOOKUP($R249,'FO-DRE-01'!$A$7:$U$301,7,FALSE))","v":""},{"$f":"IF($R249=\"\",\"\",VLOOKUP($R249,'FO-DRE-01'!$A$7:$U$301,8,FALSE))","v":""},{"$f":"IF($R249=\"\",\"\",VLOOKUP($R249,'FO-DRE-01'!$A$7:$U$301,9,FALSE))","v":""},{"$f":"IF($R249=\"\",\"\",VLOOKUP($R249,'FO-DRE-01'!$A$7:$U$301,10,FALSE))","v":""},{"$f":"IF($R249=\"\",\"\",VLOOKUP($R249,'FO-DRE-01'!$A$7:$U$301,11,FALSE))","v":""},{"$f":"IF($R249=\"\",\"\",VLOOKUP($R249,'FO-DRE-01'!$A$7:$U$301,12,FALSE))","v":""},{"$f":"IF($R249=\"\",\"\",VLOOKUP($R249,'FO-DRE-01'!$A$7:$U$301,13,FALSE))","v":""},{"$f":"IF($R249=\"\",\"\",VLOOKUP($R249,'FO-DRE-01'!$A$7:$U$301,14,FALSE))","v":""},{"$f":"IF($R249=\"\",\"\",VLOOKUP($R249,'FO-DRE-01'!$A$7:$U$301,15,FALSE))","v":""},{"$f":"IF($S249=\"\",\"\",VLOOKUP($S249,'FO-DRE-04'!$A$6:$L$301,2,FALSE))","v":""},{"$f":"IF($S249=\"\",\"\",VLOOKUP($S249,'FO-DRE-04'!$A$6:$L$301,3,FALSE))","v":""},{"$f":"IF($S249=\"\",\"\",VLOOKUP($S249,'FO-DRE-04'!$A$6:$L$301,4,FALSE))","v":""},{"$f":"IF($S249=\"\",\"\",VLOOKUP($S249,'FO-DRE-04'!$A$6:$L$301,6,FALSE))","v":""},{"$f":"IF($S249=\"\",\"\",VLOOKUP($S249,'FO-DRE-04'!$A$6:$L$301,11,FALSE))","v":""},{"$f":"IF($T249=\"\",\"\",VLOOKUP($T249,'FO-DRE-02'!$A$6:$M$101,2,FALSE))","v":""},{"$f":"IF($T249=\"\",\"\",VLOOKUP($T249,'FO-DRE-02'!$A$6:$M$101,3,FALSE))","v":""},{"$f":"IF($T249=\"\",\"\",VLOOKUP($T249,'FO-DRE-02'!$A$6:$M$101,6,FALSE))","v":""},{"$f":"IF($T249=\"\",\"\",VLOOKUP($T249,'FO-DRE-02'!$A$6:$M$101,4,FALSE))","v":""},{"$f":"IF($T249=\"\",\"\",VLOOKUP($T249,'FO-DRE-02'!$A$6:$M$101,5,FALSE))","v":""},{"$f":"IF($T249=\"\",\"\",VLOOKUP($T249,'FO-DRE-02'!$A$6:$M$101,8,FALSE))","v":""},{"$f":"IF($T249=\"\",\"\",VLOOKUP($T249,'FO-DRE-02'!$A$6:$M$101,7,FALSE))","v":""},{"$f":"IF($T249=\"\",\"\",VLOOKUP($T249,'FO-DRE-02'!$A$6:$M$101,9,FALSE))","v":""},{"$f":"IF($T249=\"\",\"\",VLOOKUP($T249,'FO-DRE-02'!$A$6:$M$101,11,FALSE))","v":""},{"$f":"IF($T249=\"\",\"\",VLOOKUP($T249,'FO-DRE-02'!$A$6:$M$101,12,FALSE))","v":""},{"$f":"IF($T249=\"\",\"\",VLOOKUP($T249,'FO-DRE-02'!$A$6:$M$101,13,FALSE))","v":""},null,null,null,240,"","F/D","F/D","","","","","","","","","","","","","","",""]
[null,null,null,null,null,null,null,null,{"$f":"IF(H250=\"1a\",Hoja1!$B$126,IF(H250=\"1b\",Hoja1!$B$127,IF(H250=\"2a\",Hoja1!$B$128,IF(H250=\"2b\",Hoja1!$B$129,IF(H250=\"3 \",Hoja1!$B$130,IF(H250=\"4 \",Hoja1!$B$131,IF(H250=\"5 \",Hoja1!$B$132,IF(H250=\"6 \",Hoja1!$B$133,IF(H250=\"7 \",Hoja1!$B$134,IF(H250=\"8 \",Hoja1!$B$135,\" \"))))))))))","v":" "},{"$f":"CONCATENATE(#REF!,\"-\",\"TX\")","v":{"$error":"#REF!"}},{"$f":"CONCATENATE(#REF!,\"-\",\"RX\")","v":{"$error":"#REF!"}},null,null,null,null,0,null,null,null,null,null,{"$f":"IF($R250=\"\",\"\",VLOOKUP($R250,'FO-DRE-01'!$A$7:$U$301,18,FALSE))","v":""},{"$f":"IF($R250=\"\",\"\",VLOOKUP($R250,'FO-DRE-01'!$A$7:$U$301,16,FALSE))","v":""},{"$f":"IF($R250=\"\",\"\",VLOOKUP($R250,'FO-DRE-01'!$A$7:$U$301,17,FALSE))","v":""},{"$f":"IF($R250=\"\",\"\",VLOOKUP($R250,'FO-DRE-01'!$A$7:$U$301,3,FALSE))","v":""},{"$f":"IF($R250=\"\",\"\",VLOOKUP($R250,'FO-DRE-01'!$A$7:$U$301,4,FALSE))","v":""},{"$f":"IF($R250=\"\",\"\",VLOOKUP($R250,'FO-DRE-01'!$A$7:$U$301,5,FALSE))","v":""},{"$f":"IF($R250=\"\",\"\",VLOOKUP($R250,'FO-DRE-01'!$A$7:$U$301,7,FALSE))","v":""},{"$f":"IF($R250=\"\",\"\",VLOOKUP($R250,'FO-DRE-01'!$A$7:$U$301,8,FALSE))","v":""},{"$f":"IF($R250=\"\",\"\",VLOOKUP($R250,'FO-DRE-01'!$A$7:$U$301,9,FALSE))","v":""},{"$f":"IF($R250=\"\",\"\",VLOOKUP($R250,'FO-DRE-01'!$A$7:$U$301,10,FALSE))","v":""},{"$f":"IF($R250=\"\",\"\",VLOOKUP($R250,'FO-DRE-01'!$A$7:$U$301,11,FALSE))","v":""},{"$f":"IF($R250=\"\",\"\",VLOOKUP($R250,'FO-DRE-01'!$A$7:$U$301,12,FALSE))","v":""},{"$f":"IF($R250=\"\",\"\",VLOOKUP($R250,'FO-DRE-01'!$A$7:$U$301,13,FALSE))","v":""},{"$f":"IF($R250=\"\",\"\",VLOOKUP($R250,'FO-DRE-01'!$A$7:$U$301,14,FALSE))","v":""},{"$f":"IF($R250=\"\",\"\",VLOOKUP($R250,'FO-DRE-01'!$A$7:$U$301,15,FALSE))","v":""},{"$f":"IF($S250=\"\",\"\",VLOOKUP($S250,'FO-DRE-04'!$A$6:$L$301,2,FALSE))","v":""},{"$f":"IF($S250=\"\",\"\",VLOOKUP($S250,'FO-DRE-04'!$A$6:$L$301,3,FALSE))","v":""},{"$f":"IF($S250=\"\",\"\",VLOOKUP($S250,'FO-DRE-04'!$A$6:$L$301,4,FALSE))","v":""},{"$f":"IF($S250=\"\",\"\",VLOOKUP($S250,'FO-DRE-04'!$A$6:$L$301,6,FALSE))","v":""},{"$f":"IF($S250=\"\",\"\",VLOOKUP($S250,'FO-DRE-04'!$A$6:$L$301,11,FALSE))","v":""},{"$f":"IF($T250=\"\",\"\",VLOOKUP($T250,'FO-DRE-02'!$A$6:$M$101,2,FALSE))","v":""},{"$f":"IF($T250=\"\",\"\",VLOOKUP($T250,'FO-DRE-02'!$A$6:$M$101,3,FALSE))","v":""},{"$f":"IF($T250=\"\",\"\",VLOOKUP($T250,'FO-DRE-02'!$A$6:$M$101,6,FALSE))","v":""},{"$f":"IF($T250=\"\",\"\",VLOOKUP($T250,'FO-DRE-02'!$A$6:$M$101,4,FALSE))","v":""},{"$f":"IF($T250=\"\",\"\",VLOOKUP($T250,'FO-DRE-02'!$A$6:$M$101,5,FALSE))","v":""},{"$f":"IF($T250=\"\",\"\",VLOOKUP($T250,'FO-DRE-02'!$A$6:$M$101,8,FALSE))","v":""},{"$f":"IF($T250=\"\",\"\",VLOOKUP($T250,'FO-DRE-02'!$A$6:$M$101,7,FALSE))","v":""},{"$f":"IF($T250=\"\",\"\",VLOOKUP($T250,'FO-DRE-02'!$A$6:$M$101,9,FALSE))","v":""},{"$f":"IF($T250=\"\",\"\",VLOOKUP($T250,'FO-DRE-02'!$A$6:$M$101,11,FALSE))","v":""},{"$f":"IF($T250=\"\",\"\",VLOOKUP($T250,'FO-DRE-02'!$A$6:$M$101,12,FALSE))","v":""},{"$f":"IF($T250=\"\",\"\",VLOOKUP($T250,'FO-DRE-02'!$A$6:$M$101,13,FALSE))","v":""},null,null,null,241,"","F/D","F/D","","","","","","","","","","","","","","",""]
[null,null,null,null,null,null,null,null,{"$f":"IF(H251=\"1a\",Hoja1!$B$126,IF(H251=\"1b\",Hoja1!$B$127,IF(H251=\"2a\",Hoja1!$B$128,IF(H251=\"2b\",Hoja1!$B$129,IF(H251=\"3 \",Hoja1!$B$130,IF(H251=\"4 \",Hoja1!$B$131,IF(H251=\"5 \",Hoja1!$B$132,IF(H251=\"6 \",Hoja1!$B$133,IF(H251=\"7 \",Hoja1!$B$134,IF(H251=\"8 \",Hoja1!$B$135,\" \"))))))))))","v":" "},{"$f":"CONCATENATE(#REF!,\"-\",\"TX\")","v":{"$error":"#REF!"}},{"$f":"CONCATENATE(#REF!,\"-\",\"RX\")","v":{"$error":"#REF!"}},null,null,null,null,0,null,null,null,null,null,{"$f":"IF($R251=\"\",\"\",VLOOKUP($R251,'FO-DRE-01'!$A$7:$U$301,18,FALSE))","v":""},{"$f":"IF($R251=\"\",\"\",VLOOKUP($R251,'FO-DRE-01'!$A$7:$U$301,16,FALSE))","v":""},{"$f":"IF($R251=\"\",\"\",VLOOKUP($R251,'FO-DRE-01'!$A$7:$U$301,17,FALSE))","v":""},{"$f":"IF($R251=\"\",\"\",VLOOKUP($R251,'FO-DRE-01'!$A$7:$U$301,3,FALSE))","v":""},{"$f":"IF($R251=\"\",\"\",VLOOKUP($R251,'FO-DRE-01'!$A$7:$U$301,4,FALSE))","v":""},{"$f":"IF($R251=\"\",\"\",VLOOKUP($R251,'FO-DRE-01'!$A$7:$U$301,5,FALSE))","v":""},{"$f":"IF($R251=\"\",\"\",VLOOKUP($R251,'FO-DRE-01'!$A$7:$U$301,7,FALSE))","v":""},{"$f":"IF($R251=\"\",\"\",VLOOKUP($R251,'FO-DRE-01'!$A$7:$U$301,8,FALSE))","v":""},{"$f":"IF($R251=\"\",\"\",VLOOKUP($R251,'FO-DRE-01'!$A$7:$U$301,9,FALSE))","v":""},{"$f":"IF($R251=\"\",\"\",VLOOKUP($R251,'FO-DRE-01'!$A$7:$U$301,10,FALSE))","v":""},{"$f":"IF($R251=\"\",\"\",VLOOKUP($R251,'FO-DRE-01'!$A$7:$U$301,11,FALSE))","v":""},{"$f":"IF($R251=\"\",\"\",VLOOKUP($R251,'FO-DRE-01'!$A$7:$U$301,12,FALSE))","v":""},{"$f":"IF($R251=\"\",\"\",VLOOKUP($R251,'FO-DRE-01'!$A$7:$U$301,13,FALSE))","v":""},{"$f":"IF($R251=\"\",\"\",VLOOKUP($R251,'FO-DRE-01'!$A$7:$U$301,14,FALSE))","v":""},{"$f":"IF($R251=\"\",\"\",VLOOKUP($R251,'FO-DRE-01'!$A$7:$U$301,15,FALSE))","v":""},{"$f":"IF($S251=\"\",\"\",VLOOKUP($S251,'FO-DRE-04'!$A$6:$L$301,2,FALSE))","v":""},{"$f":"IF($S251=\"\",\"\",VLOOKUP($S251,'FO-DRE-04'!$A$6:$L$301,3,FALSE))","v":""},{"$f":"IF($S251=\"\",\"\",VLOOKUP($S251,'FO-DRE-04'!$A$6:$L$301,4,FALSE))","v":""},{"$f":"IF($S251=\"\",\"\",VLOOKUP($S251,'FO-DRE-04'!$A$6:$L$301,6,FALSE))","v":""},{"$f":"IF($S251=\"\",\"\",VLOOKUP($S251,'FO-DRE-04'!$A$6:$L$301,11,FALSE))","v":""},{"$f":"IF($T251=\"\",\"\",VLOOKUP($T251,'FO-DRE-02'!$A$6:$M$101,2,FALSE))","v":""},{"$f":"IF($T251=\"\",\"\",VLOOKUP($T251,'FO-DRE-02'!$A$6:$M$101,3,FALSE))","v":""},{"$f":"IF($T251=\"\",\"\",VLOOKUP($T251,'FO-DRE-02'!$A$6:$M$101,6,FALSE))","v":""},{"$f":"IF($T251=\"\",\"\",VLOOKUP($T251,'FO-DRE-02'!$A$6:$M$101,4,FALSE))","v":""},{"$f":"IF($T251=\"\",\"\",VLOOKUP($T251,'FO-DRE-02'!$A$6:$M$101,5,FALSE))","v":""},{"$f":"IF($T251=\"\",\"\",VLOOKUP($T251,'FO-DRE-02'!$A$6:$M$101,8,FALSE))","v":""},{"$f":"IF($T251=\"\",\"\",VLOOKUP($T251,'FO-DRE-02'!$A$6:$M$101,7,FALSE))","v":""},{"$f":"IF($T251=\"\",\"\",VLOOKUP($T251,'FO-DRE-02'!$A$6:$M$101,9,FALSE))","v":""},{"$f":"IF($T251=\"\",\"\",VLOOKUP($T251,'FO-DRE-02'!$A$6:$M$101,11,FALSE))","v":""},{"$f":"IF($T251=\"\",\"\",VLOOKUP($T251,'FO-DRE-02'!$A$6:$M$101,12,FALSE))","v":""},{"$f":"IF($T251=\"\",\"\",VLOOKUP($T251,'FO-DRE-02'!$A$6:$M$101,13,FALSE))","v":""},null,null,null,242,"","F/D","F/D","","","","","","","","","","","","","","",""]
[null,null,null,null,null,null,null,null,{"$f":"IF(H252=\"1a\",Hoja1!$B$126,IF(H252=\"1b\",Hoja1!$B$127,IF(H252=\"2a\",Hoja1!$B$128,IF(H252=\"2b\",Hoja1!$B$129,IF(H252=\"3 \",Hoja1!$B$130,IF(H252=\"4 \",Hoja1!$B$131,IF(H252=\"5 \",Hoja1!$B$132,IF(H252=\"6 \",Hoja1!$B$133,IF(H252=\"7 \",Hoja1!$B$134,IF(H252=\"8 \",Hoja1!$B$135,\" \"))))))))))","v":" "},{"$f":"CONCATENATE(#REF!,\"-\",\"TX\")","v":{"$error":"#REF!"}},{"$f":"CONCATENATE(#REF!,\"-\",\"RX\")","v":{"$error":"#REF!"}},null,null,null,null,0,null,null,null,null,null,{"$f":"IF($R252=\"\",\"\",VLOOKUP($R252,'FO-DRE-01'!$A$7:$U$301,18,FALSE))","v":""},{"$f":"IF($R252=\"\",\"\",VLOOKUP($R252,'FO-DRE-01'!$A$7:$U$301,16,FALSE))","v":""},{"$f":"IF($R252=\"\",\"\",VLOOKUP($R252,'FO-DRE-01'!$A$7:$U$301,17,FALSE))","v":""},{"$f":"IF($R252=\"\",\"\",VLOOKUP($R252,'FO-DRE-01'!$A$7:$U$301,3,FALSE))","v":""},{"$f":"IF($R252=\"\",\"\",VLOOKUP($R252,'FO-DRE-01'!$A$7:$U$301,4,FALSE))","v":""},{"$f":"IF($R252=\"\",\"\",VLOOKUP($R252,'FO-DRE-01'!$A$7:$U$301,5,FALSE))","v":""},{"$f":"IF($R252=\"\",\"\",VLOOKUP($R252,'FO-DRE-01'!$A$7:$U$301,7,FALSE))","v":""},{"$f":"IF($R252=\"\",\"\",VLOOKUP($R252,'FO-DRE-01'!$A$7:$U$301,8,FALSE))","v":""},{"$f":"IF($R252=\"\",\"\",VLOOKUP($R252,'FO-DRE-01'!$A$7:$U$301,9,FALSE))","v":""},{"$f":"IF($R252=\"\",\"\",VLOOKUP($R252,'FO-DRE-01'!$A$7:$U$301,10,FALSE))","v":""},{"$f":"IF($R252=\"\",\"\",VLOOKUP($R252,'FO-DRE-01'!$A$7:$U$301,11,FALSE))","v":""},{"$f":"IF($R252=\"\",\"\",VLOOKUP($R252,'FO-DRE-01'!$A$7:$U$301,12,FALSE))","v":""},{"$f":"IF($R252=\"\",\"\",VLOOKUP($R252,'FO-DRE-01'!$A$7:$U$301,13,FALSE))","v":""},{"$f":"IF($R252=\"\",\"\",VLOOKUP($R252,'FO-DRE-01'!$A$7:$U$301,14,FALSE))","v":""},{"$f":"IF($R252=\"\",\"\",VLOOKUP($R252,'FO-DRE-01'!$A$7:$U$301,15,FALSE))","v":""},{"$f":"IF($S252=\"\",\"\",VLOOKUP($S252,'FO-DRE-04'!$A$6:$L$301,2,FALSE))","v":""},{"$f":"IF($S252=\"\",\"\",VLOOKUP($S252,'FO-DRE-04'!$A$6:$L$301,3,FALSE))","v":""},{"$f":"IF($S252=\"\",\"\",VLOOKUP($S252,'FO-DRE-04'!$A$6:$L$301,4,FALSE))","v":""},{"$f":"IF($S252=\"\",\"\",VLOOKUP($S252,'FO-DRE-04'!$A$6:$L$301,6,FALSE))","v":""},{"$f":"IF($S252=\"\",\"\",VLOOKUP($S252,'FO-DRE-04'!$A$6:$L$301,11,FALSE))","v":""},{"$f":"IF($T252=\"\",\"\",VLOOKUP($T252,'FO-DRE-02'!$A$6:$M$101,2,FALSE))","v":""},{"$f":"IF($T252=\"\",\"\",VLOOKUP($T252,'FO-DRE-02'!$A$6:$M$101,3,FALSE))","v":""},{"$f":"IF($T252=\"\",\"\",VLOOKUP($T252,'FO-DRE-02'!$A$6:$M$101,6,FALSE))","v":""},{"$f":"IF($T252=\"\",\"\",VLOOKUP($T252,'FO-DRE-02'!$A$6:$M$101,4,FALSE))","v":""},{"$f":"IF($T252=\"\",\"\",VLOOKUP($T252,'FO-DRE-02'!$A$6:$M$101,5,FALSE))","v":""},{"$f":"IF($T252=\"\",\"\",VLOOKUP($T252,'FO-DRE-02'!$A$6:$M$101,8,FALSE))","v":""},{"$f":"IF($T252=\"\",\"\",VLOOKUP($T252,'FO-DRE-02'!$A$6:$M$101,7,FALSE))","v":""},{"$f":"IF($T252=\"\",\"\",VLOOKUP($T252,'FO-DRE-02'!$A$6:$M$101,9,FALSE))","v":""},{"$f":"IF($T252=\"\",\"\",VLOOKUP($T252,'FO-DRE-02'!$A$6:$M$101,11,FALSE))","v":""},{"$f":"IF($T252=\"\",\"\",VLOOKUP($T252,'FO-DRE-02'!$A$6:$M$101,12,FALSE))","v":""},{"$f":"IF($T252=\"\",\"\",VLOOKUP($T252,'FO-DRE-02'!$A$6:$M$101,13,FALSE))","v":""},null,null,null,243,"","F/D","F/D","","","","","","","","","","","","","","",""]
[null,null,null,null,null,null,null,null,{"$f":"IF(H253=\"1a\",Hoja1!$B$126,IF(H253=\"1b\",Hoja1!$B$127,IF(H253=\"2a\",Hoja1!$B$128,IF(H253=\"2b\",Hoja1!$B$129,IF(H253=\"3 \",Hoja1!$B$130,IF(H253=\"4 \",Hoja1!$B$131,IF(H253=\"5 \",Hoja1!$B$132,IF(H253=\"6 \",Hoja1!$B$133,IF(H253=\"7 \",Hoja1!$B$134,IF(H253=\"8 \",Hoja1!$B$135,\" \"))))))))))","v":" "},{"$f":"CONCATENATE(#REF!,\"-\",\"TX\")","v":{"$error":"#REF!"}},{"$f":"CONCATENATE(#REF!,\"-\",\"RX\")","v":{"$error":"#REF!"}},null,null,null,null,0,null,null,null,null,null,{"$f":"IF($R253=\"\",\"\",VLOOKUP($R253,'FO-DRE-01'!$A$7:$U$301,18,FALSE))","v":""},{"$f":"IF($R253=\"\",\"\",VLOOKUP($R253,'FO-DRE-01'!$A$7:$U$301,16,FALSE))","v":""},{"$f":"IF($R253=\"\",\"\",VLOOKUP($R253,'FO-DRE-01'!$A$7:$U$301,17,FALSE))","v":""},{"$f":"IF($R253=\"\",\"\",VLOOKUP($R253,'FO-DRE-01'!$A$7:$U$301,3,FALSE))","v":""},{"$f":"IF($R253=\"\",\"\",VLOOKUP($R253,'FO-DRE-01'!$A$7:$U$301,4,FALSE))","v":""},{"$f":"IF($R253=\"\",\"\",VLOOKUP($R253,'FO-DRE-01'!$A$7:$U$301,5,FALSE))","v":""},{"$f":"IF($R253=\"\",\"\",VLOOKUP($R253,'FO-DRE-01'!$A$7:$U$301,7,FALSE))","v":""},{"$f":"IF($R253=\"\",\"\",VLOOKUP($R253,'FO-DRE-01'!$A$7:$U$301,8,FALSE))","v":""},{"$f":"IF($R253=\"\",\"\",VLOOKUP($R253,'FO-DRE-01'!$A$7:$U$301,9,FALSE))","v":""},{"$f":"IF($R253=\"\",\"\",VLOOKUP($R253,'FO-DRE-01'!$A$7:$U$301,10,FALSE))","v":""},{"$f":"IF($R253=\"\",\"\",VLOOKUP($R253,'FO-DRE-01'!$A$7:$U$301,11,FALSE))","v":""},{"$f":"IF($R253=\"\",\"\",VLOOKUP($R253,'FO-DRE-01'!$A$7:$U$301,12,FALSE))","v":""},{"$f":"IF($R253=\"\",\"\",VLOOKUP($R253,'FO-DRE-01'!$A$7:$U$301,13,FALSE))","v":""},{"$f":"IF($R253=\"\",\"\",VLOOKUP($R253,'FO-DRE-01'!$A$7:$U$301,14,FALSE))","v":""},{"$f":"IF($R253=\"\",\"\",VLOOKUP($R253,'FO-DRE-01'!$A$7:$U$301,15,FALSE))","v":""},{"$f":"IF($S253=\"\",\"\",VLOOKUP($S253,'FO-DRE-04'!$A$6:$L$301,2,FALSE))","v":""},{"$f":"IF($S253=\"\",\"\",VLOOKUP($S253,'FO-DRE-04'!$A$6:$L$301,3,FALSE))","v":""},{"$f":"IF($S253=\"\",\"\",VLOOKUP($S253,'FO-DRE-04'!$A$6:$L$301,4,FALSE))","v":""},{"$f":"IF($S253=\"\",\"\",VLOOKUP($S253,'FO-DRE-04'!$A$6:$L$301,6,FALSE))","v":""},{"$f":"IF($S253=\"\",\"\",VLOOKUP($S253,'FO-DRE-04'!$A$6:$L$301,11,FALSE))","v":""},{"$f":"IF($T253=\"\",\"\",VLOOKUP($T253,'FO-DRE-02'!$A$6:$M$101,2,FALSE))","v":""},{"$f":"IF($T253=\"\",\"\",VLOOKUP($T253,'FO-DRE-02'!$A$6:$M$101,3,FALSE))","v":""},{"$f":"IF($T253=\"\",\"\",VLOOKUP($T253,'FO-DRE-02'!$A$6:$M$101,6,FALSE))","v":""},{"$f":"IF($T253=\"\",\"\",VLOOKUP($T253,'FO-DRE-02'!$A$6:$M$101,4,FALSE))","v":""},{"$f":"IF($T253=\"\",\"\",VLOOKUP($T253,'FO-DRE-02'!$A$6:$M$101,5,FALSE))","v":""},{"$f":"IF($T253=\"\",\"\",VLOOKUP($T253,'FO-DRE-02'!$A$6:$M$101,8,FALSE))","v":""},{"$f":"IF($T253=\"\",\"\",VLOOKUP($T253,'FO-DRE-02'!$A$6:$M$101,7,FALSE))","v":""},{"$f":"IF($T253=\"\",\"\",VLOOKUP($T253,'FO-DRE-02'!$A$6:$M$101,9,FALSE))","v":""},{"$f":"IF($T253=\"\",\"\",VLOOKUP($T253,'FO-DRE-02'!$A$6:$M$101,11,FALSE))","v":""},{"$f":"IF($T253=\"\",\"\",VLOOKUP($T253,'FO-DRE-02'!$A$6:$M$101,12,FALSE))","v":""},{"$f":"IF($T253=\"\",\"\",VLOOKUP($T253,'FO-DRE-02'!$A$6:$M$101,13,FALSE))","v":""},null,null,null,244,"","F/D","F/D","","","","","","","","","","","","","","",""]
[null,null,null,null,null,null,null,null,{"$f":"IF(H254=\"1a\",Hoja1!$B$126,IF(H254=\"1b\",Hoja1!$B$127,IF(H254=\"2a\",Hoja1!$B$128,IF(H254=\"2b\",Hoja1!$B$129,IF(H254=\"3 \",Hoja1!$B$130,IF(H254=\"4 \",Hoja1!$B$131,IF(H254=\"5 \",Hoja1!$B$132,IF(H254=\"6 \",Hoja1!$B$133,IF(H254=\"7 \",Hoja1!$B$134,IF(H254=\"8 \",Hoja1!$B$135,\" \"))))))))))","v":" "},{"$f":"CONCATENATE(#REF!,\"-\",\"TX\")","v":{"$error":"#REF!"}},{"$f":"CONCATENATE(#REF!,\"-\",\"RX\")","v":{"$error":"#REF!"}},null,null,null,null,0,null,null,null,null,null,{"$f":"IF($R254=\"\",\"\",VLOOKUP($R254,'FO-DRE-01'!$A$7:$U$301,18,FALSE))","v":""},{"$f":"IF($R254=\"\",\"\",VLOOKUP($R254,'FO-DRE-01'!$A$7:$U$301,16,FALSE))","v":""},{"$f":"IF($R254=\"\",\"\",VLOOKUP($R254,'FO-DRE-01'!$A$7:$U$301,17,FALSE))","v":""},{"$f":"IF($R254=\"\",\"\",VLOOKUP($R254,'FO-DRE-01'!$A$7:$U$301,3,FALSE))","v":""},{"$f":"IF($R254=\"\",\"\",VLOOKUP($R254,'FO-DRE-01'!$A$7:$U$301,4,FALSE))","v":""},{"$f":"IF($R254=\"\",\"\",VLOOKUP($R254,'FO-DRE-01'!$A$7:$U$301,5,FALSE))","v":""},{"$f":"IF($R254=\"\",\"\",VLOOKUP($R254,'FO-DRE-01'!$A$7:$U$301,7,FALSE))","v":""},{"$f":"IF($R254=\"\",\"\",VLOOKUP($R254,'FO-DRE-01'!$A$7:$U$301,8,FALSE))","v":""},{"$f":"IF($R254=\"\",\"\",VLOOKUP($R254,'FO-DRE-01'!$A$7:$U$301,9,FALSE))","v":""},{"$f":"IF($R254=\"\",\"\",VLOOKUP($R254,'FO-DRE-01'!$A$7:$U$301,10,FALSE))","v":""},{"$f":"IF($R254=\"\",\"\",VLOOKUP($R254,'FO-DRE-01'!$A$7:$U$301,11,FALSE))","v":""},{"$f":"IF($R254=\"\",\"\",VLOOKUP($R254,'FO-DRE-01'!$A$7:$U$301,12,FALSE))","v":""},{"$f":"IF($R254=\"\",\"\",VLOOKUP($R254,'FO-DRE-01'!$A$7:$U$301,13,FALSE))","v":""},{"$f":"IF($R254=\"\",\"\",VLOOKUP($R254,'FO-DRE-01'!$A$7:$U$301,14,FALSE))","v":""},{"$f":"IF($R254=\"\",\"\",VLOOKUP($R254,'FO-DRE-01'!$A$7:$U$301,15,FALSE))","v":""},{"$f":"IF($S254=\"\",\"\",VLOOKUP($S254,'FO-DRE-04'!$A$6:$L$301,2,FALSE))","v":""},{"$f":"IF($S254=\"\",\"\",VLOOKUP($S254,'FO-DRE-04'!$A$6:$L$301,3,FALSE))","v":""},{"$f":"IF($S254=\"\",\"\",VLOOKUP($S254,'FO-DRE-04'!$A$6:$L$301,4,FALSE))","v":""},{"$f":"IF($S254=\"\",\"\",VLOOKUP($S254,'FO-DRE-04'!$A$6:$L$301,6,FALSE))","v":""},{"$f":"IF($S254=\"\",\"\",VLOOKUP($S254,'FO-DRE-04'!$A$6:$L$301,11,FALSE))","v":""},{"$f":"IF($T254=\"\",\"\",VLOOKUP($T254,'FO-DRE-02'!$A$6:$M$101,2,FALSE))","v":""},{"$f":"IF($T254=\"\",\"\",VLOOKUP($T254,'FO-DRE-02'!$A$6:$M$101,3,FALSE))","v":""},{"$f":"IF($T254=\"\",\"\",VLOOKUP($T254,'FO-DRE-02'!$A$6:$M$101,6,FALSE))","v":""},{"$f":"IF($T254=\"\",\"\",VLOOKUP($T254,'FO-DRE-02'!$A$6:$M$101,4,FALSE))","v":""},{"$f":"IF($T254=\"\",\"\",VLOOKUP($T254,'FO-DRE-02'!$A$6:$M$101,5,FALSE))","v":""},{"$f":"IF($T254=\"\",\"\",VLOOKUP($T254,'FO-DRE-02'!$A$6:$M$101,8,FALSE))","v":""},{"$f":"IF($T254=\"\",\"\",VLOOKUP($T254,'FO-DRE-02'!$A$6:$M$101,7,FALSE))","v":""},{"$f":"IF($T254=\"\",\"\",VLOOKUP($T254,'FO-DRE-02'!$A$6:$M$101,9,FALSE))","v":""},{"$f":"IF($T254=\"\",\"\",VLOOKUP($T254,'FO-DRE-02'!$A$6:$M$101,11,FALSE))","v":""},{"$f":"IF($T254=\"\",\"\",VLOOKUP($T254,'FO-DRE-02'!$A$6:$M$101,12,FALSE))","v":""},{"$f":"IF($T254=\"\",\"\",VLOOKUP($T254,'FO-DRE-02'!$A$6:$M$101,13,FALSE))","v":""},null,null,null,245,"","F/D","F/D","","","","","","","","","","","","","","",""]
[null,null,null,null,null,null,null,null,{"$f":"IF(H255=\"1a\",Hoja1!$B$126,IF(H255=\"1b\",Hoja1!$B$127,IF(H255=\"2a\",Hoja1!$B$128,IF(H255=\"2b\",Hoja1!$B$129,IF(H255=\"3 \",Hoja1!$B$130,IF(H255=\"4 \",Hoja1!$B$131,IF(H255=\"5 \",Hoja1!$B$132,IF(H255=\"6 \",Hoja1!$B$133,IF(H255=\"7 \",Hoja1!$B$134,IF(H255=\"8 \",Hoja1!$B$135,\" \"))))))))))","v":" "},{"$f":"CONCATENATE(#REF!,\"-\",\"TX\")","v":{"$error":"#REF!"}},{"$f":"CONCATENATE(#REF!,\"-\",\"RX\")","v":{"$error":"#REF!"}},null,null,null,null,0,null,null,null,null,null,{"$f":"IF($R255=\"\",\"\",VLOOKUP($R255,'FO-DRE-01'!$A$7:$U$301,18,FALSE))","v":""},{"$f":"IF($R255=\"\",\"\",VLOOKUP($R255,'FO-DRE-01'!$A$7:$U$301,16,FALSE))","v":""},{"$f":"IF($R255=\"\",\"\",VLOOKUP($R255,'FO-DRE-01'!$A$7:$U$301,17,FALSE))","v":""},{"$f":"IF($R255=\"\",\"\",VLOOKUP($R255,'FO-DRE-01'!$A$7:$U$301,3,FALSE))","v":""},{"$f":"IF($R255=\"\",\"\",VLOOKUP($R255,'FO-DRE-01'!$A$7:$U$301,4,FALSE))","v":""},{"$f":"IF($R255=\"\",\"\",VLOOKUP($R255,'FO-DRE-01'!$A$7:$U$301,5,FALSE))","v":""},{"$f":"IF($R255=\"\",\"\",VLOOKUP($R255,'FO-DRE-01'!$A$7:$U$301,7,FALSE))","v":""},{"$f":"IF($R255=\"\",\"\",VLOOKUP($R255,'FO-DRE-01'!$A$7:$U$301,8,FALSE))","v":""},{"$f":"IF($R255=\"\",\"\",VLOOKUP($R255,'FO-DRE-01'!$A$7:$U$301,9,FALSE))","v":""},{"$f":"IF($R255=\"\",\"\",VLOOKUP($R255,'FO-DRE-01'!$A$7:$U$301,10,FALSE))","v":""},{"$f":"IF($R255=\"\",\"\",VLOOKUP($R255,'FO-DRE-01'!$A$7:$U$301,11,FALSE))","v":""},{"$f":"IF($R255=\"\",\"\",VLOOKUP($R255,'FO-DRE-01'!$A$7:$U$301,12,FALSE))","v":""},{"$f":"IF($R255=\"\",\"\",VLOOKUP($R255,'FO-DRE-01'!$A$7:$U$301,13,FALSE))","v":""},{"$f":"IF($R255=\"\",\"\",VLOOKUP($R255,'FO-DRE-01'!$A$7:$U$301,14,FALSE))","v":""},{"$f":"IF($R255=\"\",\"\",VLOOKUP($R255,'FO-DRE-01'!$A$7:$U$301,15,FALSE))","v":""},{"$f":"IF($S255=\"\",\"\",VLOOKUP($S255,'FO-DRE-04'!$A$6:$L$301,2,FALSE))","v":""},{"$f":"IF($S255=\"\",\"\",VLOOKUP($S255,'FO-DRE-04'!$A$6:$L$301,3,FALSE))","v":""},{"$f":"IF($S255=\"\",\"\",VLOOKUP($S255,'FO-DRE-04'!$A$6:$L$301,4,FALSE))","v":""},{"$f":"IF($S255=\"\",\"\",VLOOKUP($S255,'FO-DRE-04'!$A$6:$L$301,6,FALSE))","v":""},{"$f":"IF($S255=\"\",\"\",VLOOKUP($S255,'FO-DRE-04'!$A$6:$L$301,11,FALSE))","v":""},{"$f":"IF($T255=\"\",\"\",VLOOKUP($T255,'FO-DRE-02'!$A$6:$M$101,2,FALSE))","v":""},{"$f":"IF($T255=\"\",\"\",VLOOKUP($T255,'FO-DRE-02'!$A$6:$M$101,3,FALSE))","v":""},{"$f":"IF($T255=\"\",\"\",VLOOKUP($T255,'FO-DRE-02'!$A$6:$M$101,6,FALSE))","v":""},{"$f":"IF($T255=\"\",\"\",VLOOKUP($T255,'FO-DRE-02'!$A$6:$M$101,4,FALSE))","v":""},{"$f":"IF($T255=\"\",\"\",VLOOKUP($T255,'FO-DRE-02'!$A$6:$M$101,5,FALSE))","v":""},{"$f":"IF($T255=\"\",\"\",VLOOKUP($T255,'FO-DRE-02'!$A$6:$M$101,8,FALSE))","v":""},{"$f":"IF($T255=\"\",\"\",VLOOKUP($T255,'FO-DRE-02'!$A$6:$M$101,7,FALSE))","v":""},{"$f":"IF($T255=\"\",\"\",VLOOKUP($T255,'FO-DRE-02'!$A$6:$M$101,9,FALSE))","v":""},{"$f":"IF($T255=\"\",\"\",VLOOKUP($T255,'FO-DRE-02'!$A$6:$M$101,11,FALSE))","v":""},{"$f":"IF($T255=\"\",\"\",VLOOKUP($T255,'FO-DRE-02'!$A$6:$M$101,12,FALSE))","v":""},{"$f":"IF($T255=\"\",\"\",VLOOKUP($T255,'FO-DRE-02'!$A$6:$M$101,13,FALSE))","v":""},null,null,null,246,"","F/D","F/D","","","","","","","","","","","","","","",""]
[null,null,null,null,null,null,null,null,{"$f":"IF(H256=\"1a\",Hoja1!$B$126,IF(H256=\"1b\",Hoja1!$B$127,IF(H256=\"2a\",Hoja1!$B$128,IF(H256=\"2b\",Hoja1!$B$129,IF(H256=\"3 \",Hoja1!$B$130,IF(H256=\"4 \",Hoja1!$B$131,IF(H256=\"5 \",Hoja1!$B$132,IF(H256=\"6 \",Hoja1!$B$133,IF(H256=\"7 \",Hoja1!$B$134,IF(H256=\"8 \",Hoja1!$B$135,\" \"))))))))))","v":" "},{"$f":"CONCATENATE(#REF!,\"-\",\"TX\")","v":{"$error":"#REF!"}},{"$f":"CONCATENATE(#REF!,\"-\",\"RX\")","v":{"$error":"#REF!"}},null,null,null,null,0,null,null,null,null,null,{"$f":"IF($R256=\"\",\"\",VLOOKUP($R256,'FO-DRE-01'!$A$7:$U$301,18,FALSE))","v":""},{"$f":"IF($R256=\"\",\"\",VLOOKUP($R256,'FO-DRE-01'!$A$7:$U$301,16,FALSE))","v":""},{"$f":"IF($R256=\"\",\"\",VLOOKUP($R256,'FO-DRE-01'!$A$7:$U$301,17,FALSE))","v":""},{"$f":"IF($R256=\"\",\"\",VLOOKUP($R256,'FO-DRE-01'!$A$7:$U$301,3,FALSE))","v":""},{"$f":"IF($R256=\"\",\"\",VLOOKUP($R256,'FO-DRE-01'!$A$7:$U$301,4,FALSE))","v":""},{"$f":"IF($R256=\"\",\"\",VLOOKUP($R256,'FO-DRE-01'!$A$7:$U$301,5,FALSE))","v":""},{"$f":"IF($R256=\"\",\"\",VLOOKUP($R256,'FO-DRE-01'!$A$7:$U$301,7,FALSE))","v":""},{"$f":"IF($R256=\"\",\"\",VLOOKUP($R256,'FO-DRE-01'!$A$7:$U$301,8,FALSE))","v":""},{"$f":"IF($R256=\"\",\"\",VLOOKUP($R256,'FO-DRE-01'!$A$7:$U$301,9,FALSE))","v":""},{"$f":"IF($R256=\"\",\"\",VLOOKUP($R256,'FO-DRE-01'!$A$7:$U$301,10,FALSE))","v":""},{"$f":"IF($R256=\"\",\"\",VLOOKUP($R256,'FO-DRE-01'!$A$7:$U$301,11,FALSE))","v":""},{"$f":"IF($R256=\"\",\"\",VLOOKUP($R256,'FO-DRE-01'!$A$7:$U$301,12,FALSE))","v":""},{"$f":"IF($R256=\"\",\"\",VLOOKUP($R256,'FO-DRE-01'!$A$7:$U$301,13,FALSE))","v":""},{"$f":"IF($R256=\"\",\"\",VLOOKUP($R256,'FO-DRE-01'!$A$7:$U$301,14,FALSE))","v":""},{"$f":"IF($R256=\"\",\"\",VLOOKUP($R256,'FO-DRE-01'!$A$7:$U$301,15,FALSE))","v":""},{"$f":"IF($S256=\"\",\"\",VLOOKUP($S256,'FO-DRE-04'!$A$6:$L$301,2,FALSE))","v":""},{"$f":"IF($S256=\"\",\"\",VLOOKUP($S256,'FO-DRE-04'!$A$6:$L$301,3,FALSE))","v":""},{"$f":"IF($S256=\"\",\"\",VLOOKUP($S256,'FO-DRE-04'!$A$6:$L$301,4,FALSE))","v":""},{"$f":"IF($S256=\"\",\"\",VLOOKUP($S256,'FO-DRE-04'!$A$6:$L$301,6,FALSE))","v":""},{"$f":"IF($S256=\"\",\"\",VLOOKUP($S256,'FO-DRE-04'!$A$6:$L$301,11,FALSE))","v":""},{"$f":"IF($T256=\"\",\"\",VLOOKUP($T256,'FO-DRE-02'!$A$6:$M$101,2,FALSE))","v":""},{"$f":"IF($T256=\"\",\"\",VLOOKUP($T256,'FO-DRE-02'!$A$6:$M$101,3,FALSE))","v":""},{"$f":"IF($T256=\"\",\"\",VLOOKUP($T256,'FO-DRE-02'!$A$6:$M$101,6,FALSE))","v":""},{"$f":"IF($T256=\"\",\"\",VLOOKUP($T256,'FO-DRE-02'!$A$6:$M$101,4,FALSE))","v":""},{"$f":"IF($T256=\"\",\"\",VLOOKUP($T256,'FO-DRE-02'!$A$6:$M$101,5,FALSE))","v":""},{"$f":"IF($T256=\"\",\"\",VLOOKUP($T256,'FO-DRE-02'!$A$6:$M$101,8,FALSE))","v":""},{"$f":"IF($T256=\"\",\"\",VLOOKUP($T256,'FO-DRE-02'!$A$6:$M$101,7,FALSE))","v":""},{"$f":"IF($T256=\"\",\"\",VLOOKUP($T256,'FO-DRE-02'!$A$6:$M$101,9,FALSE))","v":""},{"$f":"IF($T256=\"\",\"\",VLOOKUP($T256,'FO-DRE-02'!$A$6:$M$101,11,FALSE))","v":""},{"$f":"IF($T256=\"\",\"\",VLOOKUP($T256,'FO-DRE-02'!$A$6:$M$101,12,FALSE))","v":""},{"$f":"IF($T256=\"\",\"\",VLOOKUP($T256,'FO-DRE-02'!$A$6:$M$101,13,FALSE))","v":""},null,null,null,247,"","F/D","F/D","","","","","","","","","","","","","","",""]
[null,null,null,null,null,null,null,null,{"$f":"IF(H257=\"1a\",Hoja1!$B$126,IF(H257=\"1b\",Hoja1!$B$127,IF(H257=\"2a\",Hoja1!$B$128,IF(H257=\"2b\",Hoja1!$B$129,IF(H257=\"3 \",Hoja1!$B$130,IF(H257=\"4 \",Hoja1!$B$131,IF(H257=\"5 \",Hoja1!$B$132,IF(H257=\"6 \",Hoja1!$B$133,IF(H257=\"7 \",Hoja1!$B$134,IF(H257=\"8 \",Hoja1!$B$135,\" \"))))))))))","v":" "},{"$f":"CONCATENATE(#REF!,\"-\",\"TX\")","v":{"$error":"#REF!"}},{"$f":"CONCATENATE(#REF!,\"-\",\"RX\")","v":{"$error":"#REF!"}},null,null,null,null,0,null,null,null,null,null,{"$f":"IF($R257=\"\",\"\",VLOOKUP($R257,'FO-DRE-01'!$A$7:$U$301,18,FALSE))","v":""},{"$f":"IF($R257=\"\",\"\",VLOOKUP($R257,'FO-DRE-01'!$A$7:$U$301,16,FALSE))","v":""},{"$f":"IF($R257=\"\",\"\",VLOOKUP($R257,'FO-DRE-01'!$A$7:$U$301,17,FALSE))","v":""},{"$f":"IF($R257=\"\",\"\",VLOOKUP($R257,'FO-DRE-01'!$A$7:$U$301,3,FALSE))","v":""},{"$f":"IF($R257=\"\",\"\",VLOOKUP($R257,'FO-DRE-01'!$A$7:$U$301,4,FALSE))","v":""},{"$f":"IF($R257=\"\",\"\",VLOOKUP($R257,'FO-DRE-01'!$A$7:$U$301,5,FALSE))","v":""},{"$f":"IF($R257=\"\",\"\",VLOOKUP($R257,'FO-DRE-01'!$A$7:$U$301,7,FALSE))","v":""},{"$f":"IF($R257=\"\",\"\",VLOOKUP($R257,'FO-DRE-01'!$A$7:$U$301,8,FALSE))","v":""},{"$f":"IF($R257=\"\",\"\",VLOOKUP($R257,'FO-DRE-01'!$A$7:$U$301,9,FALSE))","v":""},{"$f":"IF($R257=\"\",\"\",VLOOKUP($R257,'FO-DRE-01'!$A$7:$U$301,10,FALSE))","v":""},{"$f":"IF($R257=\"\",\"\",VLOOKUP($R257,'FO-DRE-01'!$A$7:$U$301,11,FALSE))","v":""},{"$f":"IF($R257=\"\",\"\",VLOOKUP($R257,'FO-DRE-01'!$A$7:$U$301,12,FALSE))","v":""},{"$f":"IF($R257=\"\",\"\",VLOOKUP($R257,'FO-DRE-01'!$A$7:$U$301,13,FALSE))","v":""},{"$f":"IF($R257=\"\",\"\",VLOOKUP($R257,'FO-DRE-01'!$A$7:$U$301,14,FALSE))","v":""},{"$f":"IF($R257=\"\",\"\",VLOOKUP($R257,'FO-DRE-01'!$A$7:$U$301,15,FALSE))","v":""},{"$f":"IF($S257=\"\",\"\",VLOOKUP($S257,'FO-DRE-04'!$A$6:$L$301,2,FALSE))","v":""},{"$f":"IF($S257=\"\",\"\",VLOOKUP($S257,'FO-DRE-04'!$A$6:$L$301,3,FALSE))","v":""},{"$f":"IF($S257=\"\",\"\",VLOOKUP($S257,'FO-DRE-04'!$A$6:$L$301,4,FALSE))","v":""},{"$f":"IF($S257=\"\",\"\",VLOOKUP($S257,'FO-DRE-04'!$A$6:$L$301,6,FALSE))","v":""},{"$f":"IF($S257=\"\",\"\",VLOOKUP($S257,'FO-DRE-04'!$A$6:$L$301,11,FALSE))","v":""},{"$f":"IF($T257=\"\",\"\",VLOOKUP($T257,'FO-DRE-02'!$A$6:$M$101,2,FALSE))","v":""},{"$f":"IF($T257=\"\",\"\",VLOOKUP($T257,'FO-DRE-02'!$A$6:$M$101,3,FALSE))","v":""},{"$f":"IF($T257=\"\",\"\",VLOOKUP($T257,'FO-DRE-02'!$A$6:$M$101,6,FALSE))","v":""},{"$f":"IF($T257=\"\",\"\",VLOOKUP($T257,'FO-DRE-02'!$A$6:$M$101,4,FALSE))","v":""},{"$f":"IF($T257=\"\",\"\",VLOOKUP($T257,'FO-DRE-02'!$A$6:$M$101,5,FALSE))","v":""},{"$f":"IF($T257=\"\",\"\",VLOOKUP($T257,'FO-DRE-02'!$A$6:$M$101,8,FALSE))","v":""},{"$f":"IF($T257=\"\",\"\",VLOOKUP($T257,'FO-DRE-02'!$A$6:$M$101,7,FALSE))","v":""},{"$f":"IF($T257=\"\",\"\",VLOOKUP($T257,'FO-DRE-02'!$A$6:$M$101,9,FALSE))","v":""},{"$f":"IF($T257=\"\",\"\",VLOOKUP($T257,'FO-DRE-02'!$A$6:$M$101,11,FALSE))","v":""},{"$f":"IF($T257=\"\",\"\",VLOOKUP($T257,'FO-DRE-02'!$A$6:$M$101,12,FALSE))","v":""},{"$f":"IF($T257=\"\",\"\",VLOOKUP($T257,'FO-DRE-02'!$A$6:$M$101,13,FALSE))","v":""},null,null,null,248,"","F/D","F/D","","","","","","","","","","","","","","",""]
[null,null,null,null,null,null,null,null,{"$f":"IF(H258=\"1a\",Hoja1!$B$126,IF(H258=\"1b\",Hoja1!$B$127,IF(H258=\"2a\",Hoja1!$B$128,IF(H258=\"2b\",Hoja1!$B$129,IF(H258=\"3 \",Hoja1!$B$130,IF(H258=\"4 \",Hoja1!$B$131,IF(H258=\"5 \",Hoja1!$B$132,IF(H258=\"6 \",Hoja1!$B$133,IF(H258=\"7 \",Hoja1!$B$134,IF(H258=\"8 \",Hoja1!$B$135,\" \"))))))))))","v":" "},{"$f":"CONCATENATE(#REF!,\"-\",\"TX\")","v":{"$error":"#REF!"}},{"$f":"CONCATENATE(#REF!,\"-\",\"RX\")","v":{"$error":"#REF!"}},null,null,null,null,0,null,null,null,null,null,{"$f":"IF($R258=\"\",\"\",VLOOKUP($R258,'FO-DRE-01'!$A$7:$U$301,18,FALSE))","v":""},{"$f":"IF($R258=\"\",\"\",VLOOKUP($R258,'FO-DRE-01'!$A$7:$U$301,16,FALSE))","v":""},{"$f":"IF($R258=\"\",\"\",VLOOKUP($R258,'FO-DRE-01'!$A$7:$U$301,17,FALSE))","v":""},{"$f":"IF($R258=\"\",\"\",VLOOKUP($R258,'FO-DRE-01'!$A$7:$U$301,3,FALSE))","v":""},{"$f":"IF($R258=\"\",\"\",VLOOKUP($R258,'FO-DRE-01'!$A$7:$U$301,4,FALSE))","v":""},{"$f":"IF($R258=\"\",\"\",VLOOKUP($R258,'FO-DRE-01'!$A$7:$U$301,5,FALSE))","v":""},{"$f":"IF($R258=\"\",\"\",VLOOKUP($R258,'FO-DRE-01'!$A$7:$U$301,7,FALSE))","v":""},{"$f":"IF($R258=\"\",\"\",VLOOKUP($R258,'FO-DRE-01'!$A$7:$U$301,8,FALSE))","v":""},{"$f":"IF($R258=\"\",\"\",VLOOKUP($R258,'FO-DRE-01'!$A$7:$U$301,9,FALSE))","v":""},{"$f":"IF($R258=\"\",\"\",VLOOKUP($R258,'FO-DRE-01'!$A$7:$U$301,10,FALSE))","v":""},{"$f":"IF($R258=\"\",\"\",VLOOKUP($R258,'FO-DRE-01'!$A$7:$U$301,11,FALSE))","v":""},{"$f":"IF($R258=\"\",\"\",VLOOKUP($R258,'FO-DRE-01'!$A$7:$U$301,12,FALSE))","v":""},{"$f":"IF($R258=\"\",\"\",VLOOKUP($R258,'FO-DRE-01'!$A$7:$U$301,13,FALSE))","v":""},{"$f":"IF($R258=\"\",\"\",VLOOKUP($R258,'FO-DRE-01'!$A$7:$U$301,14,FALSE))","v":""},{"$f":"IF($R258=\"\",\"\",VLOOKUP($R258,'FO-DRE-01'!$A$7:$U$301,15,FALSE))","v":""},{"$f":"IF($S258=\"\",\"\",VLOOKUP($S258,'FO-DRE-04'!$A$6:$L$301,2,FALSE))","v":""},{"$f":"IF($S258=\"\",\"\",VLOOKUP($S258,'FO-DRE-04'!$A$6:$L$301,3,FALSE))","v":""},{"$f":"IF($S258=\"\",\"\",VLOOKUP($S258,'FO-DRE-04'!$A$6:$L$301,4,FALSE))","v":""},{"$f":"IF($S258=\"\",\"\",VLOOKUP($S258,'FO-DRE-04'!$A$6:$L$301,6,FALSE))","v":""},{"$f":"IF($S258=\"\",\"\",VLOOKUP($S258,'FO-DRE-04'!$A$6:$L$301,11,FALSE))","v":""},{"$f":"IF($T258=\"\",\"\",VLOOKUP($T258,'FO-DRE-02'!$A$6:$M$101,2,FALSE))","v":""},{"$f":"IF($T258=\"\",\"\",VLOOKUP($T258,'FO-DRE-02'!$A$6:$M$101,3,FALSE))","v":""},{"$f":"IF($T258=\"\",\"\",VLOOKUP($T258,'FO-DRE-02'!$A$6:$M$101,6,FALSE))","v":""},{"$f":"IF($T258=\"\",\"\",VLOOKUP($T258,'FO-DRE-02'!$A$6:$M$101,4,FALSE))","v":""},{"$f":"IF($T258=\"\",\"\",VLOOKUP($T258,'FO-DRE-02'!$A$6:$M$101,5,FALSE))","v":""},{"$f":"IF($T258=\"\",\"\",VLOOKUP($T258,'FO-DRE-02'!$A$6:$M$101,8,FALSE))","v":""},{"$f":"IF($T258=\"\",\"\",VLOOKUP($T258,'FO-DRE-02'!$A$6:$M$101,7,FALSE))","v":""},{"$f":"IF($T258=\"\",\"\",VLOOKUP($T258,'FO-DRE-02'!$A$6:$M$101,9,FALSE))","v":""},{"$f":"IF($T258=\"\",\"\",VLOOKUP($T258,'FO-DRE-02'!$A$6:$M$101,11,FALSE))","v":""},{"$f":"IF($T258=\"\",\"\",VLOOKUP($T258,'FO-DRE-02'!$A$6:$M$101,12,FALSE))","v":""},{"$f":"IF($T258=\"\",\"\",VLOOKUP($T258,'FO-DRE-02'!$A$6:$M$101,13,FALSE))","v":""},null,null,null,249,"","F/D","F/D","","","","","","","","","","","","","","",""]
[null,null,null,null,null,null,null,null,{"$f":"IF(H259=\"1a\",Hoja1!$B$126,IF(H259=\"1b\",Hoja1!$B$127,IF(H259=\"2a\",Hoja1!$B$128,IF(H259=\"2b\",Hoja1!$B$129,IF(H259=\"3 \",Hoja1!$B$130,IF(H259=\"4 \",Hoja1!$B$131,IF(H259=\"5 \",Hoja1!$B$132,IF(H259=\"6 \",Hoja1!$B$133,IF(H259=\"7 \",Hoja1!$B$134,IF(H259=\"8 \",Hoja1!$B$135,\" \"))))))))))","v":" "},{"$f":"CONCATENATE(#REF!,\"-\",\"TX\")","v":{"$error":"#REF!"}},{"$f":"CONCATENATE(#REF!,\"-\",\"RX\")","v":{"$error":"#REF!"}},null,null,null,null,0,null,null,null,null,null,{"$f":"IF($R259=\"\",\"\",VLOOKUP($R259,'FO-DRE-01'!$A$7:$U$301,18,FALSE))","v":""},{"$f":"IF($R259=\"\",\"\",VLOOKUP($R259,'FO-DRE-01'!$A$7:$U$301,16,FALSE))","v":""},{"$f":"IF($R259=\"\",\"\",VLOOKUP($R259,'FO-DRE-01'!$A$7:$U$301,17,FALSE))","v":""},{"$f":"IF($R259=\"\",\"\",VLOOKUP($R259,'FO-DRE-01'!$A$7:$U$301,3,FALSE))","v":""},{"$f":"IF($R259=\"\",\"\",VLOOKUP($R259,'FO-DRE-01'!$A$7:$U$301,4,FALSE))","v":""},{"$f":"IF($R259=\"\",\"\",VLOOKUP($R259,'FO-DRE-01'!$A$7:$U$301,5,FALSE))","v":""},{"$f":"IF($R259=\"\",\"\",VLOOKUP($R259,'FO-DRE-01'!$A$7:$U$301,7,FALSE))","v":""},{"$f":"IF($R259=\"\",\"\",VLOOKUP($R259,'FO-DRE-01'!$A$7:$U$301,8,FALSE))","v":""},{"$f":"IF($R259=\"\",\"\",VLOOKUP($R259,'FO-DRE-01'!$A$7:$U$301,9,FALSE))","v":""},{"$f":"IF($R259=\"\",\"\",VLOOKUP($R259,'FO-DRE-01'!$A$7:$U$301,10,FALSE))","v":""},{"$f":"IF($R259=\"\",\"\",VLOOKUP($R259,'FO-DRE-01'!$A$7:$U$301,11,FALSE))","v":""},{"$f":"IF($R259=\"\",\"\",VLOOKUP($R259,'FO-DRE-01'!$A$7:$U$301,12,FALSE))","v":""},{"$f":"IF($R259=\"\",\"\",VLOOKUP($R259,'FO-DRE-01'!$A$7:$U$301,13,FALSE))","v":""},{"$f":"IF($R259=\"\",\"\",VLOOKUP($R259,'FO-DRE-01'!$A$7:$U$301,14,FALSE))","v":""},{"$f":"IF($R259=\"\",\"\",VLOOKUP($R259,'FO-DRE-01'!$A$7:$U$301,15,FALSE))","v":""},{"$f":"IF($S259=\"\",\"\",VLOOKUP($S259,'FO-DRE-04'!$A$6:$L$301,2,FALSE))","v":""},{"$f":"IF($S259=\"\",\"\",VLOOKUP($S259,'FO-DRE-04'!$A$6:$L$301,3,FALSE))","v":""},{"$f":"IF($S259=\"\",\"\",VLOOKUP($S259,'FO-DRE-04'!$A$6:$L$301,4,FALSE))","v":""},{"$f":"IF($S259=\"\",\"\",VLOOKUP($S259,'FO-DRE-04'!$A$6:$L$301,6,FALSE))","v":""},{"$f":"IF($S259=\"\",\"\",VLOOKUP($S259,'FO-DRE-04'!$A$6:$L$301,11,FALSE))","v":""},{"$f":"IF($T259=\"\",\"\",VLOOKUP($T259,'FO-DRE-02'!$A$6:$M$101,2,FALSE))","v":""},{"$f":"IF($T259=\"\",\"\",VLOOKUP($T259,'FO-DRE-02'!$A$6:$M$101,3,FALSE))","v":""},{"$f":"IF($T259=\"\",\"\",VLOOKUP($T259,'FO-DRE-02'!$A$6:$M$101,6,FALSE))","v":""},{"$f":"IF($T259=\"\",\"\",VLOOKUP($T259,'FO-DRE-02'!$A$6:$M$101,4,FALSE))","v":""},{"$f":"IF($T259=\"\",\"\",VLOOKUP($T259,'FO-DRE-02'!$A$6:$M$101,5,FALSE))","v":""},{"$f":"IF($T259=\"\",\"\",VLOOKUP($T259,'FO-DRE-02'!$A$6:$M$101,8,FALSE))","v":""},{"$f":"IF($T259=\"\",\"\",VLOOKUP($T259,'FO-DRE-02'!$A$6:$M$101,7,FALSE))","v":""},{"$f":"IF($T259=\"\",\"\",VLOOKUP($T259,'FO-DRE-02'!$A$6:$M$101,9,FALSE))","v":""},{"$f":"IF($T259=\"\",\"\",VLOOKUP($T259,'FO-DRE-02'!$A$6:$M$101,11,FALSE))","v":""},{"$f":"IF($T259=\"\",\"\",VLOOKUP($T259,'FO-DRE-02'!$A$6:$M$101,12,FALSE))","v":""},{"$f":"IF($T259=\"\",\"\",VLOOKUP($T259,'FO-DRE-02'!$A$6:$M$101,13,FALSE))","v":""},null,null,null,250,"","F/D","F/D","","","","","","","","","","","","","","",""]
[null,null,null,null,null,null,null,null,{"$f":"IF(H260=\"1a\",Hoja1!$B$126,IF(H260=\"1b\",Hoja1!$B$127,IF(H260=\"2a\",Hoja1!$B$128,IF(H260=\"2b\",Hoja1!$B$129,IF(H260=\"3 \",Hoja1!$B$130,IF(H260=\"4 \",Hoja1!$B$131,IF(H260=\"5 \",Hoja1!$B$132,IF(H260=\"6 \",Hoja1!$B$133,IF(H260=\"7 \",Hoja1!$B$134,IF(H260=\"8 \",Hoja1!$B$135,\" \"))))))))))","v":" "},{"$f":"CONCATENATE(#REF!,\"-\",\"TX\")","v":{"$error":"#REF!"}},{"$f":"CONCATENATE(#REF!,\"-\",\"RX\")","v":{"$error":"#REF!"}},null,null,null,null,0,null,null,null,null,null,{"$f":"IF($R260=\"\",\"\",VLOOKUP($R260,'FO-DRE-01'!$A$7:$U$301,18,FALSE))","v":""},{"$f":"IF($R260=\"\",\"\",VLOOKUP($R260,'FO-DRE-01'!$A$7:$U$301,16,FALSE))","v":""},{"$f":"IF($R260=\"\",\"\",VLOOKUP($R260,'FO-DRE-01'!$A$7:$U$301,17,FALSE))","v":""},{"$f":"IF($R260=\"\",\"\",VLOOKUP($R260,'FO-DRE-01'!$A$7:$U$301,3,FALSE))","v":""},{"$f":"IF($R260=\"\",\"\",VLOOKUP($R260,'FO-DRE-01'!$A$7:$U$301,4,FALSE))","v":""},{"$f":"IF($R260=\"\",\"\",VLOOKUP($R260,'FO-DRE-01'!$A$7:$U$301,5,FALSE))","v":""},{"$f":"IF($R260=\"\",\"\",VLOOKUP($R260,'FO-DRE-01'!$A$7:$U$301,7,FALSE))","v":""},{"$f":"IF($R260=\"\",\"\",VLOOKUP($R260,'FO-DRE-01'!$A$7:$U$301,8,FALSE))","v":""},{"$f":"IF($R260=\"\",\"\",VLOOKUP($R260,'FO-DRE-01'!$A$7:$U$301,9,FALSE))","v":""},{"$f":"IF($R260=\"\",\"\",VLOOKUP($R260,'FO-DRE-01'!$A$7:$U$301,10,FALSE))","v":""},{"$f":"IF($R260=\"\",\"\",VLOOKUP($R260,'FO-DRE-01'!$A$7:$U$301,11,FALSE))","v":""},{"$f":"IF($R260=\"\",\"\",VLOOKUP($R260,'FO-DRE-01'!$A$7:$U$301,12,FALSE))","v":""},{"$f":"IF($R260=\"\",\"\",VLOOKUP($R260,'FO-DRE-01'!$A$7:$U$301,13,FALSE))","v":""},{"$f":"IF($R260=\"\",\"\",VLOOKUP($R260,'FO-DRE-01'!$A$7:$U$301,14,FALSE))","v":""},{"$f":"IF($R260=\"\",\"\",VLOOKUP($R260,'FO-DRE-01'!$A$7:$U$301,15,FALSE))","v":""},{"$f":"IF($S260=\"\",\"\",VLOOKUP($S260,'FO-DRE-04'!$A$6:$L$301,2,FALSE))","v":""},{"$f":"IF($S260=\"\",\"\",VLOOKUP($S260,'FO-DRE-04'!$A$6:$L$301,3,FALSE))","v":""},{"$f":"IF($S260=\"\",\"\",VLOOKUP($S260,'FO-DRE-04'!$A$6:$L$301,4,FALSE))","v":""},{"$f":"IF($S260=\"\",\"\",VLOOKUP($S260,'FO-DRE-04'!$A$6:$L$301,6,FALSE))","v":""},{"$f":"IF($S260=\"\",\"\",VLOOKUP($S260,'FO-DRE-04'!$A$6:$L$301,11,FALSE))","v":""},{"$f":"IF($T260=\"\",\"\",VLOOKUP($T260,'FO-DRE-02'!$A$6:$M$101,2,FALSE))","v":""},{"$f":"IF($T260=\"\",\"\",VLOOKUP($T260,'FO-DRE-02'!$A$6:$M$101,3,FALSE))","v":""},{"$f":"IF($T260=\"\",\"\",VLOOKUP($T260,'FO-DRE-02'!$A$6:$M$101,6,FALSE))","v":""},{"$f":"IF($T260=\"\",\"\",VLOOKUP($T260,'FO-DRE-02'!$A$6:$M$101,4,FALSE))","v":""},{"$f":"IF($T260=\"\",\"\",VLOOKUP($T260,'FO-DRE-02'!$A$6:$M$101,5,FALSE))","v":""},{"$f":"IF($T260=\"\",\"\",VLOOKUP($T260,'FO-DRE-02'!$A$6:$M$101,8,FALSE))","v":""},{"$f":"IF($T260=\"\",\"\",VLOOKUP($T260,'FO-DRE-02'!$A$6:$M$101,7,FALSE))","v":""},{"$f":"IF($T260=\"\",\"\",VLOOKUP($T260,'FO-DRE-02'!$A$6:$M$101,9,FALSE))","v":""},{"$f":"IF($T260=\"\",\"\",VLOOKUP($T260,'FO-DRE-02'!$A$6:$M$101,11,FALSE))","v":""},{"$f":"IF($T260=\"\",\"\",VLOOKUP($T260,'FO-DRE-02'!$A$6:$M$101,12,FALSE))","v":""},{"$f":"IF($T260=\"\",\"\",VLOOKUP($T260,'FO-DRE-02'!$A$6:$M$101,13,FALSE))","v":""},null,null,null,251,"","F/D","F/D","","","","","","","","","","","","","","",""]
[null,null,null,null,null,null,null,null,{"$f":"IF(H261=\"1a\",Hoja1!$B$126,IF(H261=\"1b\",Hoja1!$B$127,IF(H261=\"2a\",Hoja1!$B$128,IF(H261=\"2b\",Hoja1!$B$129,IF(H261=\"3 \",Hoja1!$B$130,IF(H261=\"4 \",Hoja1!$B$131,IF(H261=\"5 \",Hoja1!$B$132,IF(H261=\"6 \",Hoja1!$B$133,IF(H261=\"7 \",Hoja1!$B$134,IF(H261=\"8 \",Hoja1!$B$135,\" \"))))))))))","v":" "},{"$f":"CONCATENATE(#REF!,\"-\",\"TX\")","v":{"$error":"#REF!"}},{"$f":"CONCATENATE(#REF!,\"-\",\"RX\")","v":{"$error":"#REF!"}},null,null,null,null,0,null,null,null,null,null,{"$f":"IF($R261=\"\",\"\",VLOOKUP($R261,'FO-DRE-01'!$A$7:$U$301,18,FALSE))","v":""},{"$f":"IF($R261=\"\",\"\",VLOOKUP($R261,'FO-DRE-01'!$A$7:$U$301,16,FALSE))","v":""},{"$f":"IF($R261=\"\",\"\",VLOOKUP($R261,'FO-DRE-01'!$A$7:$U$301,17,FALSE))","v":""},{"$f":"IF($R261=\"\",\"\",VLOOKUP($R261,'FO-DRE-01'!$A$7:$U$301,3,FALSE))","v":""},{"$f":"IF($R261=\"\",\"\",VLOOKUP($R261,'FO-DRE-01'!$A$7:$U$301,4,FALSE))","v":""},{"$f":"IF($R261=\"\",\"\",VLOOKUP($R261,'FO-DRE-01'!$A$7:$U$301,5,FALSE))","v":""},{"$f":"IF($R261=\"\",\"\",VLOOKUP($R261,'FO-DRE-01'!$A$7:$U$301,7,FALSE))","v":""},{"$f":"IF($R261=\"\",\"\",VLOOKUP($R261,'FO-DRE-01'!$A$7:$U$301,8,FALSE))","v":""},{"$f":"IF($R261=\"\",\"\",VLOOKUP($R261,'FO-DRE-01'!$A$7:$U$301,9,FALSE))","v":""},{"$f":"IF($R261=\"\",\"\",VLOOKUP($R261,'FO-DRE-01'!$A$7:$U$301,10,FALSE))","v":""},{"$f":"IF($R261=\"\",\"\",VLOOKUP($R261,'FO-DRE-01'!$A$7:$U$301,11,FALSE))","v":""},{"$f":"IF($R261=\"\",\"\",VLOOKUP($R261,'FO-DRE-01'!$A$7:$U$301,12,FALSE))","v":""},{"$f":"IF($R261=\"\",\"\",VLOOKUP($R261,'FO-DRE-01'!$A$7:$U$301,13,FALSE))","v":""},{"$f":"IF($R261=\"\",\"\",VLOOKUP($R261,'FO-DRE-01'!$A$7:$U$301,14,FALSE))","v":""},{"$f":"IF($R261=\"\",\"\",VLOOKUP($R261,'FO-DRE-01'!$A$7:$U$301,15,FALSE))","v":""},{"$f":"IF($S261=\"\",\"\",VLOOKUP($S261,'FO-DRE-04'!$A$6:$L$301,2,FALSE))","v":""},{"$f":"IF($S261=\"\",\"\",VLOOKUP($S261,'FO-DRE-04'!$A$6:$L$301,3,FALSE))","v":""},{"$f":"IF($S261=\"\",\"\",VLOOKUP($S261,'FO-DRE-04'!$A$6:$L$301,4,FALSE))","v":""},{"$f":"IF($S261=\"\",\"\",VLOOKUP($S261,'FO-DRE-04'!$A$6:$L$301,6,FALSE))","v":""},{"$f":"IF($S261=\"\",\"\",VLOOKUP($S261,'FO-DRE-04'!$A$6:$L$301,11,FALSE))","v":""},{"$f":"IF($T261=\"\",\"\",VLOOKUP($T261,'FO-DRE-02'!$A$6:$M$101,2,FALSE))","v":""},{"$f":"IF($T261=\"\",\"\",VLOOKUP($T261,'FO-DRE-02'!$A$6:$M$101,3,FALSE))","v":""},{"$f":"IF($T261=\"\",\"\",VLOOKUP($T261,'FO-DRE-02'!$A$6:$M$101,6,FALSE))","v":""},{"$f":"IF($T261=\"\",\"\",VLOOKUP($T261,'FO-DRE-02'!$A$6:$M$101,4,FALSE))","v":""},{"$f":"IF($T261=\"\",\"\",VLOOKUP($T261,'FO-DRE-02'!$A$6:$M$101,5,FALSE))","v":""},{"$f":"IF($T261=\"\",\"\",VLOOKUP($T261,'FO-DRE-02'!$A$6:$M$101,8,FALSE))","v":""},{"$f":"IF($T261=\"\",\"\",VLOOKUP($T261,'FO-DRE-02'!$A$6:$M$101,7,FALSE))","v":""},{"$f":"IF($T261=\"\",\"\",VLOOKUP($T261,'FO-DRE-02'!$A$6:$M$101,9,FALSE))","v":""},{"$f":"IF($T261=\"\",\"\",VLOOKUP($T261,'FO-DRE-02'!$A$6:$M$101,11,FALSE))","v":""},{"$f":"IF($T261=\"\",\"\",VLOOKUP($T261,'FO-DRE-02'!$A$6:$M$101,12,FALSE))","v":""},{"$f":"IF($T261=\"\",\"\",VLOOKUP($T261,'FO-DRE-02'!$A$6:$M$101,13,FALSE))","v":""},null,null,null,252,"","F/D","F/D","","","","","","","","","","","","","","",""]
[null,null,null,null,null,null,null,null,{"$f":"IF(H262=\"1a\",Hoja1!$B$126,IF(H262=\"1b\",Hoja1!$B$127,IF(H262=\"2a\",Hoja1!$B$128,IF(H262=\"2b\",Hoja1!$B$129,IF(H262=\"3 \",Hoja1!$B$130,IF(H262=\"4 \",Hoja1!$B$131,IF(H262=\"5 \",Hoja1!$B$132,IF(H262=\"6 \",Hoja1!$B$133,IF(H262=\"7 \",Hoja1!$B$134,IF(H262=\"8 \",Hoja1!$B$135,\" \"))))))))))","v":" "},{"$f":"CONCATENATE(#REF!,\"-\",\"TX\")","v":{"$error":"#REF!"}},{"$f":"CONCATENATE(#REF!,\"-\",\"RX\")","v":{"$error":"#REF!"}},null,null,null,null,0,null,null,null,null,null,{"$f":"IF($R262=\"\",\"\",VLOOKUP($R262,'FO-DRE-01'!$A$7:$U$301,18,FALSE))","v":""},{"$f":"IF($R262=\"\",\"\",VLOOKUP($R262,'FO-DRE-01'!$A$7:$U$301,16,FALSE))","v":""},{"$f":"IF($R262=\"\",\"\",VLOOKUP($R262,'FO-DRE-01'!$A$7:$U$301,17,FALSE))","v":""},{"$f":"IF($R262=\"\",\"\",VLOOKUP($R262,'FO-DRE-01'!$A$7:$U$301,3,FALSE))","v":""},{"$f":"IF($R262=\"\",\"\",VLOOKUP($R262,'FO-DRE-01'!$A$7:$U$301,4,FALSE))","v":""},{"$f":"IF($R262=\"\",\"\",VLOOKUP($R262,'FO-DRE-01'!$A$7:$U$301,5,FALSE))","v":""},{"$f":"IF($R262=\"\",\"\",VLOOKUP($R262,'FO-DRE-01'!$A$7:$U$301,7,FALSE))","v":""},{"$f":"IF($R262=\"\",\"\",VLOOKUP($R262,'FO-DRE-01'!$A$7:$U$301,8,FALSE))","v":""},{"$f":"IF($R262=\"\",\"\",VLOOKUP($R262,'FO-DRE-01'!$A$7:$U$301,9,FALSE))","v":""},{"$f":"IF($R262=\"\",\"\",VLOOKUP($R262,'FO-DRE-01'!$A$7:$U$301,10,FALSE))","v":""},{"$f":"IF($R262=\"\",\"\",VLOOKUP($R262,'FO-DRE-01'!$A$7:$U$301,11,FALSE))","v":""},{"$f":"IF($R262=\"\",\"\",VLOOKUP($R262,'FO-DRE-01'!$A$7:$U$301,12,FALSE))","v":""},{"$f":"IF($R262=\"\",\"\",VLOOKUP($R262,'FO-DRE-01'!$A$7:$U$301,13,FALSE))","v":""},{"$f":"IF($R262=\"\",\"\",VLOOKUP($R262,'FO-DRE-01'!$A$7:$U$301,14,FALSE))","v":""},{"$f":"IF($R262=\"\",\"\",VLOOKUP($R262,'FO-DRE-01'!$A$7:$U$301,15,FALSE))","v":""},{"$f":"IF($S262=\"\",\"\",VLOOKUP($S262,'FO-DRE-04'!$A$6:$L$301,2,FALSE))","v":""},{"$f":"IF($S262=\"\",\"\",VLOOKUP($S262,'FO-DRE-04'!$A$6:$L$301,3,FALSE))","v":""},{"$f":"IF($S262=\"\",\"\",VLOOKUP($S262,'FO-DRE-04'!$A$6:$L$301,4,FALSE))","v":""},{"$f":"IF($S262=\"\",\"\",VLOOKUP($S262,'FO-DRE-04'!$A$6:$L$301,6,FALSE))","v":""},{"$f":"IF($S262=\"\",\"\",VLOOKUP($S262,'FO-DRE-04'!$A$6:$L$301,11,FALSE))","v":""},{"$f":"IF($T262=\"\",\"\",VLOOKUP($T262,'FO-DRE-02'!$A$6:$M$101,2,FALSE))","v":""},{"$f":"IF($T262=\"\",\"\",VLOOKUP($T262,'FO-DRE-02'!$A$6:$M$101,3,FALSE))","v":""},{"$f":"IF($T262=\"\",\"\",VLOOKUP($T262,'FO-DRE-02'!$A$6:$M$101,6,FALSE))","v":""},{"$f":"IF($T262=\"\",\"\",VLOOKUP($T262,'FO-DRE-02'!$A$6:$M$101,4,FALSE))","v":""},{"$f":"IF($T262=\"\",\"\",VLOOKUP($T262,'FO-DRE-02'!$A$6:$M$101,5,FALSE))","v":""},{"$f":"IF($T262=\"\",\"\",VLOOKUP($T262,'FO-DRE-02'!$A$6:$M$101,8,FALSE))","v":""},{"$f":"IF($T262=\"\",\"\",VLOOKUP($T262,'FO-DRE-02'!$A$6:$M$101,7,FALSE))","v":""},{"$f":"IF($T262=\"\",\"\",VLOOKUP($T262,'FO-DRE-02'!$A$6:$M$101,9,FALSE))","v":""},{"$f":"IF($T262=\"\",\"\",VLOOKUP($T262,'FO-DRE-02'!$A$6:$M$101,11,FALSE))","v":""},{"$f":"IF($T262=\"\",\"\",VLOOKUP($T262,'FO-DRE-02'!$A$6:$M$101,12,FALSE))","v":""},{"$f":"IF($T262=\"\",\"\",VLOOKUP($T262,'FO-DRE-02'!$A$6:$M$101,13,FALSE))","v":""},null,null,null,253,"","F/D","F/D","","","","","","","","","","","","","","",""]
[null,null,null,null,null,null,null,null,{"$f":"IF(H263=\"1a\",Hoja1!$B$126,IF(H263=\"1b\",Hoja1!$B$127,IF(H263=\"2a\",Hoja1!$B$128,IF(H263=\"2b\",Hoja1!$B$129,IF(H263=\"3 \",Hoja1!$B$130,IF(H263=\"4 \",Hoja1!$B$131,IF(H263=\"5 \",Hoja1!$B$132,IF(H263=\"6 \",Hoja1!$B$133,IF(H263=\"7 \",Hoja1!$B$134,IF(H263=\"8 \",Hoja1!$B$135,\" \"))))))))))","v":" "},{"$f":"CONCATENATE(#REF!,\"-\",\"TX\")","v":{"$error":"#REF!"}},{"$f":"CONCATENATE(#REF!,\"-\",\"RX\")","v":{"$error":"#REF!"}},null,null,null,null,0,null,null,null,null,null,{"$f":"IF($R263=\"\",\"\",VLOOKUP($R263,'FO-DRE-01'!$A$7:$U$301,18,FALSE))","v":""},{"$f":"IF($R263=\"\",\"\",VLOOKUP($R263,'FO-DRE-01'!$A$7:$U$301,16,FALSE))","v":""},{"$f":"IF($R263=\"\",\"\",VLOOKUP($R263,'FO-DRE-01'!$A$7:$U$301,17,FALSE))","v":""},{"$f":"IF($R263=\"\",\"\",VLOOKUP($R263,'FO-DRE-01'!$A$7:$U$301,3,FALSE))","v":""},{"$f":"IF($R263=\"\",\"\",VLOOKUP($R263,'FO-DRE-01'!$A$7:$U$301,4,FALSE))","v":""},{"$f":"IF($R263=\"\",\"\",VLOOKUP($R263,'FO-DRE-01'!$A$7:$U$301,5,FALSE))","v":""},{"$f":"IF($R263=\"\",\"\",VLOOKUP($R263,'FO-DRE-01'!$A$7:$U$301,7,FALSE))","v":""},{"$f":"IF($R263=\"\",\"\",VLOOKUP($R263,'FO-DRE-01'!$A$7:$U$301,8,FALSE))","v":""},{"$f":"IF($R263=\"\",\"\",VLOOKUP($R263,'FO-DRE-01'!$A$7:$U$301,9,FALSE))","v":""},{"$f":"IF($R263=\"\",\"\",VLOOKUP($R263,'FO-DRE-01'!$A$7:$U$301,10,FALSE))","v":""},{"$f":"IF($R263=\"\",\"\",VLOOKUP($R263,'FO-DRE-01'!$A$7:$U$301,11,FALSE))","v":""},{"$f":"IF($R263=\"\",\"\",VLOOKUP($R263,'FO-DRE-01'!$A$7:$U$301,12,FALSE))","v":""},{"$f":"IF($R263=\"\",\"\",VLOOKUP($R263,'FO-DRE-01'!$A$7:$U$301,13,FALSE))","v":""},{"$f":"IF($R263=\"\",\"\",VLOOKUP($R263,'FO-DRE-01'!$A$7:$U$301,14,FALSE))","v":""},{"$f":"IF($R263=\"\",\"\",VLOOKUP($R263,'FO-DRE-01'!$A$7:$U$301,15,FALSE))","v":""},{"$f":"IF($S263=\"\",\"\",VLOOKUP($S263,'FO-DRE-04'!$A$6:$L$301,2,FALSE))","v":""},{"$f":"IF($S263=\"\",\"\",VLOOKUP($S263,'FO-DRE-04'!$A$6:$L$301,3,FALSE))","v":""},{"$f":"IF($S263=\"\",\"\",VLOOKUP($S263,'FO-DRE-04'!$A$6:$L$301,4,FALSE))","v":""},{"$f":"IF($S263=\"\",\"\",VLOOKUP($S263,'FO-DRE-04'!$A$6:$L$301,6,FALSE))","v":""},{"$f":"IF($S263=\"\",\"\",VLOOKUP($S263,'FO-DRE-04'!$A$6:$L$301,11,FALSE))","v":""},{"$f":"IF($T263=\"\",\"\",VLOOKUP($T263,'FO-DRE-02'!$A$6:$M$101,2,FALSE))","v":""},{"$f":"IF($T263=\"\",\"\",VLOOKUP($T263,'FO-DRE-02'!$A$6:$M$101,3,FALSE))","v":""},{"$f":"IF($T263=\"\",\"\",VLOOKUP($T263,'FO-DRE-02'!$A$6:$M$101,6,FALSE))","v":""},{"$f":"IF($T263=\"\",\"\",VLOOKUP($T263,'FO-DRE-02'!$A$6:$M$101,4,FALSE))","v":""},{"$f":"IF($T263=\"\",\"\",VLOOKUP($T263,'FO-DRE-02'!$A$6:$M$101,5,FALSE))","v":""},{"$f":"IF($T263=\"\",\"\",VLOOKUP($T263,'FO-DRE-02'!$A$6:$M$101,8,FALSE))","v":""},{"$f":"IF($T263=\"\",\"\",VLOOKUP($T263,'FO-DRE-02'!$A$6:$M$101,7,FALSE))","v":""},{"$f":"IF($T263=\"\",\"\",VLOOKUP($T263,'FO-DRE-02'!$A$6:$M$101,9,FALSE))","v":""},{"$f":"IF($T263=\"\",\"\",VLOOKUP($T263,'FO-DRE-02'!$A$6:$M$101,11,FALSE))","v":""},{"$f":"IF($T263=\"\",\"\",VLOOKUP($T263,'FO-DRE-02'!$A$6:$M$101,12,FALSE))","v":""},{"$f":"IF($T263=\"\",\"\",VLOOKUP($T263,'FO-DRE-02'!$A$6:$M$101,13,FALSE))","v":""},null,null,null,254,"","F/D","F/D","","","","","","","","","","","","","","",""]
[null,null,null,null,null,null,null,null,{"$f":"IF(H264=\"1a\",Hoja1!$B$126,IF(H264=\"1b\",Hoja1!$B$127,IF(H264=\"2a\",Hoja1!$B$128,IF(H264=\"2b\",Hoja1!$B$129,IF(H264=\"3 \",Hoja1!$B$130,IF(H264=\"4 \",Hoja1!$B$131,IF(H264=\"5 \",Hoja1!$B$132,IF(H264=\"6 \",Hoja1!$B$133,IF(H264=\"7 \",Hoja1!$B$134,IF(H264=\"8 \",Hoja1!$B$135,\" \"))))))))))","v":" "},{"$f":"CONCATENATE(#REF!,\"-\",\"TX\")","v":{"$error":"#REF!"}},{"$f":"CONCATENATE(#REF!,\"-\",\"RX\")","v":{"$error":"#REF!"}},null,null,null,null,0,null,null,null,null,null,{"$f":"IF($R264=\"\",\"\",VLOOKUP($R264,'FO-DRE-01'!$A$7:$U$301,18,FALSE))","v":""},{"$f":"IF($R264=\"\",\"\",VLOOKUP($R264,'FO-DRE-01'!$A$7:$U$301,16,FALSE))","v":""},{"$f":"IF($R264=\"\",\"\",VLOOKUP($R264,'FO-DRE-01'!$A$7:$U$301,17,FALSE))","v":""},{"$f":"IF($R264=\"\",\"\",VLOOKUP($R264,'FO-DRE-01'!$A$7:$U$301,3,FALSE))","v":""},{"$f":"IF($R264=\"\",\"\",VLOOKUP($R264,'FO-DRE-01'!$A$7:$U$301,4,FALSE))","v":""},{"$f":"IF($R264=\"\",\"\",VLOOKUP($R264,'FO-DRE-01'!$A$7:$U$301,5,FALSE))","v":""},{"$f":"IF($R264=\"\",\"\",VLOOKUP($R264,'FO-DRE-01'!$A$7:$U$301,7,FALSE))","v":""},{"$f":"IF($R264=\"\",\"\",VLOOKUP($R264,'FO-DRE-01'!$A$7:$U$301,8,FALSE))","v":""},{"$f":"IF($R264=\"\",\"\",VLOOKUP($R264,'FO-DRE-01'!$A$7:$U$301,9,FALSE))","v":""},{"$f":"IF($R264=\"\",\"\",VLOOKUP($R264,'FO-DRE-01'!$A$7:$U$301,10,FALSE))","v":""},{"$f":"IF($R264=\"\",\"\",VLOOKUP($R264,'FO-DRE-01'!$A$7:$U$301,11,FALSE))","v":""},{"$f":"IF($R264=\"\",\"\",VLOOKUP($R264,'FO-DRE-01'!$A$7:$U$301,12,FALSE))","v":""},{"$f":"IF($R264=\"\",\"\",VLOOKUP($R264,'FO-DRE-01'!$A$7:$U$301,13,FALSE))","v":""},{"$f":"IF($R264=\"\",\"\",VLOOKUP($R264,'FO-DRE-01'!$A$7:$U$301,14,FALSE))","v":""},{"$f":"IF($R264=\"\",\"\",VLOOKUP($R264,'FO-DRE-01'!$A$7:$U$301,15,FALSE))","v":""},{"$f":"IF($S264=\"\",\"\",VLOOKUP($S264,'FO-DRE-04'!$A$6:$L$301,2,FALSE))","v":""},{"$f":"IF($S264=\"\",\"\",VLOOKUP($S264,'FO-DRE-04'!$A$6:$L$301,3,FALSE))","v":""},{"$f":"IF($S264=\"\",\"\",VLOOKUP($S264,'FO-DRE-04'!$A$6:$L$301,4,FALSE))","v":""},{"$f":"IF($S264=\"\",\"\",VLOOKUP($S264,'FO-DRE-04'!$A$6:$L$301,6,FALSE))","v":""},{"$f":"IF($S264=\"\",\"\",VLOOKUP($S264,'FO-DRE-04'!$A$6:$L$301,11,FALSE))","v":""},{"$f":"IF($T264=\"\",\"\",VLOOKUP($T264,'FO-DRE-02'!$A$6:$M$101,2,FALSE))","v":""},{"$f":"IF($T264=\"\",\"\",VLOOKUP($T264,'FO-DRE-02'!$A$6:$M$101,3,FALSE))","v":""},{"$f":"IF($T264=\"\",\"\",VLOOKUP($T264,'FO-DRE-02'!$A$6:$M$101,6,FALSE))","v":""},{"$f":"IF($T264=\"\",\"\",VLOOKUP($T264,'FO-DRE-02'!$A$6:$M$101,4,FALSE))","v":""},{"$f":"IF($T264=\"\",\"\",VLOOKUP($T264,'FO-DRE-02'!$A$6:$M$101,5,FALSE))","v":""},{"$f":"IF($T264=\"\",\"\",VLOOKUP($T264,'FO-DRE-02'!$A$6:$M$101,8,FALSE))","v":""},{"$f":"IF($T264=\"\",\"\",VLOOKUP($T264,'FO-DRE-02'!$A$6:$M$101,7,FALSE))","v":""},{"$f":"IF($T264=\"\",\"\",VLOOKUP($T264,'FO-DRE-02'!$A$6:$M$101,9,FALSE))","v":""},{"$f":"IF($T264=\"\",\"\",VLOOKUP($T264,'FO-DRE-02'!$A$6:$M$101,11,FALSE))","v":""},{"$f":"IF($T264=\"\",\"\",VLOOKUP($T264,'FO-DRE-02'!$A$6:$M$101,12,FALSE))","v":""},{"$f":"IF($T264=\"\",\"\",VLOOKUP($T264,'FO-DRE-02'!$A$6:$M$101,13,FALSE))","v":""},null,null,null,255,"","F/D","F/D","","","","","","","","","","","","","","",""]
[null,null,null,null,null,null,null,null,{"$f":"IF(H265=\"1a\",Hoja1!$B$126,IF(H265=\"1b\",Hoja1!$B$127,IF(H265=\"2a\",Hoja1!$B$128,IF(H265=\"2b\",Hoja1!$B$129,IF(H265=\"3 \",Hoja1!$B$130,IF(H265=\"4 \",Hoja1!$B$131,IF(H265=\"5 \",Hoja1!$B$132,IF(H265=\"6 \",Hoja1!$B$133,IF(H265=\"7 \",Hoja1!$B$134,IF(H265=\"8 \",Hoja1!$B$135,\" \"))))))))))","v":" "},{"$f":"CONCATENATE(#REF!,\"-\",\"TX\")","v":{"$error":"#REF!"}},{"$f":"CONCATENATE(#REF!,\"-\",\"RX\")","v":{"$error":"#REF!"}},null,null,null,null,0,null,null,null,null,null,{"$f":"IF($R265=\"\",\"\",VLOOKUP($R265,'FO-DRE-01'!$A$7:$U$301,18,FALSE))","v":""},{"$f":"IF($R265=\"\",\"\",VLOOKUP($R265,'FO-DRE-01'!$A$7:$U$301,16,FALSE))","v":""},{"$f":"IF($R265=\"\",\"\",VLOOKUP($R265,'FO-DRE-01'!$A$7:$U$301,17,FALSE))","v":""},{"$f":"IF($R265=\"\",\"\",VLOOKUP($R265,'FO-DRE-01'!$A$7:$U$301,3,FALSE))","v":""},{"$f":"IF($R265=\"\",\"\",VLOOKUP($R265,'FO-DRE-01'!$A$7:$U$301,4,FALSE))","v":""},{"$f":"IF($R265=\"\",\"\",VLOOKUP($R265,'FO-DRE-01'!$A$7:$U$301,5,FALSE))","v":""},{"$f":"IF($R265=\"\",\"\",VLOOKUP($R265,'FO-DRE-01'!$A$7:$U$301,7,FALSE))","v":""},{"$f":"IF($R265=\"\",\"\",VLOOKUP($R265,'FO-DRE-01'!$A$7:$U$301,8,FALSE))","v":""},{"$f":"IF($R265=\"\",\"\",VLOOKUP($R265,'FO-DRE-01'!$A$7:$U$301,9,FALSE))","v":""},{"$f":"IF($R265=\"\",\"\",VLOOKUP($R265,'FO-DRE-01'!$A$7:$U$301,10,FALSE))","v":""},{"$f":"IF($R265=\"\",\"\",VLOOKUP($R265,'FO-DRE-01'!$A$7:$U$301,11,FALSE))","v":""},{"$f":"IF($R265=\"\",\"\",VLOOKUP($R265,'FO-DRE-01'!$A$7:$U$301,12,FALSE))","v":""},{"$f":"IF($R265=\"\",\"\",VLOOKUP($R265,'FO-DRE-01'!$A$7:$U$301,13,FALSE))","v":""},{"$f":"IF($R265=\"\",\"\",VLOOKUP($R265,'FO-DRE-01'!$A$7:$U$301,14,FALSE))","v":""},{"$f":"IF($R265=\"\",\"\",VLOOKUP($R265,'FO-DRE-01'!$A$7:$U$301,15,FALSE))","v":""},{"$f":"IF($S265=\"\",\"\",VLOOKUP($S265,'FO-DRE-04'!$A$6:$L$301,2,FALSE))","v":""},{"$f":"IF($S265=\"\",\"\",VLOOKUP($S265,'FO-DRE-04'!$A$6:$L$301,3,FALSE))","v":""},{"$f":"IF($S265=\"\",\"\",VLOOKUP($S265,'FO-DRE-04'!$A$6:$L$301,4,FALSE))","v":""},{"$f":"IF($S265=\"\",\"\",VLOOKUP($S265,'FO-DRE-04'!$A$6:$L$301,6,FALSE))","v":""},{"$f":"IF($S265=\"\",\"\",VLOOKUP($S265,'FO-DRE-04'!$A$6:$L$301,11,FALSE))","v":""},{"$f":"IF($T265=\"\",\"\",VLOOKUP($T265,'FO-DRE-02'!$A$6:$M$101,2,FALSE))","v":""},{"$f":"IF($T265=\"\",\"\",VLOOKUP($T265,'FO-DRE-02'!$A$6:$M$101,3,FALSE))","v":""},{"$f":"IF($T265=\"\",\"\",VLOOKUP($T265,'FO-DRE-02'!$A$6:$M$101,6,FALSE))","v":""},{"$f":"IF($T265=\"\",\"\",VLOOKUP($T265,'FO-DRE-02'!$A$6:$M$101,4,FALSE))","v":""},{"$f":"IF($T265=\"\",\"\",VLOOKUP($T265,'FO-DRE-02'!$A$6:$M$101,5,FALSE))","v":""},{"$f":"IF($T265=\"\",\"\",VLOOKUP($T265,'FO-DRE-02'!$A$6:$M$101,8,FALSE))","v":""},{"$f":"IF($T265=\"\",\"\",VLOOKUP($T265,'FO-DRE-02'!$A$6:$M$101,7,FALSE))","v":""},{"$f":"IF($T265=\"\",\"\",VLOOKUP($T265,'FO-DRE-02'!$A$6:$M$101,9,FALSE))","v":""},{"$f":"IF($T265=\"\",\"\",VLOOKUP($T265,'FO-DRE-02'!$A$6:$M$101,11,FALSE))","v":""},{"$f":"IF($T265=\"\",\"\",VLOOKUP($T265,'FO-DRE-02'!$A$6:$M$101,12,FALSE))","v":""},{"$f":"IF($T265=\"\",\"\",VLOOKUP($T265,'FO-DRE-02'!$A$6:$M$101,13,FALSE))","v":""},null,null,null,256,"","F/D","F/D","","","","","","","","","","","","","","",""]
[null,null,null,null,null,null,null,null,{"$f":"IF(H266=\"1a\",Hoja1!$B$126,IF(H266=\"1b\",Hoja1!$B$127,IF(H266=\"2a\",Hoja1!$B$128,IF(H266=\"2b\",Hoja1!$B$129,IF(H266=\"3 \",Hoja1!$B$130,IF(H266=\"4 \",Hoja1!$B$131,IF(H266=\"5 \",Hoja1!$B$132,IF(H266=\"6 \",Hoja1!$B$133,IF(H266=\"7 \",Hoja1!$B$134,IF(H266=\"8 \",Hoja1!$B$135,\" \"))))))))))","v":" "},{"$f":"CONCATENATE(#REF!,\"-\",\"TX\")","v":{"$error":"#REF!"}},{"$f":"CONCATENATE(#REF!,\"-\",\"RX\")","v":{"$error":"#REF!"}},null,null,null,null,0,null,null,null,null,null,{"$f":"IF($R266=\"\",\"\",VLOOKUP($R266,'FO-DRE-01'!$A$7:$U$301,18,FALSE))","v":""},{"$f":"IF($R266=\"\",\"\",VLOOKUP($R266,'FO-DRE-01'!$A$7:$U$301,16,FALSE))","v":""},{"$f":"IF($R266=\"\",\"\",VLOOKUP($R266,'FO-DRE-01'!$A$7:$U$301,17,FALSE))","v":""},{"$f":"IF($R266=\"\",\"\",VLOOKUP($R266,'FO-DRE-01'!$A$7:$U$301,3,FALSE))","v":""},{"$f":"IF($R266=\"\",\"\",VLOOKUP($R266,'FO-DRE-01'!$A$7:$U$301,4,FALSE))","v":""},{"$f":"IF($R266=\"\",\"\",VLOOKUP($R266,'FO-DRE-01'!$A$7:$U$301,5,FALSE))","v":""},{"$f":"IF($R266=\"\",\"\",VLOOKUP($R266,'FO-DRE-01'!$A$7:$U$301,7,FALSE))","v":""},{"$f":"IF($R266=\"\",\"\",VLOOKUP($R266,'FO-DRE-01'!$A$7:$U$301,8,FALSE))","v":""},{"$f":"IF($R266=\"\",\"\",VLOOKUP($R266,'FO-DRE-01'!$A$7:$U$301,9,FALSE))","v":""},{"$f":"IF($R266=\"\",\"\",VLOOKUP($R266,'FO-DRE-01'!$A$7:$U$301,10,FALSE))","v":""},{"$f":"IF($R266=\"\",\"\",VLOOKUP($R266,'FO-DRE-01'!$A$7:$U$301,11,FALSE))","v":""},{"$f":"IF($R266=\"\",\"\",VLOOKUP($R266,'FO-DRE-01'!$A$7:$U$301,12,FALSE))","v":""},{"$f":"IF($R266=\"\",\"\",VLOOKUP($R266,'FO-DRE-01'!$A$7:$U$301,13,FALSE))","v":""},{"$f":"IF($R266=\"\",\"\",VLOOKUP($R266,'FO-DRE-01'!$A$7:$U$301,14,FALSE))","v":""},{"$f":"IF($R266=\"\",\"\",VLOOKUP($R266,'FO-DRE-01'!$A$7:$U$301,15,FALSE))","v":""},{"$f":"IF($S266=\"\",\"\",VLOOKUP($S266,'FO-DRE-04'!$A$6:$L$301,2,FALSE))","v":""},{"$f":"IF($S266=\"\",\"\",VLOOKUP($S266,'FO-DRE-04'!$A$6:$L$301,3,FALSE))","v":""},{"$f":"IF($S266=\"\",\"\",VLOOKUP($S266,'FO-DRE-04'!$A$6:$L$301,4,FALSE))","v":""},{"$f":"IF($S266=\"\",\"\",VLOOKUP($S266,'FO-DRE-04'!$A$6:$L$301,6,FALSE))","v":""},{"$f":"IF($S266=\"\",\"\",VLOOKUP($S266,'FO-DRE-04'!$A$6:$L$301,11,FALSE))","v":""},{"$f":"IF($T266=\"\",\"\",VLOOKUP($T266,'FO-DRE-02'!$A$6:$M$101,2,FALSE))","v":""},{"$f":"IF($T266=\"\",\"\",VLOOKUP($T266,'FO-DRE-02'!$A$6:$M$101,3,FALSE))","v":""},{"$f":"IF($T266=\"\",\"\",VLOOKUP($T266,'FO-DRE-02'!$A$6:$M$101,6,FALSE))","v":""},{"$f":"IF($T266=\"\",\"\",VLOOKUP($T266,'FO-DRE-02'!$A$6:$M$101,4,FALSE))","v":""},{"$f":"IF($T266=\"\",\"\",VLOOKUP($T266,'FO-DRE-02'!$A$6:$M$101,5,FALSE))","v":""},{"$f":"IF($T266=\"\",\"\",VLOOKUP($T266,'FO-DRE-02'!$A$6:$M$101,8,FALSE))","v":""},{"$f":"IF($T266=\"\",\"\",VLOOKUP($T266,'FO-DRE-02'!$A$6:$M$101,7,FALSE))","v":""},{"$f":"IF($T266=\"\",\"\",VLOOKUP($T266,'FO-DRE-02'!$A$6:$M$101,9,FALSE))","v":""},{"$f":"IF($T266=\"\",\"\",VLOOKUP($T266,'FO-DRE-02'!$A$6:$M$101,11,FALSE))","v":""},{"$f":"IF($T266=\"\",\"\",VLOOKUP($T266,'FO-DRE-02'!$A$6:$M$101,12,FALSE))","v":""},{"$f":"IF($T266=\"\",\"\",VLOOKUP($T266,'FO-DRE-02'!$A$6:$M$101,13,FALSE))","v":""},null,null,null,257,"",{"$f":"IF(OR($C266=\"\",$AN266=\"\",$AW266=\"\"),\"F/D\",IF(BR266>BH266,\"SI\",\"\"))","v":"F/D"},{"$f":"IF(OR($C266=\"\",$AN266=\"\",$AW266=\"\"),\"F/D\",IF(BR266>BI266,\"SI\",\"\"))","v":"F/D"},{"$f":"IF(D266=\"\",\"\",IF(AND(10<BB266,BB266<=400),10,IF(AND(400<BB266,BB266<=2000),(BB266/40),IF(AND(2000<BB266,B266<=300000),50,0))))","v":""},{"$f":"IF(D266=\"\",\"\",IF(AND(10<BB266,BB266<=400),2,IF(AND(400<BB266,BB266<=2000),(BB266/200),IF(AND(2000<BB266,BB266<=300000),10,0))))","v":""},{"$f":"IF(M266=\"\",\"\",SQRT(POWER($BJ$9,2)+POWER((AZ266-1.5),2)))","v":""},{"$f":"IF(M266=\"\",\"\",SQRT(POWER($BK$9,2)+POWER((AZ266-1.5),2)))","v":""},{"$f":"IF(M266=\"\",\"\",SQRT(POWER($BL$9,2)+POWER((AZ266-1.5),2)))","v":""},{"$f":"IF(M266=\"\",\"\",SQRT(POWER($BM$9,2)+POWER((AZ266-1.5),2)))","v":""},{"$f":"IF(M266=\"\",\"\",SQRT(POWER($BN$9,2)+POWER((AZ266-1.5),2)))","v":""},"",{"$f":"IF(M266=\"\",\"\",POWER(10,(AW266+2.15)/10))","v":""},"",{"$f":"IF(M266=\"\",\"\",$BQ266/(PI()*BJ266^2))","v":""},{"$f":"IF(M266=\"\",\"\",$BQ266/(PI()*BK266^2))","v":""},{"$f":"IF(M266=\"\",\"\",$BQ266/(PI()*BL266^2))","v":""},{"$f":"IF(M266=\"\",\"\",$BQ266/(PI()*BM266^2))","v":""},{"$f":"IF(M266=\"\",\"\",$BQ266/(PI()*BN266^2))","v":""}]
[null,null,null,null,null,null,null,null,{"$f":"IF(H267=\"1a\",Hoja1!$B$126,IF(H267=\"1b\",Hoja1!$B$127,IF(H267=\"2a\",Hoja1!$B$128,IF(H267=\"2b\",Hoja1!$B$129,IF(H267=\"3 \",Hoja1!$B$130,IF(H267=\"4 \",Hoja1!$B$131,IF(H267=\"5 \",Hoja1!$B$132,IF(H267=\"6 \",Hoja1!$B$133,IF(H267=\"7 \",Hoja1!$B$134,IF(H267=\"8 \",Hoja1!$B$135,\" \"))))))))))","v":" "},{"$f":"CONCATENATE(#REF!,\"-\",\"TX\")","v":{"$error":"#REF!"}},{"$f":"CONCATENATE(#REF!,\"-\",\"RX\")","v":{"$error":"#REF!"}},null,null,null,null,0,null,null,null,null,null,{"$f":"IF($R267=\"\",\"\",VLOOKUP($R267,'FO-DRE-01'!$A$7:$U$301,18,FALSE))","v":""},{"$f":"IF($R267=\"\",\"\",VLOOKUP($R267,'FO-DRE-01'!$A$7:$U$301,16,FALSE))","v":""},{"$f":"IF($R267=\"\",\"\",VLOOKUP($R267,'FO-DRE-01'!$A$7:$U$301,17,FALSE))","v":""},{"$f":"IF($R267=\"\",\"\",VLOOKUP($R267,'FO-DRE-01'!$A$7:$U$301,3,FALSE))","v":""},{"$f":"IF($R267=\"\",\"\",VLOOKUP($R267,'FO-DRE-01'!$A$7:$U$301,4,FALSE))","v":""},{"$f":"IF($R267=\"\",\"\",VLOOKUP($R267,'FO-DRE-01'!$A$7:$U$301,5,FALSE))","v":""},{"$f":"IF($R267=\"\",\"\",VLOOKUP($R267,'FO-DRE-01'!$A$7:$U$301,7,FALSE))","v":""},{"$f":"IF($R267=\"\",\"\",VLOOKUP($R267,'FO-DRE-01'!$A$7:$U$301,8,FALSE))","v":""},{"$f":"IF($R267=\"\",\"\",VLOOKUP($R267,'FO-DRE-01'!$A$7:$U$301,9,FALSE))","v":""},{"$f":"IF($R267=\"\",\"\",VLOOKUP($R267,'FO-DRE-01'!$A$7:$U$301,10,FALSE))","v":""},{"$f":"IF($R267=\"\",\"\",VLOOKUP($R267,'FO-DRE-01'!$A$7:$U$301,11,FALSE))","v":""},{"$f":"IF($R267=\"\",\"\",VLOOKUP($R267,'FO-DRE-01'!$A$7:$U$301,12,FALSE))","v":""},{"$f":"IF($R267=\"\",\"\",VLOOKUP($R267,'FO-DRE-01'!$A$7:$U$301,13,FALSE))","v":""},{"$f":"IF($R267=\"\",\"\",VLOOKUP($R267,'FO-DRE-01'!$A$7:$U$301,14,FALSE))","v":""},{"$f":"IF($R267=\"\",\"\",VLOOKUP($R267,'FO-DRE-01'!$A$7:$U$301,15,FALSE))","v":""},{"$f":"IF($S267=\"\",\"\",VLOOKUP($S267,'FO-DRE-04'!$A$6:$L$301,2,FALSE))","v":""},{"$f":"IF($S267=\"\",\"\",VLOOKUP($S267,'FO-DRE-04'!$A$6:$L$301,3,FALSE))","v":""},{"$f":"IF($S267=\"\",\"\",VLOOKUP($S267,'FO-DRE-04'!$A$6:$L$301,4,FALSE))","v":""},{"$f":"IF($S267=\"\",\"\",VLOOKUP($S267,'FO-DRE-04'!$A$6:$L$301,6,FALSE))","v":""},{"$f":"IF($S267=\"\",\"\",VLOOKUP($S267,'FO-DRE-04'!$A$6:$L$301,11,FALSE))","v":""},{"$f":"IF($T267=\"\",\"\",VLOOKUP($T267,'FO-DRE-02'!$A$6:$M$101,2,FALSE))","v":""},{"$f":"IF($T267=\"\",\"\",VLOOKUP($T267,'FO-DRE-02'!$A$6:$M$101,3,FALSE))","v":""},{"$f":"IF($T267=\"\",\"\",VLOOKUP($T267,'FO-DRE-02'!$A$6:$M$101,6,FALSE))","v":""},{"$f":"IF($T267=\"\",\"\",VLOOKUP($T267,'FO-DRE-02'!$A$6:$M$101,4,FALSE))","v":""},{"$f":"IF($T267=\"\",\"\",VLOOKUP($T267,'FO-DRE-02'!$A$6:$M$101,5,FALSE))","v":""},{"$f":"IF($T267=\"\",\"\",VLOOKUP($T267,'FO-DRE-02'!$A$6:$M$101,8,FALSE))","v":""},{"$f":"IF($T267=\"\",\"\",VLOOKUP($T267,'FO-DRE-02'!$A$6:$M$101,7,FALSE))","v":""},{"$f":"IF($T267=\"\",\"\",VLOOKUP($T267,'FO-DRE-02'!$A$6:$M$101,9,FALSE))","v":""},{"$f":"IF($T267=\"\",\"\",VLOOKUP($T267,'FO-DRE-02'!$A$6:$M$101,11,FALSE))","v":""},{"$f":"IF($T267=\"\",\"\",VLOOKUP($T267,'FO-DRE-02'!$A$6:$M$101,12,FALSE))","v":""},{"$f":"IF($T267=\"\",\"\",VLOOKUP($T267,'FO-DRE-02'!$A$6:$M$101,13,FALSE))","v":""},null,null,null,258,"","F/D","F/D","","","","","","","","","","","","","","",""]
[null,null,null,null,null,null,null,null,{"$f":"IF(H268=\"1a\",Hoja1!$B$126,IF(H268=\"1b\",Hoja1!$B$127,IF(H268=\"2a\",Hoja1!$B$128,IF(H268=\"2b\",Hoja1!$B$129,IF(H268=\"3 \",Hoja1!$B$130,IF(H268=\"4 \",Hoja1!$B$131,IF(H268=\"5 \",Hoja1!$B$132,IF(H268=\"6 \",Hoja1!$B$133,IF(H268=\"7 \",Hoja1!$B$134,IF(H268=\"8 \",Hoja1!$B$135,\" \"))))))))))","v":" "},{"$f":"CONCATENATE(#REF!,\"-\",\"TX\")","v":{"$error":"#REF!"}},{"$f":"CONCATENATE(#REF!,\"-\",\"RX\")","v":{"$error":"#REF!"}},null,null,null,null,{"$f":"B268","v":0},null,null,null,null,null,{"$f":"IF($R268=\"\",\"\",VLOOKUP($R268,'FO-DRE-01'!$A$7:$U$301,18,FALSE))","v":""},{"$f":"IF($R268=\"\",\"\",VLOOKUP($R268,'FO-DRE-01'!$A$7:$U$301,16,FALSE))","v":""},{"$f":"IF($R268=\"\",\"\",VLOOKUP($R268,'FO-DRE-01'!$A$7:$U$301,17,FALSE))","v":""},{"$f":"IF($R268=\"\",\"\",VLOOKUP($R268,'FO-DRE-01'!$A$7:$U$301,3,FALSE))","v":""},{"$f":"IF($R268=\"\",\"\",VLOOKUP($R268,'FO-DRE-01'!$A$7:$U$301,4,FALSE))","v":""},{"$f":"IF($R268=\"\",\"\",VLOOKUP($R268,'FO-DRE-01'!$A$7:$U$301,5,FALSE))","v":""},{"$f":"IF($R268=\"\",\"\",VLOOKUP($R268,'FO-DRE-01'!$A$7:$U$301,7,FALSE))","v":""},{"$f":"IF($R268=\"\",\"\",VLOOKUP($R268,'FO-DRE-01'!$A$7:$U$301,8,FALSE))","v":""},{"$f":"IF($R268=\"\",\"\",VLOOKUP($R268,'FO-DRE-01'!$A$7:$U$301,9,FALSE))","v":""},{"$f":"IF($R268=\"\",\"\",VLOOKUP($R268,'FO-DRE-01'!$A$7:$U$301,10,FALSE))","v":""},{"$f":"IF($R268=\"\",\"\",VLOOKUP($R268,'FO-DRE-01'!$A$7:$U$301,11,FALSE))","v":""},{"$f":"IF($R268=\"\",\"\",VLOOKUP($R268,'FO-DRE-01'!$A$7:$U$301,12,FALSE))","v":""},{"$f":"IF($R268=\"\",\"\",VLOOKUP($R268,'FO-DRE-01'!$A$7:$U$301,13,FALSE))","v":""},{"$f":"IF($R268=\"\",\"\",VLOOKUP($R268,'FO-DRE-01'!$A$7:$U$301,14,FALSE))","v":""},{"$f":"IF($R268=\"\",\"\",VLOOKUP($R268,'FO-DRE-01'!$A$7:$U$301,15,FALSE))","v":""},{"$f":"IF($S268=\"\",\"\",VLOOKUP($S268,'FO-DRE-04'!$A$6:$L$301,2,FALSE))","v":""},{"$f":"IF($S268=\"\",\"\",VLOOKUP($S268,'FO-DRE-04'!$A$6:$L$301,3,FALSE))","v":""},{"$f":"IF($S268=\"\",\"\",VLOOKUP($S268,'FO-DRE-04'!$A$6:$L$301,4,FALSE))","v":""},{"$f":"IF($S268=\"\",\"\",VLOOKUP($S268,'FO-DRE-04'!$A$6:$L$301,6,FALSE))","v":""},{"$f":"IF($S268=\"\",\"\",VLOOKUP($S268,'FO-DRE-04'!$A$6:$L$301,11,FALSE))","v":""},{"$f":"IF($T268=\"\",\"\",VLOOKUP($T268,'FO-DRE-02'!$A$6:$M$101,2,FALSE))","v":""},{"$f":"IF($T268=\"\",\"\",VLOOKUP($T268,'FO-DRE-02'!$A$6:$M$101,3,FALSE))","v":""},{"$f":"IF($T268=\"\",\"\",VLOOKUP($T268,'FO-DRE-02'!$A$6:$M$101,6,FALSE))","v":""},{"$f":"IF($T268=\"\",\"\",VLOOKUP($T268,'FO-DRE-02'!$A$6:$M$101,4,FALSE))","v":""},{"$f":"IF($T268=\"\",\"\",VLOOKUP($T268,'FO-DRE-02'!$A$6:$M$101,5,FALSE))","v":""},{"$f":"IF($T268=\"\",\"\",VLOOKUP($T268,'FO-DRE-02'!$A$6:$M$101,8,FALSE))","v":""},{"$f":"IF($T268=\"\",\"\",VLOOKUP($T268,'FO-DRE-02'!$A$6:$M$101,7,FALSE))","v":""},{"$f":"IF($T268=\"\",\"\",VLOOKUP($T268,'FO-DRE-02'!$A$6:$M$101,9,FALSE))","v":""},{"$f":"IF($T268=\"\",\"\",VLOOKUP($T268,'FO-DRE-02'!$A$6:$M$101,11,FALSE))","v":""},{"$f":"IF($T268=\"\",\"\",VLOOKUP($T268,'FO-DRE-02'!$A$6:$M$101,12,FALSE))","v":""},{"$f":"IF($T268=\"\",\"\",VLOOKUP($T268,'FO-DRE-02'!$A$6:$M$101,13,FALSE))","v":""},null,null,null,259,"","F/D","F/D","","","","","","","","","","","","","","",""]
[null,null,null,null,null,null,null,null,{"$f":"IF(H269=\"1a\",Hoja1!$B$126,IF(H269=\"1b\",Hoja1!$B$127,IF(H269=\"2a\",Hoja1!$B$128,IF(H269=\"2b\",Hoja1!$B$129,IF(H269=\"3 \",Hoja1!$B$130,IF(H269=\"4 \",Hoja1!$B$131,IF(H269=\"5 \",Hoja1!$B$132,IF(H269=\"6 \",Hoja1!$B$133,IF(H269=\"7 \",Hoja1!$B$134,IF(H269=\"8 \",Hoja1!$B$135,\" \"))))))))))","v":" "},{"$f":"CONCATENATE(#REF!,\"-\",\"TX\")","v":{"$error":"#REF!"}},{"$f":"CONCATENATE(#REF!,\"-\",\"RX\")","v":{"$error":"#REF!"}},null,null,null,null,0,null,null,null,null,null,{"$f":"IF($R269=\"\",\"\",VLOOKUP($R269,'FO-DRE-01'!$A$7:$U$301,18,FALSE))","v":""},{"$f":"IF($R269=\"\",\"\",VLOOKUP($R269,'FO-DRE-01'!$A$7:$U$301,16,FALSE))","v":""},{"$f":"IF($R269=\"\",\"\",VLOOKUP($R269,'FO-DRE-01'!$A$7:$U$301,17,FALSE))","v":""},{"$f":"IF($R269=\"\",\"\",VLOOKUP($R269,'FO-DRE-01'!$A$7:$U$301,3,FALSE))","v":""},{"$f":"IF($R269=\"\",\"\",VLOOKUP($R269,'FO-DRE-01'!$A$7:$U$301,4,FALSE))","v":""},{"$f":"IF($R269=\"\",\"\",VLOOKUP($R269,'FO-DRE-01'!$A$7:$U$301,5,FALSE))","v":""},{"$f":"IF($R269=\"\",\"\",VLOOKUP($R269,'FO-DRE-01'!$A$7:$U$301,7,FALSE))","v":""},{"$f":"IF($R269=\"\",\"\",VLOOKUP($R269,'FO-DRE-01'!$A$7:$U$301,8,FALSE))","v":""},{"$f":"IF($R269=\"\",\"\",VLOOKUP($R269,'FO-DRE-01'!$A$7:$U$301,9,FALSE))","v":""},{"$f":"IF($R269=\"\",\"\",VLOOKUP($R269,'FO-DRE-01'!$A$7:$U$301,10,FALSE))","v":""},{"$f":"IF($R269=\"\",\"\",VLOOKUP($R269,'FO-DRE-01'!$A$7:$U$301,11,FALSE))","v":""},{"$f":"IF($R269=\"\",\"\",VLOOKUP($R269,'FO-DRE-01'!$A$7:$U$301,12,FALSE))","v":""},{"$f":"IF($R269=\"\",\"\",VLOOKUP($R269,'FO-DRE-01'!$A$7:$U$301,13,FALSE))","v":""},{"$f":"IF($R269=\"\",\"\",VLOOKUP($R269,'FO-DRE-01'!$A$7:$U$301,14,FALSE))","v":""},{"$f":"IF($R269=\"\",\"\",VLOOKUP($R269,'FO-DRE-01'!$A$7:$U$301,15,FALSE))","v":""},{"$f":"IF($S269=\"\",\"\",VLOOKUP($S269,'FO-DRE-04'!$A$6:$L$301,2,FALSE))","v":""},{"$f":"IF($S269=\"\",\"\",VLOOKUP($S269,'FO-DRE-04'!$A$6:$L$301,3,FALSE))","v":""},{"$f":"IF($S269=\"\",\"\",VLOOKUP($S269,'FO-DRE-04'!$A$6:$L$301,4,FALSE))","v":""},{"$f":"IF($S269=\"\",\"\",VLOOKUP($S269,'FO-DRE-04'!$A$6:$L$301,6,FALSE))","v":""},{"$f":"IF($S269=\"\",\"\",VLOOKUP($S269,'FO-DRE-04'!$A$6:$L$301,11,FALSE))","v":""},{"$f":"IF($T269=\"\",\"\",VLOOKUP($T269,'FO-DRE-02'!$A$6:$M$101,2,FALSE))","v":""},{"$f":"IF($T269=\"\",\"\",VLOOKUP($T269,'FO-DRE-02'!$A$6:$M$101,3,FALSE))","v":""},{"$f":"IF($T269=\"\",\"\",VLOOKUP($T269,'FO-DRE-02'!$A$6:$M$101,6,FALSE))","v":""},{"$f":"IF($T269=\"\",\"\",VLOOKUP($T269,'FO-DRE-02'!$A$6:$M$101,4,FALSE))","v":""},{"$f":"IF($T269=\"\",\"\",VLOOKUP($T269,'FO-DRE-02'!$A$6:$M$101,5,FALSE))","v":""},{"$f":"IF($T269=\"\",\"\",VLOOKUP($T269,'FO-DRE-02'!$A$6:$M$101,8,FALSE))","v":""},{"$f":"IF($T269=\"\",\"\",VLOOKUP($T269,'FO-DRE-02'!$A$6:$M$101,7,FALSE))","v":""},{"$f":"IF($T269=\"\",\"\",VLOOKUP($T269,'FO-DRE-02'!$A$6:$M$101,9,FALSE))","v":""},{"$f":"IF($T269=\"\",\"\",VLOOKUP($T269,'FO-DRE-02'!$A$6:$M$101,11,FALSE))","v":""},{"$f":"IF($T269=\"\",\"\",VLOOKUP($T269,'FO-DRE-02'!$A$6:$M$101,12,FALSE))","v":""},{"$f":"IF($T269=\"\",\"\",VLOOKUP($T269,'FO-DRE-02'!$A$6:$M$101,13,FALSE))","v":""},null,null,null,260,"","F/D","F/D","","","","","","","","","","","","","","",""]
[null,null,null,null,null,null,null,null,{"$f":"IF(H270=\"1a\",Hoja1!$B$126,IF(H270=\"1b\",Hoja1!$B$127,IF(H270=\"2a\",Hoja1!$B$128,IF(H270=\"2b\",Hoja1!$B$129,IF(H270=\"3 \",Hoja1!$B$130,IF(H270=\"4 \",Hoja1!$B$131,IF(H270=\"5 \",Hoja1!$B$132,IF(H270=\"6 \",Hoja1!$B$133,IF(H270=\"7 \",Hoja1!$B$134,IF(H270=\"8 \",Hoja1!$B$135,\" \"))))))))))","v":" "},{"$f":"CONCATENATE(#REF!,\"-\",\"TX\")","v":{"$error":"#REF!"}},{"$f":"CONCATENATE(#REF!,\"-\",\"RX\")","v":{"$error":"#REF!"}},null,null,null,null,0,null,null,null,null,null,{"$f":"IF($R270=\"\",\"\",VLOOKUP($R270,'FO-DRE-01'!$A$7:$U$301,18,FALSE))","v":""},{"$f":"IF($R270=\"\",\"\",VLOOKUP($R270,'FO-DRE-01'!$A$7:$U$301,16,FALSE))","v":""},{"$f":"IF($R270=\"\",\"\",VLOOKUP($R270,'FO-DRE-01'!$A$7:$U$301,17,FALSE))","v":""},{"$f":"IF($R270=\"\",\"\",VLOOKUP($R270,'FO-DRE-01'!$A$7:$U$301,3,FALSE))","v":""},{"$f":"IF($R270=\"\",\"\",VLOOKUP($R270,'FO-DRE-01'!$A$7:$U$301,4,FALSE))","v":""},{"$f":"IF($R270=\"\",\"\",VLOOKUP($R270,'FO-DRE-01'!$A$7:$U$301,5,FALSE))","v":""},{"$f":"IF($R270=\"\",\"\",VLOOKUP($R270,'FO-DRE-01'!$A$7:$U$301,7,FALSE))","v":""},{"$f":"IF($R270=\"\",\"\",VLOOKUP($R270,'FO-DRE-01'!$A$7:$U$301,8,FALSE))","v":""},{"$f":"IF($R270=\"\",\"\",VLOOKUP($R270,'FO-DRE-01'!$A$7:$U$301,9,FALSE))","v":""},{"$f":"IF($R270=\"\",\"\",VLOOKUP($R270,'FO-DRE-01'!$A$7:$U$301,10,FALSE))","v":""},{"$f":"IF($R270=\"\",\"\",VLOOKUP($R270,'FO-DRE-01'!$A$7:$U$301,11,FALSE))","v":""},{"$f":"IF($R270=\"\",\"\",VLOOKUP($R270,'FO-DRE-01'!$A$7:$U$301,12,FALSE))","v":""},{"$f":"IF($R270=\"\",\"\",VLOOKUP($R270,'FO-DRE-01'!$A$7:$U$301,13,FALSE))","v":""},{"$f":"IF($R270=\"\",\"\",VLOOKUP($R270,'FO-DRE-01'!$A$7:$U$301,14,FALSE))","v":""},{"$f":"IF($R270=\"\",\"\",VLOOKUP($R270,'FO-DRE-01'!$A$7:$U$301,15,FALSE))","v":""},{"$f":"IF($S270=\"\",\"\",VLOOKUP($S270,'FO-DRE-04'!$A$6:$L$301,2,FALSE))","v":""},{"$f":"IF($S270=\"\",\"\",VLOOKUP($S270,'FO-DRE-04'!$A$6:$L$301,3,FALSE))","v":""},{"$f":"IF($S270=\"\",\"\",VLOOKUP($S270,'FO-DRE-04'!$A$6:$L$301,4,FALSE))","v":""},{"$f":"IF($S270=\"\",\"\",VLOOKUP($S270,'FO-DRE-04'!$A$6:$L$301,6,FALSE))","v":""},{"$f":"IF($S270=\"\",\"\",VLOOKUP($S270,'FO-DRE-04'!$A$6:$L$301,11,FALSE))","v":""},{"$f":"IF($T270=\"\",\"\",VLOOKUP($T270,'FO-DRE-02'!$A$6:$M$101,2,FALSE))","v":""},{"$f":"IF($T270=\"\",\"\",VLOOKUP($T270,'FO-DRE-02'!$A$6:$M$101,3,FALSE))","v":""},{"$f":"IF($T270=\"\",\"\",VLOOKUP($T270,'FO-DRE-02'!$A$6:$M$101,6,FALSE))","v":""},{"$f":"IF($T270=\"\",\"\",VLOOKUP($T270,'FO-DRE-02'!$A$6:$M$101,4,FALSE))","v":""},{"$f":"IF($T270=\"\",\"\",VLOOKUP($T270,'FO-DRE-02'!$A$6:$M$101,5,FALSE))","v":""},{"$f":"IF($T270=\"\",\"\",VLOOKUP($T270,'FO-DRE-02'!$A$6:$M$101,8,FALSE))","v":""},{"$f":"IF($T270=\"\",\"\",VLOOKUP($T270,'FO-DRE-02'!$A$6:$M$101,7,FALSE))","v":""},{"$f":"IF($T270=\"\",\"\",VLOOKUP($T270,'FO-DRE-02'!$A$6:$M$101,9,FALSE))","v":""},{"$f":"IF($T270=\"\",\"\",VLOOKUP($T270,'FO-DRE-02'!$A$6:$M$101,11,FALSE))","v":""},{"$f":"IF($T270=\"\",\"\",VLOOKUP($T270,'FO-DRE-02'!$A$6:$M$101,12,FALSE))","v":""},{"$f":"IF($T270=\"\",\"\",VLOOKUP($T270,'FO-DRE-02'!$A$6:$M$101,13,FALSE))","v":""},null,null,null,261,{"$f":"IF($R270=\"\",\"\",$R270)","v":""},"F/D","F/D","","","","","","","","","","","","","","",""]
[null,null,null,null,null,null,null,null,{"$f":"IF(H271=\"1a\",Hoja1!$B$126,IF(H271=\"1b\",Hoja1!$B$127,IF(H271=\"2a\",Hoja1!$B$128,IF(H271=\"2b\",Hoja1!$B$129,IF(H271=\"3 \",Hoja1!$B$130,IF(H271=\"4 \",Hoja1!$B$131,IF(H271=\"5 \",Hoja1!$B$132,IF(H271=\"6 \",Hoja1!$B$133,IF(H271=\"7 \",Hoja1!$B$134,IF(H271=\"8 \",Hoja1!$B$135,\" \"))))))))))","v":" "},{"$f":"CONCATENATE(#REF!,\"-\",\"TX\")","v":{"$error":"#REF!"}},{"$f":"CONCATENATE(#REF!,\"-\",\"RX\")","v":{"$error":"#REF!"}},null,null,null,null,0,null,null,null,null,null,{"$f":"IF($R271=\"\",\"\",VLOOKUP($R271,'FO-DRE-01'!$A$7:$U$301,18,FALSE))","v":""},{"$f":"IF($R271=\"\",\"\",VLOOKUP($R271,'FO-DRE-01'!$A$7:$U$301,16,FALSE))","v":""},{"$f":"IF($R271=\"\",\"\",VLOOKUP($R271,'FO-DRE-01'!$A$7:$U$301,17,FALSE))","v":""},{"$f":"IF($R271=\"\",\"\",VLOOKUP($R271,'FO-DRE-01'!$A$7:$U$301,3,FALSE))","v":""},{"$f":"IF($R271=\"\",\"\",VLOOKUP($R271,'FO-DRE-01'!$A$7:$U$301,4,FALSE))","v":""},{"$f":"IF($R271=\"\",\"\",VLOOKUP($R271,'FO-DRE-01'!$A$7:$U$301,5,FALSE))","v":""},{"$f":"IF($R271=\"\",\"\",VLOOKUP($R271,'FO-DRE-01'!$A$7:$U$301,7,FALSE))","v":""},{"$f":"IF($R271=\"\",\"\",VLOOKUP($R271,'FO-DRE-01'!$A$7:$U$301,8,FALSE))","v":""},{"$f":"IF($R271=\"\",\"\",VLOOKUP($R271,'FO-DRE-01'!$A$7:$U$301,9,FALSE))","v":""},{"$f":"IF($R271=\"\",\"\",VLOOKUP($R271,'FO-DRE-01'!$A$7:$U$301,10,FALSE))","v":""},{"$f":"IF($R271=\"\",\"\",VLOOKUP($R271,'FO-DRE-01'!$A$7:$U$301,11,FALSE))","v":""},{"$f":"IF($R271=\"\",\"\",VLOOKUP($R271,'FO-DRE-01'!$A$7:$U$301,12,FALSE))","v":""},{"$f":"IF($R271=\"\",\"\",VLOOKUP($R271,'FO-DRE-01'!$A$7:$U$301,13,FALSE))","v":""},{"$f":"IF($R271=\"\",\"\",VLOOKUP($R271,'FO-DRE-01'!$A$7:$U$301,14,FALSE))","v":""},{"$f":"IF($R271=\"\",\"\",VLOOKUP($R271,'FO-DRE-01'!$A$7:$U$301,15,FALSE))","v":""},{"$f":"IF($S271=\"\",\"\",VLOOKUP($S271,'FO-DRE-04'!$A$6:$L$301,2,FALSE))","v":""},{"$f":"IF($S271=\"\",\"\",VLOOKUP($S271,'FO-DRE-04'!$A$6:$L$301,3,FALSE))","v":""},{"$f":"IF($S271=\"\",\"\",VLOOKUP($S271,'FO-DRE-04'!$A$6:$L$301,4,FALSE))","v":""},{"$f":"IF($S271=\"\",\"\",VLOOKUP($S271,'FO-DRE-04'!$A$6:$L$301,6,FALSE))","v":""},{"$f":"IF($S271=\"\",\"\",VLOOKUP($S271,'FO-DRE-04'!$A$6:$L$301,11,FALSE))","v":""},{"$f":"IF($T271=\"\",\"\",VLOOKUP($T271,'FO-DRE-02'!$A$6:$M$101,2,FALSE))","v":""},{"$f":"IF($T271=\"\",\"\",VLOOKUP($T271,'FO-DRE-02'!$A$6:$M$101,3,FALSE))","v":""},{"$f":"IF($T271=\"\",\"\",VLOOKUP($T271,'FO-DRE-02'!$A$6:$M$101,6,FALSE))","v":""},{"$f":"IF($T271=\"\",\"\",VLOOKUP($T271,'FO-DRE-02'!$A$6:$M$101,4,FALSE))","v":""},{"$f":"IF($T271=\"\",\"\",VLOOKUP($T271,'FO-DRE-02'!$A$6:$M$101,5,FALSE))","v":""},{"$f":"IF($T271=\"\",\"\",VLOOKUP($T271,'FO-DRE-02'!$A$6:$M$101,8,FALSE))","v":""},{"$f":"IF($T271=\"\",\"\",VLOOKUP($T271,'FO-DRE-02'!$A$6:$M$101,7,FALSE))","v":""},{"$f":"IF($T271=\"\",\"\",VLOOKUP($T271,'FO-DRE-02'!$A$6:$M$101,9,FALSE))","v":""},{"$f":"IF($T271=\"\",\"\",VLOOKUP($T271,'FO-DRE-02'!$A$6:$M$101,11,FALSE))","v":""},{"$f":"IF($T271=\"\",\"\",VLOOKUP($T271,'FO-DRE-02'!$A$6:$M$101,12,FALSE))","v":""},{"$f":"IF($T271=\"\",\"\",VLOOKUP($T271,'FO-DRE-02'!$A$6:$M$101,13,FALSE))","v":""},null,null,null,262,"","F/D","F/D","","","","","","","","","","","","","","",""]
[null,null,null,null,null,null,null,null,{"$f":"IF(H272=\"1a\",Hoja1!$B$126,IF(H272=\"1b\",Hoja1!$B$127,IF(H272=\"2a\",Hoja1!$B$128,IF(H272=\"2b\",Hoja1!$B$129,IF(H272=\"3 \",Hoja1!$B$130,IF(H272=\"4 \",Hoja1!$B$131,IF(H272=\"5 \",Hoja1!$B$132,IF(H272=\"6 \",Hoja1!$B$133,IF(H272=\"7 \",Hoja1!$B$134,IF(H272=\"8 \",Hoja1!$B$135,\" \"))))))))))","v":" "},{"$f":"CONCATENATE(#REF!,\"-\",\"TX\")","v":{"$error":"#REF!"}},{"$f":"CONCATENATE(#REF!,\"-\",\"RX\")","v":{"$error":"#REF!"}},null,null,null,null,0,null,null,null,null,null,{"$f":"IF($R272=\"\",\"\",VLOOKUP($R272,'FO-DRE-01'!$A$7:$U$301,18,FALSE))","v":""},{"$f":"IF($R272=\"\",\"\",VLOOKUP($R272,'FO-DRE-01'!$A$7:$U$301,16,FALSE))","v":""},{"$f":"IF($R272=\"\",\"\",VLOOKUP($R272,'FO-DRE-01'!$A$7:$U$301,17,FALSE))","v":""},{"$f":"IF($R272=\"\",\"\",VLOOKUP($R272,'FO-DRE-01'!$A$7:$U$301,3,FALSE))","v":""},{"$f":"IF($R272=\"\",\"\",VLOOKUP($R272,'FO-DRE-01'!$A$7:$U$301,4,FALSE))","v":""},{"$f":"IF($R272=\"\",\"\",VLOOKUP($R272,'FO-DRE-01'!$A$7:$U$301,5,FALSE))","v":""},{"$f":"IF($R272=\"\",\"\",VLOOKUP($R272,'FO-DRE-01'!$A$7:$U$301,7,FALSE))","v":""},{"$f":"IF($R272=\"\",\"\",VLOOKUP($R272,'FO-DRE-01'!$A$7:$U$301,8,FALSE))","v":""},{"$f":"IF($R272=\"\",\"\",VLOOKUP($R272,'FO-DRE-01'!$A$7:$U$301,9,FALSE))","v":""},{"$f":"IF($R272=\"\",\"\",VLOOKUP($R272,'FO-DRE-01'!$A$7:$U$301,10,FALSE))","v":""},{"$f":"IF($R272=\"\",\"\",VLOOKUP($R272,'FO-DRE-01'!$A$7:$U$301,11,FALSE))","v":""},{"$f":"IF($R272=\"\",\"\",VLOOKUP($R272,'FO-DRE-01'!$A$7:$U$301,12,FALSE))","v":""},{"$f":"IF($R272=\"\",\"\",VLOOKUP($R272,'FO-DRE-01'!$A$7:$U$301,13,FALSE))","v":""},{"$f":"IF($R272=\"\",\"\",VLOOKUP($R272,'FO-DRE-01'!$A$7:$U$301,14,FALSE))","v":""},{"$f":"IF($R272=\"\",\"\",VLOOKUP($R272,'FO-DRE-01'!$A$7:$U$301,15,FALSE))","v":""},{"$f":"IF($S272=\"\",\"\",VLOOKUP($S272,'FO-DRE-04'!$A$6:$L$301,2,FALSE))","v":""},{"$f":"IF($S272=\"\",\"\",VLOOKUP($S272,'FO-DRE-04'!$A$6:$L$301,3,FALSE))","v":""},{"$f":"IF($S272=\"\",\"\",VLOOKUP($S272,'FO-DRE-04'!$A$6:$L$301,4,FALSE))","v":""},{"$f":"IF($S272=\"\",\"\",VLOOKUP($S272,'FO-DRE-04'!$A$6:$L$301,6,FALSE))","v":""},{"$f":"IF($S272=\"\",\"\",VLOOKUP($S272,'FO-DRE-04'!$A$6:$L$301,11,FALSE))","v":""},{"$f":"IF($T272=\"\",\"\",VLOOKUP($T272,'FO-DRE-02'!$A$6:$M$101,2,FALSE))","v":""},{"$f":"IF($T272=\"\",\"\",VLOOKUP($T272,'FO-DRE-02'!$A$6:$M$101,3,FALSE))","v":""},{"$f":"IF($T272=\"\",\"\",VLOOKUP($T272,'FO-DRE-02'!$A$6:$M$101,6,FALSE))","v":""},{"$f":"IF($T272=\"\",\"\",VLOOKUP($T272,'FO-DRE-02'!$A$6:$M$101,4,FALSE))","v":""},{"$f":"IF($T272=\"\",\"\",VLOOKUP($T272,'FO-DRE-02'!$A$6:$M$101,5,FALSE))","v":""},{"$f":"IF($T272=\"\",\"\",VLOOKUP($T272,'FO-DRE-02'!$A$6:$M$101,8,FALSE))","v":""},{"$f":"IF($T272=\"\",\"\",VLOOKUP($T272,'FO-DRE-02'!$A$6:$M$101,7,FALSE))","v":""},{"$f":"IF($T272=\"\",\"\",VLOOKUP($T272,'FO-DRE-02'!$A$6:$M$101,9,FALSE))","v":""},{"$f":"IF($T272=\"\",\"\",VLOOKUP($T272,'FO-DRE-02'!$A$6:$M$101,11,FALSE))","v":""},{"$f":"IF($T272=\"\",\"\",VLOOKUP($T272,'FO-DRE-02'!$A$6:$M$101,12,FALSE))","v":""},{"$f":"IF($T272=\"\",\"\",VLOOKUP($T272,'FO-DRE-02'!$A$6:$M$101,13,FALSE))","v":""},null,null,null,263,"","F/D","F/D","","","","","","","","","","","","","","",""]
[null,null,null,null,null,null,null,null,{"$f":"IF(H273=\"1a\",Hoja1!$B$126,IF(H273=\"1b\",Hoja1!$B$127,IF(H273=\"2a\",Hoja1!$B$128,IF(H273=\"2b\",Hoja1!$B$129,IF(H273=\"3 \",Hoja1!$B$130,IF(H273=\"4 \",Hoja1!$B$131,IF(H273=\"5 \",Hoja1!$B$132,IF(H273=\"6 \",Hoja1!$B$133,IF(H273=\"7 \",Hoja1!$B$134,IF(H273=\"8 \",Hoja1!$B$135,\" \"))))))))))","v":" "},{"$f":"CONCATENATE(#REF!,\"-\",\"TX\")","v":{"$error":"#REF!"}},{"$f":"CONCATENATE(#REF!,\"-\",\"RX\")","v":{"$error":"#REF!"}},null,null,null,null,0,null,null,null,null,null,{"$f":"IF($R273=\"\",\"\",VLOOKUP($R273,'FO-DRE-01'!$A$7:$U$301,18,FALSE))","v":""},{"$f":"IF($R273=\"\",\"\",VLOOKUP($R273,'FO-DRE-01'!$A$7:$U$301,16,FALSE))","v":""},{"$f":"IF($R273=\"\",\"\",VLOOKUP($R273,'FO-DRE-01'!$A$7:$U$301,17,FALSE))","v":""},{"$f":"IF($R273=\"\",\"\",VLOOKUP($R273,'FO-DRE-01'!$A$7:$U$301,3,FALSE))","v":""},{"$f":"IF($R273=\"\",\"\",VLOOKUP($R273,'FO-DRE-01'!$A$7:$U$301,4,FALSE))","v":""},{"$f":"IF($R273=\"\",\"\",VLOOKUP($R273,'FO-DRE-01'!$A$7:$U$301,5,FALSE))","v":""},{"$f":"IF($R273=\"\",\"\",VLOOKUP($R273,'FO-DRE-01'!$A$7:$U$301,7,FALSE))","v":""},{"$f":"IF($R273=\"\",\"\",VLOOKUP($R273,'FO-DRE-01'!$A$7:$U$301,8,FALSE))","v":""},{"$f":"IF($R273=\"\",\"\",VLOOKUP($R273,'FO-DRE-01'!$A$7:$U$301,9,FALSE))","v":""},{"$f":"IF($R273=\"\",\"\",VLOOKUP($R273,'FO-DRE-01'!$A$7:$U$301,10,FALSE))","v":""},{"$f":"IF($R273=\"\",\"\",VLOOKUP($R273,'FO-DRE-01'!$A$7:$U$301,11,FALSE))","v":""},{"$f":"IF($R273=\"\",\"\",VLOOKUP($R273,'FO-DRE-01'!$A$7:$U$301,12,FALSE))","v":""},{"$f":"IF($R273=\"\",\"\",VLOOKUP($R273,'FO-DRE-01'!$A$7:$U$301,13,FALSE))","v":""},{"$f":"IF($R273=\"\",\"\",VLOOKUP($R273,'FO-DRE-01'!$A$7:$U$301,14,FALSE))","v":""},{"$f":"IF($R273=\"\",\"\",VLOOKUP($R273,'FO-DRE-01'!$A$7:$U$301,15,FALSE))","v":""},{"$f":"IF($S273=\"\",\"\",VLOOKUP($S273,'FO-DRE-04'!$A$6:$L$301,2,FALSE))","v":""},{"$f":"IF($S273=\"\",\"\",VLOOKUP($S273,'FO-DRE-04'!$A$6:$L$301,3,FALSE))","v":""},{"$f":"IF($S273=\"\",\"\",VLOOKUP($S273,'FO-DRE-04'!$A$6:$L$301,4,FALSE))","v":""},{"$f":"IF($S273=\"\",\"\",VLOOKUP($S273,'FO-DRE-04'!$A$6:$L$301,6,FALSE))","v":""},{"$f":"IF($S273=\"\",\"\",VLOOKUP($S273,'FO-DRE-04'!$A$6:$L$301,11,FALSE))","v":""},{"$f":"IF($T273=\"\",\"\",VLOOKUP($T273,'FO-DRE-02'!$A$6:$M$101,2,FALSE))","v":""},{"$f":"IF($T273=\"\",\"\",VLOOKUP($T273,'FO-DRE-02'!$A$6:$M$101,3,FALSE))","v":""},{"$f":"IF($T273=\"\",\"\",VLOOKUP($T273,'FO-DRE-02'!$A$6:$M$101,6,FALSE))","v":""},{"$f":"IF($T273=\"\",\"\",VLOOKUP($T273,'FO-DRE-02'!$A$6:$M$101,4,FALSE))","v":""},{"$f":"IF($T273=\"\",\"\",VLOOKUP($T273,'FO-DRE-02'!$A$6:$M$101,5,FALSE))","v":""},{"$f":"IF($T273=\"\",\"\",VLOOKUP($T273,'FO-DRE-02'!$A$6:$M$101,8,FALSE))","v":""},{"$f":"IF($T273=\"\",\"\",VLOOKUP($T273,'FO-DRE-02'!$A$6:$M$101,7,FALSE))","v":""},{"$f":"IF($T273=\"\",\"\",VLOOKUP($T273,'FO-DRE-02'!$A$6:$M$101,9,FALSE))","v":""},{"$f":"IF($T273=\"\",\"\",VLOOKUP($T273,'FO-DRE-02'!$A$6:$M$101,11,FALSE))","v":""},{"$f":"IF($T273=\"\",\"\",VLOOKUP($T273,'FO-DRE-02'!$A$6:$M$101,12,FALSE))","v":""},{"$f":"IF($T273=\"\",\"\",VLOOKUP($T273,'FO-DRE-02'!$A$6:$M$101,13,FALSE))","v":""},null,null,null,264,"","F/D","F/D","","","","","","","","","","","","","","",""]
[null,null,null,null,null,null,null,null,{"$f":"IF(H274=\"1a\",Hoja1!$B$126,IF(H274=\"1b\",Hoja1!$B$127,IF(H274=\"2a\",Hoja1!$B$128,IF(H274=\"2b\",Hoja1!$B$129,IF(H274=\"3 \",Hoja1!$B$130,IF(H274=\"4 \",Hoja1!$B$131,IF(H274=\"5 \",Hoja1!$B$132,IF(H274=\"6 \",Hoja1!$B$133,IF(H274=\"7 \",Hoja1!$B$134,IF(H274=\"8 \",Hoja1!$B$135,\" \"))))))))))","v":" "},{"$f":"CONCATENATE(#REF!,\"-\",\"TX\")","v":{"$error":"#REF!"}},{"$f":"CONCATENATE(#REF!,\"-\",\"RX\")","v":{"$error":"#REF!"}},null,null,null,null,0,null,null,null,null,null,{"$f":"IF($R274=\"\",\"\",VLOOKUP($R274,'FO-DRE-01'!$A$7:$U$301,18,FALSE))","v":""},{"$f":"IF($R274=\"\",\"\",VLOOKUP($R274,'FO-DRE-01'!$A$7:$U$301,16,FALSE))","v":""},{"$f":"IF($R274=\"\",\"\",VLOOKUP($R274,'FO-DRE-01'!$A$7:$U$301,17,FALSE))","v":""},{"$f":"IF($R274=\"\",\"\",VLOOKUP($R274,'FO-DRE-01'!$A$7:$U$301,3,FALSE))","v":""},{"$f":"IF($R274=\"\",\"\",VLOOKUP($R274,'FO-DRE-01'!$A$7:$U$301,4,FALSE))","v":""},{"$f":"IF($R274=\"\",\"\",VLOOKUP($R274,'FO-DRE-01'!$A$7:$U$301,5,FALSE))","v":""},{"$f":"IF($R274=\"\",\"\",VLOOKUP($R274,'FO-DRE-01'!$A$7:$U$301,7,FALSE))","v":""},{"$f":"IF($R274=\"\",\"\",VLOOKUP($R274,'FO-DRE-01'!$A$7:$U$301,8,FALSE))","v":""},{"$f":"IF($R274=\"\",\"\",VLOOKUP($R274,'FO-DRE-01'!$A$7:$U$301,9,FALSE))","v":""},{"$f":"IF($R274=\"\",\"\",VLOOKUP($R274,'FO-DRE-01'!$A$7:$U$301,10,FALSE))","v":""},{"$f":"IF($R274=\"\",\"\",VLOOKUP($R274,'FO-DRE-01'!$A$7:$U$301,11,FALSE))","v":""},{"$f":"IF($R274=\"\",\"\",VLOOKUP($R274,'FO-DRE-01'!$A$7:$U$301,12,FALSE))","v":""},{"$f":"IF($R274=\"\",\"\",VLOOKUP($R274,'FO-DRE-01'!$A$7:$U$301,13,FALSE))","v":""},{"$f":"IF($R274=\"\",\"\",VLOOKUP($R274,'FO-DRE-01'!$A$7:$U$301,14,FALSE))","v":""},{"$f":"IF($R274=\"\",\"\",VLOOKUP($R274,'FO-DRE-01'!$A$7:$U$301,15,FALSE))","v":""},{"$f":"IF($S274=\"\",\"\",VLOOKUP($S274,'FO-DRE-04'!$A$6:$L$301,2,FALSE))","v":""},{"$f":"IF($S274=\"\",\"\",VLOOKUP($S274,'FO-DRE-04'!$A$6:$L$301,3,FALSE))","v":""},{"$f":"IF($S274=\"\",\"\",VLOOKUP($S274,'FO-DRE-04'!$A$6:$L$301,4,FALSE))","v":""},{"$f":"IF($S274=\"\",\"\",VLOOKUP($S274,'FO-DRE-04'!$A$6:$L$301,6,FALSE))","v":""},{"$f":"IF($S274=\"\",\"\",VLOOKUP($S274,'FO-DRE-04'!$A$6:$L$301,11,FALSE))","v":""},{"$f":"IF($T274=\"\",\"\",VLOOKUP($T274,'FO-DRE-02'!$A$6:$M$101,2,FALSE))","v":""},{"$f":"IF($T274=\"\",\"\",VLOOKUP($T274,'FO-DRE-02'!$A$6:$M$101,3,FALSE))","v":""},{"$f":"IF($T274=\"\",\"\",VLOOKUP($T274,'FO-DRE-02'!$A$6:$M$101,6,FALSE))","v":""},{"$f":"IF($T274=\"\",\"\",VLOOKUP($T274,'FO-DRE-02'!$A$6:$M$101,4,FALSE))","v":""},{"$f":"IF($T274=\"\",\"\",VLOOKUP($T274,'FO-DRE-02'!$A$6:$M$101,5,FALSE))","v":""},{"$f":"IF($T274=\"\",\"\",VLOOKUP($T274,'FO-DRE-02'!$A$6:$M$101,8,FALSE))","v":""},{"$f":"IF($T274=\"\",\"\",VLOOKUP($T274,'FO-DRE-02'!$A$6:$M$101,7,FALSE))","v":""},{"$f":"IF($T274=\"\",\"\",VLOOKUP($T274,'FO-DRE-02'!$A$6:$M$101,9,FALSE))","v":""},{"$f":"IF($T274=\"\",\"\",VLOOKUP($T274,'FO-DRE-02'!$A$6:$M$101,11,FALSE))","v":""},{"$f":"IF($T274=\"\",\"\",VLOOKUP($T274,'FO-DRE-02'!$A$6:$M$101,12,FALSE))","v":""},{"$f":"IF($T274=\"\",\"\",VLOOKUP($T274,'FO-DRE-02'!$A$6:$M$101,13,FALSE))","v":""},null,null,null,265,"","F/D","F/D","","","","","","","","","","","","","","",""]
[null,null,null,null,null,null,null,null,{"$f":"IF(H275=\"1a\",Hoja1!$B$126,IF(H275=\"1b\",Hoja1!$B$127,IF(H275=\"2a\",Hoja1!$B$128,IF(H275=\"2b\",Hoja1!$B$129,IF(H275=\"3 \",Hoja1!$B$130,IF(H275=\"4 \",Hoja1!$B$131,IF(H275=\"5 \",Hoja1!$B$132,IF(H275=\"6 \",Hoja1!$B$133,IF(H275=\"7 \",Hoja1!$B$134,IF(H275=\"8 \",Hoja1!$B$135,\" \"))))))))))","v":" "},{"$f":"CONCATENATE(#REF!,\"-\",\"TX\")","v":{"$error":"#REF!"}},{"$f":"CONCATENATE(#REF!,\"-\",\"RX\")","v":{"$error":"#REF!"}},null,null,null,null,0,null,null,null,null,null,{"$f":"IF($R275=\"\",\"\",VLOOKUP($R275,'FO-DRE-01'!$A$7:$U$301,18,FALSE))","v":""},{"$f":"IF($R275=\"\",\"\",VLOOKUP($R275,'FO-DRE-01'!$A$7:$U$301,16,FALSE))","v":""},{"$f":"IF($R275=\"\",\"\",VLOOKUP($R275,'FO-DRE-01'!$A$7:$U$301,17,FALSE))","v":""},{"$f":"IF($R275=\"\",\"\",VLOOKUP($R275,'FO-DRE-01'!$A$7:$U$301,3,FALSE))","v":""},{"$f":"IF($R275=\"\",\"\",VLOOKUP($R275,'FO-DRE-01'!$A$7:$U$301,4,FALSE))","v":""},{"$f":"IF($R275=\"\",\"\",VLOOKUP($R275,'FO-DRE-01'!$A$7:$U$301,5,FALSE))","v":""},{"$f":"IF($R275=\"\",\"\",VLOOKUP($R275,'FO-DRE-01'!$A$7:$U$301,7,FALSE))","v":""},{"$f":"IF($R275=\"\",\"\",VLOOKUP($R275,'FO-DRE-01'!$A$7:$U$301,8,FALSE))","v":""},{"$f":"IF($R275=\"\",\"\",VLOOKUP($R275,'FO-DRE-01'!$A$7:$U$301,9,FALSE))","v":""},{"$f":"IF($R275=\"\",\"\",VLOOKUP($R275,'FO-DRE-01'!$A$7:$U$301,10,FALSE))","v":""},{"$f":"IF($R275=\"\",\"\",VLOOKUP($R275,'FO-DRE-01'!$A$7:$U$301,11,FALSE))","v":""},{"$f":"IF($R275=\"\",\"\",VLOOKUP($R275,'FO-DRE-01'!$A$7:$U$301,12,FALSE))","v":""},{"$f":"IF($R275=\"\",\"\",VLOOKUP($R275,'FO-DRE-01'!$A$7:$U$301,13,FALSE))","v":""},{"$f":"IF($R275=\"\",\"\",VLOOKUP($R275,'FO-DRE-01'!$A$7:$U$301,14,FALSE))","v":""},{"$f":"IF($R275=\"\",\"\",VLOOKUP($R275,'FO-DRE-01'!$A$7:$U$301,15,FALSE))","v":""},{"$f":"IF($S275=\"\",\"\",VLOOKUP($S275,'FO-DRE-04'!$A$6:$L$301,2,FALSE))","v":""},{"$f":"IF($S275=\"\",\"\",VLOOKUP($S275,'FO-DRE-04'!$A$6:$L$301,3,FALSE))","v":""},{"$f":"IF($S275=\"\",\"\",VLOOKUP($S275,'FO-DRE-04'!$A$6:$L$301,4,FALSE))","v":""},{"$f":"IF($S275=\"\",\"\",VLOOKUP($S275,'FO-DRE-04'!$A$6:$L$301,6,FALSE))","v":""},{"$f":"IF($S275=\"\",\"\",VLOOKUP($S275,'FO-DRE-04'!$A$6:$L$301,11,FALSE))","v":""},{"$f":"IF($T275=\"\",\"\",VLOOKUP($T275,'FO-DRE-02'!$A$6:$M$101,2,FALSE))","v":""},{"$f":"IF($T275=\"\",\"\",VLOOKUP($T275,'FO-DRE-02'!$A$6:$M$101,3,FALSE))","v":""},{"$f":"IF($T275=\"\",\"\",VLOOKUP($T275,'FO-DRE-02'!$A$6:$M$101,6,FALSE))","v":""},{"$f":"IF($T275=\"\",\"\",VLOOKUP($T275,'FO-DRE-02'!$A$6:$M$101,4,FALSE))","v":""},{"$f":"IF($T275=\"\",\"\",VLOOKUP($T275,'FO-DRE-02'!$A$6:$M$101,5,FALSE))","v":""},{"$f":"IF($T275=\"\",\"\",VLOOKUP($T275,'FO-DRE-02'!$A$6:$M$101,8,FALSE))","v":""},{"$f":"IF($T275=\"\",\"\",VLOOKUP($T275,'FO-DRE-02'!$A$6:$M$101,7,FALSE))","v":""},{"$f":"IF($T275=\"\",\"\",VLOOKUP($T275,'FO-DRE-02'!$A$6:$M$101,9,FALSE))","v":""},{"$f":"IF($T275=\"\",\"\",VLOOKUP($T275,'FO-DRE-02'!$A$6:$M$101,11,FALSE))","v":""},{"$f":"IF($T275=\"\",\"\",VLOOKUP($T275,'FO-DRE-02'!$A$6:$M$101,12,FALSE))","v":""},{"$f":"IF($T275=\"\",\"\",VLOOKUP($T275,'FO-DRE-02'!$A$6:$M$101,13,FALSE))","v":""},null,null,null,266,"","F/D","F/D","","","","","","","","","","","","","","",""]
[null,null,null,null,null,null,null,null,{"$f":"IF(H276=\"1a\",Hoja1!$B$126,IF(H276=\"1b\",Hoja1!$B$127,IF(H276=\"2a\",Hoja1!$B$128,IF(H276=\"2b\",Hoja1!$B$129,IF(H276=\"3 \",Hoja1!$B$130,IF(H276=\"4 \",Hoja1!$B$131,IF(H276=\"5 \",Hoja1!$B$132,IF(H276=\"6 \",Hoja1!$B$133,IF(H276=\"7 \",Hoja1!$B$134,IF(H276=\"8 \",Hoja1!$B$135,\" \"))))))))))","v":" "},{"$f":"CONCATENATE(#REF!,\"-\",\"TX\")","v":{"$error":"#REF!"}},{"$f":"CONCATENATE(#REF!,\"-\",\"RX\")","v":{"$error":"#REF!"}},null,null,null,null,0,null,null,null,null,null,{"$f":"IF($R276=\"\",\"\",VLOOKUP($R276,'FO-DRE-01'!$A$7:$U$301,18,FALSE))","v":""},{"$f":"IF($R276=\"\",\"\",VLOOKUP($R276,'FO-DRE-01'!$A$7:$U$301,16,FALSE))","v":""},{"$f":"IF($R276=\"\",\"\",VLOOKUP($R276,'FO-DRE-01'!$A$7:$U$301,17,FALSE))","v":""},{"$f":"IF($R276=\"\",\"\",VLOOKUP($R276,'FO-DRE-01'!$A$7:$U$301,3,FALSE))","v":""},{"$f":"IF($R276=\"\",\"\",VLOOKUP($R276,'FO-DRE-01'!$A$7:$U$301,4,FALSE))","v":""},{"$f":"IF($R276=\"\",\"\",VLOOKUP($R276,'FO-DRE-01'!$A$7:$U$301,5,FALSE))","v":""},{"$f":"IF($R276=\"\",\"\",VLOOKUP($R276,'FO-DRE-01'!$A$7:$U$301,7,FALSE))","v":""},{"$f":"IF($R276=\"\",\"\",VLOOKUP($R276,'FO-DRE-01'!$A$7:$U$301,8,FALSE))","v":""},{"$f":"IF($R276=\"\",\"\",VLOOKUP($R276,'FO-DRE-01'!$A$7:$U$301,9,FALSE))","v":""},{"$f":"IF($R276=\"\",\"\",VLOOKUP($R276,'FO-DRE-01'!$A$7:$U$301,10,FALSE))","v":""},{"$f":"IF($R276=\"\",\"\",VLOOKUP($R276,'FO-DRE-01'!$A$7:$U$301,11,FALSE))","v":""},{"$f":"IF($R276=\"\",\"\",VLOOKUP($R276,'FO-DRE-01'!$A$7:$U$301,12,FALSE))","v":""},{"$f":"IF($R276=\"\",\"\",VLOOKUP($R276,'FO-DRE-01'!$A$7:$U$301,13,FALSE))","v":""},{"$f":"IF($R276=\"\",\"\",VLOOKUP($R276,'FO-DRE-01'!$A$7:$U$301,14,FALSE))","v":""},{"$f":"IF($R276=\"\",\"\",VLOOKUP($R276,'FO-DRE-01'!$A$7:$U$301,15,FALSE))","v":""},{"$f":"IF($S276=\"\",\"\",VLOOKUP($S276,'FO-DRE-04'!$A$6:$L$301,2,FALSE))","v":""},{"$f":"IF($S276=\"\",\"\",VLOOKUP($S276,'FO-DRE-04'!$A$6:$L$301,3,FALSE))","v":""},{"$f":"IF($S276=\"\",\"\",VLOOKUP($S276,'FO-DRE-04'!$A$6:$L$301,4,FALSE))","v":""},{"$f":"IF($S276=\"\",\"\",VLOOKUP($S276,'FO-DRE-04'!$A$6:$L$301,6,FALSE))","v":""},{"$f":"IF($S276=\"\",\"\",VLOOKUP($S276,'FO-DRE-04'!$A$6:$L$301,11,FALSE))","v":""},{"$f":"IF($T276=\"\",\"\",VLOOKUP($T276,'FO-DRE-02'!$A$6:$M$101,2,FALSE))","v":""},{"$f":"IF($T276=\"\",\"\",VLOOKUP($T276,'FO-DRE-02'!$A$6:$M$101,3,FALSE))","v":""},{"$f":"IF($T276=\"\",\"\",VLOOKUP($T276,'FO-DRE-02'!$A$6:$M$101,6,FALSE))","v":""},{"$f":"IF($T276=\"\",\"\",VLOOKUP($T276,'FO-DRE-02'!$A$6:$M$101,4,FALSE))","v":""},{"$f":"IF($T276=\"\",\"\",VLOOKUP($T276,'FO-DRE-02'!$A$6:$M$101,5,FALSE))","v":""},{"$f":"IF($T276=\"\",\"\",VLOOKUP($T276,'FO-DRE-02'!$A$6:$M$101,8,FALSE))","v":""},{"$f":"IF($T276=\"\",\"\",VLOOKUP($T276,'FO-DRE-02'!$A$6:$M$101,7,FALSE))","v":""},{"$f":"IF($T276=\"\",\"\",VLOOKUP($T276,'FO-DRE-02'!$A$6:$M$101,9,FALSE))","v":""},{"$f":"IF($T276=\"\",\"\",VLOOKUP($T276,'FO-DRE-02'!$A$6:$M$101,11,FALSE))","v":""},{"$f":"IF($T276=\"\",\"\",VLOOKUP($T276,'FO-DRE-02'!$A$6:$M$101,12,FALSE))","v":""},{"$f":"IF($T276=\"\",\"\",VLOOKUP($T276,'FO-DRE-02'!$A$6:$M$101,13,FALSE))","v":""},null,null,null,267,"","F/D","F/D","","","","","","","","","","","","","","",""]
[null,null,null,null,null,null,null,null,{"$f":"IF(H277=\"1a\",Hoja1!$B$126,IF(H277=\"1b\",Hoja1!$B$127,IF(H277=\"2a\",Hoja1!$B$128,IF(H277=\"2b\",Hoja1!$B$129,IF(H277=\"3 \",Hoja1!$B$130,IF(H277=\"4 \",Hoja1!$B$131,IF(H277=\"5 \",Hoja1!$B$132,IF(H277=\"6 \",Hoja1!$B$133,IF(H277=\"7 \",Hoja1!$B$134,IF(H277=\"8 \",Hoja1!$B$135,\" \"))))))))))","v":" "},{"$f":"CONCATENATE(#REF!,\"-\",\"TX\")","v":{"$error":"#REF!"}},{"$f":"CONCATENATE(#REF!,\"-\",\"RX\")","v":{"$error":"#REF!"}},null,null,null,null,0,null,null,null,null,null,{"$f":"IF($R277=\"\",\"\",VLOOKUP($R277,'FO-DRE-01'!$A$7:$U$301,18,FALSE))","v":""},{"$f":"IF($R277=\"\",\"\",VLOOKUP($R277,'FO-DRE-01'!$A$7:$U$301,16,FALSE))","v":""},{"$f":"IF($R277=\"\",\"\",VLOOKUP($R277,'FO-DRE-01'!$A$7:$U$301,17,FALSE))","v":""},{"$f":"IF($R277=\"\",\"\",VLOOKUP($R277,'FO-DRE-01'!$A$7:$U$301,3,FALSE))","v":""},{"$f":"IF($R277=\"\",\"\",VLOOKUP($R277,'FO-DRE-01'!$A$7:$U$301,4,FALSE))","v":""},{"$f":"IF($R277=\"\",\"\",VLOOKUP($R277,'FO-DRE-01'!$A$7:$U$301,5,FALSE))","v":""},{"$f":"IF($R277=\"\",\"\",VLOOKUP($R277,'FO-DRE-01'!$A$7:$U$301,7,FALSE))","v":""},{"$f":"IF($R277=\"\",\"\",VLOOKUP($R277,'FO-DRE-01'!$A$7:$U$301,8,FALSE))","v":""},{"$f":"IF($R277=\"\",\"\",VLOOKUP($R277,'FO-DRE-01'!$A$7:$U$301,9,FALSE))","v":""},{"$f":"IF($R277=\"\",\"\",VLOOKUP($R277,'FO-DRE-01'!$A$7:$U$301,10,FALSE))","v":""},{"$f":"IF($R277=\"\",\"\",VLOOKUP($R277,'FO-DRE-01'!$A$7:$U$301,11,FALSE))","v":""},{"$f":"IF($R277=\"\",\"\",VLOOKUP($R277,'FO-DRE-01'!$A$7:$U$301,12,FALSE))","v":""},{"$f":"IF($R277=\"\",\"\",VLOOKUP($R277,'FO-DRE-01'!$A$7:$U$301,13,FALSE))","v":""},{"$f":"IF($R277=\"\",\"\",VLOOKUP($R277,'FO-DRE-01'!$A$7:$U$301,14,FALSE))","v":""},{"$f":"IF($R277=\"\",\"\",VLOOKUP($R277,'FO-DRE-01'!$A$7:$U$301,15,FALSE))","v":""},{"$f":"IF($S277=\"\",\"\",VLOOKUP($S277,'FO-DRE-04'!$A$6:$L$301,2,FALSE))","v":""},{"$f":"IF($S277=\"\",\"\",VLOOKUP($S277,'FO-DRE-04'!$A$6:$L$301,3,FALSE))","v":""},{"$f":"IF($S277=\"\",\"\",VLOOKUP($S277,'FO-DRE-04'!$A$6:$L$301,4,FALSE))","v":""},{"$f":"IF($S277=\"\",\"\",VLOOKUP($S277,'FO-DRE-04'!$A$6:$L$301,6,FALSE))","v":""},{"$f":"IF($S277=\"\",\"\",VLOOKUP($S277,'FO-DRE-04'!$A$6:$L$301,11,FALSE))","v":""},{"$f":"IF($T277=\"\",\"\",VLOOKUP($T277,'FO-DRE-02'!$A$6:$M$101,2,FALSE))","v":""},{"$f":"IF($T277=\"\",\"\",VLOOKUP($T277,'FO-DRE-02'!$A$6:$M$101,3,FALSE))","v":""},{"$f":"IF($T277=\"\",\"\",VLOOKUP($T277,'FO-DRE-02'!$A$6:$M$101,6,FALSE))","v":""},{"$f":"IF($T277=\"\",\"\",VLOOKUP($T277,'FO-DRE-02'!$A$6:$M$101,4,FALSE))","v":""},{"$f":"IF($T277=\"\",\"\",VLOOKUP($T277,'FO-DRE-02'!$A$6:$M$101,5,FALSE))","v":""},{"$f":"IF($T277=\"\",\"\",VLOOKUP($T277,'FO-DRE-02'!$A$6:$M$101,8,FALSE))","v":""},{"$f":"IF($T277=\"\",\"\",VLOOKUP($T277,'FO-DRE-02'!$A$6:$M$101,7,FALSE))","v":""},{"$f":"IF($T277=\"\",\"\",VLOOKUP($T277,'FO-DRE-02'!$A$6:$M$101,9,FALSE))","v":""},{"$f":"IF($T277=\"\",\"\",VLOOKUP($T277,'FO-DRE-02'!$A$6:$M$101,11,FALSE))","v":""},{"$f":"IF($T277=\"\",\"\",VLOOKUP($T277,'FO-DRE-02'!$A$6:$M$101,12,FALSE))","v":""},{"$f":"IF($T277=\"\",\"\",VLOOKUP($T277,'FO-DRE-02'!$A$6:$M$101,13,FALSE))","v":""},null,null,null,268,"","F/D","F/D","","","","","","","","","","","","","","",""]
[null,null,null,null,null,null,null,null,{"$f":"IF(H278=\"1a\",Hoja1!$B$126,IF(H278=\"1b\",Hoja1!$B$127,IF(H278=\"2a\",Hoja1!$B$128,IF(H278=\"2b\",Hoja1!$B$129,IF(H278=\"3 \",Hoja1!$B$130,IF(H278=\"4 \",Hoja1!$B$131,IF(H278=\"5 \",Hoja1!$B$132,IF(H278=\"6 \",Hoja1!$B$133,IF(H278=\"7 \",Hoja1!$B$134,IF(H278=\"8 \",Hoja1!$B$135,\" \"))))))))))","v":" "},{"$f":"CONCATENATE(#REF!,\"-\",\"TX\")","v":{"$error":"#REF!"}},{"$f":"CONCATENATE(#REF!,\"-\",\"RX\")","v":{"$error":"#REF!"}},null,null,null,null,0,null,null,null,null,null,{"$f":"IF($R278=\"\",\"\",VLOOKUP($R278,'FO-DRE-01'!$A$7:$U$301,18,FALSE))","v":""},{"$f":"IF($R278=\"\",\"\",VLOOKUP($R278,'FO-DRE-01'!$A$7:$U$301,16,FALSE))","v":""},{"$f":"IF($R278=\"\",\"\",VLOOKUP($R278,'FO-DRE-01'!$A$7:$U$301,17,FALSE))","v":""},{"$f":"IF($R278=\"\",\"\",VLOOKUP($R278,'FO-DRE-01'!$A$7:$U$301,3,FALSE))","v":""},{"$f":"IF($R278=\"\",\"\",VLOOKUP($R278,'FO-DRE-01'!$A$7:$U$301,4,FALSE))","v":""},{"$f":"IF($R278=\"\",\"\",VLOOKUP($R278,'FO-DRE-01'!$A$7:$U$301,5,FALSE))","v":""},{"$f":"IF($R278=\"\",\"\",VLOOKUP($R278,'FO-DRE-01'!$A$7:$U$301,7,FALSE))","v":""},{"$f":"IF($R278=\"\",\"\",VLOOKUP($R278,'FO-DRE-01'!$A$7:$U$301,8,FALSE))","v":""},{"$f":"IF($R278=\"\",\"\",VLOOKUP($R278,'FO-DRE-01'!$A$7:$U$301,9,FALSE))","v":""},{"$f":"IF($R278=\"\",\"\",VLOOKUP($R278,'FO-DRE-01'!$A$7:$U$301,10,FALSE))","v":""},{"$f":"IF($R278=\"\",\"\",VLOOKUP($R278,'FO-DRE-01'!$A$7:$U$301,11,FALSE))","v":""},{"$f":"IF($R278=\"\",\"\",VLOOKUP($R278,'FO-DRE-01'!$A$7:$U$301,12,FALSE))","v":""},{"$f":"IF($R278=\"\",\"\",VLOOKUP($R278,'FO-DRE-01'!$A$7:$U$301,13,FALSE))","v":""},{"$f":"IF($R278=\"\",\"\",VLOOKUP($R278,'FO-DRE-01'!$A$7:$U$301,14,FALSE))","v":""},{"$f":"IF($R278=\"\",\"\",VLOOKUP($R278,'FO-DRE-01'!$A$7:$U$301,15,FALSE))","v":""},{"$f":"IF($S278=\"\",\"\",VLOOKUP($S278,'FO-DRE-04'!$A$6:$L$301,2,FALSE))","v":""},{"$f":"IF($S278=\"\",\"\",VLOOKUP($S278,'FO-DRE-04'!$A$6:$L$301,3,FALSE))","v":""},{"$f":"IF($S278=\"\",\"\",VLOOKUP($S278,'FO-DRE-04'!$A$6:$L$301,4,FALSE))","v":""},{"$f":"IF($S278=\"\",\"\",VLOOKUP($S278,'FO-DRE-04'!$A$6:$L$301,6,FALSE))","v":""},{"$f":"IF($S278=\"\",\"\",VLOOKUP($S278,'FO-DRE-04'!$A$6:$L$301,11,FALSE))","v":""},{"$f":"IF($T278=\"\",\"\",VLOOKUP($T278,'FO-DRE-02'!$A$6:$M$101,2,FALSE))","v":""},{"$f":"IF($T278=\"\",\"\",VLOOKUP($T278,'FO-DRE-02'!$A$6:$M$101,3,FALSE))","v":""},{"$f":"IF($T278=\"\",\"\",VLOOKUP($T278,'FO-DRE-02'!$A$6:$M$101,6,FALSE))","v":""},{"$f":"IF($T278=\"\",\"\",VLOOKUP($T278,'FO-DRE-02'!$A$6:$M$101,4,FALSE))","v":""},{"$f":"IF($T278=\"\",\"\",VLOOKUP($T278,'FO-DRE-02'!$A$6:$M$101,5,FALSE))","v":""},{"$f":"IF($T278=\"\",\"\",VLOOKUP($T278,'FO-DRE-02'!$A$6:$M$101,8,FALSE))","v":""},{"$f":"IF($T278=\"\",\"\",VLOOKUP($T278,'FO-DRE-02'!$A$6:$M$101,7,FALSE))","v":""},{"$f":"IF($T278=\"\",\"\",VLOOKUP($T278,'FO-DRE-02'!$A$6:$M$101,9,FALSE))","v":""},{"$f":"IF($T278=\"\",\"\",VLOOKUP($T278,'FO-DRE-02'!$A$6:$M$101,11,FALSE))","v":""},{"$f":"IF($T278=\"\",\"\",VLOOKUP($T278,'FO-DRE-02'!$A$6:$M$101,12,FALSE))","v":""},{"$f":"IF($T278=\"\",\"\",VLOOKUP($T278,'FO-DRE-02'!$A$6:$M$101,13,FALSE))","v":""},null,null,null,269,"","F/D","F/D","","","","","","","","","","","","","","",""]
[null,null,null,null,null,null,null,null,{"$f":"IF(H279=\"1a\",Hoja1!$B$126,IF(H279=\"1b\",Hoja1!$B$127,IF(H279=\"2a\",Hoja1!$B$128,IF(H279=\"2b\",Hoja1!$B$129,IF(H279=\"3 \",Hoja1!$B$130,IF(H279=\"4 \",Hoja1!$B$131,IF(H279=\"5 \",Hoja1!$B$132,IF(H279=\"6 \",Hoja1!$B$133,IF(H279=\"7 \",Hoja1!$B$134,IF(H279=\"8 \",Hoja1!$B$135,\" \"))))))))))","v":" "},{"$f":"CONCATENATE(#REF!,\"-\",\"TX\")","v":{"$error":"#REF!"}},{"$f":"CONCATENATE(#REF!,\"-\",\"RX\")","v":{"$error":"#REF!"}},null,null,null,null,0,null,null,null,null,null,{"$f":"IF($R279=\"\",\"\",VLOOKUP($R279,'FO-DRE-01'!$A$7:$U$301,18,FALSE))","v":""},{"$f":"IF($R279=\"\",\"\",VLOOKUP($R279,'FO-DRE-01'!$A$7:$U$301,16,FALSE))","v":""},{"$f":"IF($R279=\"\",\"\",VLOOKUP($R279,'FO-DRE-01'!$A$7:$U$301,17,FALSE))","v":""},{"$f":"IF($R279=\"\",\"\",VLOOKUP($R279,'FO-DRE-01'!$A$7:$U$301,3,FALSE))","v":""},{"$f":"IF($R279=\"\",\"\",VLOOKUP($R279,'FO-DRE-01'!$A$7:$U$301,4,FALSE))","v":""},{"$f":"IF($R279=\"\",\"\",VLOOKUP($R279,'FO-DRE-01'!$A$7:$U$301,5,FALSE))","v":""},{"$f":"IF($R279=\"\",\"\",VLOOKUP($R279,'FO-DRE-01'!$A$7:$U$301,7,FALSE))","v":""},{"$f":"IF($R279=\"\",\"\",VLOOKUP($R279,'FO-DRE-01'!$A$7:$U$301,8,FALSE))","v":""},{"$f":"IF($R279=\"\",\"\",VLOOKUP($R279,'FO-DRE-01'!$A$7:$U$301,9,FALSE))","v":""},{"$f":"IF($R279=\"\",\"\",VLOOKUP($R279,'FO-DRE-01'!$A$7:$U$301,10,FALSE))","v":""},{"$f":"IF($R279=\"\",\"\",VLOOKUP($R279,'FO-DRE-01'!$A$7:$U$301,11,FALSE))","v":""},{"$f":"IF($R279=\"\",\"\",VLOOKUP($R279,'FO-DRE-01'!$A$7:$U$301,12,FALSE))","v":""},{"$f":"IF($R279=\"\",\"\",VLOOKUP($R279,'FO-DRE-01'!$A$7:$U$301,13,FALSE))","v":""},{"$f":"IF($R279=\"\",\"\",VLOOKUP($R279,'FO-DRE-01'!$A$7:$U$301,14,FALSE))","v":""},{"$f":"IF($R279=\"\",\"\",VLOOKUP($R279,'FO-DRE-01'!$A$7:$U$301,15,FALSE))","v":""},{"$f":"IF($S279=\"\",\"\",VLOOKUP($S279,'FO-DRE-04'!$A$6:$L$301,2,FALSE))","v":""},{"$f":"IF($S279=\"\",\"\",VLOOKUP($S279,'FO-DRE-04'!$A$6:$L$301,3,FALSE))","v":""},{"$f":"IF($S279=\"\",\"\",VLOOKUP($S279,'FO-DRE-04'!$A$6:$L$301,4,FALSE))","v":""},{"$f":"IF($S279=\"\",\"\",VLOOKUP($S279,'FO-DRE-04'!$A$6:$L$301,6,FALSE))","v":""},{"$f":"IF($S279=\"\",\"\",VLOOKUP($S279,'FO-DRE-04'!$A$6:$L$301,11,FALSE))","v":""},{"$f":"IF($T279=\"\",\"\",VLOOKUP($T279,'FO-DRE-02'!$A$6:$M$101,2,FALSE))","v":""},{"$f":"IF($T279=\"\",\"\",VLOOKUP($T279,'FO-DRE-02'!$A$6:$M$101,3,FALSE))","v":""},{"$f":"IF($T279=\"\",\"\",VLOOKUP($T279,'FO-DRE-02'!$A$6:$M$101,6,FALSE))","v":""},{"$f":"IF($T279=\"\",\"\",VLOOKUP($T279,'FO-DRE-02'!$A$6:$M$101,4,FALSE))","v":""},{"$f":"IF($T279=\"\",\"\",VLOOKUP($T279,'FO-DRE-02'!$A$6:$M$101,5,FALSE))","v":""},{"$f":"IF($T279=\"\",\"\",VLOOKUP($T279,'FO-DRE-02'!$A$6:$M$101,8,FALSE))","v":""},{"$f":"IF($T279=\"\",\"\",VLOOKUP($T279,'FO-DRE-02'!$A$6:$M$101,7,FALSE))","v":""},{"$f":"IF($T279=\"\",\"\",VLOOKUP($T279,'FO-DRE-02'!$A$6:$M$101,9,FALSE))","v":""},{"$f":"IF($T279=\"\",\"\",VLOOKUP($T279,'FO-DRE-02'!$A$6:$M$101,11,FALSE))","v":""},{"$f":"IF($T279=\"\",\"\",VLOOKUP($T279,'FO-DRE-02'!$A$6:$M$101,12,FALSE))","v":""},{"$f":"IF($T279=\"\",\"\",VLOOKUP($T279,'FO-DRE-02'!$A$6:$M$101,13,FALSE))","v":""},null,null,null,270,"","F/D","F/D","","","","","","","","","","","","","","",""]
[null,null,null,null,null,null,null,null,{"$f":"IF(H280=\"1a\",Hoja1!$B$126,IF(H280=\"1b\",Hoja1!$B$127,IF(H280=\"2a\",Hoja1!$B$128,IF(H280=\"2b\",Hoja1!$B$129,IF(H280=\"3 \",Hoja1!$B$130,IF(H280=\"4 \",Hoja1!$B$131,IF(H280=\"5 \",Hoja1!$B$132,IF(H280=\"6 \",Hoja1!$B$133,IF(H280=\"7 \",Hoja1!$B$134,IF(H280=\"8 \",Hoja1!$B$135,\" \"))))))))))","v":" "},{"$f":"CONCATENATE(#REF!,\"-\",\"TX\")","v":{"$error":"#REF!"}},{"$f":"CONCATENATE(#REF!,\"-\",\"RX\")","v":{"$error":"#REF!"}},null,null,null,null,0,null,null,null,null,null,{"$f":"IF($R280=\"\",\"\",VLOOKUP($R280,'FO-DRE-01'!$A$7:$U$301,18,FALSE))","v":""},{"$f":"IF($R280=\"\",\"\",VLOOKUP($R280,'FO-DRE-01'!$A$7:$U$301,16,FALSE))","v":""},{"$f":"IF($R280=\"\",\"\",VLOOKUP($R280,'FO-DRE-01'!$A$7:$U$301,17,FALSE))","v":""},{"$f":"IF($R280=\"\",\"\",VLOOKUP($R280,'FO-DRE-01'!$A$7:$U$301,3,FALSE))","v":""},{"$f":"IF($R280=\"\",\"\",VLOOKUP($R280,'FO-DRE-01'!$A$7:$U$301,4,FALSE))","v":""},{"$f":"IF($R280=\"\",\"\",VLOOKUP($R280,'FO-DRE-01'!$A$7:$U$301,5,FALSE))","v":""},{"$f":"IF($R280=\"\",\"\",VLOOKUP($R280,'FO-DRE-01'!$A$7:$U$301,7,FALSE))","v":""},{"$f":"IF($R280=\"\",\"\",VLOOKUP($R280,'FO-DRE-01'!$A$7:$U$301,8,FALSE))","v":""},{"$f":"IF($R280=\"\",\"\",VLOOKUP($R280,'FO-DRE-01'!$A$7:$U$301,9,FALSE))","v":""},{"$f":"IF($R280=\"\",\"\",VLOOKUP($R280,'FO-DRE-01'!$A$7:$U$301,10,FALSE))","v":""},{"$f":"IF($R280=\"\",\"\",VLOOKUP($R280,'FO-DRE-01'!$A$7:$U$301,11,FALSE))","v":""},{"$f":"IF($R280=\"\",\"\",VLOOKUP($R280,'FO-DRE-01'!$A$7:$U$301,12,FALSE))","v":""},{"$f":"IF($R280=\"\",\"\",VLOOKUP($R280,'FO-DRE-01'!$A$7:$U$301,13,FALSE))","v":""},{"$f":"IF($R280=\"\",\"\",VLOOKUP($R280,'FO-DRE-01'!$A$7:$U$301,14,FALSE))","v":""},{"$f":"IF($R280=\"\",\"\",VLOOKUP($R280,'FO-DRE-01'!$A$7:$U$301,15,FALSE))","v":""},{"$f":"IF($S280=\"\",\"\",VLOOKUP($S280,'FO-DRE-04'!$A$6:$L$301,2,FALSE))","v":""},{"$f":"IF($S280=\"\",\"\",VLOOKUP($S280,'FO-DRE-04'!$A$6:$L$301,3,FALSE))","v":""},{"$f":"IF($S280=\"\",\"\",VLOOKUP($S280,'FO-DRE-04'!$A$6:$L$301,4,FALSE))","v":""},{"$f":"IF($S280=\"\",\"\",VLOOKUP($S280,'FO-DRE-04'!$A$6:$L$301,6,FALSE))","v":""},{"$f":"IF($S280=\"\",\"\",VLOOKUP($S280,'FO-DRE-04'!$A$6:$L$301,11,FALSE))","v":""},{"$f":"IF($T280=\"\",\"\",VLOOKUP($T280,'FO-DRE-02'!$A$6:$M$101,2,FALSE))","v":""},{"$f":"IF($T280=\"\",\"\",VLOOKUP($T280,'FO-DRE-02'!$A$6:$M$101,3,FALSE))","v":""},{"$f":"IF($T280=\"\",\"\",VLOOKUP($T280,'FO-DRE-02'!$A$6:$M$101,6,FALSE))","v":""},{"$f":"IF($T280=\"\",\"\",VLOOKUP($T280,'FO-DRE-02'!$A$6:$M$101,4,FALSE))","v":""},{"$f":"IF($T280=\"\",\"\",VLOOKUP($T280,'FO-DRE-02'!$A$6:$M$101,5,FALSE))","v":""},{"$f":"IF($T280=\"\",\"\",VLOOKUP($T280,'FO-DRE-02'!$A$6:$M$101,8,FALSE))","v":""},{"$f":"IF($T280=\"\",\"\",VLOOKUP($T280,'FO-DRE-02'!$A$6:$M$101,7,FALSE))","v":""},{"$f":"IF($T280=\"\",\"\",VLOOKUP($T280,'FO-DRE-02'!$A$6:$M$101,9,FALSE))","v":""},{"$f":"IF($T280=\"\",\"\",VLOOKUP($T280,'FO-DRE-02'!$A$6:$M$101,11,FALSE))","v":""},{"$f":"IF($T280=\"\",\"\",VLOOKUP($T280,'FO-DRE-02'!$A$6:$M$101,12,FALSE))","v":""},{"$f":"IF($T280=\"\",\"\",VLOOKUP($T280,'FO-DRE-02'!$A$6:$M$101,13,FALSE))","v":""},null,null,null,271,"","F/D","F/D","","","","","","","","","","","","","","",""]
[null,null,null,null,null,null,null,null,{"$f":"IF(H281=\"1a\",Hoja1!$B$126,IF(H281=\"1b\",Hoja1!$B$127,IF(H281=\"2a\",Hoja1!$B$128,IF(H281=\"2b\",Hoja1!$B$129,IF(H281=\"3 \",Hoja1!$B$130,IF(H281=\"4 \",Hoja1!$B$131,IF(H281=\"5 \",Hoja1!$B$132,IF(H281=\"6 \",Hoja1!$B$133,IF(H281=\"7 \",Hoja1!$B$134,IF(H281=\"8 \",Hoja1!$B$135,\" \"))))))))))","v":" "},{"$f":"CONCATENATE(#REF!,\"-\",\"TX\")","v":{"$error":"#REF!"}},{"$f":"CONCATENATE(#REF!,\"-\",\"RX\")","v":{"$error":"#REF!"}},null,null,null,null,0,null,null,null,null,null,{"$f":"IF($R281=\"\",\"\",VLOOKUP($R281,'FO-DRE-01'!$A$7:$U$301,18,FALSE))","v":""},{"$f":"IF($R281=\"\",\"\",VLOOKUP($R281,'FO-DRE-01'!$A$7:$U$301,16,FALSE))","v":""},{"$f":"IF($R281=\"\",\"\",VLOOKUP($R281,'FO-DRE-01'!$A$7:$U$301,17,FALSE))","v":""},{"$f":"IF($R281=\"\",\"\",VLOOKUP($R281,'FO-DRE-01'!$A$7:$U$301,3,FALSE))","v":""},{"$f":"IF($R281=\"\",\"\",VLOOKUP($R281,'FO-DRE-01'!$A$7:$U$301,4,FALSE))","v":""},{"$f":"IF($R281=\"\",\"\",VLOOKUP($R281,'FO-DRE-01'!$A$7:$U$301,5,FALSE))","v":""},{"$f":"IF($R281=\"\",\"\",VLOOKUP($R281,'FO-DRE-01'!$A$7:$U$301,7,FALSE))","v":""},{"$f":"IF($R281=\"\",\"\",VLOOKUP($R281,'FO-DRE-01'!$A$7:$U$301,8,FALSE))","v":""},{"$f":"IF($R281=\"\",\"\",VLOOKUP($R281,'FO-DRE-01'!$A$7:$U$301,9,FALSE))","v":""},{"$f":"IF($R281=\"\",\"\",VLOOKUP($R281,'FO-DRE-01'!$A$7:$U$301,10,FALSE))","v":""},{"$f":"IF($R281=\"\",\"\",VLOOKUP($R281,'FO-DRE-01'!$A$7:$U$301,11,FALSE))","v":""},{"$f":"IF($R281=\"\",\"\",VLOOKUP($R281,'FO-DRE-01'!$A$7:$U$301,12,FALSE))","v":""},{"$f":"IF($R281=\"\",\"\",VLOOKUP($R281,'FO-DRE-01'!$A$7:$U$301,13,FALSE))","v":""},{"$f":"IF($R281=\"\",\"\",VLOOKUP($R281,'FO-DRE-01'!$A$7:$U$301,14,FALSE))","v":""},{"$f":"IF($R281=\"\",\"\",VLOOKUP($R281,'FO-DRE-01'!$A$7:$U$301,15,FALSE))","v":""},{"$f":"IF($S281=\"\",\"\",VLOOKUP($S281,'FO-DRE-04'!$A$6:$L$301,2,FALSE))","v":""},{"$f":"IF($S281=\"\",\"\",VLOOKUP($S281,'FO-DRE-04'!$A$6:$L$301,3,FALSE))","v":""},{"$f":"IF($S281=\"\",\"\",VLOOKUP($S281,'FO-DRE-04'!$A$6:$L$301,4,FALSE))","v":""},{"$f":"IF($S281=\"\",\"\",VLOOKUP($S281,'FO-DRE-04'!$A$6:$L$301,6,FALSE))","v":""},{"$f":"IF($S281=\"\",\"\",VLOOKUP($S281,'FO-DRE-04'!$A$6:$L$301,11,FALSE))","v":""},{"$f":"IF($T281=\"\",\"\",VLOOKUP($T281,'FO-DRE-02'!$A$6:$M$101,2,FALSE))","v":""},{"$f":"IF($T281=\"\",\"\",VLOOKUP($T281,'FO-DRE-02'!$A$6:$M$101,3,FALSE))","v":""},{"$f":"IF($T281=\"\",\"\",VLOOKUP($T281,'FO-DRE-02'!$A$6:$M$101,6,FALSE))","v":""},{"$f":"IF($T281=\"\",\"\",VLOOKUP($T281,'FO-DRE-02'!$A$6:$M$101,4,FALSE))","v":""},{"$f":"IF($T281=\"\",\"\",VLOOKUP($T281,'FO-DRE-02'!$A$6:$M$101,5,FALSE))","v":""},{"$f":"IF($T281=\"\",\"\",VLOOKUP($T281,'FO-DRE-02'!$A$6:$M$101,8,FALSE))","v":""},{"$f":"IF($T281=\"\",\"\",VLOOKUP($T281,'FO-DRE-02'!$A$6:$M$101,7,FALSE))","v":""},{"$f":"IF($T281=\"\",\"\",VLOOKUP($T281,'FO-DRE-02'!$A$6:$M$101,9,FALSE))","v":""},{"$f":"IF($T281=\"\",\"\",VLOOKUP($T281,'FO-DRE-02'!$A$6:$M$101,11,FALSE))","v":""},{"$f":"IF($T281=\"\",\"\",VLOOKUP($T281,'FO-DRE-02'!$A$6:$M$101,12,FALSE))","v":""},{"$f":"IF($T281=\"\",\"\",VLOOKUP($T281,'FO-DRE-02'!$A$6:$M$101,13,FALSE))","v":""},null,null,null,272,"","F/D","F/D","","","","","","","","","","","","","","",""]
[null,null,null,null,null,null,null,null,{"$f":"IF(H282=\"1a\",Hoja1!$B$126,IF(H282=\"1b\",Hoja1!$B$127,IF(H282=\"2a\",Hoja1!$B$128,IF(H282=\"2b\",Hoja1!$B$129,IF(H282=\"3 \",Hoja1!$B$130,IF(H282=\"4 \",Hoja1!$B$131,IF(H282=\"5 \",Hoja1!$B$132,IF(H282=\"6 \",Hoja1!$B$133,IF(H282=\"7 \",Hoja1!$B$134,IF(H282=\"8 \",Hoja1!$B$135,\" \"))))))))))","v":" "},{"$f":"CONCATENATE(#REF!,\"-\",\"TX\")","v":{"$error":"#REF!"}},{"$f":"CONCATENATE(#REF!,\"-\",\"RX\")","v":{"$error":"#REF!"}},null,null,null,null,0,null,null,null,null,null,{"$f":"IF($R282=\"\",\"\",VLOOKUP($R282,'FO-DRE-01'!$A$7:$U$301,18,FALSE))","v":""},{"$f":"IF($R282=\"\",\"\",VLOOKUP($R282,'FO-DRE-01'!$A$7:$U$301,16,FALSE))","v":""},{"$f":"IF($R282=\"\",\"\",VLOOKUP($R282,'FO-DRE-01'!$A$7:$U$301,17,FALSE))","v":""},{"$f":"IF($R282=\"\",\"\",VLOOKUP($R282,'FO-DRE-01'!$A$7:$U$301,3,FALSE))","v":""},{"$f":"IF($R282=\"\",\"\",VLOOKUP($R282,'FO-DRE-01'!$A$7:$U$301,4,FALSE))","v":""},{"$f":"IF($R282=\"\",\"\",VLOOKUP($R282,'FO-DRE-01'!$A$7:$U$301,5,FALSE))","v":""},{"$f":"IF($R282=\"\",\"\",VLOOKUP($R282,'FO-DRE-01'!$A$7:$U$301,7,FALSE))","v":""},{"$f":"IF($R282=\"\",\"\",VLOOKUP($R282,'FO-DRE-01'!$A$7:$U$301,8,FALSE))","v":""},{"$f":"IF($R282=\"\",\"\",VLOOKUP($R282,'FO-DRE-01'!$A$7:$U$301,9,FALSE))","v":""},{"$f":"IF($R282=\"\",\"\",VLOOKUP($R282,'FO-DRE-01'!$A$7:$U$301,10,FALSE))","v":""},{"$f":"IF($R282=\"\",\"\",VLOOKUP($R282,'FO-DRE-01'!$A$7:$U$301,11,FALSE))","v":""},{"$f":"IF($R282=\"\",\"\",VLOOKUP($R282,'FO-DRE-01'!$A$7:$U$301,12,FALSE))","v":""},{"$f":"IF($R282=\"\",\"\",VLOOKUP($R282,'FO-DRE-01'!$A$7:$U$301,13,FALSE))","v":""},{"$f":"IF($R282=\"\",\"\",VLOOKUP($R282,'FO-DRE-01'!$A$7:$U$301,14,FALSE))","v":""},{"$f":"IF($R282=\"\",\"\",VLOOKUP($R282,'FO-DRE-01'!$A$7:$U$301,15,FALSE))","v":""},{"$f":"IF($S282=\"\",\"\",VLOOKUP($S282,'FO-DRE-04'!$A$6:$L$301,2,FALSE))","v":""},{"$f":"IF($S282=\"\",\"\",VLOOKUP($S282,'FO-DRE-04'!$A$6:$L$301,3,FALSE))","v":""},{"$f":"IF($S282=\"\",\"\",VLOOKUP($S282,'FO-DRE-04'!$A$6:$L$301,4,FALSE))","v":""},{"$f":"IF($S282=\"\",\"\",VLOOKUP($S282,'FO-DRE-04'!$A$6:$L$301,6,FALSE))","v":""},{"$f":"IF($S282=\"\",\"\",VLOOKUP($S282,'FO-DRE-04'!$A$6:$L$301,11,FALSE))","v":""},{"$f":"IF($T282=\"\",\"\",VLOOKUP($T282,'FO-DRE-02'!$A$6:$M$101,2,FALSE))","v":""},{"$f":"IF($T282=\"\",\"\",VLOOKUP($T282,'FO-DRE-02'!$A$6:$M$101,3,FALSE))","v":""},{"$f":"IF($T282=\"\",\"\",VLOOKUP($T282,'FO-DRE-02'!$A$6:$M$101,6,FALSE))","v":""},{"$f":"IF($T282=\"\",\"\",VLOOKUP($T282,'FO-DRE-02'!$A$6:$M$101,4,FALSE))","v":""},{"$f":"IF($T282=\"\",\"\",VLOOKUP($T282,'FO-DRE-02'!$A$6:$M$101,5,FALSE))","v":""},{"$f":"IF($T282=\"\",\"\",VLOOKUP($T282,'FO-DRE-02'!$A$6:$M$101,8,FALSE))","v":""},{"$f":"IF($T282=\"\",\"\",VLOOKUP($T282,'FO-DRE-02'!$A$6:$M$101,7,FALSE))","v":""},{"$f":"IF($T282=\"\",\"\",VLOOKUP($T282,'FO-DRE-02'!$A$6:$M$101,9,FALSE))","v":""},{"$f":"IF($T282=\"\",\"\",VLOOKUP($T282,'FO-DRE-02'!$A$6:$M$101,11,FALSE))","v":""},{"$f":"IF($T282=\"\",\"\",VLOOKUP($T282,'FO-DRE-02'!$A$6:$M$101,12,FALSE))","v":""},{"$f":"IF($T282=\"\",\"\",VLOOKUP($T282,'FO-DRE-02'!$A$6:$M$101,13,FALSE))","v":""},null,null,null,273,"","F/D","F/D","","","","","","","","","","","","","","",""]
[null,null,null,null,null,null,null,null,{"$f":"IF(H283=\"1a\",Hoja1!$B$126,IF(H283=\"1b\",Hoja1!$B$127,IF(H283=\"2a\",Hoja1!$B$128,IF(H283=\"2b\",Hoja1!$B$129,IF(H283=\"3 \",Hoja1!$B$130,IF(H283=\"4 \",Hoja1!$B$131,IF(H283=\"5 \",Hoja1!$B$132,IF(H283=\"6 \",Hoja1!$B$133,IF(H283=\"7 \",Hoja1!$B$134,IF(H283=\"8 \",Hoja1!$B$135,\" \"))))))))))","v":" "},{"$f":"CONCATENATE(#REF!,\"-\",\"TX\")","v":{"$error":"#REF!"}},{"$f":"CONCATENATE(#REF!,\"-\",\"RX\")","v":{"$error":"#REF!"}},null,null,null,null,0,null,null,null,null,null,{"$f":"IF($R283=\"\",\"\",VLOOKUP($R283,'FO-DRE-01'!$A$7:$U$301,18,FALSE))","v":""},{"$f":"IF($R283=\"\",\"\",VLOOKUP($R283,'FO-DRE-01'!$A$7:$U$301,16,FALSE))","v":""},{"$f":"IF($R283=\"\",\"\",VLOOKUP($R283,'FO-DRE-01'!$A$7:$U$301,17,FALSE))","v":""},{"$f":"IF($R283=\"\",\"\",VLOOKUP($R283,'FO-DRE-01'!$A$7:$U$301,3,FALSE))","v":""},{"$f":"IF($R283=\"\",\"\",VLOOKUP($R283,'FO-DRE-01'!$A$7:$U$301,4,FALSE))","v":""},{"$f":"IF($R283=\"\",\"\",VLOOKUP($R283,'FO-DRE-01'!$A$7:$U$301,5,FALSE))","v":""},{"$f":"IF($R283=\"\",\"\",VLOOKUP($R283,'FO-DRE-01'!$A$7:$U$301,7,FALSE))","v":""},{"$f":"IF($R283=\"\",\"\",VLOOKUP($R283,'FO-DRE-01'!$A$7:$U$301,8,FALSE))","v":""},{"$f":"IF($R283=\"\",\"\",VLOOKUP($R283,'FO-DRE-01'!$A$7:$U$301,9,FALSE))","v":""},{"$f":"IF($R283=\"\",\"\",VLOOKUP($R283,'FO-DRE-01'!$A$7:$U$301,10,FALSE))","v":""},{"$f":"IF($R283=\"\",\"\",VLOOKUP($R283,'FO-DRE-01'!$A$7:$U$301,11,FALSE))","v":""},{"$f":"IF($R283=\"\",\"\",VLOOKUP($R283,'FO-DRE-01'!$A$7:$U$301,12,FALSE))","v":""},{"$f":"IF($R283=\"\",\"\",VLOOKUP($R283,'FO-DRE-01'!$A$7:$U$301,13,FALSE))","v":""},{"$f":"IF($R283=\"\",\"\",VLOOKUP($R283,'FO-DRE-01'!$A$7:$U$301,14,FALSE))","v":""},{"$f":"IF($R283=\"\",\"\",VLOOKUP($R283,'FO-DRE-01'!$A$7:$U$301,15,FALSE))","v":""},{"$f":"IF($S283=\"\",\"\",VLOOKUP($S283,'FO-DRE-04'!$A$6:$L$301,2,FALSE))","v":""},{"$f":"IF($S283=\"\",\"\",VLOOKUP($S283,'FO-DRE-04'!$A$6:$L$301,3,FALSE))","v":""},{"$f":"IF($S283=\"\",\"\",VLOOKUP($S283,'FO-DRE-04'!$A$6:$L$301,4,FALSE))","v":""},{"$f":"IF($S283=\"\",\"\",VLOOKUP($S283,'FO-DRE-04'!$A$6:$L$301,6,FALSE))","v":""},{"$f":"IF($S283=\"\",\"\",VLOOKUP($S283,'FO-DRE-04'!$A$6:$L$301,11,FALSE))","v":""},{"$f":"IF($T283=\"\",\"\",VLOOKUP($T283,'FO-DRE-02'!$A$6:$M$101,2,FALSE))","v":""},{"$f":"IF($T283=\"\",\"\",VLOOKUP($T283,'FO-DRE-02'!$A$6:$M$101,3,FALSE))","v":""},{"$f":"IF($T283=\"\",\"\",VLOOKUP($T283,'FO-DRE-02'!$A$6:$M$101,6,FALSE))","v":""},{"$f":"IF($T283=\"\",\"\",VLOOKUP($T283,'FO-DRE-02'!$A$6:$M$101,4,FALSE))","v":""},{"$f":"IF($T283=\"\",\"\",VLOOKUP($T283,'FO-DRE-02'!$A$6:$M$101,5,FALSE))","v":""},{"$f":"IF($T283=\"\",\"\",VLOOKUP($T283,'FO-DRE-02'!$A$6:$M$101,8,FALSE))","v":""},{"$f":"IF($T283=\"\",\"\",VLOOKUP($T283,'FO-DRE-02'!$A$6:$M$101,7,FALSE))","v":""},{"$f":"IF($T283=\"\",\"\",VLOOKUP($T283,'FO-DRE-02'!$A$6:$M$101,9,FALSE))","v":""},{"$f":"IF($T283=\"\",\"\",VLOOKUP($T283,'FO-DRE-02'!$A$6:$M$101,11,FALSE))","v":""},{"$f":"IF($T283=\"\",\"\",VLOOKUP($T283,'FO-DRE-02'!$A$6:$M$101,12,FALSE))","v":""},{"$f":"IF($T283=\"\",\"\",VLOOKUP($T283,'FO-DRE-02'!$A$6:$M$101,13,FALSE))","v":""},null,null,null,274,"","F/D","F/D","","","","","","","","","","","","","","",""]
[null,null,null,null,null,null,null,null,{"$f":"IF(H284=\"1a\",Hoja1!$B$126,IF(H284=\"1b\",Hoja1!$B$127,IF(H284=\"2a\",Hoja1!$B$128,IF(H284=\"2b\",Hoja1!$B$129,IF(H284=\"3 \",Hoja1!$B$130,IF(H284=\"4 \",Hoja1!$B$131,IF(H284=\"5 \",Hoja1!$B$132,IF(H284=\"6 \",Hoja1!$B$133,IF(H284=\"7 \",Hoja1!$B$134,IF(H284=\"8 \",Hoja1!$B$135,\" \"))))))))))","v":" "},{"$f":"CONCATENATE(#REF!,\"-\",\"TX\")","v":{"$error":"#REF!"}},{"$f":"CONCATENATE(#REF!,\"-\",\"RX\")","v":{"$error":"#REF!"}},null,null,null,null,0,null,null,null,null,null,{"$f":"IF($R284=\"\",\"\",VLOOKUP($R284,'FO-DRE-01'!$A$7:$U$301,18,FALSE))","v":""},{"$f":"IF($R284=\"\",\"\",VLOOKUP($R284,'FO-DRE-01'!$A$7:$U$301,16,FALSE))","v":""},{"$f":"IF($R284=\"\",\"\",VLOOKUP($R284,'FO-DRE-01'!$A$7:$U$301,17,FALSE))","v":""},{"$f":"IF($R284=\"\",\"\",VLOOKUP($R284,'FO-DRE-01'!$A$7:$U$301,3,FALSE))","v":""},{"$f":"IF($R284=\"\",\"\",VLOOKUP($R284,'FO-DRE-01'!$A$7:$U$301,4,FALSE))","v":""},{"$f":"IF($R284=\"\",\"\",VLOOKUP($R284,'FO-DRE-01'!$A$7:$U$301,5,FALSE))","v":""},{"$f":"IF($R284=\"\",\"\",VLOOKUP($R284,'FO-DRE-01'!$A$7:$U$301,7,FALSE))","v":""},{"$f":"IF($R284=\"\",\"\",VLOOKUP($R284,'FO-DRE-01'!$A$7:$U$301,8,FALSE))","v":""},{"$f":"IF($R284=\"\",\"\",VLOOKUP($R284,'FO-DRE-01'!$A$7:$U$301,9,FALSE))","v":""},{"$f":"IF($R284=\"\",\"\",VLOOKUP($R284,'FO-DRE-01'!$A$7:$U$301,10,FALSE))","v":""},{"$f":"IF($R284=\"\",\"\",VLOOKUP($R284,'FO-DRE-01'!$A$7:$U$301,11,FALSE))","v":""},{"$f":"IF($R284=\"\",\"\",VLOOKUP($R284,'FO-DRE-01'!$A$7:$U$301,12,FALSE))","v":""},{"$f":"IF($R284=\"\",\"\",VLOOKUP($R284,'FO-DRE-01'!$A$7:$U$301,13,FALSE))","v":""},{"$f":"IF($R284=\"\",\"\",VLOOKUP($R284,'FO-DRE-01'!$A$7:$U$301,14,FALSE))","v":""},{"$f":"IF($R284=\"\",\"\",VLOOKUP($R284,'FO-DRE-01'!$A$7:$U$301,15,FALSE))","v":""},{"$f":"IF($S284=\"\",\"\",VLOOKUP($S284,'FO-DRE-04'!$A$6:$L$301,2,FALSE))","v":""},{"$f":"IF($S284=\"\",\"\",VLOOKUP($S284,'FO-DRE-04'!$A$6:$L$301,3,FALSE))","v":""},{"$f":"IF($S284=\"\",\"\",VLOOKUP($S284,'FO-DRE-04'!$A$6:$L$301,4,FALSE))","v":""},{"$f":"IF($S284=\"\",\"\",VLOOKUP($S284,'FO-DRE-04'!$A$6:$L$301,6,FALSE))","v":""},{"$f":"IF($S284=\"\",\"\",VLOOKUP($S284,'FO-DRE-04'!$A$6:$L$301,11,FALSE))","v":""},{"$f":"IF($T284=\"\",\"\",VLOOKUP($T284,'FO-DRE-02'!$A$6:$M$101,2,FALSE))","v":""},{"$f":"IF($T284=\"\",\"\",VLOOKUP($T284,'FO-DRE-02'!$A$6:$M$101,3,FALSE))","v":""},{"$f":"IF($T284=\"\",\"\",VLOOKUP($T284,'FO-DRE-02'!$A$6:$M$101,6,FALSE))","v":""},{"$f":"IF($T284=\"\",\"\",VLOOKUP($T284,'FO-DRE-02'!$A$6:$M$101,4,FALSE))","v":""},{"$f":"IF($T284=\"\",\"\",VLOOKUP($T284,'FO-DRE-02'!$A$6:$M$101,5,FALSE))","v":""},{"$f":"IF($T284=\"\",\"\",VLOOKUP($T284,'FO-DRE-02'!$A$6:$M$101,8,FALSE))","v":""},{"$f":"IF($T284=\"\",\"\",VLOOKUP($T284,'FO-DRE-02'!$A$6:$M$101,7,FALSE))","v":""},{"$f":"IF($T284=\"\",\"\",VLOOKUP($T284,'FO-DRE-02'!$A$6:$M$101,9,FALSE))","v":""},{"$f":"IF($T284=\"\",\"\",VLOOKUP($T284,'FO-DRE-02'!$A$6:$M$101,11,FALSE))","v":""},{"$f":"IF($T284=\"\",\"\",VLOOKUP($T284,'FO-DRE-02'!$A$6:$M$101,12,FALSE))","v":""},{"$f":"IF($T284=\"\",\"\",VLOOKUP($T284,'FO-DRE-02'!$A$6:$M$101,13,FALSE))","v":""},null,null,null,275,"","F/D","F/D","","","","","","","","","","","","","","",""]
[null,null,null,null,null,null,null,null,{"$f":"IF(H285=\"1a\",Hoja1!$B$126,IF(H285=\"1b\",Hoja1!$B$127,IF(H285=\"2a\",Hoja1!$B$128,IF(H285=\"2b\",Hoja1!$B$129,IF(H285=\"3 \",Hoja1!$B$130,IF(H285=\"4 \",Hoja1!$B$131,IF(H285=\"5 \",Hoja1!$B$132,IF(H285=\"6 \",Hoja1!$B$133,IF(H285=\"7 \",Hoja1!$B$134,IF(H285=\"8 \",Hoja1!$B$135,\" \"))))))))))","v":" "},{"$f":"CONCATENATE(#REF!,\"-\",\"TX\")","v":{"$error":"#REF!"}},{"$f":"CONCATENATE(#REF!,\"-\",\"RX\")","v":{"$error":"#REF!"}},null,null,null,null,0,null,null,null,null,null,{"$f":"IF($R285=\"\",\"\",VLOOKUP($R285,'FO-DRE-01'!$A$7:$U$301,18,FALSE))","v":""},{"$f":"IF($R285=\"\",\"\",VLOOKUP($R285,'FO-DRE-01'!$A$7:$U$301,16,FALSE))","v":""},{"$f":"IF($R285=\"\",\"\",VLOOKUP($R285,'FO-DRE-01'!$A$7:$U$301,17,FALSE))","v":""},{"$f":"IF($R285=\"\",\"\",VLOOKUP($R285,'FO-DRE-01'!$A$7:$U$301,3,FALSE))","v":""},{"$f":"IF($R285=\"\",\"\",VLOOKUP($R285,'FO-DRE-01'!$A$7:$U$301,4,FALSE))","v":""},{"$f":"IF($R285=\"\",\"\",VLOOKUP($R285,'FO-DRE-01'!$A$7:$U$301,5,FALSE))","v":""},{"$f":"IF($R285=\"\",\"\",VLOOKUP($R285,'FO-DRE-01'!$A$7:$U$301,7,FALSE))","v":""},{"$f":"IF($R285=\"\",\"\",VLOOKUP($R285,'FO-DRE-01'!$A$7:$U$301,8,FALSE))","v":""},{"$f":"IF($R285=\"\",\"\",VLOOKUP($R285,'FO-DRE-01'!$A$7:$U$301,9,FALSE))","v":""},{"$f":"IF($R285=\"\",\"\",VLOOKUP($R285,'FO-DRE-01'!$A$7:$U$301,10,FALSE))","v":""},{"$f":"IF($R285=\"\",\"\",VLOOKUP($R285,'FO-DRE-01'!$A$7:$U$301,11,FALSE))","v":""},{"$f":"IF($R285=\"\",\"\",VLOOKUP($R285,'FO-DRE-01'!$A$7:$U$301,12,FALSE))","v":""},{"$f":"IF($R285=\"\",\"\",VLOOKUP($R285,'FO-DRE-01'!$A$7:$U$301,13,FALSE))","v":""},{"$f":"IF($R285=\"\",\"\",VLOOKUP($R285,'FO-DRE-01'!$A$7:$U$301,14,FALSE))","v":""},{"$f":"IF($R285=\"\",\"\",VLOOKUP($R285,'FO-DRE-01'!$A$7:$U$301,15,FALSE))","v":""},{"$f":"IF($S285=\"\",\"\",VLOOKUP($S285,'FO-DRE-04'!$A$6:$L$301,2,FALSE))","v":""},{"$f":"IF($S285=\"\",\"\",VLOOKUP($S285,'FO-DRE-04'!$A$6:$L$301,3,FALSE))","v":""},{"$f":"IF($S285=\"\",\"\",VLOOKUP($S285,'FO-DRE-04'!$A$6:$L$301,4,FALSE))","v":""},{"$f":"IF($S285=\"\",\"\",VLOOKUP($S285,'FO-DRE-04'!$A$6:$L$301,6,FALSE))","v":""},{"$f":"IF($S285=\"\",\"\",VLOOKUP($S285,'FO-DRE-04'!$A$6:$L$301,11,FALSE))","v":""},{"$f":"IF($T285=\"\",\"\",VLOOKUP($T285,'FO-DRE-02'!$A$6:$M$101,2,FALSE))","v":""},{"$f":"IF($T285=\"\",\"\",VLOOKUP($T285,'FO-DRE-02'!$A$6:$M$101,3,FALSE))","v":""},{"$f":"IF($T285=\"\",\"\",VLOOKUP($T285,'FO-DRE-02'!$A$6:$M$101,6,FALSE))","v":""},{"$f":"IF($T285=\"\",\"\",VLOOKUP($T285,'FO-DRE-02'!$A$6:$M$101,4,FALSE))","v":""},{"$f":"IF($T285=\"\",\"\",VLOOKUP($T285,'FO-DRE-02'!$A$6:$M$101,5,FALSE))","v":""},{"$f":"IF($T285=\"\",\"\",VLOOKUP($T285,'FO-DRE-02'!$A$6:$M$101,8,FALSE))","v":""},{"$f":"IF($T285=\"\",\"\",VLOOKUP($T285,'FO-DRE-02'!$A$6:$M$101,7,FALSE))","v":""},{"$f":"IF($T285=\"\",\"\",VLOOKUP($T285,'FO-DRE-02'!$A$6:$M$101,9,FALSE))","v":""},{"$f":"IF($T285=\"\",\"\",VLOOKUP($T285,'FO-DRE-02'!$A$6:$M$101,11,FALSE))","v":""},{"$f":"IF($T285=\"\",\"\",VLOOKUP($T285,'FO-DRE-02'!$A$6:$M$101,12,FALSE))","v":""},{"$f":"IF($T285=\"\",\"\",VLOOKUP($T285,'FO-DRE-02'!$A$6:$M$101,13,FALSE))","v":""},null,null,null,276,"","F/D","F/D","","","","","","","","","","","","","","",""]
[null,null,null,null,null,null,null,null,{"$f":"IF(H286=\"1a\",Hoja1!$B$126,IF(H286=\"1b\",Hoja1!$B$127,IF(H286=\"2a\",Hoja1!$B$128,IF(H286=\"2b\",Hoja1!$B$129,IF(H286=\"3 \",Hoja1!$B$130,IF(H286=\"4 \",Hoja1!$B$131,IF(H286=\"5 \",Hoja1!$B$132,IF(H286=\"6 \",Hoja1!$B$133,IF(H286=\"7 \",Hoja1!$B$134,IF(H286=\"8 \",Hoja1!$B$135,\" \"))))))))))","v":" "},{"$f":"CONCATENATE(#REF!,\"-\",\"TX\")","v":{"$error":"#REF!"}},{"$f":"CONCATENATE(#REF!,\"-\",\"RX\")","v":{"$error":"#REF!"}},null,null,null,null,0,null,null,null,null,null,{"$f":"IF($R286=\"\",\"\",VLOOKUP($R286,'FO-DRE-01'!$A$7:$U$301,18,FALSE))","v":""},{"$f":"IF($R286=\"\",\"\",VLOOKUP($R286,'FO-DRE-01'!$A$7:$U$301,16,FALSE))","v":""},{"$f":"IF($R286=\"\",\"\",VLOOKUP($R286,'FO-DRE-01'!$A$7:$U$301,17,FALSE))","v":""},{"$f":"IF($R286=\"\",\"\",VLOOKUP($R286,'FO-DRE-01'!$A$7:$U$301,3,FALSE))","v":""},{"$f":"IF($R286=\"\",\"\",VLOOKUP($R286,'FO-DRE-01'!$A$7:$U$301,4,FALSE))","v":""},{"$f":"IF($R286=\"\",\"\",VLOOKUP($R286,'FO-DRE-01'!$A$7:$U$301,5,FALSE))","v":""},{"$f":"IF($R286=\"\",\"\",VLOOKUP($R286,'FO-DRE-01'!$A$7:$U$301,7,FALSE))","v":""},{"$f":"IF($R286=\"\",\"\",VLOOKUP($R286,'FO-DRE-01'!$A$7:$U$301,8,FALSE))","v":""},{"$f":"IF($R286=\"\",\"\",VLOOKUP($R286,'FO-DRE-01'!$A$7:$U$301,9,FALSE))","v":""},{"$f":"IF($R286=\"\",\"\",VLOOKUP($R286,'FO-DRE-01'!$A$7:$U$301,10,FALSE))","v":""},{"$f":"IF($R286=\"\",\"\",VLOOKUP($R286,'FO-DRE-01'!$A$7:$U$301,11,FALSE))","v":""},{"$f":"IF($R286=\"\",\"\",VLOOKUP($R286,'FO-DRE-01'!$A$7:$U$301,12,FALSE))","v":""},{"$f":"IF($R286=\"\",\"\",VLOOKUP($R286,'FO-DRE-01'!$A$7:$U$301,13,FALSE))","v":""},{"$f":"IF($R286=\"\",\"\",VLOOKUP($R286,'FO-DRE-01'!$A$7:$U$301,14,FALSE))","v":""},{"$f":"IF($R286=\"\",\"\",VLOOKUP($R286,'FO-DRE-01'!$A$7:$U$301,15,FALSE))","v":""},{"$f":"IF($S286=\"\",\"\",VLOOKUP($S286,'FO-DRE-04'!$A$6:$L$301,2,FALSE))","v":""},{"$f":"IF($S286=\"\",\"\",VLOOKUP($S286,'FO-DRE-04'!$A$6:$L$301,3,FALSE))","v":""},{"$f":"IF($S286=\"\",\"\",VLOOKUP($S286,'FO-DRE-04'!$A$6:$L$301,4,FALSE))","v":""},{"$f":"IF($S286=\"\",\"\",VLOOKUP($S286,'FO-DRE-04'!$A$6:$L$301,6,FALSE))","v":""},{"$f":"IF($S286=\"\",\"\",VLOOKUP($S286,'FO-DRE-04'!$A$6:$L$301,11,FALSE))","v":""},{"$f":"IF($T286=\"\",\"\",VLOOKUP($T286,'FO-DRE-02'!$A$6:$M$101,2,FALSE))","v":""},{"$f":"IF($T286=\"\",\"\",VLOOKUP($T286,'FO-DRE-02'!$A$6:$M$101,3,FALSE))","v":""},{"$f":"IF($T286=\"\",\"\",VLOOKUP($T286,'FO-DRE-02'!$A$6:$M$101,6,FALSE))","v":""},{"$f":"IF($T286=\"\",\"\",VLOOKUP($T286,'FO-DRE-02'!$A$6:$M$101,4,FALSE))","v":""},{"$f":"IF($T286=\"\",\"\",VLOOKUP($T286,'FO-DRE-02'!$A$6:$M$101,5,FALSE))","v":""},{"$f":"IF($T286=\"\",\"\",VLOOKUP($T286,'FO-DRE-02'!$A$6:$M$101,8,FALSE))","v":""},{"$f":"IF($T286=\"\",\"\",VLOOKUP($T286,'FO-DRE-02'!$A$6:$M$101,7,FALSE))","v":""},{"$f":"IF($T286=\"\",\"\",VLOOKUP($T286,'FO-DRE-02'!$A$6:$M$101,9,FALSE))","v":""},{"$f":"IF($T286=\"\",\"\",VLOOKUP($T286,'FO-DRE-02'!$A$6:$M$101,11,FALSE))","v":""},{"$f":"IF($T286=\"\",\"\",VLOOKUP($T286,'FO-DRE-02'!$A$6:$M$101,12,FALSE))","v":""},{"$f":"IF($T286=\"\",\"\",VLOOKUP($T286,'FO-DRE-02'!$A$6:$M$101,13,FALSE))","v":""},null,null,null,277,"","F/D","F/D","","","","","","","","","","","","","","",""]
[null,null,null,null,null,null,null,null,{"$f":"IF(H287=\"1a\",Hoja1!$B$126,IF(H287=\"1b\",Hoja1!$B$127,IF(H287=\"2a\",Hoja1!$B$128,IF(H287=\"2b\",Hoja1!$B$129,IF(H287=\"3 \",Hoja1!$B$130,IF(H287=\"4 \",Hoja1!$B$131,IF(H287=\"5 \",Hoja1!$B$132,IF(H287=\"6 \",Hoja1!$B$133,IF(H287=\"7 \",Hoja1!$B$134,IF(H287=\"8 \",Hoja1!$B$135,\" \"))))))))))","v":" "},{"$f":"CONCATENATE(#REF!,\"-\",\"TX\")","v":{"$error":"#REF!"}},{"$f":"CONCATENATE(#REF!,\"-\",\"RX\")","v":{"$error":"#REF!"}},null,null,null,null,0,null,null,null,null,null,{"$f":"IF($R287=\"\",\"\",VLOOKUP($R287,'FO-DRE-01'!$A$7:$U$301,18,FALSE))","v":""},{"$f":"IF($R287=\"\",\"\",VLOOKUP($R287,'FO-DRE-01'!$A$7:$U$301,16,FALSE))","v":""},{"$f":"IF($R287=\"\",\"\",VLOOKUP($R287,'FO-DRE-01'!$A$7:$U$301,17,FALSE))","v":""},{"$f":"IF($R287=\"\",\"\",VLOOKUP($R287,'FO-DRE-01'!$A$7:$U$301,3,FALSE))","v":""},{"$f":"IF($R287=\"\",\"\",VLOOKUP($R287,'FO-DRE-01'!$A$7:$U$301,4,FALSE))","v":""},{"$f":"IF($R287=\"\",\"\",VLOOKUP($R287,'FO-DRE-01'!$A$7:$U$301,5,FALSE))","v":""},{"$f":"IF($R287=\"\",\"\",VLOOKUP($R287,'FO-DRE-01'!$A$7:$U$301,7,FALSE))","v":""},{"$f":"IF($R287=\"\",\"\",VLOOKUP($R287,'FO-DRE-01'!$A$7:$U$301,8,FALSE))","v":""},{"$f":"IF($R287=\"\",\"\",VLOOKUP($R287,'FO-DRE-01'!$A$7:$U$301,9,FALSE))","v":""},{"$f":"IF($R287=\"\",\"\",VLOOKUP($R287,'FO-DRE-01'!$A$7:$U$301,10,FALSE))","v":""},{"$f":"IF($R287=\"\",\"\",VLOOKUP($R287,'FO-DRE-01'!$A$7:$U$301,11,FALSE))","v":""},{"$f":"IF($R287=\"\",\"\",VLOOKUP($R287,'FO-DRE-01'!$A$7:$U$301,12,FALSE))","v":""},{"$f":"IF($R287=\"\",\"\",VLOOKUP($R287,'FO-DRE-01'!$A$7:$U$301,13,FALSE))","v":""},{"$f":"IF($R287=\"\",\"\",VLOOKUP($R287,'FO-DRE-01'!$A$7:$U$301,14,FALSE))","v":""},{"$f":"IF($R287=\"\",\"\",VLOOKUP($R287,'FO-DRE-01'!$A$7:$U$301,15,FALSE))","v":""},{"$f":"IF($S287=\"\",\"\",VLOOKUP($S287,'FO-DRE-04'!$A$6:$L$301,2,FALSE))","v":""},{"$f":"IF($S287=\"\",\"\",VLOOKUP($S287,'FO-DRE-04'!$A$6:$L$301,3,FALSE))","v":""},{"$f":"IF($S287=\"\",\"\",VLOOKUP($S287,'FO-DRE-04'!$A$6:$L$301,4,FALSE))","v":""},{"$f":"IF($S287=\"\",\"\",VLOOKUP($S287,'FO-DRE-04'!$A$6:$L$301,6,FALSE))","v":""},{"$f":"IF($S287=\"\",\"\",VLOOKUP($S287,'FO-DRE-04'!$A$6:$L$301,11,FALSE))","v":""},{"$f":"IF($T287=\"\",\"\",VLOOKUP($T287,'FO-DRE-02'!$A$6:$M$101,2,FALSE))","v":""},{"$f":"IF($T287=\"\",\"\",VLOOKUP($T287,'FO-DRE-02'!$A$6:$M$101,3,FALSE))","v":""},{"$f":"IF($T287=\"\",\"\",VLOOKUP($T287,'FO-DRE-02'!$A$6:$M$101,6,FALSE))","v":""},{"$f":"IF($T287=\"\",\"\",VLOOKUP($T287,'FO-DRE-02'!$A$6:$M$101,4,FALSE))","v":""},{"$f":"IF($T287=\"\",\"\",VLOOKUP($T287,'FO-DRE-02'!$A$6:$M$101,5,FALSE))","v":""},{"$f":"IF($T287=\"\",\"\",VLOOKUP($T287,'FO-DRE-02'!$A$6:$M$101,8,FALSE))","v":""},{"$f":"IF($T287=\"\",\"\",VLOOKUP($T287,'FO-DRE-02'!$A$6:$M$101,7,FALSE))","v":""},{"$f":"IF($T287=\"\",\"\",VLOOKUP($T287,'FO-DRE-02'!$A$6:$M$101,9,FALSE))","v":""},{"$f":"IF($T287=\"\",\"\",VLOOKUP($T287,'FO-DRE-02'!$A$6:$M$101,11,FALSE))","v":""},{"$f":"IF($T287=\"\",\"\",VLOOKUP($T287,'FO-DRE-02'!$A$6:$M$101,12,FALSE))","v":""},{"$f":"IF($T287=\"\",\"\",VLOOKUP($T287,'FO-DRE-02'!$A$6:$M$101,13,FALSE))","v":""},null,null,null,278,"","F/D","F/D","","","","","","","","","","","","","","",""]
[null,null,null,null,null,null,null,null,{"$f":"IF(H288=\"1a\",Hoja1!$B$126,IF(H288=\"1b\",Hoja1!$B$127,IF(H288=\"2a\",Hoja1!$B$128,IF(H288=\"2b\",Hoja1!$B$129,IF(H288=\"3 \",Hoja1!$B$130,IF(H288=\"4 \",Hoja1!$B$131,IF(H288=\"5 \",Hoja1!$B$132,IF(H288=\"6 \",Hoja1!$B$133,IF(H288=\"7 \",Hoja1!$B$134,IF(H288=\"8 \",Hoja1!$B$135,\" \"))))))))))","v":" "},{"$f":"CONCATENATE(#REF!,\"-\",\"TX\")","v":{"$error":"#REF!"}},{"$f":"CONCATENATE(#REF!,\"-\",\"RX\")","v":{"$error":"#REF!"}},null,null,null,null,0,null,null,null,null,null,{"$f":"IF($R288=\"\",\"\",VLOOKUP($R288,'FO-DRE-01'!$A$7:$U$301,18,FALSE))","v":""},{"$f":"IF($R288=\"\",\"\",VLOOKUP($R288,'FO-DRE-01'!$A$7:$U$301,16,FALSE))","v":""},{"$f":"IF($R288=\"\",\"\",VLOOKUP($R288,'FO-DRE-01'!$A$7:$U$301,17,FALSE))","v":""},{"$f":"IF($R288=\"\",\"\",VLOOKUP($R288,'FO-DRE-01'!$A$7:$U$301,3,FALSE))","v":""},{"$f":"IF($R288=\"\",\"\",VLOOKUP($R288,'FO-DRE-01'!$A$7:$U$301,4,FALSE))","v":""},{"$f":"IF($R288=\"\",\"\",VLOOKUP($R288,'FO-DRE-01'!$A$7:$U$301,5,FALSE))","v":""},{"$f":"IF($R288=\"\",\"\",VLOOKUP($R288,'FO-DRE-01'!$A$7:$U$301,7,FALSE))","v":""},{"$f":"IF($R288=\"\",\"\",VLOOKUP($R288,'FO-DRE-01'!$A$7:$U$301,8,FALSE))","v":""},{"$f":"IF($R288=\"\",\"\",VLOOKUP($R288,'FO-DRE-01'!$A$7:$U$301,9,FALSE))","v":""},{"$f":"IF($R288=\"\",\"\",VLOOKUP($R288,'FO-DRE-01'!$A$7:$U$301,10,FALSE))","v":""},{"$f":"IF($R288=\"\",\"\",VLOOKUP($R288,'FO-DRE-01'!$A$7:$U$301,11,FALSE))","v":""},{"$f":"IF($R288=\"\",\"\",VLOOKUP($R288,'FO-DRE-01'!$A$7:$U$301,12,FALSE))","v":""},{"$f":"IF($R288=\"\",\"\",VLOOKUP($R288,'FO-DRE-01'!$A$7:$U$301,13,FALSE))","v":""},{"$f":"IF($R288=\"\",\"\",VLOOKUP($R288,'FO-DRE-01'!$A$7:$U$301,14,FALSE))","v":""},{"$f":"IF($R288=\"\",\"\",VLOOKUP($R288,'FO-DRE-01'!$A$7:$U$301,15,FALSE))","v":""},{"$f":"IF($S288=\"\",\"\",VLOOKUP($S288,'FO-DRE-04'!$A$6:$L$301,2,FALSE))","v":""},{"$f":"IF($S288=\"\",\"\",VLOOKUP($S288,'FO-DRE-04'!$A$6:$L$301,3,FALSE))","v":""},{"$f":"IF($S288=\"\",\"\",VLOOKUP($S288,'FO-DRE-04'!$A$6:$L$301,4,FALSE))","v":""},{"$f":"IF($S288=\"\",\"\",VLOOKUP($S288,'FO-DRE-04'!$A$6:$L$301,6,FALSE))","v":""},{"$f":"IF($S288=\"\",\"\",VLOOKUP($S288,'FO-DRE-04'!$A$6:$L$301,11,FALSE))","v":""},{"$f":"IF($T288=\"\",\"\",VLOOKUP($T288,'FO-DRE-02'!$A$6:$M$101,2,FALSE))","v":""},{"$f":"IF($T288=\"\",\"\",VLOOKUP($T288,'FO-DRE-02'!$A$6:$M$101,3,FALSE))","v":""},{"$f":"IF($T288=\"\",\"\",VLOOKUP($T288,'FO-DRE-02'!$A$6:$M$101,6,FALSE))","v":""},{"$f":"IF($T288=\"\",\"\",VLOOKUP($T288,'FO-DRE-02'!$A$6:$M$101,4,FALSE))","v":""},{"$f":"IF($T288=\"\",\"\",VLOOKUP($T288,'FO-DRE-02'!$A$6:$M$101,5,FALSE))","v":""},{"$f":"IF($T288=\"\",\"\",VLOOKUP($T288,'FO-DRE-02'!$A$6:$M$101,8,FALSE))","v":""},{"$f":"IF($T288=\"\",\"\",VLOOKUP($T288,'FO-DRE-02'!$A$6:$M$101,7,FALSE))","v":""},{"$f":"IF($T288=\"\",\"\",VLOOKUP($T288,'FO-DRE-02'!$A$6:$M$101,9,FALSE))","v":""},{"$f":"IF($T288=\"\",\"\",VLOOKUP($T288,'FO-DRE-02'!$A$6:$M$101,11,FALSE))","v":""},{"$f":"IF($T288=\"\",\"\",VLOOKUP($T288,'FO-DRE-02'!$A$6:$M$101,12,FALSE))","v":""},{"$f":"IF($T288=\"\",\"\",VLOOKUP($T288,'FO-DRE-02'!$A$6:$M$101,13,FALSE))","v":""},null,null,null,279,"","F/D","F/D","","","","","","","","","","","","","","",""]
[null,null,null,null,null,null,null,null,{"$f":"IF(H289=\"1a\",Hoja1!$B$126,IF(H289=\"1b\",Hoja1!$B$127,IF(H289=\"2a\",Hoja1!$B$128,IF(H289=\"2b\",Hoja1!$B$129,IF(H289=\"3 \",Hoja1!$B$130,IF(H289=\"4 \",Hoja1!$B$131,IF(H289=\"5 \",Hoja1!$B$132,IF(H289=\"6 \",Hoja1!$B$133,IF(H289=\"7 \",Hoja1!$B$134,IF(H289=\"8 \",Hoja1!$B$135,\" \"))))))))))","v":" "},{"$f":"CONCATENATE(#REF!,\"-\",\"TX\")","v":{"$error":"#REF!"}},{"$f":"CONCATENATE(#REF!,\"-\",\"RX\")","v":{"$error":"#REF!"}},null,null,null,null,0,null,null,null,null,null,{"$f":"IF($R289=\"\",\"\",VLOOKUP($R289,'FO-DRE-01'!$A$7:$U$301,18,FALSE))","v":""},{"$f":"IF($R289=\"\",\"\",VLOOKUP($R289,'FO-DRE-01'!$A$7:$U$301,16,FALSE))","v":""},{"$f":"IF($R289=\"\",\"\",VLOOKUP($R289,'FO-DRE-01'!$A$7:$U$301,17,FALSE))","v":""},{"$f":"IF($R289=\"\",\"\",VLOOKUP($R289,'FO-DRE-01'!$A$7:$U$301,3,FALSE))","v":""},{"$f":"IF($R289=\"\",\"\",VLOOKUP($R289,'FO-DRE-01'!$A$7:$U$301,4,FALSE))","v":""},{"$f":"IF($R289=\"\",\"\",VLOOKUP($R289,'FO-DRE-01'!$A$7:$U$301,5,FALSE))","v":""},{"$f":"IF($R289=\"\",\"\",VLOOKUP($R289,'FO-DRE-01'!$A$7:$U$301,7,FALSE))","v":""},{"$f":"IF($R289=\"\",\"\",VLOOKUP($R289,'FO-DRE-01'!$A$7:$U$301,8,FALSE))","v":""},{"$f":"IF($R289=\"\",\"\",VLOOKUP($R289,'FO-DRE-01'!$A$7:$U$301,9,FALSE))","v":""},{"$f":"IF($R289=\"\",\"\",VLOOKUP($R289,'FO-DRE-01'!$A$7:$U$301,10,FALSE))","v":""},{"$f":"IF($R289=\"\",\"\",VLOOKUP($R289,'FO-DRE-01'!$A$7:$U$301,11,FALSE))","v":""},{"$f":"IF($R289=\"\",\"\",VLOOKUP($R289,'FO-DRE-01'!$A$7:$U$301,12,FALSE))","v":""},{"$f":"IF($R289=\"\",\"\",VLOOKUP($R289,'FO-DRE-01'!$A$7:$U$301,13,FALSE))","v":""},{"$f":"IF($R289=\"\",\"\",VLOOKUP($R289,'FO-DRE-01'!$A$7:$U$301,14,FALSE))","v":""},{"$f":"IF($R289=\"\",\"\",VLOOKUP($R289,'FO-DRE-01'!$A$7:$U$301,15,FALSE))","v":""},{"$f":"IF($S289=\"\",\"\",VLOOKUP($S289,'FO-DRE-04'!$A$6:$L$301,2,FALSE))","v":""},{"$f":"IF($S289=\"\",\"\",VLOOKUP($S289,'FO-DRE-04'!$A$6:$L$301,3,FALSE))","v":""},{"$f":"IF($S289=\"\",\"\",VLOOKUP($S289,'FO-DRE-04'!$A$6:$L$301,4,FALSE))","v":""},{"$f":"IF($S289=\"\",\"\",VLOOKUP($S289,'FO-DRE-04'!$A$6:$L$301,6,FALSE))","v":""},{"$f":"IF($S289=\"\",\"\",VLOOKUP($S289,'FO-DRE-04'!$A$6:$L$301,11,FALSE))","v":""},{"$f":"IF($T289=\"\",\"\",VLOOKUP($T289,'FO-DRE-02'!$A$6:$M$101,2,FALSE))","v":""},{"$f":"IF($T289=\"\",\"\",VLOOKUP($T289,'FO-DRE-02'!$A$6:$M$101,3,FALSE))","v":""},{"$f":"IF($T289=\"\",\"\",VLOOKUP($T289,'FO-DRE-02'!$A$6:$M$101,6,FALSE))","v":""},{"$f":"IF($T289=\"\",\"\",VLOOKUP($T289,'FO-DRE-02'!$A$6:$M$101,4,FALSE))","v":""},{"$f":"IF($T289=\"\",\"\",VLOOKUP($T289,'FO-DRE-02'!$A$6:$M$101,5,FALSE))","v":""},{"$f":"IF($T289=\"\",\"\",VLOOKUP($T289,'FO-DRE-02'!$A$6:$M$101,8,FALSE))","v":""},{"$f":"IF($T289=\"\",\"\",VLOOKUP($T289,'FO-DRE-02'!$A$6:$M$101,7,FALSE))","v":""},{"$f":"IF($T289=\"\",\"\",VLOOKUP($T289,'FO-DRE-02'!$A$6:$M$101,9,FALSE))","v":""},{"$f":"IF($T289=\"\",\"\",VLOOKUP($T289,'FO-DRE-02'!$A$6:$M$101,11,FALSE))","v":""},{"$f":"IF($T289=\"\",\"\",VLOOKUP($T289,'FO-DRE-02'!$A$6:$M$101,12,FALSE))","v":""},{"$f":"IF($T289=\"\",\"\",VLOOKUP($T289,'FO-DRE-02'!$A$6:$M$101,13,FALSE))","v":""},null,null,null,280,"","F/D","F/D","","","","","","","","","","","","","","",""]
[null,null,null,null,null,null,null,null,{"$f":"IF(H290=\"1a\",Hoja1!$B$126,IF(H290=\"1b\",Hoja1!$B$127,IF(H290=\"2a\",Hoja1!$B$128,IF(H290=\"2b\",Hoja1!$B$129,IF(H290=\"3 \",Hoja1!$B$130,IF(H290=\"4 \",Hoja1!$B$131,IF(H290=\"5 \",Hoja1!$B$132,IF(H290=\"6 \",Hoja1!$B$133,IF(H290=\"7 \",Hoja1!$B$134,IF(H290=\"8 \",Hoja1!$B$135,\" \"))))))))))","v":" "},{"$f":"CONCATENATE(#REF!,\"-\",\"TX\")","v":{"$error":"#REF!"}},{"$f":"CONCATENATE(#REF!,\"-\",\"RX\")","v":{"$error":"#REF!"}},null,null,null,null,0,null,null,null,null,null,{"$f":"IF($R290=\"\",\"\",VLOOKUP($R290,'FO-DRE-01'!$A$7:$U$301,18,FALSE))","v":""},{"$f":"IF($R290=\"\",\"\",VLOOKUP($R290,'FO-DRE-01'!$A$7:$U$301,16,FALSE))","v":""},{"$f":"IF($R290=\"\",\"\",VLOOKUP($R290,'FO-DRE-01'!$A$7:$U$301,17,FALSE))","v":""},{"$f":"IF($R290=\"\",\"\",VLOOKUP($R290,'FO-DRE-01'!$A$7:$U$301,3,FALSE))","v":""},{"$f":"IF($R290=\"\",\"\",VLOOKUP($R290,'FO-DRE-01'!$A$7:$U$301,4,FALSE))","v":""},{"$f":"IF($R290=\"\",\"\",VLOOKUP($R290,'FO-DRE-01'!$A$7:$U$301,5,FALSE))","v":""},{"$f":"IF($R290=\"\",\"\",VLOOKUP($R290,'FO-DRE-01'!$A$7:$U$301,7,FALSE))","v":""},{"$f":"IF($R290=\"\",\"\",VLOOKUP($R290,'FO-DRE-01'!$A$7:$U$301,8,FALSE))","v":""},{"$f":"IF($R290=\"\",\"\",VLOOKUP($R290,'FO-DRE-01'!$A$7:$U$301,9,FALSE))","v":""},{"$f":"IF($R290=\"\",\"\",VLOOKUP($R290,'FO-DRE-01'!$A$7:$U$301,10,FALSE))","v":""},{"$f":"IF($R290=\"\",\"\",VLOOKUP($R290,'FO-DRE-01'!$A$7:$U$301,11,FALSE))","v":""},{"$f":"IF($R290=\"\",\"\",VLOOKUP($R290,'FO-DRE-01'!$A$7:$U$301,12,FALSE))","v":""},{"$f":"IF($R290=\"\",\"\",VLOOKUP($R290,'FO-DRE-01'!$A$7:$U$301,13,FALSE))","v":""},{"$f":"IF($R290=\"\",\"\",VLOOKUP($R290,'FO-DRE-01'!$A$7:$U$301,14,FALSE))","v":""},{"$f":"IF($R290=\"\",\"\",VLOOKUP($R290,'FO-DRE-01'!$A$7:$U$301,15,FALSE))","v":""},{"$f":"IF($S290=\"\",\"\",VLOOKUP($S290,'FO-DRE-04'!$A$6:$L$301,2,FALSE))","v":""},{"$f":"IF($S290=\"\",\"\",VLOOKUP($S290,'FO-DRE-04'!$A$6:$L$301,3,FALSE))","v":""},{"$f":"IF($S290=\"\",\"\",VLOOKUP($S290,'FO-DRE-04'!$A$6:$L$301,4,FALSE))","v":""},{"$f":"IF($S290=\"\",\"\",VLOOKUP($S290,'FO-DRE-04'!$A$6:$L$301,6,FALSE))","v":""},{"$f":"IF($S290=\"\",\"\",VLOOKUP($S290,'FO-DRE-04'!$A$6:$L$301,11,FALSE))","v":""},{"$f":"IF($T290=\"\",\"\",VLOOKUP($T290,'FO-DRE-02'!$A$6:$M$101,2,FALSE))","v":""},{"$f":"IF($T290=\"\",\"\",VLOOKUP($T290,'FO-DRE-02'!$A$6:$M$101,3,FALSE))","v":""},{"$f":"IF($T290=\"\",\"\",VLOOKUP($T290,'FO-DRE-02'!$A$6:$M$101,6,FALSE))","v":""},{"$f":"IF($T290=\"\",\"\",VLOOKUP($T290,'FO-DRE-02'!$A$6:$M$101,4,FALSE))","v":""},{"$f":"IF($T290=\"\",\"\",VLOOKUP($T290,'FO-DRE-02'!$A$6:$M$101,5,FALSE))","v":""},{"$f":"IF($T290=\"\",\"\",VLOOKUP($T290,'FO-DRE-02'!$A$6:$M$101,8,FALSE))","v":""},{"$f":"IF($T290=\"\",\"\",VLOOKUP($T290,'FO-DRE-02'!$A$6:$M$101,7,FALSE))","v":""},{"$f":"IF($T290=\"\",\"\",VLOOKUP($T290,'FO-DRE-02'!$A$6:$M$101,9,FALSE))","v":""},{"$f":"IF($T290=\"\",\"\",VLOOKUP($T290,'FO-DRE-02'!$A$6:$M$101,11,FALSE))","v":""},{"$f":"IF($T290=\"\",\"\",VLOOKUP($T290,'FO-DRE-02'!$A$6:$M$101,12,FALSE))","v":""},{"$f":"IF($T290=\"\",\"\",VLOOKUP($T290,'FO-DRE-02'!$A$6:$M$101,13,FALSE))","v":""},null,null,null,281,"","F/D","F/D","","","","","","","",{"$f":"IF(OR(AK290=\"MOVIL\",AK290=\"PORTATIL\"),\"\",IF(AN290=\"\",\"\",AN290))","v":""},"",{"$f":"IF(OR(BO290=\"\",BP290=\"\"),\"\",BP290*BO290)","v":""},"","","","",""]
[null,null,null,null,null,null,null,null,{"$f":"IF(H291=\"1a\",Hoja1!$B$126,IF(H291=\"1b\",Hoja1!$B$127,IF(H291=\"2a\",Hoja1!$B$128,IF(H291=\"2b\",Hoja1!$B$129,IF(H291=\"3 \",Hoja1!$B$130,IF(H291=\"4 \",Hoja1!$B$131,IF(H291=\"5 \",Hoja1!$B$132,IF(H291=\"6 \",Hoja1!$B$133,IF(H291=\"7 \",Hoja1!$B$134,IF(H291=\"8 \",Hoja1!$B$135,\" \"))))))))))","v":" "},{"$f":"CONCATENATE(#REF!,\"-\",\"TX\")","v":{"$error":"#REF!"}},{"$f":"CONCATENATE(#REF!,\"-\",\"RX\")","v":{"$error":"#REF!"}},null,null,null,null,0,null,null,null,null,null,{"$f":"IF($R291=\"\",\"\",VLOOKUP($R291,'FO-DRE-01'!$A$7:$U$301,18,FALSE))","v":""},{"$f":"IF($R291=\"\",\"\",VLOOKUP($R291,'FO-DRE-01'!$A$7:$U$301,16,FALSE))","v":""},{"$f":"IF($R291=\"\",\"\",VLOOKUP($R291,'FO-DRE-01'!$A$7:$U$301,17,FALSE))","v":""},{"$f":"IF($R291=\"\",\"\",VLOOKUP($R291,'FO-DRE-01'!$A$7:$U$301,3,FALSE))","v":""},{"$f":"IF($R291=\"\",\"\",VLOOKUP($R291,'FO-DRE-01'!$A$7:$U$301,4,FALSE))","v":""},{"$f":"IF($R291=\"\",\"\",VLOOKUP($R291,'FO-DRE-01'!$A$7:$U$301,5,FALSE))","v":""},{"$f":"IF($R291=\"\",\"\",VLOOKUP($R291,'FO-DRE-01'!$A$7:$U$301,7,FALSE))","v":""},{"$f":"IF($R291=\"\",\"\",VLOOKUP($R291,'FO-DRE-01'!$A$7:$U$301,8,FALSE))","v":""},{"$f":"IF($R291=\"\",\"\",VLOOKUP($R291,'FO-DRE-01'!$A$7:$U$301,9,FALSE))","v":""},{"$f":"IF($R291=\"\",\"\",VLOOKUP($R291,'FO-DRE-01'!$A$7:$U$301,10,FALSE))","v":""},{"$f":"IF($R291=\"\",\"\",VLOOKUP($R291,'FO-DRE-01'!$A$7:$U$301,11,FALSE))","v":""},{"$f":"IF($R291=\"\",\"\",VLOOKUP($R291,'FO-DRE-01'!$A$7:$U$301,12,FALSE))","v":""},{"$f":"IF($R291=\"\",\"\",VLOOKUP($R291,'FO-DRE-01'!$A$7:$U$301,13,FALSE))","v":""},{"$f":"IF($R291=\"\",\"\",VLOOKUP($R291,'FO-DRE-01'!$A$7:$U$301,14,FALSE))","v":""},{"$f":"IF($R291=\"\",\"\",VLOOKUP($R291,'FO-DRE-01'!$A$7:$U$301,15,FALSE))","v":""},{"$f":"IF($S291=\"\",\"\",VLOOKUP($S291,'FO-DRE-04'!$A$6:$L$301,2,FALSE))","v":""},{"$f":"IF($S291=\"\",\"\",VLOOKUP($S291,'FO-DRE-04'!$A$6:$L$301,3,FALSE))","v":""},{"$f":"IF($S291=\"\",\"\",VLOOKUP($S291,'FO-DRE-04'!$A$6:$L$301,4,FALSE))","v":""},{"$f":"IF($S291=\"\",\"\",VLOOKUP($S291,'FO-DRE-04'!$A$6:$L$301,6,FALSE))","v":""},{"$f":"IF($S291=\"\",\"\",VLOOKUP($S291,'FO-DRE-04'!$A$6:$L$301,11,FALSE))","v":""},{"$f":"IF($T291=\"\",\"\",VLOOKUP($T291,'FO-DRE-02'!$A$6:$M$101,2,FALSE))","v":""},{"$f":"IF($T291=\"\",\"\",VLOOKUP($T291,'FO-DRE-02'!$A$6:$M$101,3,FALSE))","v":""},{"$f":"IF($T291=\"\",\"\",VLOOKUP($T291,'FO-DRE-02'!$A$6:$M$101,6,FALSE))","v":""},{"$f":"IF($T291=\"\",\"\",VLOOKUP($T291,'FO-DRE-02'!$A$6:$M$101,4,FALSE))","v":""},{"$f":"IF($T291=\"\",\"\",VLOOKUP($T291,'FO-DRE-02'!$A$6:$M$101,5,FALSE))","v":""},{"$f":"IF($T291=\"\",\"\",VLOOKUP($T291,'FO-DRE-02'!$A$6:$M$101,8,FALSE))","v":""},{"$f":"IF($T291=\"\",\"\",VLOOKUP($T291,'FO-DRE-02'!$A$6:$M$101,7,FALSE))","v":""},{"$f":"IF($T291=\"\",\"\",VLOOKUP($T291,'FO-DRE-02'!$A$6:$M$101,9,FALSE))","v":""},{"$f":"IF($T291=\"\",\"\",VLOOKUP($T291,'FO-DRE-02'!$A$6:$M$101,11,FALSE))","v":""},{"$f":"IF($T291=\"\",\"\",VLOOKUP($T291,'FO-DRE-02'!$A$6:$M$101,12,FALSE))","v":""},{"$f":"IF($T291=\"\",\"\",VLOOKUP($T291,'FO-DRE-02'!$A$6:$M$101,13,FALSE))","v":""},null,null,null,282,"","F/D","F/D","","","","","","","","","","","","","","",""]
[null,null,null,null,null,null,null,null,{"$f":"IF(H292=\"1a\",Hoja1!$B$126,IF(H292=\"1b\",Hoja1!$B$127,IF(H292=\"2a\",Hoja1!$B$128,IF(H292=\"2b\",Hoja1!$B$129,IF(H292=\"3 \",Hoja1!$B$130,IF(H292=\"4 \",Hoja1!$B$131,IF(H292=\"5 \",Hoja1!$B$132,IF(H292=\"6 \",Hoja1!$B$133,IF(H292=\"7 \",Hoja1!$B$134,IF(H292=\"8 \",Hoja1!$B$135,\" \"))))))))))","v":" "},{"$f":"CONCATENATE(#REF!,\"-\",\"TX\")","v":{"$error":"#REF!"}},{"$f":"CONCATENATE(#REF!,\"-\",\"RX\")","v":{"$error":"#REF!"}},null,null,null,null,0,null,null,null,null,null,{"$f":"IF($R292=\"\",\"\",VLOOKUP($R292,'FO-DRE-01'!$A$7:$U$301,18,FALSE))","v":""},{"$f":"IF($R292=\"\",\"\",VLOOKUP($R292,'FO-DRE-01'!$A$7:$U$301,16,FALSE))","v":""},{"$f":"IF($R292=\"\",\"\",VLOOKUP($R292,'FO-DRE-01'!$A$7:$U$301,17,FALSE))","v":""},{"$f":"IF($R292=\"\",\"\",VLOOKUP($R292,'FO-DRE-01'!$A$7:$U$301,3,FALSE))","v":""},{"$f":"IF($R292=\"\",\"\",VLOOKUP($R292,'FO-DRE-01'!$A$7:$U$301,4,FALSE))","v":""},{"$f":"IF($R292=\"\",\"\",VLOOKUP($R292,'FO-DRE-01'!$A$7:$U$301,5,FALSE))","v":""},{"$f":"IF($R292=\"\",\"\",VLOOKUP($R292,'FO-DRE-01'!$A$7:$U$301,7,FALSE))","v":""},{"$f":"IF($R292=\"\",\"\",VLOOKUP($R292,'FO-DRE-01'!$A$7:$U$301,8,FALSE))","v":""},{"$f":"IF($R292=\"\",\"\",VLOOKUP($R292,'FO-DRE-01'!$A$7:$U$301,9,FALSE))","v":""},{"$f":"IF($R292=\"\",\"\",VLOOKUP($R292,'FO-DRE-01'!$A$7:$U$301,10,FALSE))","v":""},{"$f":"IF($R292=\"\",\"\",VLOOKUP($R292,'FO-DRE-01'!$A$7:$U$301,11,FALSE))","v":""},{"$f":"IF($R292=\"\",\"\",VLOOKUP($R292,'FO-DRE-01'!$A$7:$U$301,12,FALSE))","v":""},{"$f":"IF($R292=\"\",\"\",VLOOKUP($R292,'FO-DRE-01'!$A$7:$U$301,13,FALSE))","v":""},{"$f":"IF($R292=\"\",\"\",VLOOKUP($R292,'FO-DRE-01'!$A$7:$U$301,14,FALSE))","v":""},{"$f":"IF($R292=\"\",\"\",VLOOKUP($R292,'FO-DRE-01'!$A$7:$U$301,15,FALSE))","v":""},{"$f":"IF($S292=\"\",\"\",VLOOKUP($S292,'FO-DRE-04'!$A$6:$L$301,2,FALSE))","v":""},{"$f":"IF($S292=\"\",\"\",VLOOKUP($S292,'FO-DRE-04'!$A$6:$L$301,3,FALSE))","v":""},{"$f":"IF($S292=\"\",\"\",VLOOKUP($S292,'FO-DRE-04'!$A$6:$L$301,4,FALSE))","v":""},{"$f":"IF($S292=\"\",\"\",VLOOKUP($S292,'FO-DRE-04'!$A$6:$L$301,6,FALSE))","v":""},{"$f":"IF($S292=\"\",\"\",VLOOKUP($S292,'FO-DRE-04'!$A$6:$L$301,11,FALSE))","v":""},{"$f":"IF($T292=\"\",\"\",VLOOKUP($T292,'FO-DRE-02'!$A$6:$M$101,2,FALSE))","v":""},{"$f":"IF($T292=\"\",\"\",VLOOKUP($T292,'FO-DRE-02'!$A$6:$M$101,3,FALSE))","v":""},{"$f":"IF($T292=\"\",\"\",VLOOKUP($T292,'FO-DRE-02'!$A$6:$M$101,6,FALSE))","v":""},{"$f":"IF($T292=\"\",\"\",VLOOKUP($T292,'FO-DRE-02'!$A$6:$M$101,4,FALSE))","v":""},{"$f":"IF($T292=\"\",\"\",VLOOKUP($T292,'FO-DRE-02'!$A$6:$M$101,5,FALSE))","v":""},{"$f":"IF($T292=\"\",\"\",VLOOKUP($T292,'FO-DRE-02'!$A$6:$M$101,8,FALSE))","v":""},{"$f":"IF($T292=\"\",\"\",VLOOKUP($T292,'FO-DRE-02'!$A$6:$M$101,7,FALSE))","v":""},{"$f":"IF($T292=\"\",\"\",VLOOKUP($T292,'FO-DRE-02'!$A$6:$M$101,9,FALSE))","v":""},{"$f":"IF($T292=\"\",\"\",VLOOKUP($T292,'FO-DRE-02'!$A$6:$M$101,11,FALSE))","v":""},{"$f":"IF($T292=\"\",\"\",VLOOKUP($T292,'FO-DRE-02'!$A$6:$M$101,12,FALSE))","v":""},{"$f":"IF($T292=\"\",\"\",VLOOKUP($T292,'FO-DRE-02'!$A$6:$M$101,13,FALSE))","v":""},null,null,null,283,"","F/D","F/D","","","","","","","","","","","","","","",""]
[null,null,null,null,null,null,null,null,{"$f":"IF(H293=\"1a\",Hoja1!$B$126,IF(H293=\"1b\",Hoja1!$B$127,IF(H293=\"2a\",Hoja1!$B$128,IF(H293=\"2b\",Hoja1!$B$129,IF(H293=\"3 \",Hoja1!$B$130,IF(H293=\"4 \",Hoja1!$B$131,IF(H293=\"5 \",Hoja1!$B$132,IF(H293=\"6 \",Hoja1!$B$133,IF(H293=\"7 \",Hoja1!$B$134,IF(H293=\"8 \",Hoja1!$B$135,\" \"))))))))))","v":" "},{"$f":"CONCATENATE(#REF!,\"-\",\"TX\")","v":{"$error":"#REF!"}},{"$f":"CONCATENATE(#REF!,\"-\",\"RX\")","v":{"$error":"#REF!"}},null,null,null,null,0,null,null,null,null,null,{"$f":"IF($R293=\"\",\"\",VLOOKUP($R293,'FO-DRE-01'!$A$7:$U$301,18,FALSE))","v":""},{"$f":"IF($R293=\"\",\"\",VLOOKUP($R293,'FO-DRE-01'!$A$7:$U$301,16,FALSE))","v":""},{"$f":"IF($R293=\"\",\"\",VLOOKUP($R293,'FO-DRE-01'!$A$7:$U$301,17,FALSE))","v":""},{"$f":"IF($R293=\"\",\"\",VLOOKUP($R293,'FO-DRE-01'!$A$7:$U$301,3,FALSE))","v":""},{"$f":"IF($R293=\"\",\"\",VLOOKUP($R293,'FO-DRE-01'!$A$7:$U$301,4,FALSE))","v":""},{"$f":"IF($R293=\"\",\"\",VLOOKUP($R293,'FO-DRE-01'!$A$7:$U$301,5,FALSE))","v":""},{"$f":"IF($R293=\"\",\"\",VLOOKUP($R293,'FO-DRE-01'!$A$7:$U$301,7,FALSE))","v":""},{"$f":"IF($R293=\"\",\"\",VLOOKUP($R293,'FO-DRE-01'!$A$7:$U$301,8,FALSE))","v":""},{"$f":"IF($R293=\"\",\"\",VLOOKUP($R293,'FO-DRE-01'!$A$7:$U$301,9,FALSE))","v":""},{"$f":"IF($R293=\"\",\"\",VLOOKUP($R293,'FO-DRE-01'!$A$7:$U$301,10,FALSE))","v":""},{"$f":"IF($R293=\"\",\"\",VLOOKUP($R293,'FO-DRE-01'!$A$7:$U$301,11,FALSE))","v":""},{"$f":"IF($R293=\"\",\"\",VLOOKUP($R293,'FO-DRE-01'!$A$7:$U$301,12,FALSE))","v":""},{"$f":"IF($R293=\"\",\"\",VLOOKUP($R293,'FO-DRE-01'!$A$7:$U$301,13,FALSE))","v":""},{"$f":"IF($R293=\"\",\"\",VLOOKUP($R293,'FO-DRE-01'!$A$7:$U$301,14,FALSE))","v":""},{"$f":"IF($R293=\"\",\"\",VLOOKUP($R293,'FO-DRE-01'!$A$7:$U$301,15,FALSE))","v":""},{"$f":"IF($S293=\"\",\"\",VLOOKUP($S293,'FO-DRE-04'!$A$6:$L$301,2,FALSE))","v":""},{"$f":"IF($S293=\"\",\"\",VLOOKUP($S293,'FO-DRE-04'!$A$6:$L$301,3,FALSE))","v":""},{"$f":"IF($S293=\"\",\"\",VLOOKUP($S293,'FO-DRE-04'!$A$6:$L$301,4,FALSE))","v":""},{"$f":"IF($S293=\"\",\"\",VLOOKUP($S293,'FO-DRE-04'!$A$6:$L$301,6,FALSE))","v":""},{"$f":"IF($S293=\"\",\"\",VLOOKUP($S293,'FO-DRE-04'!$A$6:$L$301,11,FALSE))","v":""},{"$f":"IF($T293=\"\",\"\",VLOOKUP($T293,'FO-DRE-02'!$A$6:$M$101,2,FALSE))","v":""},{"$f":"IF($T293=\"\",\"\",VLOOKUP($T293,'FO-DRE-02'!$A$6:$M$101,3,FALSE))","v":""},{"$f":"IF($T293=\"\",\"\",VLOOKUP($T293,'FO-DRE-02'!$A$6:$M$101,6,FALSE))","v":""},{"$f":"IF($T293=\"\",\"\",VLOOKUP($T293,'FO-DRE-02'!$A$6:$M$101,4,FALSE))","v":""},{"$f":"IF($T293=\"\",\"\",VLOOKUP($T293,'FO-DRE-02'!$A$6:$M$101,5,FALSE))","v":""},{"$f":"IF($T293=\"\",\"\",VLOOKUP($T293,'FO-DRE-02'!$A$6:$M$101,8,FALSE))","v":""},{"$f":"IF($T293=\"\",\"\",VLOOKUP($T293,'FO-DRE-02'!$A$6:$M$101,7,FALSE))","v":""},{"$f":"IF($T293=\"\",\"\",VLOOKUP($T293,'FO-DRE-02'!$A$6:$M$101,9,FALSE))","v":""},{"$f":"IF($T293=\"\",\"\",VLOOKUP($T293,'FO-DRE-02'!$A$6:$M$101,11,FALSE))","v":""},{"$f":"IF($T293=\"\",\"\",VLOOKUP($T293,'FO-DRE-02'!$A$6:$M$101,12,FALSE))","v":""},{"$f":"IF($T293=\"\",\"\",VLOOKUP($T293,'FO-DRE-02'!$A$6:$M$101,13,FALSE))","v":""},null,null,null,284,"","F/D","F/D","","","","","","","","","","","","","","",""]
[null,null,null,null,null,null,null,null,{"$f":"IF(H294=\"1a\",Hoja1!$B$126,IF(H294=\"1b\",Hoja1!$B$127,IF(H294=\"2a\",Hoja1!$B$128,IF(H294=\"2b\",Hoja1!$B$129,IF(H294=\"3 \",Hoja1!$B$130,IF(H294=\"4 \",Hoja1!$B$131,IF(H294=\"5 \",Hoja1!$B$132,IF(H294=\"6 \",Hoja1!$B$133,IF(H294=\"7 \",Hoja1!$B$134,IF(H294=\"8 \",Hoja1!$B$135,\" \"))))))))))","v":" "},{"$f":"CONCATENATE(#REF!,\"-\",\"TX\")","v":{"$error":"#REF!"}},{"$f":"CONCATENATE(#REF!,\"-\",\"RX\")","v":{"$error":"#REF!"}},null,null,null,null,0,null,null,null,null,null,{"$f":"IF($R294=\"\",\"\",VLOOKUP($R294,'FO-DRE-01'!$A$7:$U$301,18,FALSE))","v":""},{"$f":"IF($R294=\"\",\"\",VLOOKUP($R294,'FO-DRE-01'!$A$7:$U$301,16,FALSE))","v":""},{"$f":"IF($R294=\"\",\"\",VLOOKUP($R294,'FO-DRE-01'!$A$7:$U$301,17,FALSE))","v":""},{"$f":"IF($R294=\"\",\"\",VLOOKUP($R294,'FO-DRE-01'!$A$7:$U$301,3,FALSE))","v":""},{"$f":"IF($R294=\"\",\"\",VLOOKUP($R294,'FO-DRE-01'!$A$7:$U$301,4,FALSE))","v":""},{"$f":"IF($R294=\"\",\"\",VLOOKUP($R294,'FO-DRE-01'!$A$7:$U$301,5,FALSE))","v":""},{"$f":"IF($R294=\"\",\"\",VLOOKUP($R294,'FO-DRE-01'!$A$7:$U$301,7,FALSE))","v":""},{"$f":"IF($R294=\"\",\"\",VLOOKUP($R294,'FO-DRE-01'!$A$7:$U$301,8,FALSE))","v":""},{"$f":"IF($R294=\"\",\"\",VLOOKUP($R294,'FO-DRE-01'!$A$7:$U$301,9,FALSE))","v":""},{"$f":"IF($R294=\"\",\"\",VLOOKUP($R294,'FO-DRE-01'!$A$7:$U$301,10,FALSE))","v":""},{"$f":"IF($R294=\"\",\"\",VLOOKUP($R294,'FO-DRE-01'!$A$7:$U$301,11,FALSE))","v":""},{"$f":"IF($R294=\"\",\"\",VLOOKUP($R294,'FO-DRE-01'!$A$7:$U$301,12,FALSE))","v":""},{"$f":"IF($R294=\"\",\"\",VLOOKUP($R294,'FO-DRE-01'!$A$7:$U$301,13,FALSE))","v":""},{"$f":"IF($R294=\"\",\"\",VLOOKUP($R294,'FO-DRE-01'!$A$7:$U$301,14,FALSE))","v":""},{"$f":"IF($R294=\"\",\"\",VLOOKUP($R294,'FO-DRE-01'!$A$7:$U$301,15,FALSE))","v":""},{"$f":"IF($S294=\"\",\"\",VLOOKUP($S294,'FO-DRE-04'!$A$6:$L$301,2,FALSE))","v":""},{"$f":"IF($S294=\"\",\"\",VLOOKUP($S294,'FO-DRE-04'!$A$6:$L$301,3,FALSE))","v":""},{"$f":"IF($S294=\"\",\"\",VLOOKUP($S294,'FO-DRE-04'!$A$6:$L$301,4,FALSE))","v":""},{"$f":"IF($S294=\"\",\"\",VLOOKUP($S294,'FO-DRE-04'!$A$6:$L$301,6,FALSE))","v":""},{"$f":"IF($S294=\"\",\"\",VLOOKUP($S294,'FO-DRE-04'!$A$6:$L$301,11,FALSE))","v":""},{"$f":"IF($T294=\"\",\"\",VLOOKUP($T294,'FO-DRE-02'!$A$6:$M$101,2,FALSE))","v":""},{"$f":"IF($T294=\"\",\"\",VLOOKUP($T294,'FO-DRE-02'!$A$6:$M$101,3,FALSE))","v":""},{"$f":"IF($T294=\"\",\"\",VLOOKUP($T294,'FO-DRE-02'!$A$6:$M$101,6,FALSE))","v":""},{"$f":"IF($T294=\"\",\"\",VLOOKUP($T294,'FO-DRE-02'!$A$6:$M$101,4,FALSE))","v":""},{"$f":"IF($T294=\"\",\"\",VLOOKUP($T294,'FO-DRE-02'!$A$6:$M$101,5,FALSE))","v":""},{"$f":"IF($T294=\"\",\"\",VLOOKUP($T294,'FO-DRE-02'!$A$6:$M$101,8,FALSE))","v":""},{"$f":"IF($T294=\"\",\"\",VLOOKUP($T294,'FO-DRE-02'!$A$6:$M$101,7,FALSE))","v":""},{"$f":"IF($T294=\"\",\"\",VLOOKUP($T294,'FO-DRE-02'!$A$6:$M$101,9,FALSE))","v":""},{"$f":"IF($T294=\"\",\"\",VLOOKUP($T294,'FO-DRE-02'!$A$6:$M$101,11,FALSE))","v":""},{"$f":"IF($T294=\"\",\"\",VLOOKUP($T294,'FO-DRE-02'!$A$6:$M$101,12,FALSE))","v":""},{"$f":"IF($T294=\"\",\"\",VLOOKUP($T294,'FO-DRE-02'!$A$6:$M$101,13,FALSE))","v":""},null,null,null,285,"","F/D","F/D","","","","","","","","","","","","","","",""]
[null,null,null,null,null,null,null,null,{"$f":"IF(H295=\"1a\",Hoja1!$B$126,IF(H295=\"1b\",Hoja1!$B$127,IF(H295=\"2a\",Hoja1!$B$128,IF(H295=\"2b\",Hoja1!$B$129,IF(H295=\"3 \",Hoja1!$B$130,IF(H295=\"4 \",Hoja1!$B$131,IF(H295=\"5 \",Hoja1!$B$132,IF(H295=\"6 \",Hoja1!$B$133,IF(H295=\"7 \",Hoja1!$B$134,IF(H295=\"8 \",Hoja1!$B$135,\" \"))))))))))","v":" "},{"$f":"CONCATENATE(#REF!,\"-\",\"TX\")","v":{"$error":"#REF!"}},{"$f":"CONCATENATE(#REF!,\"-\",\"RX\")","v":{"$error":"#REF!"}},null,null,null,null,0,null,null,null,null,null,{"$f":"IF($R295=\"\",\"\",VLOOKUP($R295,'FO-DRE-01'!$A$7:$U$301,18,FALSE))","v":""},{"$f":"IF($R295=\"\",\"\",VLOOKUP($R295,'FO-DRE-01'!$A$7:$U$301,16,FALSE))","v":""},{"$f":"IF($R295=\"\",\"\",VLOOKUP($R295,'FO-DRE-01'!$A$7:$U$301,17,FALSE))","v":""},{"$f":"IF($R295=\"\",\"\",VLOOKUP($R295,'FO-DRE-01'!$A$7:$U$301,3,FALSE))","v":""},{"$f":"IF($R295=\"\",\"\",VLOOKUP($R295,'FO-DRE-01'!$A$7:$U$301,4,FALSE))","v":""},{"$f":"IF($R295=\"\",\"\",VLOOKUP($R295,'FO-DRE-01'!$A$7:$U$301,5,FALSE))","v":""},{"$f":"IF($R295=\"\",\"\",VLOOKUP($R295,'FO-DRE-01'!$A$7:$U$301,7,FALSE))","v":""},{"$f":"IF($R295=\"\",\"\",VLOOKUP($R295,'FO-DRE-01'!$A$7:$U$301,8,FALSE))","v":""},{"$f":"IF($R295=\"\",\"\",VLOOKUP($R295,'FO-DRE-01'!$A$7:$U$301,9,FALSE))","v":""},{"$f":"IF($R295=\"\",\"\",VLOOKUP($R295,'FO-DRE-01'!$A$7:$U$301,10,FALSE))","v":""},{"$f":"IF($R295=\"\",\"\",VLOOKUP($R295,'FO-DRE-01'!$A$7:$U$301,11,FALSE))","v":""},{"$f":"IF($R295=\"\",\"\",VLOOKUP($R295,'FO-DRE-01'!$A$7:$U$301,12,FALSE))","v":""},{"$f":"IF($R295=\"\",\"\",VLOOKUP($R295,'FO-DRE-01'!$A$7:$U$301,13,FALSE))","v":""},{"$f":"IF($R295=\"\",\"\",VLOOKUP($R295,'FO-DRE-01'!$A$7:$U$301,14,FALSE))","v":""},{"$f":"IF($R295=\"\",\"\",VLOOKUP($R295,'FO-DRE-01'!$A$7:$U$301,15,FALSE))","v":""},{"$f":"IF($S295=\"\",\"\",VLOOKUP($S295,'FO-DRE-04'!$A$6:$L$301,2,FALSE))","v":""},{"$f":"IF($S295=\"\",\"\",VLOOKUP($S295,'FO-DRE-04'!$A$6:$L$301,3,FALSE))","v":""},{"$f":"IF($S295=\"\",\"\",VLOOKUP($S295,'FO-DRE-04'!$A$6:$L$301,4,FALSE))","v":""},{"$f":"IF($S295=\"\",\"\",VLOOKUP($S295,'FO-DRE-04'!$A$6:$L$301,6,FALSE))","v":""},{"$f":"IF($S295=\"\",\"\",VLOOKUP($S295,'FO-DRE-04'!$A$6:$L$301,11,FALSE))","v":""},{"$f":"IF($T295=\"\",\"\",VLOOKUP($T295,'FO-DRE-02'!$A$6:$M$101,2,FALSE))","v":""},{"$f":"IF($T295=\"\",\"\",VLOOKUP($T295,'FO-DRE-02'!$A$6:$M$101,3,FALSE))","v":""},{"$f":"IF($T295=\"\",\"\",VLOOKUP($T295,'FO-DRE-02'!$A$6:$M$101,6,FALSE))","v":""},{"$f":"IF($T295=\"\",\"\",VLOOKUP($T295,'FO-DRE-02'!$A$6:$M$101,4,FALSE))","v":""},{"$f":"IF($T295=\"\",\"\",VLOOKUP($T295,'FO-DRE-02'!$A$6:$M$101,5,FALSE))","v":""},{"$f":"IF($T295=\"\",\"\",VLOOKUP($T295,'FO-DRE-02'!$A$6:$M$101,8,FALSE))","v":""},{"$f":"IF($T295=\"\",\"\",VLOOKUP($T295,'FO-DRE-02'!$A$6:$M$101,7,FALSE))","v":""},{"$f":"IF($T295=\"\",\"\",VLOOKUP($T295,'FO-DRE-02'!$A$6:$M$101,9,FALSE))","v":""},{"$f":"IF($T295=\"\",\"\",VLOOKUP($T295,'FO-DRE-02'!$A$6:$M$101,11,FALSE))","v":""},{"$f":"IF($T295=\"\",\"\",VLOOKUP($T295,'FO-DRE-02'!$A$6:$M$101,12,FALSE))","v":""},{"$f":"IF($T295=\"\",\"\",VLOOKUP($T295,'FO-DRE-02'!$A$6:$M$101,13,FALSE))","v":""},null,null,null,286,"","F/D","F/D","","","","","","","","","","","","","","",""]
[null,null,null,null,null,null,null,null,{"$f":"IF(H296=\"1a\",Hoja1!$B$126,IF(H296=\"1b\",Hoja1!$B$127,IF(H296=\"2a\",Hoja1!$B$128,IF(H296=\"2b\",Hoja1!$B$129,IF(H296=\"3 \",Hoja1!$B$130,IF(H296=\"4 \",Hoja1!$B$131,IF(H296=\"5 \",Hoja1!$B$132,IF(H296=\"6 \",Hoja1!$B$133,IF(H296=\"7 \",Hoja1!$B$134,IF(H296=\"8 \",Hoja1!$B$135,\" \"))))))))))","v":" "},{"$f":"CONCATENATE(#REF!,\"-\",\"TX\")","v":{"$error":"#REF!"}},{"$f":"CONCATENATE(#REF!,\"-\",\"RX\")","v":{"$error":"#REF!"}},null,null,null,null,0,null,null,null,null,null,{"$f":"IF($R296=\"\",\"\",VLOOKUP($R296,'FO-DRE-01'!$A$7:$U$301,18,FALSE))","v":""},{"$f":"IF($R296=\"\",\"\",VLOOKUP($R296,'FO-DRE-01'!$A$7:$U$301,16,FALSE))","v":""},{"$f":"IF($R296=\"\",\"\",VLOOKUP($R296,'FO-DRE-01'!$A$7:$U$301,17,FALSE))","v":""},{"$f":"IF($R296=\"\",\"\",VLOOKUP($R296,'FO-DRE-01'!$A$7:$U$301,3,FALSE))","v":""},{"$f":"IF($R296=\"\",\"\",VLOOKUP($R296,'FO-DRE-01'!$A$7:$U$301,4,FALSE))","v":""},{"$f":"IF($R296=\"\",\"\",VLOOKUP($R296,'FO-DRE-01'!$A$7:$U$301,5,FALSE))","v":""},{"$f":"IF($R296=\"\",\"\",VLOOKUP($R296,'FO-DRE-01'!$A$7:$U$301,7,FALSE))","v":""},{"$f":"IF($R296=\"\",\"\",VLOOKUP($R296,'FO-DRE-01'!$A$7:$U$301,8,FALSE))","v":""},{"$f":"IF($R296=\"\",\"\",VLOOKUP($R296,'FO-DRE-01'!$A$7:$U$301,9,FALSE))","v":""},{"$f":"IF($R296=\"\",\"\",VLOOKUP($R296,'FO-DRE-01'!$A$7:$U$301,10,FALSE))","v":""},{"$f":"IF($R296=\"\",\"\",VLOOKUP($R296,'FO-DRE-01'!$A$7:$U$301,11,FALSE))","v":""},{"$f":"IF($R296=\"\",\"\",VLOOKUP($R296,'FO-DRE-01'!$A$7:$U$301,12,FALSE))","v":""},{"$f":"IF($R296=\"\",\"\",VLOOKUP($R296,'FO-DRE-01'!$A$7:$U$301,13,FALSE))","v":""},{"$f":"IF($R296=\"\",\"\",VLOOKUP($R296,'FO-DRE-01'!$A$7:$U$301,14,FALSE))","v":""},{"$f":"IF($R296=\"\",\"\",VLOOKUP($R296,'FO-DRE-01'!$A$7:$U$301,15,FALSE))","v":""},{"$f":"IF($S296=\"\",\"\",VLOOKUP($S296,'FO-DRE-04'!$A$6:$L$301,2,FALSE))","v":""},{"$f":"IF($S296=\"\",\"\",VLOOKUP($S296,'FO-DRE-04'!$A$6:$L$301,3,FALSE))","v":""},{"$f":"IF($S296=\"\",\"\",VLOOKUP($S296,'FO-DRE-04'!$A$6:$L$301,4,FALSE))","v":""},{"$f":"IF($S296=\"\",\"\",VLOOKUP($S296,'FO-DRE-04'!$A$6:$L$301,6,FALSE))","v":""},{"$f":"IF($S296=\"\",\"\",VLOOKUP($S296,'FO-DRE-04'!$A$6:$L$301,11,FALSE))","v":""},{"$f":"IF($T296=\"\",\"\",VLOOKUP($T296,'FO-DRE-02'!$A$6:$M$101,2,FALSE))","v":""},{"$f":"IF($T296=\"\",\"\",VLOOKUP($T296,'FO-DRE-02'!$A$6:$M$101,3,FALSE))","v":""},{"$f":"IF($T296=\"\",\"\",VLOOKUP($T296,'FO-DRE-02'!$A$6:$M$101,6,FALSE))","v":""},{"$f":"IF($T296=\"\",\"\",VLOOKUP($T296,'FO-DRE-02'!$A$6:$M$101,4,FALSE))","v":""},{"$f":"IF($T296=\"\",\"\",VLOOKUP($T296,'FO-DRE-02'!$A$6:$M$101,5,FALSE))","v":""},{"$f":"IF($T296=\"\",\"\",VLOOKUP($T296,'FO-DRE-02'!$A$6:$M$101,8,FALSE))","v":""},{"$f":"IF($T296=\"\",\"\",VLOOKUP($T296,'FO-DRE-02'!$A$6:$M$101,7,FALSE))","v":""},{"$f":"IF($T296=\"\",\"\",VLOOKUP($T296,'FO-DRE-02'!$A$6:$M$101,9,FALSE))","v":""},{"$f":"IF($T296=\"\",\"\",VLOOKUP($T296,'FO-DRE-02'!$A$6:$M$101,11,FALSE))","v":""},{"$f":"IF($T296=\"\",\"\",VLOOKUP($T296,'FO-DRE-02'!$A$6:$M$101,12,FALSE))","v":""},{"$f":"IF($T296=\"\",\"\",VLOOKUP($T296,'FO-DRE-02'!$A$6:$M$101,13,FALSE))","v":""},null,null,null,287,"","F/D","F/D","","","","","","","","","","","","","","",""]
[null,null,null,null,null,null,null,null,{"$f":"IF(H297=\"1a\",Hoja1!$B$126,IF(H297=\"1b\",Hoja1!$B$127,IF(H297=\"2a\",Hoja1!$B$128,IF(H297=\"2b\",Hoja1!$B$129,IF(H297=\"3 \",Hoja1!$B$130,IF(H297=\"4 \",Hoja1!$B$131,IF(H297=\"5 \",Hoja1!$B$132,IF(H297=\"6 \",Hoja1!$B$133,IF(H297=\"7 \",Hoja1!$B$134,IF(H297=\"8 \",Hoja1!$B$135,\" \"))))))))))","v":" "},{"$f":"CONCATENATE(#REF!,\"-\",\"TX\")","v":{"$error":"#REF!"}},{"$f":"CONCATENATE(#REF!,\"-\",\"RX\")","v":{"$error":"#REF!"}},null,null,null,null,0,null,null,null,null,null,{"$f":"IF($R297=\"\",\"\",VLOOKUP($R297,'FO-DRE-01'!$A$7:$U$301,18,FALSE))","v":""},{"$f":"IF($R297=\"\",\"\",VLOOKUP($R297,'FO-DRE-01'!$A$7:$U$301,16,FALSE))","v":""},{"$f":"IF($R297=\"\",\"\",VLOOKUP($R297,'FO-DRE-01'!$A$7:$U$301,17,FALSE))","v":""},{"$f":"IF($R297=\"\",\"\",VLOOKUP($R297,'FO-DRE-01'!$A$7:$U$301,3,FALSE))","v":""},{"$f":"IF($R297=\"\",\"\",VLOOKUP($R297,'FO-DRE-01'!$A$7:$U$301,4,FALSE))","v":""},{"$f":"IF($R297=\"\",\"\",VLOOKUP($R297,'FO-DRE-01'!$A$7:$U$301,5,FALSE))","v":""},{"$f":"IF($R297=\"\",\"\",VLOOKUP($R297,'FO-DRE-01'!$A$7:$U$301,7,FALSE))","v":""},{"$f":"IF($R297=\"\",\"\",VLOOKUP($R297,'FO-DRE-01'!$A$7:$U$301,8,FALSE))","v":""},{"$f":"IF($R297=\"\",\"\",VLOOKUP($R297,'FO-DRE-01'!$A$7:$U$301,9,FALSE))","v":""},{"$f":"IF($R297=\"\",\"\",VLOOKUP($R297,'FO-DRE-01'!$A$7:$U$301,10,FALSE))","v":""},{"$f":"IF($R297=\"\",\"\",VLOOKUP($R297,'FO-DRE-01'!$A$7:$U$301,11,FALSE))","v":""},{"$f":"IF($R297=\"\",\"\",VLOOKUP($R297,'FO-DRE-01'!$A$7:$U$301,12,FALSE))","v":""},{"$f":"IF($R297=\"\",\"\",VLOOKUP($R297,'FO-DRE-01'!$A$7:$U$301,13,FALSE))","v":""},{"$f":"IF($R297=\"\",\"\",VLOOKUP($R297,'FO-DRE-01'!$A$7:$U$301,14,FALSE))","v":""},{"$f":"IF($R297=\"\",\"\",VLOOKUP($R297,'FO-DRE-01'!$A$7:$U$301,15,FALSE))","v":""},{"$f":"IF($S297=\"\",\"\",VLOOKUP($S297,'FO-DRE-04'!$A$6:$L$301,2,FALSE))","v":""},{"$f":"IF($S297=\"\",\"\",VLOOKUP($S297,'FO-DRE-04'!$A$6:$L$301,3,FALSE))","v":""},{"$f":"IF($S297=\"\",\"\",VLOOKUP($S297,'FO-DRE-04'!$A$6:$L$301,4,FALSE))","v":""},{"$f":"IF($S297=\"\",\"\",VLOOKUP($S297,'FO-DRE-04'!$A$6:$L$301,6,FALSE))","v":""},{"$f":"IF($S297=\"\",\"\",VLOOKUP($S297,'FO-DRE-04'!$A$6:$L$301,11,FALSE))","v":""},{"$f":"IF($T297=\"\",\"\",VLOOKUP($T297,'FO-DRE-02'!$A$6:$M$101,2,FALSE))","v":""},{"$f":"IF($T297=\"\",\"\",VLOOKUP($T297,'FO-DRE-02'!$A$6:$M$101,3,FALSE))","v":""},{"$f":"IF($T297=\"\",\"\",VLOOKUP($T297,'FO-DRE-02'!$A$6:$M$101,6,FALSE))","v":""},{"$f":"IF($T297=\"\",\"\",VLOOKUP($T297,'FO-DRE-02'!$A$6:$M$101,4,FALSE))","v":""},{"$f":"IF($T297=\"\",\"\",VLOOKUP($T297,'FO-DRE-02'!$A$6:$M$101,5,FALSE))","v":""},{"$f":"IF($T297=\"\",\"\",VLOOKUP($T297,'FO-DRE-02'!$A$6:$M$101,8,FALSE))","v":""},{"$f":"IF($T297=\"\",\"\",VLOOKUP($T297,'FO-DRE-02'!$A$6:$M$101,7,FALSE))","v":""},{"$f":"IF($T297=\"\",\"\",VLOOKUP($T297,'FO-DRE-02'!$A$6:$M$101,9,FALSE))","v":""},{"$f":"IF($T297=\"\",\"\",VLOOKUP($T297,'FO-DRE-02'!$A$6:$M$101,11,FALSE))","v":""},{"$f":"IF($T297=\"\",\"\",VLOOKUP($T297,'FO-DRE-02'!$A$6:$M$101,12,FALSE))","v":""},{"$f":"IF($T297=\"\",\"\",VLOOKUP($T297,'FO-DRE-02'!$A$6:$M$101,13,FALSE))","v":""},null,null,null,288,"","F/D","F/D","","","","","","","","","","","","","","",""]
[null,null,null,null,null,null,null,null,{"$f":"IF(H298=\"1a\",Hoja1!$B$126,IF(H298=\"1b\",Hoja1!$B$127,IF(H298=\"2a\",Hoja1!$B$128,IF(H298=\"2b\",Hoja1!$B$129,IF(H298=\"3 \",Hoja1!$B$130,IF(H298=\"4 \",Hoja1!$B$131,IF(H298=\"5 \",Hoja1!$B$132,IF(H298=\"6 \",Hoja1!$B$133,IF(H298=\"7 \",Hoja1!$B$134,IF(H298=\"8 \",Hoja1!$B$135,\" \"))))))))))","v":" "},{"$f":"CONCATENATE(#REF!,\"-\",\"TX\")","v":{"$error":"#REF!"}},{"$f":"CONCATENATE(#REF!,\"-\",\"RX\")","v":{"$error":"#REF!"}},null,null,null,null,0,null,null,null,null,null,{"$f":"IF($R298=\"\",\"\",VLOOKUP($R298,'FO-DRE-01'!$A$7:$U$301,18,FALSE))","v":""},{"$f":"IF($R298=\"\",\"\",VLOOKUP($R298,'FO-DRE-01'!$A$7:$U$301,16,FALSE))","v":""},{"$f":"IF($R298=\"\",\"\",VLOOKUP($R298,'FO-DRE-01'!$A$7:$U$301,17,FALSE))","v":""},{"$f":"IF($R298=\"\",\"\",VLOOKUP($R298,'FO-DRE-01'!$A$7:$U$301,3,FALSE))","v":""},{"$f":"IF($R298=\"\",\"\",VLOOKUP($R298,'FO-DRE-01'!$A$7:$U$301,4,FALSE))","v":""},{"$f":"IF($R298=\"\",\"\",VLOOKUP($R298,'FO-DRE-01'!$A$7:$U$301,5,FALSE))","v":""},{"$f":"IF($R298=\"\",\"\",VLOOKUP($R298,'FO-DRE-01'!$A$7:$U$301,7,FALSE))","v":""},{"$f":"IF($R298=\"\",\"\",VLOOKUP($R298,'FO-DRE-01'!$A$7:$U$301,8,FALSE))","v":""},{"$f":"IF($R298=\"\",\"\",VLOOKUP($R298,'FO-DRE-01'!$A$7:$U$301,9,FALSE))","v":""},{"$f":"IF($R298=\"\",\"\",VLOOKUP($R298,'FO-DRE-01'!$A$7:$U$301,10,FALSE))","v":""},{"$f":"IF($R298=\"\",\"\",VLOOKUP($R298,'FO-DRE-01'!$A$7:$U$301,11,FALSE))","v":""},{"$f":"IF($R298=\"\",\"\",VLOOKUP($R298,'FO-DRE-01'!$A$7:$U$301,12,FALSE))","v":""},{"$f":"IF($R298=\"\",\"\",VLOOKUP($R298,'FO-DRE-01'!$A$7:$U$301,13,FALSE))","v":""},{"$f":"IF($R298=\"\",\"\",VLOOKUP($R298,'FO-DRE-01'!$A$7:$U$301,14,FALSE))","v":""},{"$f":"IF($R298=\"\",\"\",VLOOKUP($R298,'FO-DRE-01'!$A$7:$U$301,15,FALSE))","v":""},{"$f":"IF($S298=\"\",\"\",VLOOKUP($S298,'FO-DRE-04'!$A$6:$L$301,2,FALSE))","v":""},{"$f":"IF($S298=\"\",\"\",VLOOKUP($S298,'FO-DRE-04'!$A$6:$L$301,3,FALSE))","v":""},{"$f":"IF($S298=\"\",\"\",VLOOKUP($S298,'FO-DRE-04'!$A$6:$L$301,4,FALSE))","v":""},{"$f":"IF($S298=\"\",\"\",VLOOKUP($S298,'FO-DRE-04'!$A$6:$L$301,6,FALSE))","v":""},{"$f":"IF($S298=\"\",\"\",VLOOKUP($S298,'FO-DRE-04'!$A$6:$L$301,11,FALSE))","v":""},{"$f":"IF($T298=\"\",\"\",VLOOKUP($T298,'FO-DRE-02'!$A$6:$M$101,2,FALSE))","v":""},{"$f":"IF($T298=\"\",\"\",VLOOKUP($T298,'FO-DRE-02'!$A$6:$M$101,3,FALSE))","v":""},{"$f":"IF($T298=\"\",\"\",VLOOKUP($T298,'FO-DRE-02'!$A$6:$M$101,6,FALSE))","v":""},{"$f":"IF($T298=\"\",\"\",VLOOKUP($T298,'FO-DRE-02'!$A$6:$M$101,4,FALSE))","v":""},{"$f":"IF($T298=\"\",\"\",VLOOKUP($T298,'FO-DRE-02'!$A$6:$M$101,5,FALSE))","v":""},{"$f":"IF($T298=\"\",\"\",VLOOKUP($T298,'FO-DRE-02'!$A$6:$M$101,8,FALSE))","v":""},{"$f":"IF($T298=\"\",\"\",VLOOKUP($T298,'FO-DRE-02'!$A$6:$M$101,7,FALSE))","v":""},{"$f":"IF($T298=\"\",\"\",VLOOKUP($T298,'FO-DRE-02'!$A$6:$M$101,9,FALSE))","v":""},{"$f":"IF($T298=\"\",\"\",VLOOKUP($T298,'FO-DRE-02'!$A$6:$M$101,11,FALSE))","v":""},{"$f":"IF($T298=\"\",\"\",VLOOKUP($T298,'FO-DRE-02'!$A$6:$M$101,12,FALSE))","v":""},{"$f":"IF($T298=\"\",\"\",VLOOKUP($T298,'FO-DRE-02'!$A$6:$M$101,13,FALSE))","v":""},null,null,null,289,"","F/D","F/D","","","","","","","","","","","","","","",""]
[null,null,null,null,null,null,null,null,{"$f":"IF(H299=\"1a\",Hoja1!$B$126,IF(H299=\"1b\",Hoja1!$B$127,IF(H299=\"2a\",Hoja1!$B$128,IF(H299=\"2b\",Hoja1!$B$129,IF(H299=\"3 \",Hoja1!$B$130,IF(H299=\"4 \",Hoja1!$B$131,IF(H299=\"5 \",Hoja1!$B$132,IF(H299=\"6 \",Hoja1!$B$133,IF(H299=\"7 \",Hoja1!$B$134,IF(H299=\"8 \",Hoja1!$B$135,\" \"))))))))))","v":" "},{"$f":"CONCATENATE(#REF!,\"-\",\"TX\")","v":{"$error":"#REF!"}},{"$f":"CONCATENATE(#REF!,\"-\",\"RX\")","v":{"$error":"#REF!"}},null,null,null,null,0,null,null,null,null,null,{"$f":"IF($R299=\"\",\"\",VLOOKUP($R299,'FO-DRE-01'!$A$7:$U$301,18,FALSE))","v":""},{"$f":"IF($R299=\"\",\"\",VLOOKUP($R299,'FO-DRE-01'!$A$7:$U$301,16,FALSE))","v":""},{"$f":"IF($R299=\"\",\"\",VLOOKUP($R299,'FO-DRE-01'!$A$7:$U$301,17,FALSE))","v":""},{"$f":"IF($R299=\"\",\"\",VLOOKUP($R299,'FO-DRE-01'!$A$7:$U$301,3,FALSE))","v":""},{"$f":"IF($R299=\"\",\"\",VLOOKUP($R299,'FO-DRE-01'!$A$7:$U$301,4,FALSE))","v":""},{"$f":"IF($R299=\"\",\"\",VLOOKUP($R299,'FO-DRE-01'!$A$7:$U$301,5,FALSE))","v":""},{"$f":"IF($R299=\"\",\"\",VLOOKUP($R299,'FO-DRE-01'!$A$7:$U$301,7,FALSE))","v":""},{"$f":"IF($R299=\"\",\"\",VLOOKUP($R299,'FO-DRE-01'!$A$7:$U$301,8,FALSE))","v":""},{"$f":"IF($R299=\"\",\"\",VLOOKUP($R299,'FO-DRE-01'!$A$7:$U$301,9,FALSE))","v":""},{"$f":"IF($R299=\"\",\"\",VLOOKUP($R299,'FO-DRE-01'!$A$7:$U$301,10,FALSE))","v":""},{"$f":"IF($R299=\"\",\"\",VLOOKUP($R299,'FO-DRE-01'!$A$7:$U$301,11,FALSE))","v":""},{"$f":"IF($R299=\"\",\"\",VLOOKUP($R299,'FO-DRE-01'!$A$7:$U$301,12,FALSE))","v":""},{"$f":"IF($R299=\"\",\"\",VLOOKUP($R299,'FO-DRE-01'!$A$7:$U$301,13,FALSE))","v":""},{"$f":"IF($R299=\"\",\"\",VLOOKUP($R299,'FO-DRE-01'!$A$7:$U$301,14,FALSE))","v":""},{"$f":"IF($R299=\"\",\"\",VLOOKUP($R299,'FO-DRE-01'!$A$7:$U$301,15,FALSE))","v":""},{"$f":"IF($S299=\"\",\"\",VLOOKUP($S299,'FO-DRE-04'!$A$6:$L$301,2,FALSE))","v":""},{"$f":"IF($S299=\"\",\"\",VLOOKUP($S299,'FO-DRE-04'!$A$6:$L$301,3,FALSE))","v":""},{"$f":"IF($S299=\"\",\"\",VLOOKUP($S299,'FO-DRE-04'!$A$6:$L$301,4,FALSE))","v":""},{"$f":"IF($S299=\"\",\"\",VLOOKUP($S299,'FO-DRE-04'!$A$6:$L$301,6,FALSE))","v":""},{"$f":"IF($S299=\"\",\"\",VLOOKUP($S299,'FO-DRE-04'!$A$6:$L$301,11,FALSE))","v":""},{"$f":"IF($T299=\"\",\"\",VLOOKUP($T299,'FO-DRE-02'!$A$6:$M$101,2,FALSE))","v":""},{"$f":"IF($T299=\"\",\"\",VLOOKUP($T299,'FO-DRE-02'!$A$6:$M$101,3,FALSE))","v":""},{"$f":"IF($T299=\"\",\"\",VLOOKUP($T299,'FO-DRE-02'!$A$6:$M$101,6,FALSE))","v":""},{"$f":"IF($T299=\"\",\"\",VLOOKUP($T299,'FO-DRE-02'!$A$6:$M$101,4,FALSE))","v":""},{"$f":"IF($T299=\"\",\"\",VLOOKUP($T299,'FO-DRE-02'!$A$6:$M$101,5,FALSE))","v":""},{"$f":"IF($T299=\"\",\"\",VLOOKUP($T299,'FO-DRE-02'!$A$6:$M$101,8,FALSE))","v":""},{"$f":"IF($T299=\"\",\"\",VLOOKUP($T299,'FO-DRE-02'!$A$6:$M$101,7,FALSE))","v":""},{"$f":"IF($T299=\"\",\"\",VLOOKUP($T299,'FO-DRE-02'!$A$6:$M$101,9,FALSE))","v":""},{"$f":"IF($T299=\"\",\"\",VLOOKUP($T299,'FO-DRE-02'!$A$6:$M$101,11,FALSE))","v":""},{"$f":"IF($T299=\"\",\"\",VLOOKUP($T299,'FO-DRE-02'!$A$6:$M$101,12,FALSE))","v":""},{"$f":"IF($T299=\"\",\"\",VLOOKUP($T299,'FO-DRE-02'!$A$6:$M$101,13,FALSE))","v":""},null,null,null,290,"","F/D","F/D","","","","","","","","","","","","","","",""]
[null,null,null,null,null,null,null,null,{"$f":"IF(H300=\"1a\",Hoja1!$B$126,IF(H300=\"1b\",Hoja1!$B$127,IF(H300=\"2a\",Hoja1!$B$128,IF(H300=\"2b\",Hoja1!$B$129,IF(H300=\"3 \",Hoja1!$B$130,IF(H300=\"4 \",Hoja1!$B$131,IF(H300=\"5 \",Hoja1!$B$132,IF(H300=\"6 \",Hoja1!$B$133,IF(H300=\"7 \",Hoja1!$B$134,IF(H300=\"8 \",Hoja1!$B$135,\" \"))))))))))","v":" "},{"$f":"CONCATENATE(#REF!,\"-\",\"TX\")","v":{"$error":"#REF!"}},{"$f":"CONCATENATE(#REF!,\"-\",\"RX\")","v":{"$error":"#REF!"}},null,null,null,null,0,null,null,null,null,null,{"$f":"IF($R300=\"\",\"\",VLOOKUP($R300,'FO-DRE-01'!$A$7:$U$301,18,FALSE))","v":""},{"$f":"IF($R300=\"\",\"\",VLOOKUP($R300,'FO-DRE-01'!$A$7:$U$301,16,FALSE))","v":""},{"$f":"IF($R300=\"\",\"\",VLOOKUP($R300,'FO-DRE-01'!$A$7:$U$301,17,FALSE))","v":""},{"$f":"IF($R300=\"\",\"\",VLOOKUP($R300,'FO-DRE-01'!$A$7:$U$301,3,FALSE))","v":""},{"$f":"IF($R300=\"\",\"\",VLOOKUP($R300,'FO-DRE-01'!$A$7:$U$301,4,FALSE))","v":""},{"$f":"IF($R300=\"\",\"\",VLOOKUP($R300,'FO-DRE-01'!$A$7:$U$301,5,FALSE))","v":""},{"$f":"IF($R300=\"\",\"\",VLOOKUP($R300,'FO-DRE-01'!$A$7:$U$301,7,FALSE))","v":""},{"$f":"IF($R300=\"\",\"\",VLOOKUP($R300,'FO-DRE-01'!$A$7:$U$301,8,FALSE))","v":""},{"$f":"IF($R300=\"\",\"\",VLOOKUP($R300,'FO-DRE-01'!$A$7:$U$301,9,FALSE))","v":""},{"$f":"IF($R300=\"\",\"\",VLOOKUP($R300,'FO-DRE-01'!$A$7:$U$301,10,FALSE))","v":""},{"$f":"IF($R300=\"\",\"\",VLOOKUP($R300,'FO-DRE-01'!$A$7:$U$301,11,FALSE))","v":""},{"$f":"IF($R300=\"\",\"\",VLOOKUP($R300,'FO-DRE-01'!$A$7:$U$301,12,FALSE))","v":""},{"$f":"IF($R300=\"\",\"\",VLOOKUP($R300,'FO-DRE-01'!$A$7:$U$301,13,FALSE))","v":""},{"$f":"IF($R300=\"\",\"\",VLOOKUP($R300,'FO-DRE-01'!$A$7:$U$301,14,FALSE))","v":""},{"$f":"IF($R300=\"\",\"\",VLOOKUP($R300,'FO-DRE-01'!$A$7:$U$301,15,FALSE))","v":""},{"$f":"IF($S300=\"\",\"\",VLOOKUP($S300,'FO-DRE-04'!$A$6:$L$301,2,FALSE))","v":""},{"$f":"IF($S300=\"\",\"\",VLOOKUP($S300,'FO-DRE-04'!$A$6:$L$301,3,FALSE))","v":""},{"$f":"IF($S300=\"\",\"\",VLOOKUP($S300,'FO-DRE-04'!$A$6:$L$301,4,FALSE))","v":""},{"$f":"IF($S300=\"\",\"\",VLOOKUP($S300,'FO-DRE-04'!$A$6:$L$301,6,FALSE))","v":""},{"$f":"IF($S300=\"\",\"\",VLOOKUP($S300,'FO-DRE-04'!$A$6:$L$301,11,FALSE))","v":""},{"$f":"IF($T300=\"\",\"\",VLOOKUP($T300,'FO-DRE-02'!$A$6:$M$101,2,FALSE))","v":""},{"$f":"IF($T300=\"\",\"\",VLOOKUP($T300,'FO-DRE-02'!$A$6:$M$101,3,FALSE))","v":""},{"$f":"IF($T300=\"\",\"\",VLOOKUP($T300,'FO-DRE-02'!$A$6:$M$101,6,FALSE))","v":""},{"$f":"IF($T300=\"\",\"\",VLOOKUP($T300,'FO-DRE-02'!$A$6:$M$101,4,FALSE))","v":""},{"$f":"IF($T300=\"\",\"\",VLOOKUP($T300,'FO-DRE-02'!$A$6:$M$101,5,FALSE))","v":""},{"$f":"IF($T300=\"\",\"\",VLOOKUP($T300,'FO-DRE-02'!$A$6:$M$101,8,FALSE))","v":""},{"$f":"IF($T300=\"\",\"\",VLOOKUP($T300,'FO-DRE-02'!$A$6:$M$101,7,FALSE))","v":""},{"$f":"IF($T300=\"\",\"\",VLOOKUP($T300,'FO-DRE-02'!$A$6:$M$101,9,FALSE))","v":""},{"$f":"IF($T300=\"\",\"\",VLOOKUP($T300,'FO-DRE-02'!$A$6:$M$101,11,FALSE))","v":""},{"$f":"IF($T300=\"\",\"\",VLOOKUP($T300,'FO-DRE-02'!$A$6:$M$101,12,FALSE))","v":""},{"$f":"IF($T300=\"\",\"\",VLOOKUP($T300,'FO-DRE-02'!$A$6:$M$101,13,FALSE))","v":""},null,null,null,291,"","F/D","F/D","","","","","","","","","","","","","","",""]
[null,null,null,null,null,null,null,null,{"$f":"IF(H301=\"1a\",Hoja1!$B$126,IF(H301=\"1b\",Hoja1!$B$127,IF(H301=\"2a\",Hoja1!$B$128,IF(H301=\"2b\",Hoja1!$B$129,IF(H301=\"3 \",Hoja1!$B$130,IF(H301=\"4 \",Hoja1!$B$131,IF(H301=\"5 \",Hoja1!$B$132,IF(H301=\"6 \",Hoja1!$B$133,IF(H301=\"7 \",Hoja1!$B$134,IF(H301=\"8 \",Hoja1!$B$135,\" \"))))))))))","v":" "},{"$f":"CONCATENATE(#REF!,\"-\",\"TX\")","v":{"$error":"#REF!"}},{"$f":"CONCATENATE(#REF!,\"-\",\"RX\")","v":{"$error":"#REF!"}},null,null,null,null,0,null,null,null,null,null,{"$f":"IF($R301=\"\",\"\",VLOOKUP($R301,'FO-DRE-01'!$A$7:$U$301,18,FALSE))","v":""},{"$f":"IF($R301=\"\",\"\",VLOOKUP($R301,'FO-DRE-01'!$A$7:$U$301,16,FALSE))","v":""},{"$f":"IF($R301=\"\",\"\",VLOOKUP($R301,'FO-DRE-01'!$A$7:$U$301,17,FALSE))","v":""},{"$f":"IF($R301=\"\",\"\",VLOOKUP($R301,'FO-DRE-01'!$A$7:$U$301,3,FALSE))","v":""},{"$f":"IF($R301=\"\",\"\",VLOOKUP($R301,'FO-DRE-01'!$A$7:$U$301,4,FALSE))","v":""},{"$f":"IF($R301=\"\",\"\",VLOOKUP($R301,'FO-DRE-01'!$A$7:$U$301,5,FALSE))","v":""},{"$f":"IF($R301=\"\",\"\",VLOOKUP($R301,'FO-DRE-01'!$A$7:$U$301,7,FALSE))","v":""},{"$f":"IF($R301=\"\",\"\",VLOOKUP($R301,'FO-DRE-01'!$A$7:$U$301,8,FALSE))","v":""},{"$f":"IF($R301=\"\",\"\",VLOOKUP($R301,'FO-DRE-01'!$A$7:$U$301,9,FALSE))","v":""},{"$f":"IF($R301=\"\",\"\",VLOOKUP($R301,'FO-DRE-01'!$A$7:$U$301,10,FALSE))","v":""},{"$f":"IF($R301=\"\",\"\",VLOOKUP($R301,'FO-DRE-01'!$A$7:$U$301,11,FALSE))","v":""},{"$f":"IF($R301=\"\",\"\",VLOOKUP($R301,'FO-DRE-01'!$A$7:$U$301,12,FALSE))","v":""},{"$f":"IF($R301=\"\",\"\",VLOOKUP($R301,'FO-DRE-01'!$A$7:$U$301,13,FALSE))","v":""},{"$f":"IF($R301=\"\",\"\",VLOOKUP($R301,'FO-DRE-01'!$A$7:$U$301,14,FALSE))","v":""},{"$f":"IF($R301=\"\",\"\",VLOOKUP($R301,'FO-DRE-01'!$A$7:$U$301,15,FALSE))","v":""},{"$f":"IF($S301=\"\",\"\",VLOOKUP($S301,'FO-DRE-04'!$A$6:$L$301,2,FALSE))","v":""},{"$f":"IF($S301=\"\",\"\",VLOOKUP($S301,'FO-DRE-04'!$A$6:$L$301,3,FALSE))","v":""},{"$f":"IF($S301=\"\",\"\",VLOOKUP($S301,'FO-DRE-04'!$A$6:$L$301,4,FALSE))","v":""},{"$f":"IF($S301=\"\",\"\",VLOOKUP($S301,'FO-DRE-04'!$A$6:$L$301,6,FALSE))","v":""},{"$f":"IF($S301=\"\",\"\",VLOOKUP($S301,'FO-DRE-04'!$A$6:$L$301,11,FALSE))","v":""},{"$f":"IF($T301=\"\",\"\",VLOOKUP($T301,'FO-DRE-02'!$A$6:$M$101,2,FALSE))","v":""},{"$f":"IF($T301=\"\",\"\",VLOOKUP($T301,'FO-DRE-02'!$A$6:$M$101,3,FALSE))","v":""},{"$f":"IF($T301=\"\",\"\",VLOOKUP($T301,'FO-DRE-02'!$A$6:$M$101,6,FALSE))","v":""},{"$f":"IF($T301=\"\",\"\",VLOOKUP($T301,'FO-DRE-02'!$A$6:$M$101,4,FALSE))","v":""},{"$f":"IF($T301=\"\",\"\",VLOOKUP($T301,'FO-DRE-02'!$A$6:$M$101,5,FALSE))","v":""},{"$f":"IF($T301=\"\",\"\",VLOOKUP($T301,'FO-DRE-02'!$A$6:$M$101,6,FALSE))","v":""},{"$f":"IF($T301=\"\",\"\",VLOOKUP($T301,'FO-DRE-02'!$A$6:$M$101,6,FALSE))","v":""},{"$f":"IF($T301=\"\",\"\",VLOOKUP($T301,'FO-DRE-02'!$A$6:$M$101,8,FALSE))","v":""},{"$f":"IF($T301=\"\",\"\",VLOOKUP($T301,'FO-DRE-02'!$A$6:$M$101,11,FALSE))","v":""},{"$f":"IF($T301=\"\",\"\",VLOOKUP($T301,'FO-DRE-02'!$A$6:$M$101,12,FALSE))","v":""},{"$f":"IF($T301=\"\",\"\",VLOOKUP($T301,'FO-DRE-02'!$A$6:$M$101,13,FALSE))","v":""},null,null,null,292,"","F/D","F/D","","","","","","","","","","","","","","",""]
[null,null,null,null,null,null,null,null,{"$f":"IF(D302=\"\",\"\",IF(D302=\"SIM\",1,2))","v":""},{"$f":"CONCATENATE(#REF!,\"-\",\"TX\")","v":{"$error":"#REF!"}},{"$f":"CONCATENATE(#REF!,\"-\",\"RX\")","v":{"$error":"#REF!"}},null,null,null,null,0,null,null,null,null,null,{"$f":"IF($R302=\"\",\"\",VLOOKUP($R302,'FO-DRE-01'!$A$7:$U$301,18,FALSE))","v":""},{"$f":"IF($R302=\"\",\"\",VLOOKUP($R302,'FO-DRE-01'!$A$7:$U$301,16,FALSE))","v":""},{"$f":"IF($R302=\"\",\"\",VLOOKUP($R302,'FO-DRE-01'!$A$7:$U$301,17,FALSE))","v":""},{"$f":"IF($R302=\"\",\"\",VLOOKUP($R302,'FO-DRE-01'!$A$7:$U$301,3,FALSE))","v":""},{"$f":"IF($R302=\"\",\"\",VLOOKUP($R302,'FO-DRE-01'!$A$7:$U$301,4,FALSE))","v":""},{"$f":"IF($R302=\"\",\"\",VLOOKUP($R302,'FO-DRE-01'!$A$7:$U$301,5,FALSE))","v":""},{"$f":"IF($R302=\"\",\"\",VLOOKUP($R302,'FO-DRE-01'!$A$7:$U$301,7,FALSE))","v":""},{"$f":"IF($R302=\"\",\"\",VLOOKUP($R302,'FO-DRE-01'!$A$7:$U$301,8,FALSE))","v":""},{"$f":"IF($R302=\"\",\"\",VLOOKUP($R302,'FO-DRE-01'!$A$7:$U$301,9,FALSE))","v":""},{"$f":"IF($R302=\"\",\"\",VLOOKUP($R302,'FO-DRE-01'!$A$7:$U$301,10,FALSE))","v":""},{"$f":"IF($R302=\"\",\"\",VLOOKUP($R302,'FO-DRE-01'!$A$7:$U$301,11,FALSE))","v":""},{"$f":"IF($R302=\"\",\"\",VLOOKUP($R302,'FO-DRE-01'!$A$7:$U$301,12,FALSE))","v":""},{"$f":"IF($R302=\"\",\"\",VLOOKUP($R302,'FO-DRE-01'!$A$7:$U$301,13,FALSE))","v":""},{"$f":"IF($R302=\"\",\"\",VLOOKUP($R302,'FO-DRE-01'!$A$7:$U$301,14,FALSE))","v":""},{"$f":"IF($R302=\"\",\"\",VLOOKUP($R302,'FO-DRE-01'!$A$7:$U$301,15,FALSE))","v":""},{"$f":"IF($S302=\"\",\"\",VLOOKUP($S302,'FO-DRE-04'!$A$6:$L$301,2,FALSE))","v":""},{"$f":"IF($S302=\"\",\"\",VLOOKUP($S302,'FO-DRE-04'!$A$6:$L$301,3,FALSE))","v":""},{"$f":"IF($S302=\"\",\"\",VLOOKUP($S302,'FO-DRE-04'!$A$6:$L$301,4,FALSE))","v":""},{"$f":"IF($S302=\"\",\"\",VLOOKUP($S302,'FO-DRE-04'!$A$6:$L$301,6,FALSE))","v":""},{"$f":"IF($S302=\"\",\"\",VLOOKUP($S302,'FO-DRE-04'!$A$6:$L$301,11,FALSE))","v":""},{"$f":"IF($T302=\"\",\"\",VLOOKUP($T302,'FO-DRE-02'!$A$6:$M$101,2,FALSE))","v":""},{"$f":"IF($T302=\"\",\"\",VLOOKUP($T302,'FO-DRE-02'!$A$6:$M$101,3,FALSE))","v":""},{"$f":"IF($T302=\"\",\"\",VLOOKUP($T302,'FO-DRE-02'!$A$6:$M$101,6,FALSE))","v":""},{"$f":"IF($T302=\"\",\"\",VLOOKUP($T302,'FO-DRE-02'!$A$6:$M$101,4,FALSE))","v":""},{"$f":"IF($T302=\"\",\"\",VLOOKUP($T302,'FO-DRE-02'!$A$6:$M$101,5,FALSE))","v":""},{"$f":"IF($T302=\"\",\"\",VLOOKUP($T302,'FO-DRE-02'!$A$6:$M$101,6,FALSE))","v":""},{"$f":"IF($T302=\"\",\"\",VLOOKUP($T302,'FO-DRE-02'!$A$6:$M$101,6,FALSE))","v":""},{"$f":"IF($T302=\"\",\"\",VLOOKUP($T302,'FO-DRE-02'!$A$6:$M$101,8,FALSE))","v":""},{"$f":"IF($T302=\"\",\"\",VLOOKUP($T302,'FO-DRE-02'!$A$6:$M$101,11,FALSE))","v":""},{"$f":"IF($T302=\"\",\"\",VLOOKUP($T302,'FO-DRE-02'!$A$6:$M$101,12,FALSE))","v":""},{"$f":"IF($T302=\"\",\"\",VLOOKUP($T302,'FO-DRE-02'!$A$6:$M$101,13,FALSE))","v":""},null,null,null,293,"","F/D","F/D","","","","","","","","","","","","","","",""]
[null,null,null,null,null,null,null,null,"",{"$f":"CONCATENATE(#REF!,\"-\",\"TX\")","v":{"$error":"#REF!"}},{"$f":"CONCATENATE(#REF!,\"-\",\"RX\")","v":{"$error":"#REF!"}},null,null,null,null,0,null,null,null,null,null,{"$f":"IF($R303=\"\",\"\",VLOOKUP($R303,'FO-DRE-01'!$A$7:$U$301,18,FALSE))","v":""},{"$f":"IF($R303=\"\",\"\",VLOOKUP($R303,'FO-DRE-01'!$A$7:$U$301,16,FALSE))","v":""},{"$f":"IF($R303=\"\",\"\",VLOOKUP($R303,'FO-DRE-01'!$A$7:$U$301,17,FALSE))","v":""},{"$f":"IF($R303=\"\",\"\",VLOOKUP($R303,'FO-DRE-01'!$A$7:$U$301,3,FALSE))","v":""},{"$f":"IF($R303=\"\",\"\",VLOOKUP($R303,'FO-DRE-01'!$A$7:$U$301,4,FALSE))","v":""},{"$f":"IF($R303=\"\",\"\",VLOOKUP($R303,'FO-DRE-01'!$A$7:$U$301,5,FALSE))","v":""},{"$f":"IF($R303=\"\",\"\",VLOOKUP($R303,'FO-DRE-01'!$A$7:$U$301,7,FALSE))","v":""},{"$f":"IF($R303=\"\",\"\",VLOOKUP($R303,'FO-DRE-01'!$A$7:$U$301,8,FALSE))","v":""},{"$f":"IF($R303=\"\",\"\",VLOOKUP($R303,'FO-DRE-01'!$A$7:$U$301,9,FALSE))","v":""},{"$f":"IF($R303=\"\",\"\",VLOOKUP($R303,'FO-DRE-01'!$A$7:$U$301,10,FALSE))","v":""},{"$f":"IF($R303=\"\",\"\",VLOOKUP($R303,'FO-DRE-01'!$A$7:$U$301,11,FALSE))","v":""},{"$f":"IF($R303=\"\",\"\",VLOOKUP($R303,'FO-DRE-01'!$A$7:$U$301,12,FALSE))","v":""},{"$f":"IF($R303=\"\",\"\",VLOOKUP($R303,'FO-DRE-01'!$A$7:$U$301,13,FALSE))","v":""},{"$f":"IF($R303=\"\",\"\",VLOOKUP($R303,'FO-DRE-01'!$A$7:$U$301,14,FALSE))","v":""},{"$f":"IF($R303=\"\",\"\",VLOOKUP($R303,'FO-DRE-01'!$A$7:$U$301,15,FALSE))","v":""},{"$f":"IF($S303=\"\",\"\",VLOOKUP($S303,'FO-DRE-04'!$A$6:$L$301,2,FALSE))","v":""},{"$f":"IF($S303=\"\",\"\",VLOOKUP($S303,'FO-DRE-04'!$A$6:$L$301,3,FALSE))","v":""},{"$f":"IF($S303=\"\",\"\",VLOOKUP($S303,'FO-DRE-04'!$A$6:$L$301,4,FALSE))","v":""},{"$f":"IF($S303=\"\",\"\",VLOOKUP($S303,'FO-DRE-04'!$A$6:$L$301,6,FALSE))","v":""},{"$f":"IF($S303=\"\",\"\",VLOOKUP($S303,'FO-DRE-04'!$A$6:$L$301,11,FALSE))","v":""},{"$f":"IF($T303=\"\",\"\",VLOOKUP($T303,'FO-DRE-02'!$A$6:$M$101,2,FALSE))","v":""},{"$f":"IF($T303=\"\",\"\",VLOOKUP($T303,'FO-DRE-02'!$A$6:$M$101,3,FALSE))","v":""},{"$f":"IF($T303=\"\",\"\",VLOOKUP($T303,'FO-DRE-02'!$A$6:$M$101,6,FALSE))","v":""},{"$f":"IF($T303=\"\",\"\",VLOOKUP($T303,'FO-DRE-02'!$A$6:$M$101,4,FALSE))","v":""},{"$f":"IF($T303=\"\",\"\",VLOOKUP($T303,'FO-DRE-02'!$A$6:$M$101,5,FALSE))","v":""},{"$f":"IF($T303=\"\",\"\",VLOOKUP($T303,'FO-DRE-02'!$A$6:$M$101,6,FALSE))","v":""},{"$f":"IF($T303=\"\",\"\",VLOOKUP($T303,'FO-DRE-02'!$A$6:$M$101,6,FALSE))","v":""},{"$f":"IF($T303=\"\",\"\",VLOOKUP($T303,'FO-DRE-02'!$A$6:$M$101,8,FALSE))","v":""},{"$f":"IF($T303=\"\",\"\",VLOOKUP($T303,'FO-DRE-02'!$A$6:$M$101,11,FALSE))","v":""},{"$f":"IF($T303=\"\",\"\",VLOOKUP($T303,'FO-DRE-02'!$A$6:$M$101,12,FALSE))","v":""},{"$f":"IF($T303=\"\",\"\",VLOOKUP($T303,'FO-DRE-02'!$A$6:$M$101,13,FALSE))","v":""},null,null,null,294,"","F/D","F/D","","","","","","","","","","","","","","",""]
[null,null,null,null,null,null,null,null,"",{"$f":"CONCATENATE(#REF!,\"-\",\"TX\")","v":{"$error":"#REF!"}},{"$f":"CONCATENATE(#REF!,\"-\",\"RX\")","v":{"$error":"#REF!"}},null,null,null,null,0,null,null,null,null,null,{"$f":"IF($R304=\"\",\"\",VLOOKUP($R304,'FO-DRE-01'!$A$7:$U$301,18,FALSE))","v":""},{"$f":"IF($R304=\"\",\"\",VLOOKUP($R304,'FO-DRE-01'!$A$7:$U$301,16,FALSE))","v":""},{"$f":"IF($R304=\"\",\"\",VLOOKUP($R304,'FO-DRE-01'!$A$7:$U$301,17,FALSE))","v":""},{"$f":"IF($R304=\"\",\"\",VLOOKUP($R304,'FO-DRE-01'!$A$7:$U$301,3,FALSE))","v":""},{"$f":"IF($R304=\"\",\"\",VLOOKUP($R304,'FO-DRE-01'!$A$7:$U$301,4,FALSE))","v":""},{"$f":"IF($R304=\"\",\"\",VLOOKUP($R304,'FO-DRE-01'!$A$7:$U$301,5,FALSE))","v":""},{"$f":"IF($R304=\"\",\"\",VLOOKUP($R304,'FO-DRE-01'!$A$7:$U$301,7,FALSE))","v":""},{"$f":"IF($R304=\"\",\"\",VLOOKUP($R304,'FO-DRE-01'!$A$7:$U$301,8,FALSE))","v":""},{"$f":"IF($R304=\"\",\"\",VLOOKUP($R304,'FO-DRE-01'!$A$7:$U$301,9,FALSE))","v":""},{"$f":"IF($R304=\"\",\"\",VLOOKUP($R304,'FO-DRE-01'!$A$7:$U$301,10,FALSE))","v":""},{"$f":"IF($R304=\"\",\"\",VLOOKUP($R304,'FO-DRE-01'!$A$7:$U$301,11,FALSE))","v":""},{"$f":"IF($R304=\"\",\"\",VLOOKUP($R304,'FO-DRE-01'!$A$7:$U$301,12,FALSE))","v":""},{"$f":"IF($R304=\"\",\"\",VLOOKUP($R304,'FO-DRE-01'!$A$7:$U$301,13,FALSE))","v":""},{"$f":"IF($R304=\"\",\"\",VLOOKUP($R304,'FO-DRE-01'!$A$7:$U$301,14,FALSE))","v":""},{"$f":"IF($R304=\"\",\"\",VLOOKUP($R304,'FO-DRE-01'!$A$7:$U$301,15,FALSE))","v":""},{"$f":"IF($S304=\"\",\"\",VLOOKUP($S304,'FO-DRE-04'!$A$6:$L$301,2,FALSE))","v":""},{"$f":"IF($S304=\"\",\"\",VLOOKUP($S304,'FO-DRE-04'!$A$6:$L$301,3,FALSE))","v":""},{"$f":"IF($S304=\"\",\"\",VLOOKUP($S304,'FO-DRE-04'!$A$6:$L$301,4,FALSE))","v":""},{"$f":"IF($S304=\"\",\"\",VLOOKUP($S304,'FO-DRE-04'!$A$6:$L$301,6,FALSE))","v":""},{"$f":"IF($S304=\"\",\"\",VLOOKUP($S304,'FO-DRE-04'!$A$6:$L$301,11,FALSE))","v":""},{"$f":"IF($T304=\"\",\"\",VLOOKUP($T304,'FO-DRE-02'!$A$6:$M$101,2,FALSE))","v":""},{"$f":"IF($T304=\"\",\"\",VLOOKUP($T304,'FO-DRE-02'!$A$6:$M$101,3,FALSE))","v":""},{"$f":"IF($T304=\"\",\"\",VLOOKUP($T304,'FO-DRE-02'!$A$6:$M$101,6,FALSE))","v":""},{"$f":"IF($T304=\"\",\"\",VLOOKUP($T304,'FO-DRE-02'!$A$6:$M$101,4,FALSE))","v":""},{"$f":"IF($T304=\"\",\"\",VLOOKUP($T304,'FO-DRE-02'!$A$6:$M$101,5,FALSE))","v":""},{"$f":"IF($T304=\"\",\"\",VLOOKUP($T304,'FO-DRE-02'!$A$6:$M$101,6,FALSE))","v":""},{"$f":"IF($T304=\"\",\"\",VLOOKUP($T304,'FO-DRE-02'!$A$6:$M$101,6,FALSE))","v":""},{"$f":"IF($T304=\"\",\"\",VLOOKUP($T304,'FO-DRE-02'!$A$6:$M$101,8,FALSE))","v":""},{"$f":"IF($T304=\"\",\"\",VLOOKUP($T304,'FO-DRE-02'!$A$6:$M$101,11,FALSE))","v":""},{"$f":"IF($T304=\"\",\"\",VLOOKUP($T304,'FO-DRE-02'!$A$6:$M$101,12,FALSE))","v":""},{"$f":"IF($T304=\"\",\"\",VLOOKUP($T304,'FO-DRE-02'!$A$6:$M$101,13,FALSE))","v":""},null,null,null,295,"","F/D","F/D","","","","","","","","","","","","","","",""]
[null,null,null,null,null,null,null,null,"",{"$f":"CONCATENATE(#REF!,\"-\",\"TX\")","v":{"$error":"#REF!"}},{"$f":"CONCATENATE(#REF!,\"-\",\"RX\")","v":{"$error":"#REF!"}},null,null,null,null,0,null,null,null,null,null,{"$f":"IF($R305=\"\",\"\",VLOOKUP($R305,'FO-DRE-01'!$A$7:$U$301,18,FALSE))","v":""},{"$f":"IF($R305=\"\",\"\",VLOOKUP($R305,'FO-DRE-01'!$A$7:$U$301,16,FALSE))","v":""},{"$f":"IF($R305=\"\",\"\",VLOOKUP($R305,'FO-DRE-01'!$A$7:$U$301,17,FALSE))","v":""},{"$f":"IF($R305=\"\",\"\",VLOOKUP($R305,'FO-DRE-01'!$A$7:$U$301,3,FALSE))","v":""},{"$f":"IF($R305=\"\",\"\",VLOOKUP($R305,'FO-DRE-01'!$A$7:$U$301,4,FALSE))","v":""},{"$f":"IF($R305=\"\",\"\",VLOOKUP($R305,'FO-DRE-01'!$A$7:$U$301,5,FALSE))","v":""},{"$f":"IF($R305=\"\",\"\",VLOOKUP($R305,'FO-DRE-01'!$A$7:$U$301,7,FALSE))","v":""},{"$f":"IF($R305=\"\",\"\",VLOOKUP($R305,'FO-DRE-01'!$A$7:$U$301,8,FALSE))","v":""},{"$f":"IF($R305=\"\",\"\",VLOOKUP($R305,'FO-DRE-01'!$A$7:$U$301,9,FALSE))","v":""},{"$f":"IF($R305=\"\",\"\",VLOOKUP($R305,'FO-DRE-01'!$A$7:$U$301,10,FALSE))","v":""},{"$f":"IF($R305=\"\",\"\",VLOOKUP($R305,'FO-DRE-01'!$A$7:$U$301,11,FALSE))","v":""},{"$f":"IF($R305=\"\",\"\",VLOOKUP($R305,'FO-DRE-01'!$A$7:$U$301,12,FALSE))","v":""},{"$f":"IF($R305=\"\",\"\",VLOOKUP($R305,'FO-DRE-01'!$A$7:$U$301,13,FALSE))","v":""},{"$f":"IF($R305=\"\",\"\",VLOOKUP($R305,'FO-DRE-01'!$A$7:$U$301,14,FALSE))","v":""},{"$f":"IF($R305=\"\",\"\",VLOOKUP($R305,'FO-DRE-01'!$A$7:$U$301,15,FALSE))","v":""},{"$f":"IF($S305=\"\",\"\",VLOOKUP($S305,'FO-DRE-04'!$A$6:$L$301,2,FALSE))","v":""},{"$f":"IF($S305=\"\",\"\",VLOOKUP($S305,'FO-DRE-04'!$A$6:$L$301,3,FALSE))","v":""},{"$f":"IF($S305=\"\",\"\",VLOOKUP($S305,'FO-DRE-04'!$A$6:$L$301,4,FALSE))","v":""},{"$f":"IF($S305=\"\",\"\",VLOOKUP($S305,'FO-DRE-04'!$A$6:$L$301,6,FALSE))","v":""},{"$f":"IF($S305=\"\",\"\",VLOOKUP($S305,'FO-DRE-04'!$A$6:$L$301,11,FALSE))","v":""},{"$f":"IF($T305=\"\",\"\",VLOOKUP($T305,'FO-DRE-02'!$A$6:$M$101,2,FALSE))","v":""},{"$f":"IF($T305=\"\",\"\",VLOOKUP($T305,'FO-DRE-02'!$A$6:$M$101,3,FALSE))","v":""},{"$f":"IF($T305=\"\",\"\",VLOOKUP($T305,'FO-DRE-02'!$A$6:$M$101,6,FALSE))","v":""},{"$f":"IF($T305=\"\",\"\",VLOOKUP($T305,'FO-DRE-02'!$A$6:$M$101,4,FALSE))","v":""},{"$f":"IF($T305=\"\",\"\",VLOOKUP($T305,'FO-DRE-02'!$A$6:$M$101,5,FALSE))","v":""},{"$f":"IF($T305=\"\",\"\",VLOOKUP($T305,'FO-DRE-02'!$A$6:$M$101,6,FALSE))","v":""},{"$f":"IF($T305=\"\",\"\",VLOOKUP($T305,'FO-DRE-02'!$A$6:$M$101,6,FALSE))","v":""},{"$f":"IF($T305=\"\",\"\",VLOOKUP($T305,'FO-DRE-02'!$A$6:$M$101,8,FALSE))","v":""},{"$f":"IF($T305=\"\",\"\",VLOOKUP($T305,'FO-DRE-02'!$A$6:$M$101,11,FALSE))","v":""},{"$f":"IF($T305=\"\",\"\",VLOOKUP($T305,'FO-DRE-02'!$A$6:$M$101,12,FALSE))","v":""},{"$f":"IF($T305=\"\",\"\",VLOOKUP($T305,'FO-DRE-02'!$A$6:$M$101,13,FALSE))","v":""},null,null,null,296,"","F/D","F/D","","","","","","","","","","","","","","",""]
[null,null,null,null,null,null,null,null,"",{"$f":"CONCATENATE(#REF!,\"-\",\"TX\")","v":{"$error":"#REF!"}},{"$f":"CONCATENATE(#REF!,\"-\",\"RX\")","v":{"$error":"#REF!"}},null,null,null,null,0,null,null,null,null,null,{"$f":"IF($R306=\"\",\"\",VLOOKUP($R306,'FO-DRE-01'!$A$7:$U$301,18,FALSE))","v":""},{"$f":"IF($R306=\"\",\"\",VLOOKUP($R306,'FO-DRE-01'!$A$7:$U$301,16,FALSE))","v":""},{"$f":"IF($R306=\"\",\"\",VLOOKUP($R306,'FO-DRE-01'!$A$7:$U$301,17,FALSE))","v":""},{"$f":"IF($R306=\"\",\"\",VLOOKUP($R306,'FO-DRE-01'!$A$7:$U$301,3,FALSE))","v":""},{"$f":"IF($R306=\"\",\"\",VLOOKUP($R306,'FO-DRE-01'!$A$7:$U$301,4,FALSE))","v":""},{"$f":"IF($R306=\"\",\"\",VLOOKUP($R306,'FO-DRE-01'!$A$7:$U$301,5,FALSE))","v":""},{"$f":"IF($R306=\"\",\"\",VLOOKUP($R306,'FO-DRE-01'!$A$7:$U$301,7,FALSE))","v":""},{"$f":"IF($R306=\"\",\"\",VLOOKUP($R306,'FO-DRE-01'!$A$7:$U$301,8,FALSE))","v":""},{"$f":"IF($R306=\"\",\"\",VLOOKUP($R306,'FO-DRE-01'!$A$7:$U$301,9,FALSE))","v":""},{"$f":"IF($R306=\"\",\"\",VLOOKUP($R306,'FO-DRE-01'!$A$7:$U$301,10,FALSE))","v":""},{"$f":"IF($R306=\"\",\"\",VLOOKUP($R306,'FO-DRE-01'!$A$7:$U$301,11,FALSE))","v":""},{"$f":"IF($R306=\"\",\"\",VLOOKUP($R306,'FO-DRE-01'!$A$7:$U$301,12,FALSE))","v":""},{"$f":"IF($R306=\"\",\"\",VLOOKUP($R306,'FO-DRE-01'!$A$7:$U$301,13,FALSE))","v":""},{"$f":"IF($R306=\"\",\"\",VLOOKUP($R306,'FO-DRE-01'!$A$7:$U$301,14,FALSE))","v":""},{"$f":"IF($R306=\"\",\"\",VLOOKUP($R306,'FO-DRE-01'!$A$7:$U$301,15,FALSE))","v":""},{"$f":"IF($S306=\"\",\"\",VLOOKUP($S306,'FO-DRE-04'!$A$6:$L$301,2,FALSE))","v":""},{"$f":"IF($S306=\"\",\"\",VLOOKUP($S306,'FO-DRE-04'!$A$6:$L$301,3,FALSE))","v":""},{"$f":"IF($S306=\"\",\"\",VLOOKUP($S306,'FO-DRE-04'!$A$6:$L$301,4,FALSE))","v":""},{"$f":"IF($S306=\"\",\"\",VLOOKUP($S306,'FO-DRE-04'!$A$6:$L$301,6,FALSE))","v":""},{"$f":"IF($S306=\"\",\"\",VLOOKUP($S306,'FO-DRE-04'!$A$6:$L$301,11,FALSE))","v":""},{"$f":"IF($T306=\"\",\"\",VLOOKUP($T306,'FO-DRE-02'!$A$6:$M$101,2,FALSE))","v":""},{"$f":"IF($T306=\"\",\"\",VLOOKUP($T306,'FO-DRE-02'!$A$6:$M$101,3,FALSE))","v":""},{"$f":"IF($T306=\"\",\"\",VLOOKUP($T306,'FO-DRE-02'!$A$6:$M$101,6,FALSE))","v":""},{"$f":"IF($T306=\"\",\"\",VLOOKUP($T306,'FO-DRE-02'!$A$6:$M$101,4,FALSE))","v":""},{"$f":"IF($T306=\"\",\"\",VLOOKUP($T306,'FO-DRE-02'!$A$6:$M$101,5,FALSE))","v":""},{"$f":"IF($T306=\"\",\"\",VLOOKUP($T306,'FO-DRE-02'!$A$6:$M$101,6,FALSE))","v":""},{"$f":"IF($T306=\"\",\"\",VLOOKUP($T306,'FO-DRE-02'!$A$6:$M$101,6,FALSE))","v":""},{"$f":"IF($T306=\"\",\"\",VLOOKUP($T306,'FO-DRE-02'!$A$6:$M$101,8,FALSE))","v":""},{"$f":"IF($T306=\"\",\"\",VLOOKUP($T306,'FO-DRE-02'!$A$6:$M$101,11,FALSE))","v":""},{"$f":"IF($T306=\"\",\"\",VLOOKUP($T306,'FO-DRE-02'!$A$6:$M$101,12,FALSE))","v":""},{"$f":"IF($T306=\"\",\"\",VLOOKUP($T306,'FO-DRE-02'!$A$6:$M$101,13,FALSE))","v":""},null,null,null,297,"","F/D","F/D","","","","","","","","","","","","","","",""]
[null,null,null,null,null,null,null,null,"",{"$f":"CONCATENATE(#REF!,\"-\",\"TX\")","v":{"$error":"#REF!"}},{"$f":"CONCATENATE(#REF!,\"-\",\"RX\")","v":{"$error":"#REF!"}},null,null,null,null,0,null,null,null,null,null,{"$f":"IF($R307=\"\",\"\",VLOOKUP($R307,'FO-DRE-01'!$A$7:$U$301,18,FALSE))","v":""},{"$f":"IF($R307=\"\",\"\",VLOOKUP($R307,'FO-DRE-01'!$A$7:$U$301,16,FALSE))","v":""},{"$f":"IF($R307=\"\",\"\",VLOOKUP($R307,'FO-DRE-01'!$A$7:$U$301,17,FALSE))","v":""},{"$f":"IF($R307=\"\",\"\",VLOOKUP($R307,'FO-DRE-01'!$A$7:$U$301,3,FALSE))","v":""},{"$f":"IF($R307=\"\",\"\",VLOOKUP($R307,'FO-DRE-01'!$A$7:$U$301,4,FALSE))","v":""},{"$f":"IF($R307=\"\",\"\",VLOOKUP($R307,'FO-DRE-01'!$A$7:$U$301,5,FALSE))","v":""},{"$f":"IF($R307=\"\",\"\",VLOOKUP($R307,'FO-DRE-01'!$A$7:$U$301,7,FALSE))","v":""},{"$f":"IF($R307=\"\",\"\",VLOOKUP($R307,'FO-DRE-01'!$A$7:$U$301,8,FALSE))","v":""},{"$f":"IF($R307=\"\",\"\",VLOOKUP($R307,'FO-DRE-01'!$A$7:$U$301,9,FALSE))","v":""},{"$f":"IF($R307=\"\",\"\",VLOOKUP($R307,'FO-DRE-01'!$A$7:$U$301,10,FALSE))","v":""},{"$f":"IF($R307=\"\",\"\",VLOOKUP($R307,'FO-DRE-01'!$A$7:$U$301,11,FALSE))","v":""},{"$f":"IF($R307=\"\",\"\",VLOOKUP($R307,'FO-DRE-01'!$A$7:$U$301,12,FALSE))","v":""},{"$f":"IF($R307=\"\",\"\",VLOOKUP($R307,'FO-DRE-01'!$A$7:$U$301,13,FALSE))","v":""},{"$f":"IF($R307=\"\",\"\",VLOOKUP($R307,'FO-DRE-01'!$A$7:$U$301,14,FALSE))","v":""},{"$f":"IF($R307=\"\",\"\",VLOOKUP($R307,'FO-DRE-01'!$A$7:$U$301,15,FALSE))","v":""},{"$f":"IF($S307=\"\",\"\",VLOOKUP($S307,'FO-DRE-04'!$A$6:$L$301,2,FALSE))","v":""},{"$f":"IF($S307=\"\",\"\",VLOOKUP($S307,'FO-DRE-04'!$A$6:$L$301,3,FALSE))","v":""},{"$f":"IF($S307=\"\",\"\",VLOOKUP($S307,'FO-DRE-04'!$A$6:$L$301,4,FALSE))","v":""},{"$f":"IF($S307=\"\",\"\",VLOOKUP($S307,'FO-DRE-04'!$A$6:$L$301,6,FALSE))","v":""},{"$f":"IF($S307=\"\",\"\",VLOOKUP($S307,'FO-DRE-04'!$A$6:$L$301,11,FALSE))","v":""},{"$f":"IF($T307=\"\",\"\",VLOOKUP($T307,'FO-DRE-02'!$A$6:$M$101,2,FALSE))","v":""},{"$f":"IF($T307=\"\",\"\",VLOOKUP($T307,'FO-DRE-02'!$A$6:$M$101,3,FALSE))","v":""},{"$f":"IF($T307=\"\",\"\",VLOOKUP($T307,'FO-DRE-02'!$A$6:$M$101,6,FALSE))","v":""},{"$f":"IF($T307=\"\",\"\",VLOOKUP($T307,'FO-DRE-02'!$A$6:$M$101,4,FALSE))","v":""},{"$f":"IF($T307=\"\",\"\",VLOOKUP($T307,'FO-DRE-02'!$A$6:$M$101,5,FALSE))","v":""},{"$f":"IF($T307=\"\",\"\",VLOOKUP($T307,'FO-DRE-02'!$A$6:$M$101,6,FALSE))","v":""},{"$f":"IF($T307=\"\",\"\",VLOOKUP($T307,'FO-DRE-02'!$A$6:$M$101,6,FALSE))","v":""},{"$f":"IF($T307=\"\",\"\",VLOOKUP($T307,'FO-DRE-02'!$A$6:$M$101,8,FALSE))","v":""},{"$f":"IF($T307=\"\",\"\",VLOOKUP($T307,'FO-DRE-02'!$A$6:$M$101,11,FALSE))","v":""},{"$f":"IF($T307=\"\",\"\",VLOOKUP($T307,'FO-DRE-02'!$A$6:$M$101,12,FALSE))","v":""},{"$f":"IF($T307=\"\",\"\",VLOOKUP($T307,'FO-DRE-02'!$A$6:$M$101,13,FALSE))","v":""},null,null,null,298,"","F/D","F/D","","","","","","","","","","","","","","",""]
[null,null,null,null,null,null,null,null,"",{"$f":"CONCATENATE(#REF!,\"-\",\"TX\")","v":{"$error":"#REF!"}},{"$f":"CONCATENATE(#REF!,\"-\",\"RX\")","v":{"$error":"#REF!"}},null,null,null,null,0,null,null,null,null,null,{"$f":"IF($R308=\"\",\"\",VLOOKUP($R308,'FO-DRE-01'!$A$7:$U$301,18,FALSE))","v":""},{"$f":"IF($R308=\"\",\"\",VLOOKUP($R308,'FO-DRE-01'!$A$7:$U$301,16,FALSE))","v":""},{"$f":"IF($R308=\"\",\"\",VLOOKUP($R308,'FO-DRE-01'!$A$7:$U$301,17,FALSE))","v":""},{"$f":"IF($R308=\"\",\"\",VLOOKUP($R308,'FO-DRE-01'!$A$7:$U$301,3,FALSE))","v":""},{"$f":"IF($R308=\"\",\"\",VLOOKUP($R308,'FO-DRE-01'!$A$7:$U$301,4,FALSE))","v":""},{"$f":"IF($R308=\"\",\"\",VLOOKUP($R308,'FO-DRE-01'!$A$7:$U$301,5,FALSE))","v":""},{"$f":"IF($R308=\"\",\"\",VLOOKUP($R308,'FO-DRE-01'!$A$7:$U$301,7,FALSE))","v":""},{"$f":"IF($R308=\"\",\"\",VLOOKUP($R308,'FO-DRE-01'!$A$7:$U$301,8,FALSE))","v":""},{"$f":"IF($R308=\"\",\"\",VLOOKUP($R308,'FO-DRE-01'!$A$7:$U$301,9,FALSE))","v":""},{"$f":"IF($R308=\"\",\"\",VLOOKUP($R308,'FO-DRE-01'!$A$7:$U$301,10,FALSE))","v":""},{"$f":"IF($R308=\"\",\"\",VLOOKUP($R308,'FO-DRE-01'!$A$7:$U$301,11,FALSE))","v":""},{"$f":"IF($R308=\"\",\"\",VLOOKUP($R308,'FO-DRE-01'!$A$7:$U$301,12,FALSE))","v":""},{"$f":"IF($R308=\"\",\"\",VLOOKUP($R308,'FO-DRE-01'!$A$7:$U$301,13,FALSE))","v":""},{"$f":"IF($R308=\"\",\"\",VLOOKUP($R308,'FO-DRE-01'!$A$7:$U$301,14,FALSE))","v":""},{"$f":"IF($R308=\"\",\"\",VLOOKUP($R308,'FO-DRE-01'!$A$7:$U$301,15,FALSE))","v":""},{"$f":"IF($S308=\"\",\"\",VLOOKUP($S308,'FO-DRE-04'!$A$6:$L$301,2,FALSE))","v":""},{"$f":"IF($S308=\"\",\"\",VLOOKUP($S308,'FO-DRE-04'!$A$6:$L$301,3,FALSE))","v":""},{"$f":"IF($S308=\"\",\"\",VLOOKUP($S308,'FO-DRE-04'!$A$6:$L$301,4,FALSE))","v":""},{"$f":"IF($S308=\"\",\"\",VLOOKUP($S308,'FO-DRE-04'!$A$6:$L$301,6,FALSE))","v":""},{"$f":"IF($S308=\"\",\"\",VLOOKUP($S308,'FO-DRE-04'!$A$6:$L$301,11,FALSE))","v":""},{"$f":"IF($T308=\"\",\"\",VLOOKUP($T308,'FO-DRE-02'!$A$6:$M$101,2,FALSE))","v":""},{"$f":"IF($T308=\"\",\"\",VLOOKUP($T308,'FO-DRE-02'!$A$6:$M$101,3,FALSE))","v":""},{"$f":"IF($T308=\"\",\"\",VLOOKUP($T308,'FO-DRE-02'!$A$6:$M$101,6,FALSE))","v":""},{"$f":"IF($T308=\"\",\"\",VLOOKUP($T308,'FO-DRE-02'!$A$6:$M$101,4,FALSE))","v":""},{"$f":"IF($T308=\"\",\"\",VLOOKUP($T308,'FO-DRE-02'!$A$6:$M$101,5,FALSE))","v":""},{"$f":"IF($T308=\"\",\"\",VLOOKUP($T308,'FO-DRE-02'!$A$6:$M$101,6,FALSE))","v":""},{"$f":"IF($T308=\"\",\"\",VLOOKUP($T308,'FO-DRE-02'!$A$6:$M$101,6,FALSE))","v":""},{"$f":"IF($T308=\"\",\"\",VLOOKUP($T308,'FO-DRE-02'!$A$6:$M$101,8,FALSE))","v":""},{"$f":"IF($T308=\"\",\"\",VLOOKUP($T308,'FO-DRE-02'!$A$6:$M$101,11,FALSE))","v":""},{"$f":"IF($T308=\"\",\"\",VLOOKUP($T308,'FO-DRE-02'!$A$6:$M$101,12,FALSE))","v":""},{"$f":"IF($T308=\"\",\"\",VLOOKUP($T308,'FO-DRE-02'!$A$6:$M$101,13,FALSE))","v":""},null,null,null,299,"","F/D","F/D","","","","","","","","","","","","","","",""]
[null,null,null,null,null,null,null,null,"",{"$f":"CONCATENATE(#REF!,\"-\",\"TX\")","v":{"$error":"#REF!"}},{"$f":"CONCATENATE(#REF!,\"-\",\"RX\")","v":{"$error":"#REF!"}},null,null,null,null,0,null,null,null,null,null,{"$f":"IF($R309=\"\",\"\",VLOOKUP($R309,'FO-DRE-01'!$A$7:$U$301,18,FALSE))","v":""},{"$f":"IF($R309=\"\",\"\",VLOOKUP($R309,'FO-DRE-01'!$A$7:$U$301,16,FALSE))","v":""},{"$f":"IF($R309=\"\",\"\",VLOOKUP($R309,'FO-DRE-01'!$A$7:$U$301,17,FALSE))","v":""},{"$f":"IF($R309=\"\",\"\",VLOOKUP($R309,'FO-DRE-01'!$A$7:$U$301,3,FALSE))","v":""},{"$f":"IF($R309=\"\",\"\",VLOOKUP($R309,'FO-DRE-01'!$A$7:$U$301,4,FALSE))","v":""},{"$f":"IF($R309=\"\",\"\",VLOOKUP($R309,'FO-DRE-01'!$A$7:$U$301,5,FALSE))","v":""},{"$f":"IF($R309=\"\",\"\",VLOOKUP($R309,'FO-DRE-01'!$A$7:$U$301,7,FALSE))","v":""},{"$f":"IF($R309=\"\",\"\",VLOOKUP($R309,'FO-DRE-01'!$A$7:$U$301,8,FALSE))","v":""},{"$f":"IF($R309=\"\",\"\",VLOOKUP($R309,'FO-DRE-01'!$A$7:$U$301,9,FALSE))","v":""},{"$f":"IF($R309=\"\",\"\",VLOOKUP($R309,'FO-DRE-01'!$A$7:$U$301,10,FALSE))","v":""},{"$f":"IF($R309=\"\",\"\",VLOOKUP($R309,'FO-DRE-01'!$A$7:$U$301,11,FALSE))","v":""},{"$f":"IF($R309=\"\",\"\",VLOOKUP($R309,'FO-DRE-01'!$A$7:$U$301,12,FALSE))","v":""},{"$f":"IF($R309=\"\",\"\",VLOOKUP($R309,'FO-DRE-01'!$A$7:$U$301,13,FALSE))","v":""},{"$f":"IF($R309=\"\",\"\",VLOOKUP($R309,'FO-DRE-01'!$A$7:$U$301,14,FALSE))","v":""},{"$f":"IF($R309=\"\",\"\",VLOOKUP($R309,'FO-DRE-01'!$A$7:$U$301,15,FALSE))","v":""},{"$f":"IF($S309=\"\",\"\",VLOOKUP($S309,'FO-DRE-04'!$A$6:$L$301,2,FALSE))","v":""},{"$f":"IF($S309=\"\",\"\",VLOOKUP($S309,'FO-DRE-04'!$A$6:$L$301,3,FALSE))","v":""},{"$f":"IF($S309=\"\",\"\",VLOOKUP($S309,'FO-DRE-04'!$A$6:$L$301,4,FALSE))","v":""},{"$f":"IF($S309=\"\",\"\",VLOOKUP($S309,'FO-DRE-04'!$A$6:$L$301,6,FALSE))","v":""},{"$f":"IF($S309=\"\",\"\",VLOOKUP($S309,'FO-DRE-04'!$A$6:$L$301,11,FALSE))","v":""},{"$f":"IF($T309=\"\",\"\",VLOOKUP($T309,'FO-DRE-02'!$A$6:$M$101,2,FALSE))","v":""},{"$f":"IF($T309=\"\",\"\",VLOOKUP($T309,'FO-DRE-02'!$A$6:$M$101,3,FALSE))","v":""},{"$f":"IF($T309=\"\",\"\",VLOOKUP($T309,'FO-DRE-02'!$A$6:$M$101,6,FALSE))","v":""},{"$f":"IF($T309=\"\",\"\",VLOOKUP($T309,'FO-DRE-02'!$A$6:$M$101,4,FALSE))","v":""},{"$f":"IF($T309=\"\",\"\",VLOOKUP($T309,'FO-DRE-02'!$A$6:$M$101,5,FALSE))","v":""},{"$f":"IF($T309=\"\",\"\",VLOOKUP($T309,'FO-DRE-02'!$A$6:$M$101,6,FALSE))","v":""},{"$f":"IF($T309=\"\",\"\",VLOOKUP($T309,'FO-DRE-02'!$A$6:$M$101,6,FALSE))","v":""},{"$f":"IF($T309=\"\",\"\",VLOOKUP($T309,'FO-DRE-02'!$A$6:$M$101,8,FALSE))","v":""},{"$f":"IF($T309=\"\",\"\",VLOOKUP($T309,'FO-DRE-02'!$A$6:$M$101,11,FALSE))","v":""},{"$f":"IF($T309=\"\",\"\",VLOOKUP($T309,'FO-DRE-02'!$A$6:$M$101,12,FALSE))","v":""},{"$f":"IF($T309=\"\",\"\",VLOOKUP($T309,'FO-DRE-02'!$A$6:$M$101,13,FALSE))","v":""},null,null,null,300,"","F/D","F/D","","","","","","","","","","","","","","",""]
[null,null,null,null,null,null,null,null,"",{"$f":"CONCATENATE(#REF!,\"-\",\"TX\")","v":{"$error":"#REF!"}},{"$f":"CONCATENATE(#REF!,\"-\",\"RX\")","v":{"$error":"#REF!"}},null,null,null,null,0,null,null,null,null,null,{"$f":"IF($R310=\"\",\"\",VLOOKUP($R310,'FO-DRE-01'!$A$7:$U$301,18,FALSE))","v":""},{"$f":"IF($R310=\"\",\"\",VLOOKUP($R310,'FO-DRE-01'!$A$7:$U$301,16,FALSE))","v":""},{"$f":"IF($R310=\"\",\"\",VLOOKUP($R310,'FO-DRE-01'!$A$7:$U$301,17,FALSE))","v":""},{"$f":"IF($R310=\"\",\"\",VLOOKUP($R310,'FO-DRE-01'!$A$7:$U$301,3,FALSE))","v":""},{"$f":"IF($R310=\"\",\"\",VLOOKUP($R310,'FO-DRE-01'!$A$7:$U$301,4,FALSE))","v":""},{"$f":"IF($R310=\"\",\"\",VLOOKUP($R310,'FO-DRE-01'!$A$7:$U$301,5,FALSE))","v":""},{"$f":"IF($R310=\"\",\"\",VLOOKUP($R310,'FO-DRE-01'!$A$7:$U$301,7,FALSE))","v":""},{"$f":"IF($R310=\"\",\"\",VLOOKUP($R310,'FO-DRE-01'!$A$7:$U$301,8,FALSE))","v":""},{"$f":"IF($R310=\"\",\"\",VLOOKUP($R310,'FO-DRE-01'!$A$7:$U$301,9,FALSE))","v":""},{"$f":"IF($R310=\"\",\"\",VLOOKUP($R310,'FO-DRE-01'!$A$7:$U$301,10,FALSE))","v":""},{"$f":"IF($R310=\"\",\"\",VLOOKUP($R310,'FO-DRE-01'!$A$7:$U$301,11,FALSE))","v":""},{"$f":"IF($R310=\"\",\"\",VLOOKUP($R310,'FO-DRE-01'!$A$7:$U$301,12,FALSE))","v":""},{"$f":"IF($R310=\"\",\"\",VLOOKUP($R310,'FO-DRE-01'!$A$7:$U$301,13,FALSE))","v":""},{"$f":"IF($R310=\"\",\"\",VLOOKUP($R310,'FO-DRE-01'!$A$7:$U$301,14,FALSE))","v":""},{"$f":"IF($R310=\"\",\"\",VLOOKUP($R310,'FO-DRE-01'!$A$7:$U$301,15,FALSE))","v":""},{"$f":"IF($S310=\"\",\"\",VLOOKUP($S310,'FO-DRE-04'!$A$6:$L$301,2,FALSE))","v":""},{"$f":"IF($S310=\"\",\"\",VLOOKUP($S310,'FO-DRE-04'!$A$6:$L$301,3,FALSE))","v":""},{"$f":"IF($S310=\"\",\"\",VLOOKUP($S310,'FO-DRE-04'!$A$6:$L$301,4,FALSE))","v":""},{"$f":"IF($S310=\"\",\"\",VLOOKUP($S310,'FO-DRE-04'!$A$6:$L$301,6,FALSE))","v":""},{"$f":"IF($S310=\"\",\"\",VLOOKUP($S310,'FO-DRE-04'!$A$6:$L$301,11,FALSE))","v":""},{"$f":"IF($T310=\"\",\"\",VLOOKUP($T310,'FO-DRE-02'!$A$6:$M$101,2,FALSE))","v":""},{"$f":"IF($T310=\"\",\"\",VLOOKUP($T310,'FO-DRE-02'!$A$6:$M$101,3,FALSE))","v":""},{"$f":"IF($T310=\"\",\"\",VLOOKUP($T310,'FO-DRE-02'!$A$6:$M$101,6,FALSE))","v":""},{"$f":"IF($T310=\"\",\"\",VLOOKUP($T310,'FO-DRE-02'!$A$6:$M$101,4,FALSE))","v":""},{"$f":"IF($T310=\"\",\"\",VLOOKUP($T310,'FO-DRE-02'!$A$6:$M$101,5,FALSE))","v":""},{"$f":"IF($T310=\"\",\"\",VLOOKUP($T310,'FO-DRE-02'!$A$6:$M$101,6,FALSE))","v":""},{"$f":"IF($T310=\"\",\"\",VLOOKUP($T310,'FO-DRE-02'!$A$6:$M$101,6,FALSE))","v":""},{"$f":"IF($T310=\"\",\"\",VLOOKUP($T310,'FO-DRE-02'!$A$6:$M$101,8,FALSE))","v":""},{"$f":"IF($T310=\"\",\"\",VLOOKUP($T310,'FO-DRE-02'!$A$6:$M$101,11,FALSE))","v":""},{"$f":"IF($T310=\"\",\"\",VLOOKUP($T310,'FO-DRE-02'!$A$6:$M$101,12,FALSE))","v":""},{"$f":"IF($T310=\"\",\"\",VLOOKUP($T310,'FO-DRE-02'!$A$6:$M$101,13,FALSE))","v":""},null,null,null,301,"","F/D","F/D","","","","","","","","","","","","","","",""]
[null,null,null,null,null,null,null,null,"",{"$f":"CONCATENATE(#REF!,\"-\",\"TX\")","v":{"$error":"#REF!"}},{"$f":"CONCATENATE(#REF!,\"-\",\"RX\")","v":{"$error":"#REF!"}},null,null,null,null,0,null,null,null,null,null,{"$f":"IF($R311=\"\",\"\",VLOOKUP($R311,'FO-DRE-01'!$A$7:$U$301,18,FALSE))","v":""},{"$f":"IF($R311=\"\",\"\",VLOOKUP($R311,'FO-DRE-01'!$A$7:$U$301,16,FALSE))","v":""},{"$f":"IF($R311=\"\",\"\",VLOOKUP($R311,'FO-DRE-01'!$A$7:$U$301,17,FALSE))","v":""},{"$f":"IF($R311=\"\",\"\",VLOOKUP($R311,'FO-DRE-01'!$A$7:$U$301,3,FALSE))","v":""},{"$f":"IF($R311=\"\",\"\",VLOOKUP($R311,'FO-DRE-01'!$A$7:$U$301,4,FALSE))","v":""},{"$f":"IF($R311=\"\",\"\",VLOOKUP($R311,'FO-DRE-01'!$A$7:$U$301,5,FALSE))","v":""},{"$f":"IF($R311=\"\",\"\",VLOOKUP($R311,'FO-DRE-01'!$A$7:$U$301,7,FALSE))","v":""},{"$f":"IF($R311=\"\",\"\",VLOOKUP($R311,'FO-DRE-01'!$A$7:$U$301,8,FALSE))","v":""},{"$f":"IF($R311=\"\",\"\",VLOOKUP($R311,'FO-DRE-01'!$A$7:$U$301,9,FALSE))","v":""},{"$f":"IF($R311=\"\",\"\",VLOOKUP($R311,'FO-DRE-01'!$A$7:$U$301,10,FALSE))","v":""},{"$f":"IF($R311=\"\",\"\",VLOOKUP($R311,'FO-DRE-01'!$A$7:$U$301,11,FALSE))","v":""},{"$f":"IF($R311=\"\",\"\",VLOOKUP($R311,'FO-DRE-01'!$A$7:$U$301,12,FALSE))","v":""},{"$f":"IF($R311=\"\",\"\",VLOOKUP($R311,'FO-DRE-01'!$A$7:$U$301,13,FALSE))","v":""},{"$f":"IF($R311=\"\",\"\",VLOOKUP($R311,'FO-DRE-01'!$A$7:$U$301,14,FALSE))","v":""},{"$f":"IF($R311=\"\",\"\",VLOOKUP($R311,'FO-DRE-01'!$A$7:$U$301,15,FALSE))","v":""},{"$f":"IF($S311=\"\",\"\",VLOOKUP($S311,'FO-DRE-04'!$A$6:$L$301,2,FALSE))","v":""},{"$f":"IF($S311=\"\",\"\",VLOOKUP($S311,'FO-DRE-04'!$A$6:$L$301,3,FALSE))","v":""},{"$f":"IF($S311=\"\",\"\",VLOOKUP($S311,'FO-DRE-04'!$A$6:$L$301,4,FALSE))","v":""},{"$f":"IF($S311=\"\",\"\",VLOOKUP($S311,'FO-DRE-04'!$A$6:$L$301,6,FALSE))","v":""},{"$f":"IF($S311=\"\",\"\",VLOOKUP($S311,'FO-DRE-04'!$A$6:$L$301,11,FALSE))","v":""},{"$f":"IF($T311=\"\",\"\",VLOOKUP($T311,'FO-DRE-02'!$A$6:$M$101,2,FALSE))","v":""},{"$f":"IF($T311=\"\",\"\",VLOOKUP($T311,'FO-DRE-02'!$A$6:$M$101,3,FALSE))","v":""},{"$f":"IF($T311=\"\",\"\",VLOOKUP($T311,'FO-DRE-02'!$A$6:$M$101,6,FALSE))","v":""},{"$f":"IF($T311=\"\",\"\",VLOOKUP($T311,'FO-DRE-02'!$A$6:$M$101,4,FALSE))","v":""},{"$f":"IF($T311=\"\",\"\",VLOOKUP($T311,'FO-DRE-02'!$A$6:$M$101,5,FALSE))","v":""},{"$f":"IF($T311=\"\",\"\",VLOOKUP($T311,'FO-DRE-02'!$A$6:$M$101,6,FALSE))","v":""},{"$f":"IF($T311=\"\",\"\",VLOOKUP($T311,'FO-DRE-02'!$A$6:$M$101,6,FALSE))","v":""},{"$f":"IF($T311=\"\",\"\",VLOOKUP($T311,'FO-DRE-02'!$A$6:$M$101,8,FALSE))","v":""},{"$f":"IF($T311=\"\",\"\",VLOOKUP($T311,'FO-DRE-02'!$A$6:$M$101,11,FALSE))","v":""},{"$f":"IF($T311=\"\",\"\",VLOOKUP($T311,'FO-DRE-02'!$A$6:$M$101,12,FALSE))","v":""},{"$f":"IF($T311=\"\",\"\",VLOOKUP($T311,'FO-DRE-02'!$A$6:$M$101,13,FALSE))","v":""},null,null,null,302,"","F/D","F/D","","","","","","","","","","","","","","",""]
[null,null,null,null,null,null,null,null,"",{"$f":"CONCATENATE(#REF!,\"-\",\"TX\")","v":{"$error":"#REF!"}},{"$f":"CONCATENATE(#REF!,\"-\",\"RX\")","v":{"$error":"#REF!"}},null,null,null,null,0,null,null,null,null,null,{"$f":"IF($R312=\"\",\"\",VLOOKUP($R312,'FO-DRE-01'!$A$7:$U$301,18,FALSE))","v":""},{"$f":"IF($R312=\"\",\"\",VLOOKUP($R312,'FO-DRE-01'!$A$7:$U$301,16,FALSE))","v":""},{"$f":"IF($R312=\"\",\"\",VLOOKUP($R312,'FO-DRE-01'!$A$7:$U$301,17,FALSE))","v":""},{"$f":"IF($R312=\"\",\"\",VLOOKUP($R312,'FO-DRE-01'!$A$7:$U$301,3,FALSE))","v":""},{"$f":"IF($R312=\"\",\"\",VLOOKUP($R312,'FO-DRE-01'!$A$7:$U$301,4,FALSE))","v":""},{"$f":"IF($R312=\"\",\"\",VLOOKUP($R312,'FO-DRE-01'!$A$7:$U$301,5,FALSE))","v":""},{"$f":"IF($R312=\"\",\"\",VLOOKUP($R312,'FO-DRE-01'!$A$7:$U$301,7,FALSE))","v":""},{"$f":"IF($R312=\"\",\"\",VLOOKUP($R312,'FO-DRE-01'!$A$7:$U$301,8,FALSE))","v":""},{"$f":"IF($R312=\"\",\"\",VLOOKUP($R312,'FO-DRE-01'!$A$7:$U$301,9,FALSE))","v":""},{"$f":"IF($R312=\"\",\"\",VLOOKUP($R312,'FO-DRE-01'!$A$7:$U$301,10,FALSE))","v":""},{"$f":"IF($R312=\"\",\"\",VLOOKUP($R312,'FO-DRE-01'!$A$7:$U$301,11,FALSE))","v":""},{"$f":"IF($R312=\"\",\"\",VLOOKUP($R312,'FO-DRE-01'!$A$7:$U$301,12,FALSE))","v":""},{"$f":"IF($R312=\"\",\"\",VLOOKUP($R312,'FO-DRE-01'!$A$7:$U$301,13,FALSE))","v":""},{"$f":"IF($R312=\"\",\"\",VLOOKUP($R312,'FO-DRE-01'!$A$7:$U$301,14,FALSE))","v":""},{"$f":"IF($R312=\"\",\"\",VLOOKUP($R312,'FO-DRE-01'!$A$7:$U$301,15,FALSE))","v":""},{"$f":"IF($S312=\"\",\"\",VLOOKUP($S312,'FO-DRE-04'!$A$6:$L$301,2,FALSE))","v":""},{"$f":"IF($S312=\"\",\"\",VLOOKUP($S312,'FO-DRE-04'!$A$6:$L$301,3,FALSE))","v":""},{"$f":"IF($S312=\"\",\"\",VLOOKUP($S312,'FO-DRE-04'!$A$6:$L$301,4,FALSE))","v":""},{"$f":"IF($S312=\"\",\"\",VLOOKUP($S312,'FO-DRE-04'!$A$6:$L$301,6,FALSE))","v":""},{"$f":"IF($S312=\"\",\"\",VLOOKUP($S312,'FO-DRE-04'!$A$6:$L$301,11,FALSE))","v":""},{"$f":"IF($T312=\"\",\"\",VLOOKUP($T312,'FO-DRE-02'!$A$6:$M$101,2,FALSE))","v":""},{"$f":"IF($T312=\"\",\"\",VLOOKUP($T312,'FO-DRE-02'!$A$6:$M$101,3,FALSE))","v":""},{"$f":"IF($T312=\"\",\"\",VLOOKUP($T312,'FO-DRE-02'!$A$6:$M$101,6,FALSE))","v":""},{"$f":"IF($T312=\"\",\"\",VLOOKUP($T312,'FO-DRE-02'!$A$6:$M$101,4,FALSE))","v":""},{"$f":"IF($T312=\"\",\"\",VLOOKUP($T312,'FO-DRE-02'!$A$6:$M$101,5,FALSE))","v":""},{"$f":"IF($T312=\"\",\"\",VLOOKUP($T312,'FO-DRE-02'!$A$6:$M$101,6,FALSE))","v":""},{"$f":"IF($T312=\"\",\"\",VLOOKUP($T312,'FO-DRE-02'!$A$6:$M$101,6,FALSE))","v":""},{"$f":"IF($T312=\"\",\"\",VLOOKUP($T312,'FO-DRE-02'!$A$6:$M$101,8,FALSE))","v":""},{"$f":"IF($T312=\"\",\"\",VLOOKUP($T312,'FO-DRE-02'!$A$6:$M$101,11,FALSE))","v":""},{"$f":"IF($T312=\"\",\"\",VLOOKUP($T312,'FO-DRE-02'!$A$6:$M$101,12,FALSE))","v":""},{"$f":"IF($T312=\"\",\"\",VLOOKUP($T312,'FO-DRE-02'!$A$6:$M$101,13,FALSE))","v":""},null,null,null,303,"","F/D","F/D","","","","","","","","","","","","","","",""]
[null,null,null,null,null,null,null,null,"",{"$f":"CONCATENATE(#REF!,\"-\",\"TX\")","v":{"$error":"#REF!"}},{"$f":"CONCATENATE(#REF!,\"-\",\"RX\")","v":{"$error":"#REF!"}},null,null,null,null,0,null,null,null,null,null,{"$f":"IF($R313=\"\",\"\",VLOOKUP($R313,'FO-DRE-01'!$A$7:$U$301,18,FALSE))","v":""},{"$f":"IF($R313=\"\",\"\",VLOOKUP($R313,'FO-DRE-01'!$A$7:$U$301,16,FALSE))","v":""},{"$f":"IF($R313=\"\",\"\",VLOOKUP($R313,'FO-DRE-01'!$A$7:$U$301,17,FALSE))","v":""},{"$f":"IF($R313=\"\",\"\",VLOOKUP($R313,'FO-DRE-01'!$A$7:$U$301,3,FALSE))","v":""},{"$f":"IF($R313=\"\",\"\",VLOOKUP($R313,'FO-DRE-01'!$A$7:$U$301,4,FALSE))","v":""},{"$f":"IF($R313=\"\",\"\",VLOOKUP($R313,'FO-DRE-01'!$A$7:$U$301,5,FALSE))","v":""},{"$f":"IF($R313=\"\",\"\",VLOOKUP($R313,'FO-DRE-01'!$A$7:$U$301,7,FALSE))","v":""},{"$f":"IF($R313=\"\",\"\",VLOOKUP($R313,'FO-DRE-01'!$A$7:$U$301,8,FALSE))","v":""},{"$f":"IF($R313=\"\",\"\",VLOOKUP($R313,'FO-DRE-01'!$A$7:$U$301,9,FALSE))","v":""},{"$f":"IF($R313=\"\",\"\",VLOOKUP($R313,'FO-DRE-01'!$A$7:$U$301,10,FALSE))","v":""},{"$f":"IF($R313=\"\",\"\",VLOOKUP($R313,'FO-DRE-01'!$A$7:$U$301,11,FALSE))","v":""},{"$f":"IF($R313=\"\",\"\",VLOOKUP($R313,'FO-DRE-01'!$A$7:$U$301,12,FALSE))","v":""},{"$f":"IF($R313=\"\",\"\",VLOOKUP($R313,'FO-DRE-01'!$A$7:$U$301,13,FALSE))","v":""},{"$f":"IF($R313=\"\",\"\",VLOOKUP($R313,'FO-DRE-01'!$A$7:$U$301,14,FALSE))","v":""},{"$f":"IF($R313=\"\",\"\",VLOOKUP($R313,'FO-DRE-01'!$A$7:$U$301,15,FALSE))","v":""},{"$f":"IF($S313=\"\",\"\",VLOOKUP($S313,'FO-DRE-04'!$A$6:$L$301,2,FALSE))","v":""},{"$f":"IF($S313=\"\",\"\",VLOOKUP($S313,'FO-DRE-04'!$A$6:$L$301,3,FALSE))","v":""},{"$f":"IF($S313=\"\",\"\",VLOOKUP($S313,'FO-DRE-04'!$A$6:$L$301,4,FALSE))","v":""},{"$f":"IF($S313=\"\",\"\",VLOOKUP($S313,'FO-DRE-04'!$A$6:$L$301,6,FALSE))","v":""},{"$f":"IF($S313=\"\",\"\",VLOOKUP($S313,'FO-DRE-04'!$A$6:$L$301,11,FALSE))","v":""},{"$f":"IF($T313=\"\",\"\",VLOOKUP($T313,'FO-DRE-02'!$A$6:$M$101,2,FALSE))","v":""},{"$f":"IF($T313=\"\",\"\",VLOOKUP($T313,'FO-DRE-02'!$A$6:$M$101,3,FALSE))","v":""},{"$f":"IF($T313=\"\",\"\",VLOOKUP($T313,'FO-DRE-02'!$A$6:$M$101,6,FALSE))","v":""},{"$f":"IF($T313=\"\",\"\",VLOOKUP($T313,'FO-DRE-02'!$A$6:$M$101,4,FALSE))","v":""},{"$f":"IF($T313=\"\",\"\",VLOOKUP($T313,'FO-DRE-02'!$A$6:$M$101,5,FALSE))","v":""},{"$f":"IF($T313=\"\",\"\",VLOOKUP($T313,'FO-DRE-02'!$A$6:$M$101,6,FALSE))","v":""},{"$f":"IF($T313=\"\",\"\",VLOOKUP($T313,'FO-DRE-02'!$A$6:$M$101,6,FALSE))","v":""},{"$f":"IF($T313=\"\",\"\",VLOOKUP($T313,'FO-DRE-02'!$A$6:$M$101,8,FALSE))","v":""},{"$f":"IF($T313=\"\",\"\",VLOOKUP($T313,'FO-DRE-02'!$A$6:$M$101,11,FALSE))","v":""},{"$f":"IF($T313=\"\",\"\",VLOOKUP($T313,'FO-DRE-02'!$A$6:$M$101,12,FALSE))","v":""},{"$f":"IF($T313=\"\",\"\",VLOOKUP($T313,'FO-DRE-02'!$A$6:$M$101,13,FALSE))","v":""},null,null,null,304,"","F/D","F/D","","","","","","","","","","","","","","",""]
[null,null,null,null,null,null,null,null,"",{"$f":"CONCATENATE(#REF!,\"-\",\"TX\")","v":{"$error":"#REF!"}},{"$f":"CONCATENATE(#REF!,\"-\",\"RX\")","v":{"$error":"#REF!"}},null,null,null,null,0,null,null,null,null,null,{"$f":"IF($R314=\"\",\"\",VLOOKUP($R314,'FO-DRE-01'!$A$7:$U$301,18,FALSE))","v":""},{"$f":"IF($R314=\"\",\"\",VLOOKUP($R314,'FO-DRE-01'!$A$7:$U$301,16,FALSE))","v":""},{"$f":"IF($R314=\"\",\"\",VLOOKUP($R314,'FO-DRE-01'!$A$7:$U$301,17,FALSE))","v":""},{"$f":"IF($R314=\"\",\"\",VLOOKUP($R314,'FO-DRE-01'!$A$7:$U$301,3,FALSE))","v":""},{"$f":"IF($R314=\"\",\"\",VLOOKUP($R314,'FO-DRE-01'!$A$7:$U$301,4,FALSE))","v":""},{"$f":"IF($R314=\"\",\"\",VLOOKUP($R314,'FO-DRE-01'!$A$7:$U$301,5,FALSE))","v":""},{"$f":"IF($R314=\"\",\"\",VLOOKUP($R314,'FO-DRE-01'!$A$7:$U$301,7,FALSE))","v":""},{"$f":"IF($R314=\"\",\"\",VLOOKUP($R314,'FO-DRE-01'!$A$7:$U$301,8,FALSE))","v":""},{"$f":"IF($R314=\"\",\"\",VLOOKUP($R314,'FO-DRE-01'!$A$7:$U$301,9,FALSE))","v":""},{"$f":"IF($R314=\"\",\"\",VLOOKUP($R314,'FO-DRE-01'!$A$7:$U$301,10,FALSE))","v":""},{"$f":"IF($R314=\"\",\"\",VLOOKUP($R314,'FO-DRE-01'!$A$7:$U$301,11,FALSE))","v":""},{"$f":"IF($R314=\"\",\"\",VLOOKUP($R314,'FO-DRE-01'!$A$7:$U$301,12,FALSE))","v":""},{"$f":"IF($R314=\"\",\"\",VLOOKUP($R314,'FO-DRE-01'!$A$7:$U$301,13,FALSE))","v":""},{"$f":"IF($R314=\"\",\"\",VLOOKUP($R314,'FO-DRE-01'!$A$7:$U$301,14,FALSE))","v":""},{"$f":"IF($R314=\"\",\"\",VLOOKUP($R314,'FO-DRE-01'!$A$7:$U$301,15,FALSE))","v":""},{"$f":"IF($S314=\"\",\"\",VLOOKUP($S314,'FO-DRE-04'!$A$6:$L$301,2,FALSE))","v":""},{"$f":"IF($S314=\"\",\"\",VLOOKUP($S314,'FO-DRE-04'!$A$6:$L$301,3,FALSE))","v":""},{"$f":"IF($S314=\"\",\"\",VLOOKUP($S314,'FO-DRE-04'!$A$6:$L$301,4,FALSE))","v":""},{"$f":"IF($S314=\"\",\"\",VLOOKUP($S314,'FO-DRE-04'!$A$6:$L$301,6,FALSE))","v":""},{"$f":"IF($S314=\"\",\"\",VLOOKUP($S314,'FO-DRE-04'!$A$6:$L$301,11,FALSE))","v":""},{"$f":"IF($T314=\"\",\"\",VLOOKUP($T314,'FO-DRE-02'!$A$6:$M$101,2,FALSE))","v":""},{"$f":"IF($T314=\"\",\"\",VLOOKUP($T314,'FO-DRE-02'!$A$6:$M$101,3,FALSE))","v":""},{"$f":"IF($T314=\"\",\"\",VLOOKUP($T314,'FO-DRE-02'!$A$6:$M$101,6,FALSE))","v":""},{"$f":"IF($T314=\"\",\"\",VLOOKUP($T314,'FO-DRE-02'!$A$6:$M$101,4,FALSE))","v":""},{"$f":"IF($T314=\"\",\"\",VLOOKUP($T314,'FO-DRE-02'!$A$6:$M$101,5,FALSE))","v":""},{"$f":"IF($T314=\"\",\"\",VLOOKUP($T314,'FO-DRE-02'!$A$6:$M$101,6,FALSE))","v":""},{"$f":"IF($T314=\"\",\"\",VLOOKUP($T314,'FO-DRE-02'!$A$6:$M$101,6,FALSE))","v":""},{"$f":"IF($T314=\"\",\"\",VLOOKUP($T314,'FO-DRE-02'!$A$6:$M$101,8,FALSE))","v":""},{"$f":"IF($T314=\"\",\"\",VLOOKUP($T314,'FO-DRE-02'!$A$6:$M$101,11,FALSE))","v":""},{"$f":"IF($T314=\"\",\"\",VLOOKUP($T314,'FO-DRE-02'!$A$6:$M$101,12,FALSE))","v":""},{"$f":"IF($T314=\"\",\"\",VLOOKUP($T314,'FO-DRE-02'!$A$6:$M$101,13,FALSE))","v":""},null,null,null,305,"","F/D","F/D","","","","","","","","","","","","","","",""]
[null,null,null,null,null,null,null,null,"",{"$f":"CONCATENATE(#REF!,\"-\",\"TX\")","v":{"$error":"#REF!"}},{"$f":"CONCATENATE(#REF!,\"-\",\"RX\")","v":{"$error":"#REF!"}},null,null,null,null,0,null,null,null,null,null,{"$f":"IF($R315=\"\",\"\",VLOOKUP($R315,'FO-DRE-01'!$A$7:$U$301,18,FALSE))","v":""},{"$f":"IF($R315=\"\",\"\",VLOOKUP($R315,'FO-DRE-01'!$A$7:$U$301,16,FALSE))","v":""},{"$f":"IF($R315=\"\",\"\",VLOOKUP($R315,'FO-DRE-01'!$A$7:$U$301,17,FALSE))","v":""},{"$f":"IF($R315=\"\",\"\",VLOOKUP($R315,'FO-DRE-01'!$A$7:$U$301,3,FALSE))","v":""},{"$f":"IF($R315=\"\",\"\",VLOOKUP($R315,'FO-DRE-01'!$A$7:$U$301,4,FALSE))","v":""},{"$f":"IF($R315=\"\",\"\",VLOOKUP($R315,'FO-DRE-01'!$A$7:$U$301,5,FALSE))","v":""},{"$f":"IF($R315=\"\",\"\",VLOOKUP($R315,'FO-DRE-01'!$A$7:$U$301,7,FALSE))","v":""},{"$f":"IF($R315=\"\",\"\",VLOOKUP($R315,'FO-DRE-01'!$A$7:$U$301,8,FALSE))","v":""},{"$f":"IF($R315=\"\",\"\",VLOOKUP($R315,'FO-DRE-01'!$A$7:$U$301,9,FALSE))","v":""},{"$f":"IF($R315=\"\",\"\",VLOOKUP($R315,'FO-DRE-01'!$A$7:$U$301,10,FALSE))","v":""},{"$f":"IF($R315=\"\",\"\",VLOOKUP($R315,'FO-DRE-01'!$A$7:$U$301,11,FALSE))","v":""},{"$f":"IF($R315=\"\",\"\",VLOOKUP($R315,'FO-DRE-01'!$A$7:$U$301,12,FALSE))","v":""},{"$f":"IF($R315=\"\",\"\",VLOOKUP($R315,'FO-DRE-01'!$A$7:$U$301,13,FALSE))","v":""},{"$f":"IF($R315=\"\",\"\",VLOOKUP($R315,'FO-DRE-01'!$A$7:$U$301,14,FALSE))","v":""},{"$f":"IF($R315=\"\",\"\",VLOOKUP($R315,'FO-DRE-01'!$A$7:$U$301,15,FALSE))","v":""},{"$f":"IF($S315=\"\",\"\",VLOOKUP($S315,'FO-DRE-04'!$A$6:$L$301,2,FALSE))","v":""},{"$f":"IF($S315=\"\",\"\",VLOOKUP($S315,'FO-DRE-04'!$A$6:$L$301,3,FALSE))","v":""},{"$f":"IF($S315=\"\",\"\",VLOOKUP($S315,'FO-DRE-04'!$A$6:$L$301,4,FALSE))","v":""},{"$f":"IF($S315=\"\",\"\",VLOOKUP($S315,'FO-DRE-04'!$A$6:$L$301,6,FALSE))","v":""},{"$f":"IF($S315=\"\",\"\",VLOOKUP($S315,'FO-DRE-04'!$A$6:$L$301,11,FALSE))","v":""},{"$f":"IF($T315=\"\",\"\",VLOOKUP($T315,'FO-DRE-02'!$A$6:$M$101,2,FALSE))","v":""},{"$f":"IF($T315=\"\",\"\",VLOOKUP($T315,'FO-DRE-02'!$A$6:$M$101,3,FALSE))","v":""},{"$f":"IF($T315=\"\",\"\",VLOOKUP($T315,'FO-DRE-02'!$A$6:$M$101,6,FALSE))","v":""},{"$f":"IF($T315=\"\",\"\",VLOOKUP($T315,'FO-DRE-02'!$A$6:$M$101,4,FALSE))","v":""},{"$f":"IF($T315=\"\",\"\",VLOOKUP($T315,'FO-DRE-02'!$A$6:$M$101,5,FALSE))","v":""},{"$f":"IF($T315=\"\",\"\",VLOOKUP($T315,'FO-DRE-02'!$A$6:$M$101,6,FALSE))","v":""},{"$f":"IF($T315=\"\",\"\",VLOOKUP($T315,'FO-DRE-02'!$A$6:$M$101,6,FALSE))","v":""},{"$f":"IF($T315=\"\",\"\",VLOOKUP($T315,'FO-DRE-02'!$A$6:$M$101,8,FALSE))","v":""},{"$f":"IF($T315=\"\",\"\",VLOOKUP($T315,'FO-DRE-02'!$A$6:$M$101,11,FALSE))","v":""},{"$f":"IF($T315=\"\",\"\",VLOOKUP($T315,'FO-DRE-02'!$A$6:$M$101,12,FALSE))","v":""},{"$f":"IF($T315=\"\",\"\",VLOOKUP($T315,'FO-DRE-02'!$A$6:$M$101,13,FALSE))","v":""},null,null,null,306,"","F/D","F/D","","","","","","","","","","","","","","",""]
[null,null,null,null,null,null,null,null,"",{"$f":"CONCATENATE(#REF!,\"-\",\"TX\")","v":{"$error":"#REF!"}},{"$f":"CONCATENATE(#REF!,\"-\",\"RX\")","v":{"$error":"#REF!"}},null,null,null,null,0,null,null,null,null,null,{"$f":"IF($R316=\"\",\"\",VLOOKUP($R316,'FO-DRE-01'!$A$7:$U$301,18,FALSE))","v":""},{"$f":"IF($R316=\"\",\"\",VLOOKUP($R316,'FO-DRE-01'!$A$7:$U$301,16,FALSE))","v":""},{"$f":"IF($R316=\"\",\"\",VLOOKUP($R316,'FO-DRE-01'!$A$7:$U$301,17,FALSE))","v":""},{"$f":"IF($R316=\"\",\"\",VLOOKUP($R316,'FO-DRE-01'!$A$7:$U$301,3,FALSE))","v":""},{"$f":"IF($R316=\"\",\"\",VLOOKUP($R316,'FO-DRE-01'!$A$7:$U$301,4,FALSE))","v":""},{"$f":"IF($R316=\"\",\"\",VLOOKUP($R316,'FO-DRE-01'!$A$7:$U$301,5,FALSE))","v":""},{"$f":"IF($R316=\"\",\"\",VLOOKUP($R316,'FO-DRE-01'!$A$7:$U$301,7,FALSE))","v":""},{"$f":"IF($R316=\"\",\"\",VLOOKUP($R316,'FO-DRE-01'!$A$7:$U$301,8,FALSE))","v":""},{"$f":"IF($R316=\"\",\"\",VLOOKUP($R316,'FO-DRE-01'!$A$7:$U$301,9,FALSE))","v":""},{"$f":"IF($R316=\"\",\"\",VLOOKUP($R316,'FO-DRE-01'!$A$7:$U$301,10,FALSE))","v":""},{"$f":"IF($R316=\"\",\"\",VLOOKUP($R316,'FO-DRE-01'!$A$7:$U$301,11,FALSE))","v":""},{"$f":"IF($R316=\"\",\"\",VLOOKUP($R316,'FO-DRE-01'!$A$7:$U$301,12,FALSE))","v":""},{"$f":"IF($R316=\"\",\"\",VLOOKUP($R316,'FO-DRE-01'!$A$7:$U$301,13,FALSE))","v":""},{"$f":"IF($R316=\"\",\"\",VLOOKUP($R316,'FO-DRE-01'!$A$7:$U$301,14,FALSE))","v":""},{"$f":"IF($R316=\"\",\"\",VLOOKUP($R316,'FO-DRE-01'!$A$7:$U$301,15,FALSE))","v":""},{"$f":"IF($S316=\"\",\"\",VLOOKUP($S316,'FO-DRE-04'!$A$6:$L$301,2,FALSE))","v":""},{"$f":"IF($S316=\"\",\"\",VLOOKUP($S316,'FO-DRE-04'!$A$6:$L$301,3,FALSE))","v":""},{"$f":"IF($S316=\"\",\"\",VLOOKUP($S316,'FO-DRE-04'!$A$6:$L$301,4,FALSE))","v":""},{"$f":"IF($S316=\"\",\"\",VLOOKUP($S316,'FO-DRE-04'!$A$6:$L$301,6,FALSE))","v":""},{"$f":"IF($S316=\"\",\"\",VLOOKUP($S316,'FO-DRE-04'!$A$6:$L$301,11,FALSE))","v":""},{"$f":"IF($T316=\"\",\"\",VLOOKUP($T316,'FO-DRE-02'!$A$6:$M$101,2,FALSE))","v":""},{"$f":"IF($T316=\"\",\"\",VLOOKUP($T316,'FO-DRE-02'!$A$6:$M$101,3,FALSE))","v":""},{"$f":"IF($T316=\"\",\"\",VLOOKUP($T316,'FO-DRE-02'!$A$6:$M$101,6,FALSE))","v":""},{"$f":"IF($T316=\"\",\"\",VLOOKUP($T316,'FO-DRE-02'!$A$6:$M$101,4,FALSE))","v":""},{"$f":"IF($T316=\"\",\"\",VLOOKUP($T316,'FO-DRE-02'!$A$6:$M$101,5,FALSE))","v":""},{"$f":"IF($T316=\"\",\"\",VLOOKUP($T316,'FO-DRE-02'!$A$6:$M$101,6,FALSE))","v":""},{"$f":"IF($T316=\"\",\"\",VLOOKUP($T316,'FO-DRE-02'!$A$6:$M$101,6,FALSE))","v":""},{"$f":"IF($T316=\"\",\"\",VLOOKUP($T316,'FO-DRE-02'!$A$6:$M$101,8,FALSE))","v":""},{"$f":"IF($T316=\"\",\"\",VLOOKUP($T316,'FO-DRE-02'!$A$6:$M$101,11,FALSE))","v":""},{"$f":"IF($T316=\"\",\"\",VLOOKUP($T316,'FO-DRE-02'!$A$6:$M$101,12,FALSE))","v":""},{"$f":"IF($T316=\"\",\"\",VLOOKUP($T316,'FO-DRE-02'!$A$6:$M$101,13,FALSE))","v":""},null,null,null,307,"","F/D","F/D","","","","","","","","","","","","","","",""]
[null,null,null,null,null,null,null,null,"",{"$f":"CONCATENATE(#REF!,\"-\",\"TX\")","v":{"$error":"#REF!"}},{"$f":"CONCATENATE(#REF!,\"-\",\"RX\")","v":{"$error":"#REF!"}},null,null,null,null,0,null,null,null,null,null,{"$f":"IF($R317=\"\",\"\",VLOOKUP($R317,'FO-DRE-01'!$A$7:$U$301,18,FALSE))","v":""},{"$f":"IF($R317=\"\",\"\",VLOOKUP($R317,'FO-DRE-01'!$A$7:$U$301,16,FALSE))","v":""},{"$f":"IF($R317=\"\",\"\",VLOOKUP($R317,'FO-DRE-01'!$A$7:$U$301,17,FALSE))","v":""},{"$f":"IF($R317=\"\",\"\",VLOOKUP($R317,'FO-DRE-01'!$A$7:$U$301,3,FALSE))","v":""},{"$f":"IF($R317=\"\",\"\",VLOOKUP($R317,'FO-DRE-01'!$A$7:$U$301,4,FALSE))","v":""},{"$f":"IF($R317=\"\",\"\",VLOOKUP($R317,'FO-DRE-01'!$A$7:$U$301,5,FALSE))","v":""},{"$f":"IF($R317=\"\",\"\",VLOOKUP($R317,'FO-DRE-01'!$A$7:$U$301,7,FALSE))","v":""},{"$f":"IF($R317=\"\",\"\",VLOOKUP($R317,'FO-DRE-01'!$A$7:$U$301,8,FALSE))","v":""},{"$f":"IF($R317=\"\",\"\",VLOOKUP($R317,'FO-DRE-01'!$A$7:$U$301,9,FALSE))","v":""},{"$f":"IF($R317=\"\",\"\",VLOOKUP($R317,'FO-DRE-01'!$A$7:$U$301,10,FALSE))","v":""},{"$f":"IF($R317=\"\",\"\",VLOOKUP($R317,'FO-DRE-01'!$A$7:$U$301,11,FALSE))","v":""},{"$f":"IF($R317=\"\",\"\",VLOOKUP($R317,'FO-DRE-01'!$A$7:$U$301,12,FALSE))","v":""},{"$f":"IF($R317=\"\",\"\",VLOOKUP($R317,'FO-DRE-01'!$A$7:$U$301,13,FALSE))","v":""},{"$f":"IF($R317=\"\",\"\",VLOOKUP($R317,'FO-DRE-01'!$A$7:$U$301,14,FALSE))","v":""},{"$f":"IF($R317=\"\",\"\",VLOOKUP($R317,'FO-DRE-01'!$A$7:$U$301,15,FALSE))","v":""},{"$f":"IF($S317=\"\",\"\",VLOOKUP($S317,'FO-DRE-04'!$A$6:$L$301,2,FALSE))","v":""},{"$f":"IF($S317=\"\",\"\",VLOOKUP($S317,'FO-DRE-04'!$A$6:$L$301,3,FALSE))","v":""},{"$f":"IF($S317=\"\",\"\",VLOOKUP($S317,'FO-DRE-04'!$A$6:$L$301,4,FALSE))","v":""},{"$f":"IF($S317=\"\",\"\",VLOOKUP($S317,'FO-DRE-04'!$A$6:$L$301,6,FALSE))","v":""},{"$f":"IF($S317=\"\",\"\",VLOOKUP($S317,'FO-DRE-04'!$A$6:$L$301,11,FALSE))","v":""},{"$f":"IF($T317=\"\",\"\",VLOOKUP($T317,'FO-DRE-02'!$A$6:$M$101,2,FALSE))","v":""},{"$f":"IF($T317=\"\",\"\",VLOOKUP($T317,'FO-DRE-02'!$A$6:$M$101,3,FALSE))","v":""},{"$f":"IF($T317=\"\",\"\",VLOOKUP($T317,'FO-DRE-02'!$A$6:$M$101,6,FALSE))","v":""},{"$f":"IF($T317=\"\",\"\",VLOOKUP($T317,'FO-DRE-02'!$A$6:$M$101,4,FALSE))","v":""},{"$f":"IF($T317=\"\",\"\",VLOOKUP($T317,'FO-DRE-02'!$A$6:$M$101,5,FALSE))","v":""},{"$f":"IF($T317=\"\",\"\",VLOOKUP($T317,'FO-DRE-02'!$A$6:$M$101,6,FALSE))","v":""},{"$f":"IF($T317=\"\",\"\",VLOOKUP($T317,'FO-DRE-02'!$A$6:$M$101,6,FALSE))","v":""},{"$f":"IF($T317=\"\",\"\",VLOOKUP($T317,'FO-DRE-02'!$A$6:$M$101,8,FALSE))","v":""},{"$f":"IF($T317=\"\",\"\",VLOOKUP($T317,'FO-DRE-02'!$A$6:$M$101,11,FALSE))","v":""},{"$f":"IF($T317=\"\",\"\",VLOOKUP($T317,'FO-DRE-02'!$A$6:$M$101,12,FALSE))","v":""},{"$f":"IF($T317=\"\",\"\",VLOOKUP($T317,'FO-DRE-02'!$A$6:$M$101,13,FALSE))","v":""},null,null,null,308,"","F/D","F/D","","","","","","","","","","","","","","",""]
[null,null,null,null,null,null,null,null,"",{"$f":"CONCATENATE(#REF!,\"-\",\"TX\")","v":{"$error":"#REF!"}},{"$f":"CONCATENATE(#REF!,\"-\",\"RX\")","v":{"$error":"#REF!"}},null,null,null,null,0,null,null,null,null,null,{"$f":"IF($R318=\"\",\"\",VLOOKUP($R318,'FO-DRE-01'!$A$7:$U$301,18,FALSE))","v":""},{"$f":"IF($R318=\"\",\"\",VLOOKUP($R318,'FO-DRE-01'!$A$7:$U$301,16,FALSE))","v":""},{"$f":"IF($R318=\"\",\"\",VLOOKUP($R318,'FO-DRE-01'!$A$7:$U$301,17,FALSE))","v":""},{"$f":"IF($R318=\"\",\"\",VLOOKUP($R318,'FO-DRE-01'!$A$7:$U$301,3,FALSE))","v":""},{"$f":"IF($R318=\"\",\"\",VLOOKUP($R318,'FO-DRE-01'!$A$7:$U$301,4,FALSE))","v":""},{"$f":"IF($R318=\"\",\"\",VLOOKUP($R318,'FO-DRE-01'!$A$7:$U$301,5,FALSE))","v":""},{"$f":"IF($R318=\"\",\"\",VLOOKUP($R318,'FO-DRE-01'!$A$7:$U$301,7,FALSE))","v":""},{"$f":"IF($R318=\"\",\"\",VLOOKUP($R318,'FO-DRE-01'!$A$7:$U$301,8,FALSE))","v":""},{"$f":"IF($R318=\"\",\"\",VLOOKUP($R318,'FO-DRE-01'!$A$7:$U$301,9,FALSE))","v":""},{"$f":"IF($R318=\"\",\"\",VLOOKUP($R318,'FO-DRE-01'!$A$7:$U$301,10,FALSE))","v":""},{"$f":"IF($R318=\"\",\"\",VLOOKUP($R318,'FO-DRE-01'!$A$7:$U$301,11,FALSE))","v":""},{"$f":"IF($R318=\"\",\"\",VLOOKUP($R318,'FO-DRE-01'!$A$7:$U$301,12,FALSE))","v":""},{"$f":"IF($R318=\"\",\"\",VLOOKUP($R318,'FO-DRE-01'!$A$7:$U$301,13,FALSE))","v":""},{"$f":"IF($R318=\"\",\"\",VLOOKUP($R318,'FO-DRE-01'!$A$7:$U$301,14,FALSE))","v":""},{"$f":"IF($R318=\"\",\"\",VLOOKUP($R318,'FO-DRE-01'!$A$7:$U$301,15,FALSE))","v":""},{"$f":"IF($S318=\"\",\"\",VLOOKUP($S318,'FO-DRE-04'!$A$6:$L$301,2,FALSE))","v":""},{"$f":"IF($S318=\"\",\"\",VLOOKUP($S318,'FO-DRE-04'!$A$6:$L$301,3,FALSE))","v":""},{"$f":"IF($S318=\"\",\"\",VLOOKUP($S318,'FO-DRE-04'!$A$6:$L$301,4,FALSE))","v":""},{"$f":"IF($S318=\"\",\"\",VLOOKUP($S318,'FO-DRE-04'!$A$6:$L$301,6,FALSE))","v":""},{"$f":"IF($S318=\"\",\"\",VLOOKUP($S318,'FO-DRE-04'!$A$6:$L$301,11,FALSE))","v":""},{"$f":"IF($T318=\"\",\"\",VLOOKUP($T318,'FO-DRE-02'!$A$6:$M$101,2,FALSE))","v":""},{"$f":"IF($T318=\"\",\"\",VLOOKUP($T318,'FO-DRE-02'!$A$6:$M$101,3,FALSE))","v":""},{"$f":"IF($T318=\"\",\"\",VLOOKUP($T318,'FO-DRE-02'!$A$6:$M$101,6,FALSE))","v":""},{"$f":"IF($T318=\"\",\"\",VLOOKUP($T318,'FO-DRE-02'!$A$6:$M$101,4,FALSE))","v":""},{"$f":"IF($T318=\"\",\"\",VLOOKUP($T318,'FO-DRE-02'!$A$6:$M$101,5,FALSE))","v":""},{"$f":"IF($T318=\"\",\"\",VLOOKUP($T318,'FO-DRE-02'!$A$6:$M$101,6,FALSE))","v":""},{"$f":"IF($T318=\"\",\"\",VLOOKUP($T318,'FO-DRE-02'!$A$6:$M$101,6,FALSE))","v":""},{"$f":"IF($T318=\"\",\"\",VLOOKUP($T318,'FO-DRE-02'!$A$6:$M$101,8,FALSE))","v":""},{"$f":"IF($T318=\"\",\"\",VLOOKUP($T318,'FO-DRE-02'!$A$6:$M$101,11,FALSE))","v":""},{"$f":"IF($T318=\"\",\"\",VLOOKUP($T318,'FO-DRE-02'!$A$6:$M$101,12,FALSE))","v":""},{"$f":"IF($T318=\"\",\"\",VLOOKUP($T318,'FO-DRE-02'!$A$6:$M$101,13,FALSE))","v":""},null,null,null,309,"","F/D","F/D","","","","","","","","","","","","","","",""]
[null,null,null,null,null,null,null,null,"",{"$f":"CONCATENATE(#REF!,\"-\",\"TX\")","v":{"$error":"#REF!"}},{"$f":"CONCATENATE(#REF!,\"-\",\"RX\")","v":{"$error":"#REF!"}},null,null,null,null,0,null,null,null,null,null,{"$f":"IF($R319=\"\",\"\",VLOOKUP($R319,'FO-DRE-01'!$A$7:$U$301,18,FALSE))","v":""},{"$f":"IF($R319=\"\",\"\",VLOOKUP($R319,'FO-DRE-01'!$A$7:$U$301,16,FALSE))","v":""},{"$f":"IF($R319=\"\",\"\",VLOOKUP($R319,'FO-DRE-01'!$A$7:$U$301,17,FALSE))","v":""},{"$f":"IF($R319=\"\",\"\",VLOOKUP($R319,'FO-DRE-01'!$A$7:$U$301,3,FALSE))","v":""},{"$f":"IF($R319=\"\",\"\",VLOOKUP($R319,'FO-DRE-01'!$A$7:$U$301,4,FALSE))","v":""},{"$f":"IF($R319=\"\",\"\",VLOOKUP($R319,'FO-DRE-01'!$A$7:$U$301,5,FALSE))","v":""},{"$f":"IF($R319=\"\",\"\",VLOOKUP($R319,'FO-DRE-01'!$A$7:$U$301,7,FALSE))","v":""},{"$f":"IF($R319=\"\",\"\",VLOOKUP($R319,'FO-DRE-01'!$A$7:$U$301,8,FALSE))","v":""},{"$f":"IF($R319=\"\",\"\",VLOOKUP($R319,'FO-DRE-01'!$A$7:$U$301,9,FALSE))","v":""},{"$f":"IF($R319=\"\",\"\",VLOOKUP($R319,'FO-DRE-01'!$A$7:$U$301,10,FALSE))","v":""},{"$f":"IF($R319=\"\",\"\",VLOOKUP($R319,'FO-DRE-01'!$A$7:$U$301,11,FALSE))","v":""},{"$f":"IF($R319=\"\",\"\",VLOOKUP($R319,'FO-DRE-01'!$A$7:$U$301,12,FALSE))","v":""},{"$f":"IF($R319=\"\",\"\",VLOOKUP($R319,'FO-DRE-01'!$A$7:$U$301,13,FALSE))","v":""},{"$f":"IF($R319=\"\",\"\",VLOOKUP($R319,'FO-DRE-01'!$A$7:$U$301,14,FALSE))","v":""},{"$f":"IF($R319=\"\",\"\",VLOOKUP($R319,'FO-DRE-01'!$A$7:$U$301,15,FALSE))","v":""},{"$f":"IF($S319=\"\",\"\",VLOOKUP($S319,'FO-DRE-04'!$A$6:$L$301,2,FALSE))","v":""},{"$f":"IF($S319=\"\",\"\",VLOOKUP($S319,'FO-DRE-04'!$A$6:$L$301,3,FALSE))","v":""},{"$f":"IF($S319=\"\",\"\",VLOOKUP($S319,'FO-DRE-04'!$A$6:$L$301,4,FALSE))","v":""},{"$f":"IF($S319=\"\",\"\",VLOOKUP($S319,'FO-DRE-04'!$A$6:$L$301,6,FALSE))","v":""},{"$f":"IF($S319=\"\",\"\",VLOOKUP($S319,'FO-DRE-04'!$A$6:$L$301,11,FALSE))","v":""},{"$f":"IF($T319=\"\",\"\",VLOOKUP($T319,'FO-DRE-02'!$A$6:$M$101,2,FALSE))","v":""},{"$f":"IF($T319=\"\",\"\",VLOOKUP($T319,'FO-DRE-02'!$A$6:$M$101,3,FALSE))","v":""},{"$f":"IF($T319=\"\",\"\",VLOOKUP($T319,'FO-DRE-02'!$A$6:$M$101,6,FALSE))","v":""},{"$f":"IF($T319=\"\",\"\",VLOOKUP($T319,'FO-DRE-02'!$A$6:$M$101,4,FALSE))","v":""},{"$f":"IF($T319=\"\",\"\",VLOOKUP($T319,'FO-DRE-02'!$A$6:$M$101,5,FALSE))","v":""},{"$f":"IF($T319=\"\",\"\",VLOOKUP($T319,'FO-DRE-02'!$A$6:$M$101,6,FALSE))","v":""},{"$f":"IF($T319=\"\",\"\",VLOOKUP($T319,'FO-DRE-02'!$A$6:$M$101,6,FALSE))","v":""},{"$f":"IF($T319=\"\",\"\",VLOOKUP($T319,'FO-DRE-02'!$A$6:$M$101,8,FALSE))","v":""},{"$f":"IF($T319=\"\",\"\",VLOOKUP($T319,'FO-DRE-02'!$A$6:$M$101,11,FALSE))","v":""},{"$f":"IF($T319=\"\",\"\",VLOOKUP($T319,'FO-DRE-02'!$A$6:$M$101,12,FALSE))","v":""},{"$f":"IF($T319=\"\",\"\",VLOOKUP($T319,'FO-DRE-02'!$A$6:$M$101,13,FALSE))","v":""},null,null,null,310,"","F/D","F/D","","","","","","","","","","","","","","",""]
[null,null,null,null,null,null,null,null,"",{"$f":"CONCATENATE(#REF!,\"-\",\"TX\")","v":{"$error":"#REF!"}},{"$f":"CONCATENATE(#REF!,\"-\",\"RX\")","v":{"$error":"#REF!"}},null,null,null,null,0,null,null,null,null,null,{"$f":"IF($R320=\"\",\"\",VLOOKUP($R320,'FO-DRE-01'!$A$7:$U$301,18,FALSE))","v":""},{"$f":"IF($R320=\"\",\"\",VLOOKUP($R320,'FO-DRE-01'!$A$7:$U$301,16,FALSE))","v":""},{"$f":"IF($R320=\"\",\"\",VLOOKUP($R320,'FO-DRE-01'!$A$7:$U$301,17,FALSE))","v":""},{"$f":"IF($R320=\"\",\"\",VLOOKUP($R320,'FO-DRE-01'!$A$7:$U$301,3,FALSE))","v":""},{"$f":"IF($R320=\"\",\"\",VLOOKUP($R320,'FO-DRE-01'!$A$7:$U$301,4,FALSE))","v":""},{"$f":"IF($R320=\"\",\"\",VLOOKUP($R320,'FO-DRE-01'!$A$7:$U$301,5,FALSE))","v":""},{"$f":"IF($R320=\"\",\"\",VLOOKUP($R320,'FO-DRE-01'!$A$7:$U$301,7,FALSE))","v":""},{"$f":"IF($R320=\"\",\"\",VLOOKUP($R320,'FO-DRE-01'!$A$7:$U$301,8,FALSE))","v":""},{"$f":"IF($R320=\"\",\"\",VLOOKUP($R320,'FO-DRE-01'!$A$7:$U$301,9,FALSE))","v":""},{"$f":"IF($R320=\"\",\"\",VLOOKUP($R320,'FO-DRE-01'!$A$7:$U$301,10,FALSE))","v":""},{"$f":"IF($R320=\"\",\"\",VLOOKUP($R320,'FO-DRE-01'!$A$7:$U$301,11,FALSE))","v":""},{"$f":"IF($R320=\"\",\"\",VLOOKUP($R320,'FO-DRE-01'!$A$7:$U$301,12,FALSE))","v":""},{"$f":"IF($R320=\"\",\"\",VLOOKUP($R320,'FO-DRE-01'!$A$7:$U$301,13,FALSE))","v":""},{"$f":"IF($R320=\"\",\"\",VLOOKUP($R320,'FO-DRE-01'!$A$7:$U$301,14,FALSE))","v":""},{"$f":"IF($R320=\"\",\"\",VLOOKUP($R320,'FO-DRE-01'!$A$7:$U$301,15,FALSE))","v":""},{"$f":"IF($S320=\"\",\"\",VLOOKUP($S320,'FO-DRE-04'!$A$6:$L$301,2,FALSE))","v":""},{"$f":"IF($S320=\"\",\"\",VLOOKUP($S320,'FO-DRE-04'!$A$6:$L$301,3,FALSE))","v":""},{"$f":"IF($S320=\"\",\"\",VLOOKUP($S320,'FO-DRE-04'!$A$6:$L$301,4,FALSE))","v":""},{"$f":"IF($S320=\"\",\"\",VLOOKUP($S320,'FO-DRE-04'!$A$6:$L$301,6,FALSE))","v":""},{"$f":"IF($S320=\"\",\"\",VLOOKUP($S320,'FO-DRE-04'!$A$6:$L$301,11,FALSE))","v":""},{"$f":"IF($T320=\"\",\"\",VLOOKUP($T320,'FO-DRE-02'!$A$6:$M$101,2,FALSE))","v":""},{"$f":"IF($T320=\"\",\"\",VLOOKUP($T320,'FO-DRE-02'!$A$6:$M$101,3,FALSE))","v":""},{"$f":"IF($T320=\"\",\"\",VLOOKUP($T320,'FO-DRE-02'!$A$6:$M$101,6,FALSE))","v":""},{"$f":"IF($T320=\"\",\"\",VLOOKUP($T320,'FO-DRE-02'!$A$6:$M$101,4,FALSE))","v":""},{"$f":"IF($T320=\"\",\"\",VLOOKUP($T320,'FO-DRE-02'!$A$6:$M$101,5,FALSE))","v":""},{"$f":"IF($T320=\"\",\"\",VLOOKUP($T320,'FO-DRE-02'!$A$6:$M$101,6,FALSE))","v":""},{"$f":"IF($T320=\"\",\"\",VLOOKUP($T320,'FO-DRE-02'!$A$6:$M$101,6,FALSE))","v":""},{"$f":"IF($T320=\"\",\"\",VLOOKUP($T320,'FO-DRE-02'!$A$6:$M$101,8,FALSE))","v":""},{"$f":"IF($T320=\"\",\"\",VLOOKUP($T320,'FO-DRE-02'!$A$6:$M$101,11,FALSE))","v":""},{"$f":"IF($T320=\"\",\"\",VLOOKUP($T320,'FO-DRE-02'!$A$6:$M$101,12,FALSE))","v":""},{"$f":"IF($T320=\"\",\"\",VLOOKUP($T320,'FO-DRE-02'!$A$6:$M$101,13,FALSE))","v":""},null,null,null,311,"","F/D","F/D","","","","","","","","","","","","","","",""]
[null,null,null,null,null,null,null,null,"",{"$f":"CONCATENATE(#REF!,\"-\",\"TX\")","v":{"$error":"#REF!"}},{"$f":"CONCATENATE(#REF!,\"-\",\"RX\")","v":{"$error":"#REF!"}},null,null,null,null,0,null,null,null,null,null,{"$f":"IF($R321=\"\",\"\",VLOOKUP($R321,'FO-DRE-01'!$A$7:$U$301,18,FALSE))","v":""},{"$f":"IF($R321=\"\",\"\",VLOOKUP($R321,'FO-DRE-01'!$A$7:$U$301,16,FALSE))","v":""},{"$f":"IF($R321=\"\",\"\",VLOOKUP($R321,'FO-DRE-01'!$A$7:$U$301,17,FALSE))","v":""},{"$f":"IF($R321=\"\",\"\",VLOOKUP($R321,'FO-DRE-01'!$A$7:$U$301,3,FALSE))","v":""},{"$f":"IF($R321=\"\",\"\",VLOOKUP($R321,'FO-DRE-01'!$A$7:$U$301,4,FALSE))","v":""},{"$f":"IF($R321=\"\",\"\",VLOOKUP($R321,'FO-DRE-01'!$A$7:$U$301,5,FALSE))","v":""},{"$f":"IF($R321=\"\",\"\",VLOOKUP($R321,'FO-DRE-01'!$A$7:$U$301,7,FALSE))","v":""},{"$f":"IF($R321=\"\",\"\",VLOOKUP($R321,'FO-DRE-01'!$A$7:$U$301,8,FALSE))","v":""},{"$f":"IF($R321=\"\",\"\",VLOOKUP($R321,'FO-DRE-01'!$A$7:$U$301,9,FALSE))","v":""},{"$f":"IF($R321=\"\",\"\",VLOOKUP($R321,'FO-DRE-01'!$A$7:$U$301,10,FALSE))","v":""},{"$f":"IF($R321=\"\",\"\",VLOOKUP($R321,'FO-DRE-01'!$A$7:$U$301,11,FALSE))","v":""},{"$f":"IF($R321=\"\",\"\",VLOOKUP($R321,'FO-DRE-01'!$A$7:$U$301,12,FALSE))","v":""},{"$f":"IF($R321=\"\",\"\",VLOOKUP($R321,'FO-DRE-01'!$A$7:$U$301,13,FALSE))","v":""},{"$f":"IF($R321=\"\",\"\",VLOOKUP($R321,'FO-DRE-01'!$A$7:$U$301,14,FALSE))","v":""},{"$f":"IF($R321=\"\",\"\",VLOOKUP($R321,'FO-DRE-01'!$A$7:$U$301,15,FALSE))","v":""},{"$f":"IF($S321=\"\",\"\",VLOOKUP($S321,'FO-DRE-04'!$A$6:$L$301,2,FALSE))","v":""},{"$f":"IF($S321=\"\",\"\",VLOOKUP($S321,'FO-DRE-04'!$A$6:$L$301,3,FALSE))","v":""},{"$f":"IF($S321=\"\",\"\",VLOOKUP($S321,'FO-DRE-04'!$A$6:$L$301,4,FALSE))","v":""},{"$f":"IF($S321=\"\",\"\",VLOOKUP($S321,'FO-DRE-04'!$A$6:$L$301,6,FALSE))","v":""},{"$f":"IF($S321=\"\",\"\",VLOOKUP($S321,'FO-DRE-04'!$A$6:$L$301,11,FALSE))","v":""},{"$f":"IF($T321=\"\",\"\",VLOOKUP($T321,'FO-DRE-02'!$A$6:$M$101,2,FALSE))","v":""},{"$f":"IF($T321=\"\",\"\",VLOOKUP($T321,'FO-DRE-02'!$A$6:$M$101,3,FALSE))","v":""},{"$f":"IF($T321=\"\",\"\",VLOOKUP($T321,'FO-DRE-02'!$A$6:$M$101,6,FALSE))","v":""},{"$f":"IF($T321=\"\",\"\",VLOOKUP($T321,'FO-DRE-02'!$A$6:$M$101,4,FALSE))","v":""},{"$f":"IF($T321=\"\",\"\",VLOOKUP($T321,'FO-DRE-02'!$A$6:$M$101,5,FALSE))","v":""},{"$f":"IF($T321=\"\",\"\",VLOOKUP($T321,'FO-DRE-02'!$A$6:$M$101,6,FALSE))","v":""},{"$f":"IF($T321=\"\",\"\",VLOOKUP($T321,'FO-DRE-02'!$A$6:$M$101,6,FALSE))","v":""},{"$f":"IF($T321=\"\",\"\",VLOOKUP($T321,'FO-DRE-02'!$A$6:$M$101,8,FALSE))","v":""},{"$f":"IF($T321=\"\",\"\",VLOOKUP($T321,'FO-DRE-02'!$A$6:$M$101,11,FALSE))","v":""},{"$f":"IF($T321=\"\",\"\",VLOOKUP($T321,'FO-DRE-02'!$A$6:$M$101,12,FALSE))","v":""},{"$f":"IF($T321=\"\",\"\",VLOOKUP($T321,'FO-DRE-02'!$A$6:$M$101,13,FALSE))","v":""},null,null,null,312,"","F/D","F/D","","","","","","","","","","","","","","",""]
[null,null,null,null,null,null,null,null,"",{"$f":"CONCATENATE(#REF!,\"-\",\"TX\")","v":{"$error":"#REF!"}},{"$f":"CONCATENATE(#REF!,\"-\",\"RX\")","v":{"$error":"#REF!"}},null,null,null,null,0,null,null,null,null,null,{"$f":"IF($R322=\"\",\"\",VLOOKUP($R322,'FO-DRE-01'!$A$7:$U$301,18,FALSE))","v":""},{"$f":"IF($R322=\"\",\"\",VLOOKUP($R322,'FO-DRE-01'!$A$7:$U$301,16,FALSE))","v":""},{"$f":"IF($R322=\"\",\"\",VLOOKUP($R322,'FO-DRE-01'!$A$7:$U$301,17,FALSE))","v":""},{"$f":"IF($R322=\"\",\"\",VLOOKUP($R322,'FO-DRE-01'!$A$7:$U$301,3,FALSE))","v":""},{"$f":"IF($R322=\"\",\"\",VLOOKUP($R322,'FO-DRE-01'!$A$7:$U$301,4,FALSE))","v":""},{"$f":"IF($R322=\"\",\"\",VLOOKUP($R322,'FO-DRE-01'!$A$7:$U$301,5,FALSE))","v":""},{"$f":"IF($R322=\"\",\"\",VLOOKUP($R322,'FO-DRE-01'!$A$7:$U$301,7,FALSE))","v":""},{"$f":"IF($R322=\"\",\"\",VLOOKUP($R322,'FO-DRE-01'!$A$7:$U$301,8,FALSE))","v":""},{"$f":"IF($R322=\"\",\"\",VLOOKUP($R322,'FO-DRE-01'!$A$7:$U$301,9,FALSE))","v":""},{"$f":"IF($R322=\"\",\"\",VLOOKUP($R322,'FO-DRE-01'!$A$7:$U$301,10,FALSE))","v":""},{"$f":"IF($R322=\"\",\"\",VLOOKUP($R322,'FO-DRE-01'!$A$7:$U$301,11,FALSE))","v":""},{"$f":"IF($R322=\"\",\"\",VLOOKUP($R322,'FO-DRE-01'!$A$7:$U$301,12,FALSE))","v":""},{"$f":"IF($R322=\"\",\"\",VLOOKUP($R322,'FO-DRE-01'!$A$7:$U$301,13,FALSE))","v":""},{"$f":"IF($R322=\"\",\"\",VLOOKUP($R322,'FO-DRE-01'!$A$7:$U$301,14,FALSE))","v":""},{"$f":"IF($R322=\"\",\"\",VLOOKUP($R322,'FO-DRE-01'!$A$7:$U$301,15,FALSE))","v":""},{"$f":"IF($S322=\"\",\"\",VLOOKUP($S322,'FO-DRE-04'!$A$6:$L$301,2,FALSE))","v":""},{"$f":"IF($S322=\"\",\"\",VLOOKUP($S322,'FO-DRE-04'!$A$6:$L$301,3,FALSE))","v":""},{"$f":"IF($S322=\"\",\"\",VLOOKUP($S322,'FO-DRE-04'!$A$6:$L$301,4,FALSE))","v":""},{"$f":"IF($S322=\"\",\"\",VLOOKUP($S322,'FO-DRE-04'!$A$6:$L$301,6,FALSE))","v":""},{"$f":"IF($S322=\"\",\"\",VLOOKUP($S322,'FO-DRE-04'!$A$6:$L$301,11,FALSE))","v":""},{"$f":"IF($T322=\"\",\"\",VLOOKUP($T322,'FO-DRE-02'!$A$6:$M$101,2,FALSE))","v":""},{"$f":"IF($T322=\"\",\"\",VLOOKUP($T322,'FO-DRE-02'!$A$6:$M$101,3,FALSE))","v":""},{"$f":"IF($T322=\"\",\"\",VLOOKUP($T322,'FO-DRE-02'!$A$6:$M$101,6,FALSE))","v":""},{"$f":"IF($T322=\"\",\"\",VLOOKUP($T322,'FO-DRE-02'!$A$6:$M$101,4,FALSE))","v":""},{"$f":"IF($T322=\"\",\"\",VLOOKUP($T322,'FO-DRE-02'!$A$6:$M$101,5,FALSE))","v":""},{"$f":"IF($T322=\"\",\"\",VLOOKUP($T322,'FO-DRE-02'!$A$6:$M$101,6,FALSE))","v":""},{"$f":"IF($T322=\"\",\"\",VLOOKUP($T322,'FO-DRE-02'!$A$6:$M$101,6,FALSE))","v":""},{"$f":"IF($T322=\"\",\"\",VLOOKUP($T322,'FO-DRE-02'!$A$6:$M$101,8,FALSE))","v":""},{"$f":"IF($T322=\"\",\"\",VLOOKUP($T322,'FO-DRE-02'!$A$6:$M$101,11,FALSE))","v":""},{"$f":"IF($T322=\"\",\"\",VLOOKUP($T322,'FO-DRE-02'!$A$6:$M$101,12,FALSE))","v":""},{"$f":"IF($T322=\"\",\"\",VLOOKUP($T322,'FO-DRE-02'!$A$6:$M$101,13,FALSE))","v":""},null,null,null,313,"","F/D","F/D","","","","","","","","","","","","","","",""]
[null,null,null,null,null,null,null,null,"",{"$f":"CONCATENATE(#REF!,\"-\",\"TX\")","v":{"$error":"#REF!"}},{"$f":"CONCATENATE(#REF!,\"-\",\"RX\")","v":{"$error":"#REF!"}},null,null,null,null,0,null,null,null,null,null,{"$f":"IF($R323=\"\",\"\",VLOOKUP($R323,'FO-DRE-01'!$A$7:$U$301,18,FALSE))","v":""},{"$f":"IF($R323=\"\",\"\",VLOOKUP($R323,'FO-DRE-01'!$A$7:$U$301,16,FALSE))","v":""},{"$f":"IF($R323=\"\",\"\",VLOOKUP($R323,'FO-DRE-01'!$A$7:$U$301,17,FALSE))","v":""},{"$f":"IF($R323=\"\",\"\",VLOOKUP($R323,'FO-DRE-01'!$A$7:$U$301,3,FALSE))","v":""},{"$f":"IF($R323=\"\",\"\",VLOOKUP($R323,'FO-DRE-01'!$A$7:$U$301,4,FALSE))","v":""},{"$f":"IF($R323=\"\",\"\",VLOOKUP($R323,'FO-DRE-01'!$A$7:$U$301,5,FALSE))","v":""},{"$f":"IF($R323=\"\",\"\",VLOOKUP($R323,'FO-DRE-01'!$A$7:$U$301,7,FALSE))","v":""},{"$f":"IF($R323=\"\",\"\",VLOOKUP($R323,'FO-DRE-01'!$A$7:$U$301,8,FALSE))","v":""},{"$f":"IF($R323=\"\",\"\",VLOOKUP($R323,'FO-DRE-01'!$A$7:$U$301,9,FALSE))","v":""},{"$f":"IF($R323=\"\",\"\",VLOOKUP($R323,'FO-DRE-01'!$A$7:$U$301,10,FALSE))","v":""},{"$f":"IF($R323=\"\",\"\",VLOOKUP($R323,'FO-DRE-01'!$A$7:$U$301,11,FALSE))","v":""},{"$f":"IF($R323=\"\",\"\",VLOOKUP($R323,'FO-DRE-01'!$A$7:$U$301,12,FALSE))","v":""},{"$f":"IF($R323=\"\",\"\",VLOOKUP($R323,'FO-DRE-01'!$A$7:$U$301,13,FALSE))","v":""},{"$f":"IF($R323=\"\",\"\",VLOOKUP($R323,'FO-DRE-01'!$A$7:$U$301,14,FALSE))","v":""},{"$f":"IF($R323=\"\",\"\",VLOOKUP($R323,'FO-DRE-01'!$A$7:$U$301,15,FALSE))","v":""},{"$f":"IF($S323=\"\",\"\",VLOOKUP($S323,'FO-DRE-04'!$A$6:$L$301,2,FALSE))","v":""},{"$f":"IF($S323=\"\",\"\",VLOOKUP($S323,'FO-DRE-04'!$A$6:$L$301,3,FALSE))","v":""},{"$f":"IF($S323=\"\",\"\",VLOOKUP($S323,'FO-DRE-04'!$A$6:$L$301,4,FALSE))","v":""},{"$f":"IF($S323=\"\",\"\",VLOOKUP($S323,'FO-DRE-04'!$A$6:$L$301,6,FALSE))","v":""},{"$f":"IF($S323=\"\",\"\",VLOOKUP($S323,'FO-DRE-04'!$A$6:$L$301,11,FALSE))","v":""},{"$f":"IF($T323=\"\",\"\",VLOOKUP($T323,'FO-DRE-02'!$A$6:$M$101,2,FALSE))","v":""},{"$f":"IF($T323=\"\",\"\",VLOOKUP($T323,'FO-DRE-02'!$A$6:$M$101,3,FALSE))","v":""},{"$f":"IF($T323=\"\",\"\",VLOOKUP($T323,'FO-DRE-02'!$A$6:$M$101,6,FALSE))","v":""},{"$f":"IF($T323=\"\",\"\",VLOOKUP($T323,'FO-DRE-02'!$A$6:$M$101,4,FALSE))","v":""},{"$f":"IF($T323=\"\",\"\",VLOOKUP($T323,'FO-DRE-02'!$A$6:$M$101,5,FALSE))","v":""},{"$f":"IF($T323=\"\",\"\",VLOOKUP($T323,'FO-DRE-02'!$A$6:$M$101,6,FALSE))","v":""},{"$f":"IF($T323=\"\",\"\",VLOOKUP($T323,'FO-DRE-02'!$A$6:$M$101,6,FALSE))","v":""},{"$f":"IF($T323=\"\",\"\",VLOOKUP($T323,'FO-DRE-02'!$A$6:$M$101,8,FALSE))","v":""},{"$f":"IF($T323=\"\",\"\",VLOOKUP($T323,'FO-DRE-02'!$A$6:$M$101,11,FALSE))","v":""},{"$f":"IF($T323=\"\",\"\",VLOOKUP($T323,'FO-DRE-02'!$A$6:$M$101,12,FALSE))","v":""},{"$f":"IF($T323=\"\",\"\",VLOOKUP($T323,'FO-DRE-02'!$A$6:$M$101,13,FALSE))","v":""},null,null,null,314,"","F/D","F/D","","","","","","","","","","","","","","",""]
[null,null,null,null,null,null,null,null,"",{"$f":"CONCATENATE(#REF!,\"-\",\"TX\")","v":{"$error":"#REF!"}},{"$f":"CONCATENATE(#REF!,\"-\",\"RX\")","v":{"$error":"#REF!"}},null,null,null,null,0,null,null,null,null,null,{"$f":"IF($R324=\"\",\"\",VLOOKUP($R324,'FO-DRE-01'!$A$7:$U$301,18,FALSE))","v":""},{"$f":"IF($R324=\"\",\"\",VLOOKUP($R324,'FO-DRE-01'!$A$7:$U$301,16,FALSE))","v":""},{"$f":"IF($R324=\"\",\"\",VLOOKUP($R324,'FO-DRE-01'!$A$7:$U$301,17,FALSE))","v":""},{"$f":"IF($R324=\"\",\"\",VLOOKUP($R324,'FO-DRE-01'!$A$7:$U$301,3,FALSE))","v":""},{"$f":"IF($R324=\"\",\"\",VLOOKUP($R324,'FO-DRE-01'!$A$7:$U$301,4,FALSE))","v":""},{"$f":"IF($R324=\"\",\"\",VLOOKUP($R324,'FO-DRE-01'!$A$7:$U$301,5,FALSE))","v":""},{"$f":"IF($R324=\"\",\"\",VLOOKUP($R324,'FO-DRE-01'!$A$7:$U$301,7,FALSE))","v":""},{"$f":"IF($R324=\"\",\"\",VLOOKUP($R324,'FO-DRE-01'!$A$7:$U$301,8,FALSE))","v":""},{"$f":"IF($R324=\"\",\"\",VLOOKUP($R324,'FO-DRE-01'!$A$7:$U$301,9,FALSE))","v":""},{"$f":"IF($R324=\"\",\"\",VLOOKUP($R324,'FO-DRE-01'!$A$7:$U$301,10,FALSE))","v":""},{"$f":"IF($R324=\"\",\"\",VLOOKUP($R324,'FO-DRE-01'!$A$7:$U$301,11,FALSE))","v":""},{"$f":"IF($R324=\"\",\"\",VLOOKUP($R324,'FO-DRE-01'!$A$7:$U$301,12,FALSE))","v":""},{"$f":"IF($R324=\"\",\"\",VLOOKUP($R324,'FO-DRE-01'!$A$7:$U$301,13,FALSE))","v":""},{"$f":"IF($R324=\"\",\"\",VLOOKUP($R324,'FO-DRE-01'!$A$7:$U$301,14,FALSE))","v":""},{"$f":"IF($R324=\"\",\"\",VLOOKUP($R324,'FO-DRE-01'!$A$7:$U$301,15,FALSE))","v":""},{"$f":"IF($S324=\"\",\"\",VLOOKUP($S324,'FO-DRE-04'!$A$6:$L$301,2,FALSE))","v":""},{"$f":"IF($S324=\"\",\"\",VLOOKUP($S324,'FO-DRE-04'!$A$6:$L$301,3,FALSE))","v":""},{"$f":"IF($S324=\"\",\"\",VLOOKUP($S324,'FO-DRE-04'!$A$6:$L$301,4,FALSE))","v":""},{"$f":"IF($S324=\"\",\"\",VLOOKUP($S324,'FO-DRE-04'!$A$6:$L$301,6,FALSE))","v":""},{"$f":"IF($S324=\"\",\"\",VLOOKUP($S324,'FO-DRE-04'!$A$6:$L$301,11,FALSE))","v":""},{"$f":"IF($T324=\"\",\"\",VLOOKUP($T324,'FO-DRE-02'!$A$6:$M$101,2,FALSE))","v":""},{"$f":"IF($T324=\"\",\"\",VLOOKUP($T324,'FO-DRE-02'!$A$6:$M$101,3,FALSE))","v":""},{"$f":"IF($T324=\"\",\"\",VLOOKUP($T324,'FO-DRE-02'!$A$6:$M$101,6,FALSE))","v":""},{"$f":"IF($T324=\"\",\"\",VLOOKUP($T324,'FO-DRE-02'!$A$6:$M$101,4,FALSE))","v":""},{"$f":"IF($T324=\"\",\"\",VLOOKUP($T324,'FO-DRE-02'!$A$6:$M$101,5,FALSE))","v":""},{"$f":"IF($T324=\"\",\"\",VLOOKUP($T324,'FO-DRE-02'!$A$6:$M$101,6,FALSE))","v":""},{"$f":"IF($T324=\"\",\"\",VLOOKUP($T324,'FO-DRE-02'!$A$6:$M$101,6,FALSE))","v":""},{"$f":"IF($T324=\"\",\"\",VLOOKUP($T324,'FO-DRE-02'!$A$6:$M$101,8,FALSE))","v":""},{"$f":"IF($T324=\"\",\"\",VLOOKUP($T324,'FO-DRE-02'!$A$6:$M$101,11,FALSE))","v":""},{"$f":"IF($T324=\"\",\"\",VLOOKUP($T324,'FO-DRE-02'!$A$6:$M$101,12,FALSE))","v":""},{"$f":"IF($T324=\"\",\"\",VLOOKUP($T324,'FO-DRE-02'!$A$6:$M$101,13,FALSE))","v":""},null,null,null,315,"","F/D","F/D","","","","","","","","","","","","","","",""]
[null,null,null,null,null,null,null,null,"",{"$f":"CONCATENATE(#REF!,\"-\",\"TX\")","v":{"$error":"#REF!"}},{"$f":"CONCATENATE(#REF!,\"-\",\"RX\")","v":{"$error":"#REF!"}},null,null,null,null,0,null,null,null,null,null,{"$f":"IF($R325=\"\",\"\",VLOOKUP($R325,'FO-DRE-01'!$A$7:$U$301,18,FALSE))","v":""},{"$f":"IF($R325=\"\",\"\",VLOOKUP($R325,'FO-DRE-01'!$A$7:$U$301,16,FALSE))","v":""},{"$f":"IF($R325=\"\",\"\",VLOOKUP($R325,'FO-DRE-01'!$A$7:$U$301,17,FALSE))","v":""},{"$f":"IF($R325=\"\",\"\",VLOOKUP($R325,'FO-DRE-01'!$A$7:$U$301,3,FALSE))","v":""},{"$f":"IF($R325=\"\",\"\",VLOOKUP($R325,'FO-DRE-01'!$A$7:$U$301,4,FALSE))","v":""},{"$f":"IF($R325=\"\",\"\",VLOOKUP($R325,'FO-DRE-01'!$A$7:$U$301,5,FALSE))","v":""},{"$f":"IF($R325=\"\",\"\",VLOOKUP($R325,'FO-DRE-01'!$A$7:$U$301,7,FALSE))","v":""},{"$f":"IF($R325=\"\",\"\",VLOOKUP($R325,'FO-DRE-01'!$A$7:$U$301,8,FALSE))","v":""},{"$f":"IF($R325=\"\",\"\",VLOOKUP($R325,'FO-DRE-01'!$A$7:$U$301,9,FALSE))","v":""},{"$f":"IF($R325=\"\",\"\",VLOOKUP($R325,'FO-DRE-01'!$A$7:$U$301,10,FALSE))","v":""},{"$f":"IF($R325=\"\",\"\",VLOOKUP($R325,'FO-DRE-01'!$A$7:$U$301,11,FALSE))","v":""},{"$f":"IF($R325=\"\",\"\",VLOOKUP($R325,'FO-DRE-01'!$A$7:$U$301,12,FALSE))","v":""},{"$f":"IF($R325=\"\",\"\",VLOOKUP($R325,'FO-DRE-01'!$A$7:$U$301,13,FALSE))","v":""},{"$f":"IF($R325=\"\",\"\",VLOOKUP($R325,'FO-DRE-01'!$A$7:$U$301,14,FALSE))","v":""},{"$f":"IF($R325=\"\",\"\",VLOOKUP($R325,'FO-DRE-01'!$A$7:$U$301,15,FALSE))","v":""},{"$f":"IF($S325=\"\",\"\",VLOOKUP($S325,'FO-DRE-04'!$A$6:$L$301,2,FALSE))","v":""},{"$f":"IF($S325=\"\",\"\",VLOOKUP($S325,'FO-DRE-04'!$A$6:$L$301,3,FALSE))","v":""},{"$f":"IF($S325=\"\",\"\",VLOOKUP($S325,'FO-DRE-04'!$A$6:$L$301,4,FALSE))","v":""},{"$f":"IF($S325=\"\",\"\",VLOOKUP($S325,'FO-DRE-04'!$A$6:$L$301,6,FALSE))","v":""},{"$f":"IF($S325=\"\",\"\",VLOOKUP($S325,'FO-DRE-04'!$A$6:$L$301,11,FALSE))","v":""},{"$f":"IF($T325=\"\",\"\",VLOOKUP($T325,'FO-DRE-02'!$A$6:$M$101,2,FALSE))","v":""},{"$f":"IF($T325=\"\",\"\",VLOOKUP($T325,'FO-DRE-02'!$A$6:$M$101,3,FALSE))","v":""},{"$f":"IF($T325=\"\",\"\",VLOOKUP($T325,'FO-DRE-02'!$A$6:$M$101,6,FALSE))","v":""},{"$f":"IF($T325=\"\",\"\",VLOOKUP($T325,'FO-DRE-02'!$A$6:$M$101,4,FALSE))","v":""},{"$f":"IF($T325=\"\",\"\",VLOOKUP($T325,'FO-DRE-02'!$A$6:$M$101,5,FALSE))","v":""},{"$f":"IF($T325=\"\",\"\",VLOOKUP($T325,'FO-DRE-02'!$A$6:$M$101,6,FALSE))","v":""},{"$f":"IF($T325=\"\",\"\",VLOOKUP($T325,'FO-DRE-02'!$A$6:$M$101,6,FALSE))","v":""},{"$f":"IF($T325=\"\",\"\",VLOOKUP($T325,'FO-DRE-02'!$A$6:$M$101,8,FALSE))","v":""},{"$f":"IF($T325=\"\",\"\",VLOOKUP($T325,'FO-DRE-02'!$A$6:$M$101,11,FALSE))","v":""},{"$f":"IF($T325=\"\",\"\",VLOOKUP($T325,'FO-DRE-02'!$A$6:$M$101,12,FALSE))","v":""},{"$f":"IF($T325=\"\",\"\",VLOOKUP($T325,'FO-DRE-02'!$A$6:$M$101,13,FALSE))","v":""},null,null,null,316,"","F/D","F/D","","","","","","","","","","","","","","",""]
[null,null,null,null,null,null,null,null,"",{"$f":"CONCATENATE(#REF!,\"-\",\"TX\")","v":{"$error":"#REF!"}},{"$f":"CONCATENATE(#REF!,\"-\",\"RX\")","v":{"$error":"#REF!"}},null,null,null,null,0,null,null,null,null,null,{"$f":"IF($R326=\"\",\"\",VLOOKUP($R326,'FO-DRE-01'!$A$7:$U$301,18,FALSE))","v":""},{"$f":"IF($R326=\"\",\"\",VLOOKUP($R326,'FO-DRE-01'!$A$7:$U$301,16,FALSE))","v":""},{"$f":"IF($R326=\"\",\"\",VLOOKUP($R326,'FO-DRE-01'!$A$7:$U$301,17,FALSE))","v":""},{"$f":"IF($R326=\"\",\"\",VLOOKUP($R326,'FO-DRE-01'!$A$7:$U$301,3,FALSE))","v":""},{"$f":"IF($R326=\"\",\"\",VLOOKUP($R326,'FO-DRE-01'!$A$7:$U$301,4,FALSE))","v":""},{"$f":"IF($R326=\"\",\"\",VLOOKUP($R326,'FO-DRE-01'!$A$7:$U$301,5,FALSE))","v":""},{"$f":"IF($R326=\"\",\"\",VLOOKUP($R326,'FO-DRE-01'!$A$7:$U$301,7,FALSE))","v":""},{"$f":"IF($R326=\"\",\"\",VLOOKUP($R326,'FO-DRE-01'!$A$7:$U$301,8,FALSE))","v":""},{"$f":"IF($R326=\"\",\"\",VLOOKUP($R326,'FO-DRE-01'!$A$7:$U$301,9,FALSE))","v":""},{"$f":"IF($R326=\"\",\"\",VLOOKUP($R326,'FO-DRE-01'!$A$7:$U$301,10,FALSE))","v":""},{"$f":"IF($R326=\"\",\"\",VLOOKUP($R326,'FO-DRE-01'!$A$7:$U$301,11,FALSE))","v":""},{"$f":"IF($R326=\"\",\"\",VLOOKUP($R326,'FO-DRE-01'!$A$7:$U$301,12,FALSE))","v":""},{"$f":"IF($R326=\"\",\"\",VLOOKUP($R326,'FO-DRE-01'!$A$7:$U$301,13,FALSE))","v":""},{"$f":"IF($R326=\"\",\"\",VLOOKUP($R326,'FO-DRE-01'!$A$7:$U$301,14,FALSE))","v":""},{"$f":"IF($R326=\"\",\"\",VLOOKUP($R326,'FO-DRE-01'!$A$7:$U$301,15,FALSE))","v":""},{"$f":"IF($S326=\"\",\"\",VLOOKUP($S326,'FO-DRE-04'!$A$6:$L$301,2,FALSE))","v":""},{"$f":"IF($S326=\"\",\"\",VLOOKUP($S326,'FO-DRE-04'!$A$6:$L$301,3,FALSE))","v":""},{"$f":"IF($S326=\"\",\"\",VLOOKUP($S326,'FO-DRE-04'!$A$6:$L$301,4,FALSE))","v":""},{"$f":"IF($S326=\"\",\"\",VLOOKUP($S326,'FO-DRE-04'!$A$6:$L$301,6,FALSE))","v":""},{"$f":"IF($S326=\"\",\"\",VLOOKUP($S326,'FO-DRE-04'!$A$6:$L$301,11,FALSE))","v":""},{"$f":"IF($T326=\"\",\"\",VLOOKUP($T326,'FO-DRE-02'!$A$6:$M$101,2,FALSE))","v":""},{"$f":"IF($T326=\"\",\"\",VLOOKUP($T326,'FO-DRE-02'!$A$6:$M$101,3,FALSE))","v":""},{"$f":"IF($T326=\"\",\"\",VLOOKUP($T326,'FO-DRE-02'!$A$6:$M$101,6,FALSE))","v":""},{"$f":"IF($T326=\"\",\"\",VLOOKUP($T326,'FO-DRE-02'!$A$6:$M$101,4,FALSE))","v":""},{"$f":"IF($T326=\"\",\"\",VLOOKUP($T326,'FO-DRE-02'!$A$6:$M$101,5,FALSE))","v":""},{"$f":"IF($T326=\"\",\"\",VLOOKUP($T326,'FO-DRE-02'!$A$6:$M$101,6,FALSE))","v":""},{"$f":"IF($T326=\"\",\"\",VLOOKUP($T326,'FO-DRE-02'!$A$6:$M$101,6,FALSE))","v":""},{"$f":"IF($T326=\"\",\"\",VLOOKUP($T326,'FO-DRE-02'!$A$6:$M$101,8,FALSE))","v":""},{"$f":"IF($T326=\"\",\"\",VLOOKUP($T326,'FO-DRE-02'!$A$6:$M$101,11,FALSE))","v":""},{"$f":"IF($T326=\"\",\"\",VLOOKUP($T326,'FO-DRE-02'!$A$6:$M$101,12,FALSE))","v":""},{"$f":"IF($T326=\"\",\"\",VLOOKUP($T326,'FO-DRE-02'!$A$6:$M$101,13,FALSE))","v":""},null,null,null,317,"","F/D","F/D","","","","","","","","","","","","","","",""]
[null,null,null,null,null,null,null,null,"",{"$f":"CONCATENATE(#REF!,\"-\",\"TX\")","v":{"$error":"#REF!"}},{"$f":"CONCATENATE(#REF!,\"-\",\"RX\")","v":{"$error":"#REF!"}},null,null,null,null,0,null,null,null,null,null,{"$f":"IF($R327=\"\",\"\",VLOOKUP($R327,'FO-DRE-01'!$A$7:$U$301,18,FALSE))","v":""},{"$f":"IF($R327=\"\",\"\",VLOOKUP($R327,'FO-DRE-01'!$A$7:$U$301,16,FALSE))","v":""},{"$f":"IF($R327=\"\",\"\",VLOOKUP($R327,'FO-DRE-01'!$A$7:$U$301,17,FALSE))","v":""},{"$f":"IF($R327=\"\",\"\",VLOOKUP($R327,'FO-DRE-01'!$A$7:$U$301,3,FALSE))","v":""},{"$f":"IF($R327=\"\",\"\",VLOOKUP($R327,'FO-DRE-01'!$A$7:$U$301,4,FALSE))","v":""},{"$f":"IF($R327=\"\",\"\",VLOOKUP($R327,'FO-DRE-01'!$A$7:$U$301,5,FALSE))","v":""},{"$f":"IF($R327=\"\",\"\",VLOOKUP($R327,'FO-DRE-01'!$A$7:$U$301,7,FALSE))","v":""},{"$f":"IF($R327=\"\",\"\",VLOOKUP($R327,'FO-DRE-01'!$A$7:$U$301,8,FALSE))","v":""},{"$f":"IF($R327=\"\",\"\",VLOOKUP($R327,'FO-DRE-01'!$A$7:$U$301,9,FALSE))","v":""},{"$f":"IF($R327=\"\",\"\",VLOOKUP($R327,'FO-DRE-01'!$A$7:$U$301,10,FALSE))","v":""},{"$f":"IF($R327=\"\",\"\",VLOOKUP($R327,'FO-DRE-01'!$A$7:$U$301,11,FALSE))","v":""},{"$f":"IF($R327=\"\",\"\",VLOOKUP($R327,'FO-DRE-01'!$A$7:$U$301,12,FALSE))","v":""},{"$f":"IF($R327=\"\",\"\",VLOOKUP($R327,'FO-DRE-01'!$A$7:$U$301,13,FALSE))","v":""},{"$f":"IF($R327=\"\",\"\",VLOOKUP($R327,'FO-DRE-01'!$A$7:$U$301,14,FALSE))","v":""},{"$f":"IF($R327=\"\",\"\",VLOOKUP($R327,'FO-DRE-01'!$A$7:$U$301,15,FALSE))","v":""},{"$f":"IF($S327=\"\",\"\",VLOOKUP($S327,'FO-DRE-04'!$A$6:$L$301,2,FALSE))","v":""},{"$f":"IF($S327=\"\",\"\",VLOOKUP($S327,'FO-DRE-04'!$A$6:$L$301,3,FALSE))","v":""},{"$f":"IF($S327=\"\",\"\",VLOOKUP($S327,'FO-DRE-04'!$A$6:$L$301,4,FALSE))","v":""},{"$f":"IF($S327=\"\",\"\",VLOOKUP($S327,'FO-DRE-04'!$A$6:$L$301,6,FALSE))","v":""},{"$f":"IF($S327=\"\",\"\",VLOOKUP($S327,'FO-DRE-04'!$A$6:$L$301,11,FALSE))","v":""},{"$f":"IF($T327=\"\",\"\",VLOOKUP($T327,'FO-DRE-02'!$A$6:$M$101,2,FALSE))","v":""},{"$f":"IF($T327=\"\",\"\",VLOOKUP($T327,'FO-DRE-02'!$A$6:$M$101,3,FALSE))","v":""},{"$f":"IF($T327=\"\",\"\",VLOOKUP($T327,'FO-DRE-02'!$A$6:$M$101,6,FALSE))","v":""},{"$f":"IF($T327=\"\",\"\",VLOOKUP($T327,'FO-DRE-02'!$A$6:$M$101,4,FALSE))","v":""},{"$f":"IF($T327=\"\",\"\",VLOOKUP($T327,'FO-DRE-02'!$A$6:$M$101,5,FALSE))","v":""},{"$f":"IF($T327=\"\",\"\",VLOOKUP($T327,'FO-DRE-02'!$A$6:$M$101,6,FALSE))","v":""},{"$f":"IF($T327=\"\",\"\",VLOOKUP($T327,'FO-DRE-02'!$A$6:$M$101,6,FALSE))","v":""},{"$f":"IF($T327=\"\",\"\",VLOOKUP($T327,'FO-DRE-02'!$A$6:$M$101,8,FALSE))","v":""},{"$f":"IF($T327=\"\",\"\",VLOOKUP($T327,'FO-DRE-02'!$A$6:$M$101,11,FALSE))","v":""},{"$f":"IF($T327=\"\",\"\",VLOOKUP($T327,'FO-DRE-02'!$A$6:$M$101,12,FALSE))","v":""},{"$f":"IF($T327=\"\",\"\",VLOOKUP($T327,'FO-DRE-02'!$A$6:$M$101,13,FALSE))","v":""},null,null,null,318,"","F/D","F/D","","","","","","","","","","","","","","",""]
[null,null,null,null,null,null,null,null,"",{"$f":"CONCATENATE(#REF!,\"-\",\"TX\")","v":{"$error":"#REF!"}},{"$f":"CONCATENATE(#REF!,\"-\",\"RX\")","v":{"$error":"#REF!"}},null,null,null,null,0,null,null,null,null,null,{"$f":"IF($R328=\"\",\"\",VLOOKUP($R328,'FO-DRE-01'!$A$7:$U$301,18,FALSE))","v":""},{"$f":"IF($R328=\"\",\"\",VLOOKUP($R328,'FO-DRE-01'!$A$7:$U$301,16,FALSE))","v":""},{"$f":"IF($R328=\"\",\"\",VLOOKUP($R328,'FO-DRE-01'!$A$7:$U$301,17,FALSE))","v":""},{"$f":"IF($R328=\"\",\"\",VLOOKUP($R328,'FO-DRE-01'!$A$7:$U$301,3,FALSE))","v":""},{"$f":"IF($R328=\"\",\"\",VLOOKUP($R328,'FO-DRE-01'!$A$7:$U$301,4,FALSE))","v":""},{"$f":"IF($R328=\"\",\"\",VLOOKUP($R328,'FO-DRE-01'!$A$7:$U$301,5,FALSE))","v":""},{"$f":"IF($R328=\"\",\"\",VLOOKUP($R328,'FO-DRE-01'!$A$7:$U$301,7,FALSE))","v":""},{"$f":"IF($R328=\"\",\"\",VLOOKUP($R328,'FO-DRE-01'!$A$7:$U$301,8,FALSE))","v":""},{"$f":"IF($R328=\"\",\"\",VLOOKUP($R328,'FO-DRE-01'!$A$7:$U$301,9,FALSE))","v":""},{"$f":"IF($R328=\"\",\"\",VLOOKUP($R328,'FO-DRE-01'!$A$7:$U$301,10,FALSE))","v":""},{"$f":"IF($R328=\"\",\"\",VLOOKUP($R328,'FO-DRE-01'!$A$7:$U$301,11,FALSE))","v":""},{"$f":"IF($R328=\"\",\"\",VLOOKUP($R328,'FO-DRE-01'!$A$7:$U$301,12,FALSE))","v":""},{"$f":"IF($R328=\"\",\"\",VLOOKUP($R328,'FO-DRE-01'!$A$7:$U$301,13,FALSE))","v":""},{"$f":"IF($R328=\"\",\"\",VLOOKUP($R328,'FO-DRE-01'!$A$7:$U$301,14,FALSE))","v":""},{"$f":"IF($R328=\"\",\"\",VLOOKUP($R328,'FO-DRE-01'!$A$7:$U$301,15,FALSE))","v":""},{"$f":"IF($S328=\"\",\"\",VLOOKUP($S328,'FO-DRE-04'!$A$6:$L$301,2,FALSE))","v":""},{"$f":"IF($S328=\"\",\"\",VLOOKUP($S328,'FO-DRE-04'!$A$6:$L$301,3,FALSE))","v":""},{"$f":"IF($S328=\"\",\"\",VLOOKUP($S328,'FO-DRE-04'!$A$6:$L$301,4,FALSE))","v":""},{"$f":"IF($S328=\"\",\"\",VLOOKUP($S328,'FO-DRE-04'!$A$6:$L$301,6,FALSE))","v":""},{"$f":"IF($S328=\"\",\"\",VLOOKUP($S328,'FO-DRE-04'!$A$6:$L$301,11,FALSE))","v":""},{"$f":"IF($T328=\"\",\"\",VLOOKUP($T328,'FO-DRE-02'!$A$6:$M$101,2,FALSE))","v":""},{"$f":"IF($T328=\"\",\"\",VLOOKUP($T328,'FO-DRE-02'!$A$6:$M$101,3,FALSE))","v":""},{"$f":"IF($T328=\"\",\"\",VLOOKUP($T328,'FO-DRE-02'!$A$6:$M$101,6,FALSE))","v":""},{"$f":"IF($T328=\"\",\"\",VLOOKUP($T328,'FO-DRE-02'!$A$6:$M$101,4,FALSE))","v":""},{"$f":"IF($T328=\"\",\"\",VLOOKUP($T328,'FO-DRE-02'!$A$6:$M$101,5,FALSE))","v":""},{"$f":"IF($T328=\"\",\"\",VLOOKUP($T328,'FO-DRE-02'!$A$6:$M$101,6,FALSE))","v":""},{"$f":"IF($T328=\"\",\"\",VLOOKUP($T328,'FO-DRE-02'!$A$6:$M$101,6,FALSE))","v":""},{"$f":"IF($T328=\"\",\"\",VLOOKUP($T328,'FO-DRE-02'!$A$6:$M$101,8,FALSE))","v":""},{"$f":"IF($T328=\"\",\"\",VLOOKUP($T328,'FO-DRE-02'!$A$6:$M$101,11,FALSE))","v":""},{"$f":"IF($T328=\"\",\"\",VLOOKUP($T328,'FO-DRE-02'!$A$6:$M$101,12,FALSE))","v":""},{"$f":"IF($T328=\"\",\"\",VLOOKUP($T328,'FO-DRE-02'!$A$6:$M$101,13,FALSE))","v":""},null,null,null,319,"","F/D","F/D","","","","","","","","","","","","","","",""]
[null,null,null,null,null,null,null,null,"",{"$f":"CONCATENATE(#REF!,\"-\",\"TX\")","v":{"$error":"#REF!"}},{"$f":"CONCATENATE(#REF!,\"-\",\"RX\")","v":{"$error":"#REF!"}},null,null,null,null,0,null,null,null,null,null,{"$f":"IF($R329=\"\",\"\",VLOOKUP($R329,'FO-DRE-01'!$A$7:$U$301,18,FALSE))","v":""},{"$f":"IF($R329=\"\",\"\",VLOOKUP($R329,'FO-DRE-01'!$A$7:$U$301,16,FALSE))","v":""},{"$f":"IF($R329=\"\",\"\",VLOOKUP($R329,'FO-DRE-01'!$A$7:$U$301,17,FALSE))","v":""},{"$f":"IF($R329=\"\",\"\",VLOOKUP($R329,'FO-DRE-01'!$A$7:$U$301,3,FALSE))","v":""},{"$f":"IF($R329=\"\",\"\",VLOOKUP($R329,'FO-DRE-01'!$A$7:$U$301,4,FALSE))","v":""},{"$f":"IF($R329=\"\",\"\",VLOOKUP($R329,'FO-DRE-01'!$A$7:$U$301,5,FALSE))","v":""},{"$f":"IF($R329=\"\",\"\",VLOOKUP($R329,'FO-DRE-01'!$A$7:$U$301,7,FALSE))","v":""},{"$f":"IF($R329=\"\",\"\",VLOOKUP($R329,'FO-DRE-01'!$A$7:$U$301,8,FALSE))","v":""},{"$f":"IF($R329=\"\",\"\",VLOOKUP($R329,'FO-DRE-01'!$A$7:$U$301,9,FALSE))","v":""},{"$f":"IF($R329=\"\",\"\",VLOOKUP($R329,'FO-DRE-01'!$A$7:$U$301,10,FALSE))","v":""},{"$f":"IF($R329=\"\",\"\",VLOOKUP($R329,'FO-DRE-01'!$A$7:$U$301,11,FALSE))","v":""},{"$f":"IF($R329=\"\",\"\",VLOOKUP($R329,'FO-DRE-01'!$A$7:$U$301,12,FALSE))","v":""},{"$f":"IF($R329=\"\",\"\",VLOOKUP($R329,'FO-DRE-01'!$A$7:$U$301,13,FALSE))","v":""},{"$f":"IF($R329=\"\",\"\",VLOOKUP($R329,'FO-DRE-01'!$A$7:$U$301,14,FALSE))","v":""},{"$f":"IF($R329=\"\",\"\",VLOOKUP($R329,'FO-DRE-01'!$A$7:$U$301,15,FALSE))","v":""},{"$f":"IF($S329=\"\",\"\",VLOOKUP($S329,'FO-DRE-04'!$A$6:$L$301,2,FALSE))","v":""},{"$f":"IF($S329=\"\",\"\",VLOOKUP($S329,'FO-DRE-04'!$A$6:$L$301,3,FALSE))","v":""},{"$f":"IF($S329=\"\",\"\",VLOOKUP($S329,'FO-DRE-04'!$A$6:$L$301,4,FALSE))","v":""},{"$f":"IF($S329=\"\",\"\",VLOOKUP($S329,'FO-DRE-04'!$A$6:$L$301,6,FALSE))","v":""},{"$f":"IF($S329=\"\",\"\",VLOOKUP($S329,'FO-DRE-04'!$A$6:$L$301,11,FALSE))","v":""},{"$f":"IF($T329=\"\",\"\",VLOOKUP($T329,'FO-DRE-02'!$A$6:$M$101,2,FALSE))","v":""},{"$f":"IF($T329=\"\",\"\",VLOOKUP($T329,'FO-DRE-02'!$A$6:$M$101,3,FALSE))","v":""},{"$f":"IF($T329=\"\",\"\",VLOOKUP($T329,'FO-DRE-02'!$A$6:$M$101,6,FALSE))","v":""},{"$f":"IF($T329=\"\",\"\",VLOOKUP($T329,'FO-DRE-02'!$A$6:$M$101,4,FALSE))","v":""},{"$f":"IF($T329=\"\",\"\",VLOOKUP($T329,'FO-DRE-02'!$A$6:$M$101,5,FALSE))","v":""},{"$f":"IF($T329=\"\",\"\",VLOOKUP($T329,'FO-DRE-02'!$A$6:$M$101,6,FALSE))","v":""},{"$f":"IF($T329=\"\",\"\",VLOOKUP($T329,'FO-DRE-02'!$A$6:$M$101,6,FALSE))","v":""},{"$f":"IF($T329=\"\",\"\",VLOOKUP($T329,'FO-DRE-02'!$A$6:$M$101,8,FALSE))","v":""},{"$f":"IF($T329=\"\",\"\",VLOOKUP($T329,'FO-DRE-02'!$A$6:$M$101,11,FALSE))","v":""},{"$f":"IF($T329=\"\",\"\",VLOOKUP($T329,'FO-DRE-02'!$A$6:$M$101,12,FALSE))","v":""},{"$f":"IF($T329=\"\",\"\",VLOOKUP($T329,'FO-DRE-02'!$A$6:$M$101,13,FALSE))","v":""},null,null,null,320,"","F/D","F/D","","","","","","","","","","","","","","",""]
[null,null,null,null,null,null,null,null,"",{"$f":"CONCATENATE(#REF!,\"-\",\"TX\")","v":{"$error":"#REF!"}},{"$f":"CONCATENATE(#REF!,\"-\",\"RX\")","v":{"$error":"#REF!"}},null,null,null,null,0,null,null,null,null,null,{"$f":"IF($R330=\"\",\"\",VLOOKUP($R330,'FO-DRE-01'!$A$7:$U$301,18,FALSE))","v":""},{"$f":"IF($R330=\"\",\"\",VLOOKUP($R330,'FO-DRE-01'!$A$7:$U$301,16,FALSE))","v":""},{"$f":"IF($R330=\"\",\"\",VLOOKUP($R330,'FO-DRE-01'!$A$7:$U$301,17,FALSE))","v":""},{"$f":"IF($R330=\"\",\"\",VLOOKUP($R330,'FO-DRE-01'!$A$7:$U$301,3,FALSE))","v":""},{"$f":"IF($R330=\"\",\"\",VLOOKUP($R330,'FO-DRE-01'!$A$7:$U$301,4,FALSE))","v":""},{"$f":"IF($R330=\"\",\"\",VLOOKUP($R330,'FO-DRE-01'!$A$7:$U$301,5,FALSE))","v":""},{"$f":"IF($R330=\"\",\"\",VLOOKUP($R330,'FO-DRE-01'!$A$7:$U$301,7,FALSE))","v":""},{"$f":"IF($R330=\"\",\"\",VLOOKUP($R330,'FO-DRE-01'!$A$7:$U$301,8,FALSE))","v":""},{"$f":"IF($R330=\"\",\"\",VLOOKUP($R330,'FO-DRE-01'!$A$7:$U$301,9,FALSE))","v":""},{"$f":"IF($R330=\"\",\"\",VLOOKUP($R330,'FO-DRE-01'!$A$7:$U$301,10,FALSE))","v":""},{"$f":"IF($R330=\"\",\"\",VLOOKUP($R330,'FO-DRE-01'!$A$7:$U$301,11,FALSE))","v":""},{"$f":"IF($R330=\"\",\"\",VLOOKUP($R330,'FO-DRE-01'!$A$7:$U$301,12,FALSE))","v":""},{"$f":"IF($R330=\"\",\"\",VLOOKUP($R330,'FO-DRE-01'!$A$7:$U$301,13,FALSE))","v":""},{"$f":"IF($R330=\"\",\"\",VLOOKUP($R330,'FO-DRE-01'!$A$7:$U$301,14,FALSE))","v":""},{"$f":"IF($R330=\"\",\"\",VLOOKUP($R330,'FO-DRE-01'!$A$7:$U$301,15,FALSE))","v":""},{"$f":"IF($S330=\"\",\"\",VLOOKUP($S330,'FO-DRE-04'!$A$6:$L$301,2,FALSE))","v":""},{"$f":"IF($S330=\"\",\"\",VLOOKUP($S330,'FO-DRE-04'!$A$6:$L$301,3,FALSE))","v":""},{"$f":"IF($S330=\"\",\"\",VLOOKUP($S330,'FO-DRE-04'!$A$6:$L$301,4,FALSE))","v":""},{"$f":"IF($S330=\"\",\"\",VLOOKUP($S330,'FO-DRE-04'!$A$6:$L$301,6,FALSE))","v":""},{"$f":"IF($S330=\"\",\"\",VLOOKUP($S330,'FO-DRE-04'!$A$6:$L$301,11,FALSE))","v":""},{"$f":"IF($T330=\"\",\"\",VLOOKUP($T330,'FO-DRE-02'!$A$6:$M$101,2,FALSE))","v":""},{"$f":"IF($T330=\"\",\"\",VLOOKUP($T330,'FO-DRE-02'!$A$6:$M$101,3,FALSE))","v":""},{"$f":"IF($T330=\"\",\"\",VLOOKUP($T330,'FO-DRE-02'!$A$6:$M$101,6,FALSE))","v":""},{"$f":"IF($T330=\"\",\"\",VLOOKUP($T330,'FO-DRE-02'!$A$6:$M$101,4,FALSE))","v":""},{"$f":"IF($T330=\"\",\"\",VLOOKUP($T330,'FO-DRE-02'!$A$6:$M$101,5,FALSE))","v":""},{"$f":"IF($T330=\"\",\"\",VLOOKUP($T330,'FO-DRE-02'!$A$6:$M$101,6,FALSE))","v":""},{"$f":"IF($T330=\"\",\"\",VLOOKUP($T330,'FO-DRE-02'!$A$6:$M$101,6,FALSE))","v":""},{"$f":"IF($T330=\"\",\"\",VLOOKUP($T330,'FO-DRE-02'!$A$6:$M$101,8,FALSE))","v":""},{"$f":"IF($T330=\"\",\"\",VLOOKUP($T330,'FO-DRE-02'!$A$6:$M$101,11,FALSE))","v":""},{"$f":"IF($T330=\"\",\"\",VLOOKUP($T330,'FO-DRE-02'!$A$6:$M$101,12,FALSE))","v":""},{"$f":"IF($T330=\"\",\"\",VLOOKUP($T330,'FO-DRE-02'!$A$6:$M$101,13,FALSE))","v":""},null,null,null,321,"",{"$f":"IF(OR($C330=\"\",$AN330=\"\",$AW330=\"\"),\"F/D\",IF(BR330>BH330,\"SI\",\"\"))","v":"F/D"},{"$f":"IF(OR($C330=\"\",$AN330=\"\",$AW330=\"\"),\"F/D\",IF(BR330>BI330,\"SI\",\"\"))","v":"F/D"},{"$f":"IF(D330=\"\",\"\",IF(AND(10<BB330,BB330<=400),10,IF(AND(400<BB330,BB330<=2000),(BB330/40),IF(AND(2000<BB330,B330<=300000),50,0))))","v":""},{"$f":"IF(D330=\"\",\"\",IF(AND(10<BB330,BB330<=400),2,IF(AND(400<BB330,BB330<=2000),(BB330/200),IF(AND(2000<BB330,BB330<=300000),10,0))))","v":""},{"$f":"IF(M330=\"\",\"\",SQRT(POWER($BJ$9,2)+POWER((AZ330-1.5),2)))","v":""},{"$f":"IF(M330=\"\",\"\",SQRT(POWER($BK$9,2)+POWER((AZ330-1.5),2)))","v":""},{"$f":"IF(M330=\"\",\"\",SQRT(POWER($BL$9,2)+POWER((AZ330-1.5),2)))","v":""},{"$f":"IF(M330=\"\",\"\",SQRT(POWER($BM$9,2)+POWER((AZ330-1.5),2)))","v":""},{"$f":"IF(M330=\"\",\"\",SQRT(POWER($BN$9,2)+POWER((AZ330-1.5),2)))","v":""},"",{"$f":"IF(M330=\"\",\"\",POWER(10,(AW330+2.15)/10))","v":""},"",{"$f":"IF(M330=\"\",\"\",$BQ330/(PI()*BJ330^2))","v":""},{"$f":"IF(M330=\"\",\"\",$BQ330/(PI()*BK330^2))","v":""},{"$f":"IF(M330=\"\",\"\",$BQ330/(PI()*BL330^2))","v":""},{"$f":"IF(M330=\"\",\"\",$BQ330/(PI()*BM330^2))","v":""},{"$f":"IF(M330=\"\",\"\",$BQ330/(PI()*BN330^2))","v":""}]
[null,null,null,null,null,null,null,null,"",{"$f":"CONCATENATE(#REF!,\"-\",\"TX\")","v":{"$error":"#REF!"}},{"$f":"CONCATENATE(#REF!,\"-\",\"RX\")","v":{"$error":"#REF!"}},null,null,null,null,0,null,null,null,null,null,{"$f":"IF($R331=\"\",\"\",VLOOKUP($R331,'FO-DRE-01'!$A$7:$U$301,18,FALSE))","v":""},{"$f":"IF($R331=\"\",\"\",VLOOKUP($R331,'FO-DRE-01'!$A$7:$U$301,16,FALSE))","v":""},{"$f":"IF($R331=\"\",\"\",VLOOKUP($R331,'FO-DRE-01'!$A$7:$U$301,17,FALSE))","v":""},{"$f":"IF($R331=\"\",\"\",VLOOKUP($R331,'FO-DRE-01'!$A$7:$U$301,3,FALSE))","v":""},{"$f":"IF($R331=\"\",\"\",VLOOKUP($R331,'FO-DRE-01'!$A$7:$U$301,4,FALSE))","v":""},{"$f":"IF($R331=\"\",\"\",VLOOKUP($R331,'FO-DRE-01'!$A$7:$U$301,5,FALSE))","v":""},{"$f":"IF($R331=\"\",\"\",VLOOKUP($R331,'FO-DRE-01'!$A$7:$U$301,7,FALSE))","v":""},{"$f":"IF($R331=\"\",\"\",VLOOKUP($R331,'FO-DRE-01'!$A$7:$U$301,8,FALSE))","v":""},{"$f":"IF($R331=\"\",\"\",VLOOKUP($R331,'FO-DRE-01'!$A$7:$U$301,9,FALSE))","v":""},{"$f":"IF($R331=\"\",\"\",VLOOKUP($R331,'FO-DRE-01'!$A$7:$U$301,10,FALSE))","v":""},{"$f":"IF($R331=\"\",\"\",VLOOKUP($R331,'FO-DRE-01'!$A$7:$U$301,11,FALSE))","v":""},{"$f":"IF($R331=\"\",\"\",VLOOKUP($R331,'FO-DRE-01'!$A$7:$U$301,12,FALSE))","v":""},{"$f":"IF($R331=\"\",\"\",VLOOKUP($R331,'FO-DRE-01'!$A$7:$U$301,13,FALSE))","v":""},{"$f":"IF($R331=\"\",\"\",VLOOKUP($R331,'FO-DRE-01'!$A$7:$U$301,14,FALSE))","v":""},{"$f":"IF($R331=\"\",\"\",VLOOKUP($R331,'FO-DRE-01'!$A$7:$U$301,15,FALSE))","v":""},{"$f":"IF($S331=\"\",\"\",VLOOKUP($S331,'FO-DRE-04'!$A$6:$L$301,2,FALSE))","v":""},{"$f":"IF($S331=\"\",\"\",VLOOKUP($S331,'FO-DRE-04'!$A$6:$L$301,3,FALSE))","v":""},{"$f":"IF($S331=\"\",\"\",VLOOKUP($S331,'FO-DRE-04'!$A$6:$L$301,4,FALSE))","v":""},{"$f":"IF($S331=\"\",\"\",VLOOKUP($S331,'FO-DRE-04'!$A$6:$L$301,6,FALSE))","v":""},{"$f":"IF($S331=\"\",\"\",VLOOKUP($S331,'FO-DRE-04'!$A$6:$L$301,11,FALSE))","v":""},{"$f":"IF($T331=\"\",\"\",VLOOKUP($T331,'FO-DRE-02'!$A$6:$M$101,2,FALSE))","v":""},{"$f":"IF($T331=\"\",\"\",VLOOKUP($T331,'FO-DRE-02'!$A$6:$M$101,3,FALSE))","v":""},{"$f":"IF($T331=\"\",\"\",VLOOKUP($T331,'FO-DRE-02'!$A$6:$M$101,6,FALSE))","v":""},{"$f":"IF($T331=\"\",\"\",VLOOKUP($T331,'FO-DRE-02'!$A$6:$M$101,4,FALSE))","v":""},{"$f":"IF($T331=\"\",\"\",VLOOKUP($T331,'FO-DRE-02'!$A$6:$M$101,5,FALSE))","v":""},{"$f":"IF($T331=\"\",\"\",VLOOKUP($T331,'FO-DRE-02'!$A$6:$M$101,6,FALSE))","v":""},{"$f":"IF($T331=\"\",\"\",VLOOKUP($T331,'FO-DRE-02'!$A$6:$M$101,6,FALSE))","v":""},{"$f":"IF($T331=\"\",\"\",VLOOKUP($T331,'FO-DRE-02'!$A$6:$M$101,8,FALSE))","v":""},{"$f":"IF($T331=\"\",\"\",VLOOKUP($T331,'FO-DRE-02'!$A$6:$M$101,11,FALSE))","v":""},{"$f":"IF($T331=\"\",\"\",VLOOKUP($T331,'FO-DRE-02'!$A$6:$M$101,12,FALSE))","v":""},{"$f":"IF($T331=\"\",\"\",VLOOKUP($T331,'FO-DRE-02'!$A$6:$M$101,13,FALSE))","v":""},null,null,null,322,"","F/D","F/D","","","","","","","","","","","","","","",""]
[null,null,null,null,null,null,null,null,"",{"$f":"CONCATENATE(#REF!,\"-\",\"TX\")","v":{"$error":"#REF!"}},{"$f":"CONCATENATE(#REF!,\"-\",\"RX\")","v":{"$error":"#REF!"}},null,null,null,null,{"$f":"B332","v":0},null,null,null,null,null,{"$f":"IF($R332=\"\",\"\",VLOOKUP($R332,'FO-DRE-01'!$A$7:$U$301,18,FALSE))","v":""},{"$f":"IF($R332=\"\",\"\",VLOOKUP($R332,'FO-DRE-01'!$A$7:$U$301,16,FALSE))","v":""},{"$f":"IF($R332=\"\",\"\",VLOOKUP($R332,'FO-DRE-01'!$A$7:$U$301,17,FALSE))","v":""},{"$f":"IF($R332=\"\",\"\",VLOOKUP($R332,'FO-DRE-01'!$A$7:$U$301,3,FALSE))","v":""},{"$f":"IF($R332=\"\",\"\",VLOOKUP($R332,'FO-DRE-01'!$A$7:$U$301,4,FALSE))","v":""},{"$f":"IF($R332=\"\",\"\",VLOOKUP($R332,'FO-DRE-01'!$A$7:$U$301,5,FALSE))","v":""},{"$f":"IF($R332=\"\",\"\",VLOOKUP($R332,'FO-DRE-01'!$A$7:$U$301,7,FALSE))","v":""},{"$f":"IF($R332=\"\",\"\",VLOOKUP($R332,'FO-DRE-01'!$A$7:$U$301,8,FALSE))","v":""},{"$f":"IF($R332=\"\",\"\",VLOOKUP($R332,'FO-DRE-01'!$A$7:$U$301,9,FALSE))","v":""},{"$f":"IF($R332=\"\",\"\",VLOOKUP($R332,'FO-DRE-01'!$A$7:$U$301,10,FALSE))","v":""},{"$f":"IF($R332=\"\",\"\",VLOOKUP($R332,'FO-DRE-01'!$A$7:$U$301,11,FALSE))","v":""},{"$f":"IF($R332=\"\",\"\",VLOOKUP($R332,'FO-DRE-01'!$A$7:$U$301,12,FALSE))","v":""},{"$f":"IF($R332=\"\",\"\",VLOOKUP($R332,'FO-DRE-01'!$A$7:$U$301,13,FALSE))","v":""},{"$f":"IF($R332=\"\",\"\",VLOOKUP($R332,'FO-DRE-01'!$A$7:$U$301,14,FALSE))","v":""},{"$f":"IF($R332=\"\",\"\",VLOOKUP($R332,'FO-DRE-01'!$A$7:$U$301,15,FALSE))","v":""},{"$f":"IF($S332=\"\",\"\",VLOOKUP($S332,'FO-DRE-04'!$A$6:$L$301,2,FALSE))","v":""},{"$f":"IF($S332=\"\",\"\",VLOOKUP($S332,'FO-DRE-04'!$A$6:$L$301,3,FALSE))","v":""},{"$f":"IF($S332=\"\",\"\",VLOOKUP($S332,'FO-DRE-04'!$A$6:$L$301,4,FALSE))","v":""},{"$f":"IF($S332=\"\",\"\",VLOOKUP($S332,'FO-DRE-04'!$A$6:$L$301,6,FALSE))","v":""},{"$f":"IF($S332=\"\",\"\",VLOOKUP($S332,'FO-DRE-04'!$A$6:$L$301,11,FALSE))","v":""},{"$f":"IF($T332=\"\",\"\",VLOOKUP($T332,'FO-DRE-02'!$A$6:$M$101,2,FALSE))","v":""},{"$f":"IF($T332=\"\",\"\",VLOOKUP($T332,'FO-DRE-02'!$A$6:$M$101,3,FALSE))","v":""},{"$f":"IF($T332=\"\",\"\",VLOOKUP($T332,'FO-DRE-02'!$A$6:$M$101,6,FALSE))","v":""},{"$f":"IF($T332=\"\",\"\",VLOOKUP($T332,'FO-DRE-02'!$A$6:$M$101,4,FALSE))","v":""},{"$f":"IF($T332=\"\",\"\",VLOOKUP($T332,'FO-DRE-02'!$A$6:$M$101,5,FALSE))","v":""},{"$f":"IF($T332=\"\",\"\",VLOOKUP($T332,'FO-DRE-02'!$A$6:$M$101,6,FALSE))","v":""},{"$f":"IF($T332=\"\",\"\",VLOOKUP($T332,'FO-DRE-02'!$A$6:$M$101,6,FALSE))","v":""},{"$f":"IF($T332=\"\",\"\",VLOOKUP($T332,'FO-DRE-02'!$A$6:$M$101,8,FALSE))","v":""},{"$f":"IF($T332=\"\",\"\",VLOOKUP($T332,'FO-DRE-02'!$A$6:$M$101,11,FALSE))","v":""},{"$f":"IF($T332=\"\",\"\",VLOOKUP($T332,'FO-DRE-02'!$A$6:$M$101,12,FALSE))","v":""},{"$f":"IF($T332=\"\",\"\",VLOOKUP($T332,'FO-DRE-02'!$A$6:$M$101,13,FALSE))","v":""},null,null,null,323,"","F/D","F/D","","","","","","","","","","","","","","",""]
[null,null,null,null,null,null,null,null,"",{"$f":"CONCATENATE(#REF!,\"-\",\"TX\")","v":{"$error":"#REF!"}},{"$f":"CONCATENATE(#REF!,\"-\",\"RX\")","v":{"$error":"#REF!"}},null,null,null,null,0,null,null,null,null,null,{"$f":"IF($R333=\"\",\"\",VLOOKUP($R333,'FO-DRE-01'!$A$7:$U$301,18,FALSE))","v":""},{"$f":"IF($R333=\"\",\"\",VLOOKUP($R333,'FO-DRE-01'!$A$7:$U$301,16,FALSE))","v":""},{"$f":"IF($R333=\"\",\"\",VLOOKUP($R333,'FO-DRE-01'!$A$7:$U$301,17,FALSE))","v":""},{"$f":"IF($R333=\"\",\"\",VLOOKUP($R333,'FO-DRE-01'!$A$7:$U$301,3,FALSE))","v":""},{"$f":"IF($R333=\"\",\"\",VLOOKUP($R333,'FO-DRE-01'!$A$7:$U$301,4,FALSE))","v":""},{"$f":"IF($R333=\"\",\"\",VLOOKUP($R333,'FO-DRE-01'!$A$7:$U$301,5,FALSE))","v":""},{"$f":"IF($R333=\"\",\"\",VLOOKUP($R333,'FO-DRE-01'!$A$7:$U$301,7,FALSE))","v":""},{"$f":"IF($R333=\"\",\"\",VLOOKUP($R333,'FO-DRE-01'!$A$7:$U$301,8,FALSE))","v":""},{"$f":"IF($R333=\"\",\"\",VLOOKUP($R333,'FO-DRE-01'!$A$7:$U$301,9,FALSE))","v":""},{"$f":"IF($R333=\"\",\"\",VLOOKUP($R333,'FO-DRE-01'!$A$7:$U$301,10,FALSE))","v":""},{"$f":"IF($R333=\"\",\"\",VLOOKUP($R333,'FO-DRE-01'!$A$7:$U$301,11,FALSE))","v":""},{"$f":"IF($R333=\"\",\"\",VLOOKUP($R333,'FO-DRE-01'!$A$7:$U$301,12,FALSE))","v":""},{"$f":"IF($R333=\"\",\"\",VLOOKUP($R333,'FO-DRE-01'!$A$7:$U$301,13,FALSE))","v":""},{"$f":"IF($R333=\"\",\"\",VLOOKUP($R333,'FO-DRE-01'!$A$7:$U$301,14,FALSE))","v":""},{"$f":"IF($R333=\"\",\"\",VLOOKUP($R333,'FO-DRE-01'!$A$7:$U$301,15,FALSE))","v":""},{"$f":"IF($S333=\"\",\"\",VLOOKUP($S333,'FO-DRE-04'!$A$6:$L$301,2,FALSE))","v":""},{"$f":"IF($S333=\"\",\"\",VLOOKUP($S333,'FO-DRE-04'!$A$6:$L$301,3,FALSE))","v":""},{"$f":"IF($S333=\"\",\"\",VLOOKUP($S333,'FO-DRE-04'!$A$6:$L$301,4,FALSE))","v":""},{"$f":"IF($S333=\"\",\"\",VLOOKUP($S333,'FO-DRE-04'!$A$6:$L$301,6,FALSE))","v":""},{"$f":"IF($S333=\"\",\"\",VLOOKUP($S333,'FO-DRE-04'!$A$6:$L$301,11,FALSE))","v":""},{"$f":"IF($T333=\"\",\"\",VLOOKUP($T333,'FO-DRE-02'!$A$6:$M$101,2,FALSE))","v":""},{"$f":"IF($T333=\"\",\"\",VLOOKUP($T333,'FO-DRE-02'!$A$6:$M$101,3,FALSE))","v":""},{"$f":"IF($T333=\"\",\"\",VLOOKUP($T333,'FO-DRE-02'!$A$6:$M$101,6,FALSE))","v":""},{"$f":"IF($T333=\"\",\"\",VLOOKUP($T333,'FO-DRE-02'!$A$6:$M$101,4,FALSE))","v":""},{"$f":"IF($T333=\"\",\"\",VLOOKUP($T333,'FO-DRE-02'!$A$6:$M$101,5,FALSE))","v":""},{"$f":"IF($T333=\"\",\"\",VLOOKUP($T333,'FO-DRE-02'!$A$6:$M$101,6,FALSE))","v":""},{"$f":"IF($T333=\"\",\"\",VLOOKUP($T333,'FO-DRE-02'!$A$6:$M$101,6,FALSE))","v":""},{"$f":"IF($T333=\"\",\"\",VLOOKUP($T333,'FO-DRE-02'!$A$6:$M$101,8,FALSE))","v":""},{"$f":"IF($T333=\"\",\"\",VLOOKUP($T333,'FO-DRE-02'!$A$6:$M$101,11,FALSE))","v":""},{"$f":"IF($T333=\"\",\"\",VLOOKUP($T333,'FO-DRE-02'!$A$6:$M$101,12,FALSE))","v":""},{"$f":"IF($T333=\"\",\"\",VLOOKUP($T333,'FO-DRE-02'!$A$6:$M$101,13,FALSE))","v":""},null,null,null,324,"","F/D","F/D","","","","","","","","","","","","","","",""]
[null,null,null,null,null,null,null,null,{"$f":"IF(D334=\"\",\"\",IF(D334=\"SIM\",1,2))","v":""},{"$f":"CONCATENATE(#REF!,\"-\",\"TX\")","v":{"$error":"#REF!"}},{"$f":"CONCATENATE(#REF!,\"-\",\"RX\")","v":{"$error":"#REF!"}},null,null,null,null,0,null,null,null,null,null,{"$f":"IF($R334=\"\",\"\",VLOOKUP($R334,'FO-DRE-01'!$A$7:$U$301,18,FALSE))","v":""},{"$f":"IF($R334=\"\",\"\",VLOOKUP($R334,'FO-DRE-01'!$A$7:$U$301,16,FALSE))","v":""},{"$f":"IF($R334=\"\",\"\",VLOOKUP($R334,'FO-DRE-01'!$A$7:$U$301,17,FALSE))","v":""},{"$f":"IF($R334=\"\",\"\",VLOOKUP($R334,'FO-DRE-01'!$A$7:$U$301,3,FALSE))","v":""},{"$f":"IF($R334=\"\",\"\",VLOOKUP($R334,'FO-DRE-01'!$A$7:$U$301,4,FALSE))","v":""},{"$f":"IF($R334=\"\",\"\",VLOOKUP($R334,'FO-DRE-01'!$A$7:$U$301,5,FALSE))","v":""},{"$f":"IF($R334=\"\",\"\",VLOOKUP($R334,'FO-DRE-01'!$A$7:$U$301,7,FALSE))","v":""},{"$f":"IF($R334=\"\",\"\",VLOOKUP($R334,'FO-DRE-01'!$A$7:$U$301,8,FALSE))","v":""},{"$f":"IF($R334=\"\",\"\",VLOOKUP($R334,'FO-DRE-01'!$A$7:$U$301,9,FALSE))","v":""},{"$f":"IF($R334=\"\",\"\",VLOOKUP($R334,'FO-DRE-01'!$A$7:$U$301,10,FALSE))","v":""},{"$f":"IF($R334=\"\",\"\",VLOOKUP($R334,'FO-DRE-01'!$A$7:$U$301,11,FALSE))","v":""},{"$f":"IF($R334=\"\",\"\",VLOOKUP($R334,'FO-DRE-01'!$A$7:$U$301,12,FALSE))","v":""},{"$f":"IF($R334=\"\",\"\",VLOOKUP($R334,'FO-DRE-01'!$A$7:$U$301,13,FALSE))","v":""},{"$f":"IF($R334=\"\",\"\",VLOOKUP($R334,'FO-DRE-01'!$A$7:$U$301,14,FALSE))","v":""},{"$f":"IF($R334=\"\",\"\",VLOOKUP($R334,'FO-DRE-01'!$A$7:$U$301,15,FALSE))","v":""},{"$f":"IF($S334=\"\",\"\",VLOOKUP($S334,'FO-DRE-04'!$A$6:$L$301,2,FALSE))","v":""},{"$f":"IF($S334=\"\",\"\",VLOOKUP($S334,'FO-DRE-04'!$A$6:$L$301,3,FALSE))","v":""},{"$f":"IF($S334=\"\",\"\",VLOOKUP($S334,'FO-DRE-04'!$A$6:$L$301,4,FALSE))","v":""},{"$f":"IF($S334=\"\",\"\",VLOOKUP($S334,'FO-DRE-04'!$A$6:$L$301,6,FALSE))","v":""},{"$f":"IF($S334=\"\",\"\",VLOOKUP($S334,'FO-DRE-04'!$A$6:$L$301,11,FALSE))","v":""},{"$f":"IF($T334=\"\",\"\",VLOOKUP($T334,'FO-DRE-02'!$A$6:$M$101,2,FALSE))","v":""},{"$f":"IF($T334=\"\",\"\",VLOOKUP($T334,'FO-DRE-02'!$A$6:$M$101,3,FALSE))","v":""},{"$f":"IF($T334=\"\",\"\",VLOOKUP($T334,'FO-DRE-02'!$A$6:$M$101,6,FALSE))","v":""},{"$f":"IF($T334=\"\",\"\",VLOOKUP($T334,'FO-DRE-02'!$A$6:$M$101,4,FALSE))","v":""},{"$f":"IF($T334=\"\",\"\",VLOOKUP($T334,'FO-DRE-02'!$A$6:$M$101,5,FALSE))","v":""},{"$f":"IF($T334=\"\",\"\",VLOOKUP($T334,'FO-DRE-02'!$A$6:$M$101,6,FALSE))","v":""},{"$f":"IF($T334=\"\",\"\",VLOOKUP($T334,'FO-DRE-02'!$A$6:$M$101,6,FALSE))","v":""},{"$f":"IF($T334=\"\",\"\",VLOOKUP($T334,'FO-DRE-02'!$A$6:$M$101,8,FALSE))","v":""},{"$f":"IF($T334=\"\",\"\",VLOOKUP($T334,'FO-DRE-02'!$A$6:$M$101,11,FALSE))","v":""},{"$f":"IF($T334=\"\",\"\",VLOOKUP($T334,'FO-DRE-02'!$A$6:$M$101,12,FALSE))","v":""},{"$f":"IF($T334=\"\",\"\",VLOOKUP($T334,'FO-DRE-02'!$A$6:$M$101,13,FALSE))","v":""},null,null,null,325,{"$f":"IF($R334=\"\",\"\",$R334)","v":""},"F/D","F/D","","","","","","","","","","","","","","",""]
[null,null,null,null,null,null,null,null,"",{"$f":"CONCATENATE(#REF!,\"-\",\"TX\")","v":{"$error":"#REF!"}},{"$f":"CONCATENATE(#REF!,\"-\",\"RX\")","v":{"$error":"#REF!"}},null,null,null,null,0,null,null,null,null,null,{"$f":"IF($R335=\"\",\"\",VLOOKUP($R335,'FO-DRE-01'!$A$7:$U$301,18,FALSE))","v":""},{"$f":"IF($R335=\"\",\"\",VLOOKUP($R335,'FO-DRE-01'!$A$7:$U$301,16,FALSE))","v":""},{"$f":"IF($R335=\"\",\"\",VLOOKUP($R335,'FO-DRE-01'!$A$7:$U$301,17,FALSE))","v":""},{"$f":"IF($R335=\"\",\"\",VLOOKUP($R335,'FO-DRE-01'!$A$7:$U$301,3,FALSE))","v":""},{"$f":"IF($R335=\"\",\"\",VLOOKUP($R335,'FO-DRE-01'!$A$7:$U$301,4,FALSE))","v":""},{"$f":"IF($R335=\"\",\"\",VLOOKUP($R335,'FO-DRE-01'!$A$7:$U$301,5,FALSE))","v":""},{"$f":"IF($R335=\"\",\"\",VLOOKUP($R335,'FO-DRE-01'!$A$7:$U$301,7,FALSE))","v":""},{"$f":"IF($R335=\"\",\"\",VLOOKUP($R335,'FO-DRE-01'!$A$7:$U$301,8,FALSE))","v":""},{"$f":"IF($R335=\"\",\"\",VLOOKUP($R335,'FO-DRE-01'!$A$7:$U$301,9,FALSE))","v":""},{"$f":"IF($R335=\"\",\"\",VLOOKUP($R335,'FO-DRE-01'!$A$7:$U$301,10,FALSE))","v":""},{"$f":"IF($R335=\"\",\"\",VLOOKUP($R335,'FO-DRE-01'!$A$7:$U$301,11,FALSE))","v":""},{"$f":"IF($R335=\"\",\"\",VLOOKUP($R335,'FO-DRE-01'!$A$7:$U$301,12,FALSE))","v":""},{"$f":"IF($R335=\"\",\"\",VLOOKUP($R335,'FO-DRE-01'!$A$7:$U$301,13,FALSE))","v":""},{"$f":"IF($R335=\"\",\"\",VLOOKUP($R335,'FO-DRE-01'!$A$7:$U$301,14,FALSE))","v":""},{"$f":"IF($R335=\"\",\"\",VLOOKUP($R335,'FO-DRE-01'!$A$7:$U$301,15,FALSE))","v":""},{"$f":"IF($S335=\"\",\"\",VLOOKUP($S335,'FO-DRE-04'!$A$6:$L$301,2,FALSE))","v":""},{"$f":"IF($S335=\"\",\"\",VLOOKUP($S335,'FO-DRE-04'!$A$6:$L$301,3,FALSE))","v":""},{"$f":"IF($S335=\"\",\"\",VLOOKUP($S335,'FO-DRE-04'!$A$6:$L$301,4,FALSE))","v":""},{"$f":"IF($S335=\"\",\"\",VLOOKUP($S335,'FO-DRE-04'!$A$6:$L$301,6,FALSE))","v":""},{"$f":"IF($S335=\"\",\"\",VLOOKUP($S335,'FO-DRE-04'!$A$6:$L$301,11,FALSE))","v":""},{"$f":"IF($T335=\"\",\"\",VLOOKUP($T335,'FO-DRE-02'!$A$6:$M$101,2,FALSE))","v":""},{"$f":"IF($T335=\"\",\"\",VLOOKUP($T335,'FO-DRE-02'!$A$6:$M$101,3,FALSE))","v":""},{"$f":"IF($T335=\"\",\"\",VLOOKUP($T335,'FO-DRE-02'!$A$6:$M$101,6,FALSE))","v":""},{"$f":"IF($T335=\"\",\"\",VLOOKUP($T335,'FO-DRE-02'!$A$6:$M$101,4,FALSE))","v":""},{"$f":"IF($T335=\"\",\"\",VLOOKUP($T335,'FO-DRE-02'!$A$6:$M$101,5,FALSE))","v":""},{"$f":"IF($T335=\"\",\"\",VLOOKUP($T335,'FO-DRE-02'!$A$6:$M$101,6,FALSE))","v":""},{"$f":"IF($T335=\"\",\"\",VLOOKUP($T335,'FO-DRE-02'!$A$6:$M$101,6,FALSE))","v":""},{"$f":"IF($T335=\"\",\"\",VLOOKUP($T335,'FO-DRE-02'!$A$6:$M$101,8,FALSE))","v":""},{"$f":"IF($T335=\"\",\"\",VLOOKUP($T335,'FO-DRE-02'!$A$6:$M$101,11,FALSE))","v":""},{"$f":"IF($T335=\"\",\"\",VLOOKUP($T335,'FO-DRE-02'!$A$6:$M$101,12,FALSE))","v":""},{"$f":"IF($T335=\"\",\"\",VLOOKUP($T335,'FO-DRE-02'!$A$6:$M$101,13,FALSE))","v":""},null,null,null,326,"","F/D","F/D","","","","","","","","","","","","","","",""]
[null,null,null,null,null,null,null,null,"",{"$f":"CONCATENATE(#REF!,\"-\",\"TX\")","v":{"$error":"#REF!"}},{"$f":"CONCATENATE(#REF!,\"-\",\"RX\")","v":{"$error":"#REF!"}},null,null,null,null,0,null,null,null,null,null,{"$f":"IF($R336=\"\",\"\",VLOOKUP($R336,'FO-DRE-01'!$A$7:$U$301,18,FALSE))","v":""},{"$f":"IF($R336=\"\",\"\",VLOOKUP($R336,'FO-DRE-01'!$A$7:$U$301,16,FALSE))","v":""},{"$f":"IF($R336=\"\",\"\",VLOOKUP($R336,'FO-DRE-01'!$A$7:$U$301,17,FALSE))","v":""},{"$f":"IF($R336=\"\",\"\",VLOOKUP($R336,'FO-DRE-01'!$A$7:$U$301,3,FALSE))","v":""},{"$f":"IF($R336=\"\",\"\",VLOOKUP($R336,'FO-DRE-01'!$A$7:$U$301,4,FALSE))","v":""},{"$f":"IF($R336=\"\",\"\",VLOOKUP($R336,'FO-DRE-01'!$A$7:$U$301,5,FALSE))","v":""},{"$f":"IF($R336=\"\",\"\",VLOOKUP($R336,'FO-DRE-01'!$A$7:$U$301,7,FALSE))","v":""},{"$f":"IF($R336=\"\",\"\",VLOOKUP($R336,'FO-DRE-01'!$A$7:$U$301,8,FALSE))","v":""},{"$f":"IF($R336=\"\",\"\",VLOOKUP($R336,'FO-DRE-01'!$A$7:$U$301,9,FALSE))","v":""},{"$f":"IF($R336=\"\",\"\",VLOOKUP($R336,'FO-DRE-01'!$A$7:$U$301,10,FALSE))","v":""},{"$f":"IF($R336=\"\",\"\",VLOOKUP($R336,'FO-DRE-01'!$A$7:$U$301,11,FALSE))","v":""},{"$f":"IF($R336=\"\",\"\",VLOOKUP($R336,'FO-DRE-01'!$A$7:$U$301,12,FALSE))","v":""},{"$f":"IF($R336=\"\",\"\",VLOOKUP($R336,'FO-DRE-01'!$A$7:$U$301,13,FALSE))","v":""},{"$f":"IF($R336=\"\",\"\",VLOOKUP($R336,'FO-DRE-01'!$A$7:$U$301,14,FALSE))","v":""},{"$f":"IF($R336=\"\",\"\",VLOOKUP($R336,'FO-DRE-01'!$A$7:$U$301,15,FALSE))","v":""},{"$f":"IF($S336=\"\",\"\",VLOOKUP($S336,'FO-DRE-04'!$A$6:$L$301,2,FALSE))","v":""},{"$f":"IF($S336=\"\",\"\",VLOOKUP($S336,'FO-DRE-04'!$A$6:$L$301,3,FALSE))","v":""},{"$f":"IF($S336=\"\",\"\",VLOOKUP($S336,'FO-DRE-04'!$A$6:$L$301,4,FALSE))","v":""},{"$f":"IF($S336=\"\",\"\",VLOOKUP($S336,'FO-DRE-04'!$A$6:$L$301,6,FALSE))","v":""},{"$f":"IF($S336=\"\",\"\",VLOOKUP($S336,'FO-DRE-04'!$A$6:$L$301,11,FALSE))","v":""},{"$f":"IF($T336=\"\",\"\",VLOOKUP($T336,'FO-DRE-02'!$A$6:$M$101,2,FALSE))","v":""},{"$f":"IF($T336=\"\",\"\",VLOOKUP($T336,'FO-DRE-02'!$A$6:$M$101,3,FALSE))","v":""},{"$f":"IF($T336=\"\",\"\",VLOOKUP($T336,'FO-DRE-02'!$A$6:$M$101,6,FALSE))","v":""},{"$f":"IF($T336=\"\",\"\",VLOOKUP($T336,'FO-DRE-02'!$A$6:$M$101,4,FALSE))","v":""},{"$f":"IF($T336=\"\",\"\",VLOOKUP($T336,'FO-DRE-02'!$A$6:$M$101,5,FALSE))","v":""},{"$f":"IF($T336=\"\",\"\",VLOOKUP($T336,'FO-DRE-02'!$A$6:$M$101,6,FALSE))","v":""},{"$f":"IF($T336=\"\",\"\",VLOOKUP($T336,'FO-DRE-02'!$A$6:$M$101,6,FALSE))","v":""},{"$f":"IF($T336=\"\",\"\",VLOOKUP($T336,'FO-DRE-02'!$A$6:$M$101,8,FALSE))","v":""},{"$f":"IF($T336=\"\",\"\",VLOOKUP($T336,'FO-DRE-02'!$A$6:$M$101,11,FALSE))","v":""},{"$f":"IF($T336=\"\",\"\",VLOOKUP($T336,'FO-DRE-02'!$A$6:$M$101,12,FALSE))","v":""},{"$f":"IF($T336=\"\",\"\",VLOOKUP($T336,'FO-DRE-02'!$A$6:$M$101,13,FALSE))","v":""},null,null,null,327,"","F/D","F/D","","","","","","","","","","","","","","",""]
[null,null,null,null,null,null,null,null,"",{"$f":"CONCATENATE(#REF!,\"-\",\"TX\")","v":{"$error":"#REF!"}},{"$f":"CONCATENATE(#REF!,\"-\",\"RX\")","v":{"$error":"#REF!"}},null,null,null,null,0,null,null,null,null,null,{"$f":"IF($R337=\"\",\"\",VLOOKUP($R337,'FO-DRE-01'!$A$7:$U$301,18,FALSE))","v":""},{"$f":"IF($R337=\"\",\"\",VLOOKUP($R337,'FO-DRE-01'!$A$7:$U$301,16,FALSE))","v":""},{"$f":"IF($R337=\"\",\"\",VLOOKUP($R337,'FO-DRE-01'!$A$7:$U$301,17,FALSE))","v":""},{"$f":"IF($R337=\"\",\"\",VLOOKUP($R337,'FO-DRE-01'!$A$7:$U$301,3,FALSE))","v":""},{"$f":"IF($R337=\"\",\"\",VLOOKUP($R337,'FO-DRE-01'!$A$7:$U$301,4,FALSE))","v":""},{"$f":"IF($R337=\"\",\"\",VLOOKUP($R337,'FO-DRE-01'!$A$7:$U$301,5,FALSE))","v":""},{"$f":"IF($R337=\"\",\"\",VLOOKUP($R337,'FO-DRE-01'!$A$7:$U$301,7,FALSE))","v":""},{"$f":"IF($R337=\"\",\"\",VLOOKUP($R337,'FO-DRE-01'!$A$7:$U$301,8,FALSE))","v":""},{"$f":"IF($R337=\"\",\"\",VLOOKUP($R337,'FO-DRE-01'!$A$7:$U$301,9,FALSE))","v":""},{"$f":"IF($R337=\"\",\"\",VLOOKUP($R337,'FO-DRE-01'!$A$7:$U$301,10,FALSE))","v":""},{"$f":"IF($R337=\"\",\"\",VLOOKUP($R337,'FO-DRE-01'!$A$7:$U$301,11,FALSE))","v":""},{"$f":"IF($R337=\"\",\"\",VLOOKUP($R337,'FO-DRE-01'!$A$7:$U$301,12,FALSE))","v":""},{"$f":"IF($R337=\"\",\"\",VLOOKUP($R337,'FO-DRE-01'!$A$7:$U$301,13,FALSE))","v":""},{"$f":"IF($R337=\"\",\"\",VLOOKUP($R337,'FO-DRE-01'!$A$7:$U$301,14,FALSE))","v":""},{"$f":"IF($R337=\"\",\"\",VLOOKUP($R337,'FO-DRE-01'!$A$7:$U$301,15,FALSE))","v":""},{"$f":"IF($S337=\"\",\"\",VLOOKUP($S337,'FO-DRE-04'!$A$6:$L$301,2,FALSE))","v":""},{"$f":"IF($S337=\"\",\"\",VLOOKUP($S337,'FO-DRE-04'!$A$6:$L$301,3,FALSE))","v":""},{"$f":"IF($S337=\"\",\"\",VLOOKUP($S337,'FO-DRE-04'!$A$6:$L$301,4,FALSE))","v":""},{"$f":"IF($S337=\"\",\"\",VLOOKUP($S337,'FO-DRE-04'!$A$6:$L$301,6,FALSE))","v":""},{"$f":"IF($S337=\"\",\"\",VLOOKUP($S337,'FO-DRE-04'!$A$6:$L$301,11,FALSE))","v":""},{"$f":"IF($T337=\"\",\"\",VLOOKUP($T337,'FO-DRE-02'!$A$6:$M$101,2,FALSE))","v":""},{"$f":"IF($T337=\"\",\"\",VLOOKUP($T337,'FO-DRE-02'!$A$6:$M$101,3,FALSE))","v":""},{"$f":"IF($T337=\"\",\"\",VLOOKUP($T337,'FO-DRE-02'!$A$6:$M$101,6,FALSE))","v":""},{"$f":"IF($T337=\"\",\"\",VLOOKUP($T337,'FO-DRE-02'!$A$6:$M$101,4,FALSE))","v":""},{"$f":"IF($T337=\"\",\"\",VLOOKUP($T337,'FO-DRE-02'!$A$6:$M$101,5,FALSE))","v":""},{"$f":"IF($T337=\"\",\"\",VLOOKUP($T337,'FO-DRE-02'!$A$6:$M$101,6,FALSE))","v":""},{"$f":"IF($T337=\"\",\"\",VLOOKUP($T337,'FO-DRE-02'!$A$6:$M$101,6,FALSE))","v":""},{"$f":"IF($T337=\"\",\"\",VLOOKUP($T337,'FO-DRE-02'!$A$6:$M$101,8,FALSE))","v":""},{"$f":"IF($T337=\"\",\"\",VLOOKUP($T337,'FO-DRE-02'!$A$6:$M$101,11,FALSE))","v":""},{"$f":"IF($T337=\"\",\"\",VLOOKUP($T337,'FO-DRE-02'!$A$6:$M$101,12,FALSE))","v":""},{"$f":"IF($T337=\"\",\"\",VLOOKUP($T337,'FO-DRE-02'!$A$6:$M$101,13,FALSE))","v":""},null,null,null,328,"","F/D","F/D","","","","","","","","","","","","","","",""]
[null,null,null,null,null,null,null,null,"",{"$f":"CONCATENATE(#REF!,\"-\",\"TX\")","v":{"$error":"#REF!"}},{"$f":"CONCATENATE(#REF!,\"-\",\"RX\")","v":{"$error":"#REF!"}},null,null,null,null,0,null,null,null,null,null,{"$f":"IF($R338=\"\",\"\",VLOOKUP($R338,'FO-DRE-01'!$A$7:$U$301,18,FALSE))","v":""},{"$f":"IF($R338=\"\",\"\",VLOOKUP($R338,'FO-DRE-01'!$A$7:$U$301,16,FALSE))","v":""},{"$f":"IF($R338=\"\",\"\",VLOOKUP($R338,'FO-DRE-01'!$A$7:$U$301,17,FALSE))","v":""},{"$f":"IF($R338=\"\",\"\",VLOOKUP($R338,'FO-DRE-01'!$A$7:$U$301,3,FALSE))","v":""},{"$f":"IF($R338=\"\",\"\",VLOOKUP($R338,'FO-DRE-01'!$A$7:$U$301,4,FALSE))","v":""},{"$f":"IF($R338=\"\",\"\",VLOOKUP($R338,'FO-DRE-01'!$A$7:$U$301,5,FALSE))","v":""},{"$f":"IF($R338=\"\",\"\",VLOOKUP($R338,'FO-DRE-01'!$A$7:$U$301,7,FALSE))","v":""},{"$f":"IF($R338=\"\",\"\",VLOOKUP($R338,'FO-DRE-01'!$A$7:$U$301,8,FALSE))","v":""},{"$f":"IF($R338=\"\",\"\",VLOOKUP($R338,'FO-DRE-01'!$A$7:$U$301,9,FALSE))","v":""},{"$f":"IF($R338=\"\",\"\",VLOOKUP($R338,'FO-DRE-01'!$A$7:$U$301,10,FALSE))","v":""},{"$f":"IF($R338=\"\",\"\",VLOOKUP($R338,'FO-DRE-01'!$A$7:$U$301,11,FALSE))","v":""},{"$f":"IF($R338=\"\",\"\",VLOOKUP($R338,'FO-DRE-01'!$A$7:$U$301,12,FALSE))","v":""},{"$f":"IF($R338=\"\",\"\",VLOOKUP($R338,'FO-DRE-01'!$A$7:$U$301,13,FALSE))","v":""},{"$f":"IF($R338=\"\",\"\",VLOOKUP($R338,'FO-DRE-01'!$A$7:$U$301,14,FALSE))","v":""},{"$f":"IF($R338=\"\",\"\",VLOOKUP($R338,'FO-DRE-01'!$A$7:$U$301,15,FALSE))","v":""},{"$f":"IF($S338=\"\",\"\",VLOOKUP($S338,'FO-DRE-04'!$A$6:$L$301,2,FALSE))","v":""},{"$f":"IF($S338=\"\",\"\",VLOOKUP($S338,'FO-DRE-04'!$A$6:$L$301,3,FALSE))","v":""},{"$f":"IF($S338=\"\",\"\",VLOOKUP($S338,'FO-DRE-04'!$A$6:$L$301,4,FALSE))","v":""},{"$f":"IF($S338=\"\",\"\",VLOOKUP($S338,'FO-DRE-04'!$A$6:$L$301,6,FALSE))","v":""},{"$f":"IF($S338=\"\",\"\",VLOOKUP($S338,'FO-DRE-04'!$A$6:$L$301,11,FALSE))","v":""},{"$f":"IF($T338=\"\",\"\",VLOOKUP($T338,'FO-DRE-02'!$A$6:$M$101,2,FALSE))","v":""},{"$f":"IF($T338=\"\",\"\",VLOOKUP($T338,'FO-DRE-02'!$A$6:$M$101,3,FALSE))","v":""},{"$f":"IF($T338=\"\",\"\",VLOOKUP($T338,'FO-DRE-02'!$A$6:$M$101,6,FALSE))","v":""},{"$f":"IF($T338=\"\",\"\",VLOOKUP($T338,'FO-DRE-02'!$A$6:$M$101,4,FALSE))","v":""},{"$f":"IF($T338=\"\",\"\",VLOOKUP($T338,'FO-DRE-02'!$A$6:$M$101,5,FALSE))","v":""},{"$f":"IF($T338=\"\",\"\",VLOOKUP($T338,'FO-DRE-02'!$A$6:$M$101,6,FALSE))","v":""},{"$f":"IF($T338=\"\",\"\",VLOOKUP($T338,'FO-DRE-02'!$A$6:$M$101,6,FALSE))","v":""},{"$f":"IF($T338=\"\",\"\",VLOOKUP($T338,'FO-DRE-02'!$A$6:$M$101,8,FALSE))","v":""},{"$f":"IF($T338=\"\",\"\",VLOOKUP($T338,'FO-DRE-02'!$A$6:$M$101,11,FALSE))","v":""},{"$f":"IF($T338=\"\",\"\",VLOOKUP($T338,'FO-DRE-02'!$A$6:$M$101,12,FALSE))","v":""},{"$f":"IF($T338=\"\",\"\",VLOOKUP($T338,'FO-DRE-02'!$A$6:$M$101,13,FALSE))","v":""},null,null,null,329,"","F/D","F/D","","","","","","","","","","","","","","",""]
[null,null,null,null,null,null,null,null,"",{"$f":"CONCATENATE(#REF!,\"-\",\"TX\")","v":{"$error":"#REF!"}},{"$f":"CONCATENATE(#REF!,\"-\",\"RX\")","v":{"$error":"#REF!"}},null,null,null,null,0,null,null,null,null,null,{"$f":"IF($R339=\"\",\"\",VLOOKUP($R339,'FO-DRE-01'!$A$7:$U$301,18,FALSE))","v":""},{"$f":"IF($R339=\"\",\"\",VLOOKUP($R339,'FO-DRE-01'!$A$7:$U$301,16,FALSE))","v":""},{"$f":"IF($R339=\"\",\"\",VLOOKUP($R339,'FO-DRE-01'!$A$7:$U$301,17,FALSE))","v":""},{"$f":"IF($R339=\"\",\"\",VLOOKUP($R339,'FO-DRE-01'!$A$7:$U$301,3,FALSE))","v":""},{"$f":"IF($R339=\"\",\"\",VLOOKUP($R339,'FO-DRE-01'!$A$7:$U$301,4,FALSE))","v":""},{"$f":"IF($R339=\"\",\"\",VLOOKUP($R339,'FO-DRE-01'!$A$7:$U$301,5,FALSE))","v":""},{"$f":"IF($R339=\"\",\"\",VLOOKUP($R339,'FO-DRE-01'!$A$7:$U$301,7,FALSE))","v":""},{"$f":"IF($R339=\"\",\"\",VLOOKUP($R339,'FO-DRE-01'!$A$7:$U$301,8,FALSE))","v":""},{"$f":"IF($R339=\"\",\"\",VLOOKUP($R339,'FO-DRE-01'!$A$7:$U$301,9,FALSE))","v":""},{"$f":"IF($R339=\"\",\"\",VLOOKUP($R339,'FO-DRE-01'!$A$7:$U$301,10,FALSE))","v":""},{"$f":"IF($R339=\"\",\"\",VLOOKUP($R339,'FO-DRE-01'!$A$7:$U$301,11,FALSE))","v":""},{"$f":"IF($R339=\"\",\"\",VLOOKUP($R339,'FO-DRE-01'!$A$7:$U$301,12,FALSE))","v":""},{"$f":"IF($R339=\"\",\"\",VLOOKUP($R339,'FO-DRE-01'!$A$7:$U$301,13,FALSE))","v":""},{"$f":"IF($R339=\"\",\"\",VLOOKUP($R339,'FO-DRE-01'!$A$7:$U$301,14,FALSE))","v":""},{"$f":"IF($R339=\"\",\"\",VLOOKUP($R339,'FO-DRE-01'!$A$7:$U$301,15,FALSE))","v":""},{"$f":"IF($S339=\"\",\"\",VLOOKUP($S339,'FO-DRE-04'!$A$6:$L$301,2,FALSE))","v":""},{"$f":"IF($S339=\"\",\"\",VLOOKUP($S339,'FO-DRE-04'!$A$6:$L$301,3,FALSE))","v":""},{"$f":"IF($S339=\"\",\"\",VLOOKUP($S339,'FO-DRE-04'!$A$6:$L$301,4,FALSE))","v":""},{"$f":"IF($S339=\"\",\"\",VLOOKUP($S339,'FO-DRE-04'!$A$6:$L$301,6,FALSE))","v":""},{"$f":"IF($S339=\"\",\"\",VLOOKUP($S339,'FO-DRE-04'!$A$6:$L$301,11,FALSE))","v":""},{"$f":"IF($T339=\"\",\"\",VLOOKUP($T339,'FO-DRE-02'!$A$6:$M$101,2,FALSE))","v":""},{"$f":"IF($T339=\"\",\"\",VLOOKUP($T339,'FO-DRE-02'!$A$6:$M$101,3,FALSE))","v":""},{"$f":"IF($T339=\"\",\"\",VLOOKUP($T339,'FO-DRE-02'!$A$6:$M$101,6,FALSE))","v":""},{"$f":"IF($T339=\"\",\"\",VLOOKUP($T339,'FO-DRE-02'!$A$6:$M$101,4,FALSE))","v":""},{"$f":"IF($T339=\"\",\"\",VLOOKUP($T339,'FO-DRE-02'!$A$6:$M$101,5,FALSE))","v":""},{"$f":"IF($T339=\"\",\"\",VLOOKUP($T339,'FO-DRE-02'!$A$6:$M$101,6,FALSE))","v":""},{"$f":"IF($T339=\"\",\"\",VLOOKUP($T339,'FO-DRE-02'!$A$6:$M$101,6,FALSE))","v":""},{"$f":"IF($T339=\"\",\"\",VLOOKUP($T339,'FO-DRE-02'!$A$6:$M$101,8,FALSE))","v":""},{"$f":"IF($T339=\"\",\"\",VLOOKUP($T339,'FO-DRE-02'!$A$6:$M$101,11,FALSE))","v":""},{"$f":"IF($T339=\"\",\"\",VLOOKUP($T339,'FO-DRE-02'!$A$6:$M$101,12,FALSE))","v":""},{"$f":"IF($T339=\"\",\"\",VLOOKUP($T339,'FO-DRE-02'!$A$6:$M$101,13,FALSE))","v":""},null,null,null,330,"","F/D","F/D","","","","","","","","","","","","","","",""]
[null,null,null,null,null,null,null,null,"",{"$f":"CONCATENATE(#REF!,\"-\",\"TX\")","v":{"$error":"#REF!"}},{"$f":"CONCATENATE(#REF!,\"-\",\"RX\")","v":{"$error":"#REF!"}},null,null,null,null,0,null,null,null,null,null,{"$f":"IF($R340=\"\",\"\",VLOOKUP($R340,'FO-DRE-01'!$A$7:$U$301,18,FALSE))","v":""},{"$f":"IF($R340=\"\",\"\",VLOOKUP($R340,'FO-DRE-01'!$A$7:$U$301,16,FALSE))","v":""},{"$f":"IF($R340=\"\",\"\",VLOOKUP($R340,'FO-DRE-01'!$A$7:$U$301,17,FALSE))","v":""},{"$f":"IF($R340=\"\",\"\",VLOOKUP($R340,'FO-DRE-01'!$A$7:$U$301,3,FALSE))","v":""},{"$f":"IF($R340=\"\",\"\",VLOOKUP($R340,'FO-DRE-01'!$A$7:$U$301,4,FALSE))","v":""},{"$f":"IF($R340=\"\",\"\",VLOOKUP($R340,'FO-DRE-01'!$A$7:$U$301,5,FALSE))","v":""},{"$f":"IF($R340=\"\",\"\",VLOOKUP($R340,'FO-DRE-01'!$A$7:$U$301,7,FALSE))","v":""},{"$f":"IF($R340=\"\",\"\",VLOOKUP($R340,'FO-DRE-01'!$A$7:$U$301,8,FALSE))","v":""},{"$f":"IF($R340=\"\",\"\",VLOOKUP($R340,'FO-DRE-01'!$A$7:$U$301,9,FALSE))","v":""},{"$f":"IF($R340=\"\",\"\",VLOOKUP($R340,'FO-DRE-01'!$A$7:$U$301,10,FALSE))","v":""},{"$f":"IF($R340=\"\",\"\",VLOOKUP($R340,'FO-DRE-01'!$A$7:$U$301,11,FALSE))","v":""},{"$f":"IF($R340=\"\",\"\",VLOOKUP($R340,'FO-DRE-01'!$A$7:$U$301,12,FALSE))","v":""},{"$f":"IF($R340=\"\",\"\",VLOOKUP($R340,'FO-DRE-01'!$A$7:$U$301,13,FALSE))","v":""},{"$f":"IF($R340=\"\",\"\",VLOOKUP($R340,'FO-DRE-01'!$A$7:$U$301,14,FALSE))","v":""},{"$f":"IF($R340=\"\",\"\",VLOOKUP($R340,'FO-DRE-01'!$A$7:$U$301,15,FALSE))","v":""},{"$f":"IF($S340=\"\",\"\",VLOOKUP($S340,'FO-DRE-04'!$A$6:$L$301,2,FALSE))","v":""},{"$f":"IF($S340=\"\",\"\",VLOOKUP($S340,'FO-DRE-04'!$A$6:$L$301,3,FALSE))","v":""},{"$f":"IF($S340=\"\",\"\",VLOOKUP($S340,'FO-DRE-04'!$A$6:$L$301,4,FALSE))","v":""},{"$f":"IF($S340=\"\",\"\",VLOOKUP($S340,'FO-DRE-04'!$A$6:$L$301,6,FALSE))","v":""},{"$f":"IF($S340=\"\",\"\",VLOOKUP($S340,'FO-DRE-04'!$A$6:$L$301,11,FALSE))","v":""},{"$f":"IF($T340=\"\",\"\",VLOOKUP($T340,'FO-DRE-02'!$A$6:$M$101,2,FALSE))","v":""},{"$f":"IF($T340=\"\",\"\",VLOOKUP($T340,'FO-DRE-02'!$A$6:$M$101,3,FALSE))","v":""},{"$f":"IF($T340=\"\",\"\",VLOOKUP($T340,'FO-DRE-02'!$A$6:$M$101,6,FALSE))","v":""},{"$f":"IF($T340=\"\",\"\",VLOOKUP($T340,'FO-DRE-02'!$A$6:$M$101,4,FALSE))","v":""},{"$f":"IF($T340=\"\",\"\",VLOOKUP($T340,'FO-DRE-02'!$A$6:$M$101,5,FALSE))","v":""},{"$f":"IF($T340=\"\",\"\",VLOOKUP($T340,'FO-DRE-02'!$A$6:$M$101,6,FALSE))","v":""},{"$f":"IF($T340=\"\",\"\",VLOOKUP($T340,'FO-DRE-02'!$A$6:$M$101,6,FALSE))","v":""},{"$f":"IF($T340=\"\",\"\",VLOOKUP($T340,'FO-DRE-02'!$A$6:$M$101,8,FALSE))","v":""},{"$f":"IF($T340=\"\",\"\",VLOOKUP($T340,'FO-DRE-02'!$A$6:$M$101,11,FALSE))","v":""},{"$f":"IF($T340=\"\",\"\",VLOOKUP($T340,'FO-DRE-02'!$A$6:$M$101,12,FALSE))","v":""},{"$f":"IF($T340=\"\",\"\",VLOOKUP($T340,'FO-DRE-02'!$A$6:$M$101,13,FALSE))","v":""},null,null,null,331,"","F/D","F/D","","","","","","","","","","","","","","",""]
[null,null,null,null,null,null,null,null,"",{"$f":"CONCATENATE(#REF!,\"-\",\"TX\")","v":{"$error":"#REF!"}},{"$f":"CONCATENATE(#REF!,\"-\",\"RX\")","v":{"$error":"#REF!"}},null,null,null,null,0,null,null,null,null,null,{"$f":"IF($R341=\"\",\"\",VLOOKUP($R341,'FO-DRE-01'!$A$7:$U$301,18,FALSE))","v":""},{"$f":"IF($R341=\"\",\"\",VLOOKUP($R341,'FO-DRE-01'!$A$7:$U$301,16,FALSE))","v":""},{"$f":"IF($R341=\"\",\"\",VLOOKUP($R341,'FO-DRE-01'!$A$7:$U$301,17,FALSE))","v":""},{"$f":"IF($R341=\"\",\"\",VLOOKUP($R341,'FO-DRE-01'!$A$7:$U$301,3,FALSE))","v":""},{"$f":"IF($R341=\"\",\"\",VLOOKUP($R341,'FO-DRE-01'!$A$7:$U$301,4,FALSE))","v":""},{"$f":"IF($R341=\"\",\"\",VLOOKUP($R341,'FO-DRE-01'!$A$7:$U$301,5,FALSE))","v":""},{"$f":"IF($R341=\"\",\"\",VLOOKUP($R341,'FO-DRE-01'!$A$7:$U$301,7,FALSE))","v":""},{"$f":"IF($R341=\"\",\"\",VLOOKUP($R341,'FO-DRE-01'!$A$7:$U$301,8,FALSE))","v":""},{"$f":"IF($R341=\"\",\"\",VLOOKUP($R341,'FO-DRE-01'!$A$7:$U$301,9,FALSE))","v":""},{"$f":"IF($R341=\"\",\"\",VLOOKUP($R341,'FO-DRE-01'!$A$7:$U$301,10,FALSE))","v":""},{"$f":"IF($R341=\"\",\"\",VLOOKUP($R341,'FO-DRE-01'!$A$7:$U$301,11,FALSE))","v":""},{"$f":"IF($R341=\"\",\"\",VLOOKUP($R341,'FO-DRE-01'!$A$7:$U$301,12,FALSE))","v":""},{"$f":"IF($R341=\"\",\"\",VLOOKUP($R341,'FO-DRE-01'!$A$7:$U$301,13,FALSE))","v":""},{"$f":"IF($R341=\"\",\"\",VLOOKUP($R341,'FO-DRE-01'!$A$7:$U$301,14,FALSE))","v":""},{"$f":"IF($R341=\"\",\"\",VLOOKUP($R341,'FO-DRE-01'!$A$7:$U$301,15,FALSE))","v":""},{"$f":"IF($S341=\"\",\"\",VLOOKUP($S341,'FO-DRE-04'!$A$6:$L$301,2,FALSE))","v":""},{"$f":"IF($S341=\"\",\"\",VLOOKUP($S341,'FO-DRE-04'!$A$6:$L$301,3,FALSE))","v":""},{"$f":"IF($S341=\"\",\"\",VLOOKUP($S341,'FO-DRE-04'!$A$6:$L$301,4,FALSE))","v":""},{"$f":"IF($S341=\"\",\"\",VLOOKUP($S341,'FO-DRE-04'!$A$6:$L$301,6,FALSE))","v":""},{"$f":"IF($S341=\"\",\"\",VLOOKUP($S341,'FO-DRE-04'!$A$6:$L$301,11,FALSE))","v":""},{"$f":"IF($T341=\"\",\"\",VLOOKUP($T341,'FO-DRE-02'!$A$6:$M$101,2,FALSE))","v":""},{"$f":"IF($T341=\"\",\"\",VLOOKUP($T341,'FO-DRE-02'!$A$6:$M$101,3,FALSE))","v":""},{"$f":"IF($T341=\"\",\"\",VLOOKUP($T341,'FO-DRE-02'!$A$6:$M$101,6,FALSE))","v":""},{"$f":"IF($T341=\"\",\"\",VLOOKUP($T341,'FO-DRE-02'!$A$6:$M$101,4,FALSE))","v":""},{"$f":"IF($T341=\"\",\"\",VLOOKUP($T341,'FO-DRE-02'!$A$6:$M$101,5,FALSE))","v":""},{"$f":"IF($T341=\"\",\"\",VLOOKUP($T341,'FO-DRE-02'!$A$6:$M$101,6,FALSE))","v":""},{"$f":"IF($T341=\"\",\"\",VLOOKUP($T341,'FO-DRE-02'!$A$6:$M$101,6,FALSE))","v":""},{"$f":"IF($T341=\"\",\"\",VLOOKUP($T341,'FO-DRE-02'!$A$6:$M$101,8,FALSE))","v":""},{"$f":"IF($T341=\"\",\"\",VLOOKUP($T341,'FO-DRE-02'!$A$6:$M$101,11,FALSE))","v":""},{"$f":"IF($T341=\"\",\"\",VLOOKUP($T341,'FO-DRE-02'!$A$6:$M$101,12,FALSE))","v":""},{"$f":"IF($T341=\"\",\"\",VLOOKUP($T341,'FO-DRE-02'!$A$6:$M$101,13,FALSE))","v":""},null,null,null,332,"","F/D","F/D","","","","","","","","","","","","","","",""]
[null,null,null,null,null,null,null,null,"",{"$f":"CONCATENATE(#REF!,\"-\",\"TX\")","v":{"$error":"#REF!"}},{"$f":"CONCATENATE(#REF!,\"-\",\"RX\")","v":{"$error":"#REF!"}},null,null,null,null,0,null,null,null,null,null,{"$f":"IF($R342=\"\",\"\",VLOOKUP($R342,'FO-DRE-01'!$A$7:$U$301,18,FALSE))","v":""},{"$f":"IF($R342=\"\",\"\",VLOOKUP($R342,'FO-DRE-01'!$A$7:$U$301,16,FALSE))","v":""},{"$f":"IF($R342=\"\",\"\",VLOOKUP($R342,'FO-DRE-01'!$A$7:$U$301,17,FALSE))","v":""},{"$f":"IF($R342=\"\",\"\",VLOOKUP($R342,'FO-DRE-01'!$A$7:$U$301,3,FALSE))","v":""},{"$f":"IF($R342=\"\",\"\",VLOOKUP($R342,'FO-DRE-01'!$A$7:$U$301,4,FALSE))","v":""},{"$f":"IF($R342=\"\",\"\",VLOOKUP($R342,'FO-DRE-01'!$A$7:$U$301,5,FALSE))","v":""},{"$f":"IF($R342=\"\",\"\",VLOOKUP($R342,'FO-DRE-01'!$A$7:$U$301,7,FALSE))","v":""},{"$f":"IF($R342=\"\",\"\",VLOOKUP($R342,'FO-DRE-01'!$A$7:$U$301,8,FALSE))","v":""},{"$f":"IF($R342=\"\",\"\",VLOOKUP($R342,'FO-DRE-01'!$A$7:$U$301,9,FALSE))","v":""},{"$f":"IF($R342=\"\",\"\",VLOOKUP($R342,'FO-DRE-01'!$A$7:$U$301,10,FALSE))","v":""},{"$f":"IF($R342=\"\",\"\",VLOOKUP($R342,'FO-DRE-01'!$A$7:$U$301,11,FALSE))","v":""},{"$f":"IF($R342=\"\",\"\",VLOOKUP($R342,'FO-DRE-01'!$A$7:$U$301,12,FALSE))","v":""},{"$f":"IF($R342=\"\",\"\",VLOOKUP($R342,'FO-DRE-01'!$A$7:$U$301,13,FALSE))","v":""},{"$f":"IF($R342=\"\",\"\",VLOOKUP($R342,'FO-DRE-01'!$A$7:$U$301,14,FALSE))","v":""},{"$f":"IF($R342=\"\",\"\",VLOOKUP($R342,'FO-DRE-01'!$A$7:$U$301,15,FALSE))","v":""},{"$f":"IF($S342=\"\",\"\",VLOOKUP($S342,'FO-DRE-04'!$A$6:$L$301,2,FALSE))","v":""},{"$f":"IF($S342=\"\",\"\",VLOOKUP($S342,'FO-DRE-04'!$A$6:$L$301,3,FALSE))","v":""},{"$f":"IF($S342=\"\",\"\",VLOOKUP($S342,'FO-DRE-04'!$A$6:$L$301,4,FALSE))","v":""},{"$f":"IF($S342=\"\",\"\",VLOOKUP($S342,'FO-DRE-04'!$A$6:$L$301,6,FALSE))","v":""},{"$f":"IF($S342=\"\",\"\",VLOOKUP($S342,'FO-DRE-04'!$A$6:$L$301,11,FALSE))","v":""},{"$f":"IF($T342=\"\",\"\",VLOOKUP($T342,'FO-DRE-02'!$A$6:$M$101,2,FALSE))","v":""},{"$f":"IF($T342=\"\",\"\",VLOOKUP($T342,'FO-DRE-02'!$A$6:$M$101,3,FALSE))","v":""},{"$f":"IF($T342=\"\",\"\",VLOOKUP($T342,'FO-DRE-02'!$A$6:$M$101,6,FALSE))","v":""},{"$f":"IF($T342=\"\",\"\",VLOOKUP($T342,'FO-DRE-02'!$A$6:$M$101,4,FALSE))","v":""},{"$f":"IF($T342=\"\",\"\",VLOOKUP($T342,'FO-DRE-02'!$A$6:$M$101,5,FALSE))","v":""},{"$f":"IF($T342=\"\",\"\",VLOOKUP($T342,'FO-DRE-02'!$A$6:$M$101,6,FALSE))","v":""},{"$f":"IF($T342=\"\",\"\",VLOOKUP($T342,'FO-DRE-02'!$A$6:$M$101,6,FALSE))","v":""},{"$f":"IF($T342=\"\",\"\",VLOOKUP($T342,'FO-DRE-02'!$A$6:$M$101,8,FALSE))","v":""},{"$f":"IF($T342=\"\",\"\",VLOOKUP($T342,'FO-DRE-02'!$A$6:$M$101,11,FALSE))","v":""},{"$f":"IF($T342=\"\",\"\",VLOOKUP($T342,'FO-DRE-02'!$A$6:$M$101,12,FALSE))","v":""},{"$f":"IF($T342=\"\",\"\",VLOOKUP($T342,'FO-DRE-02'!$A$6:$M$101,13,FALSE))","v":""},null,null,null,333,"","F/D","F/D","","","","","","","","","","","","","","",""]
[null,null,null,null,null,null,null,null,"",{"$f":"CONCATENATE(#REF!,\"-\",\"TX\")","v":{"$error":"#REF!"}},{"$f":"CONCATENATE(#REF!,\"-\",\"RX\")","v":{"$error":"#REF!"}},null,null,null,null,0,null,null,null,null,null,{"$f":"IF($R343=\"\",\"\",VLOOKUP($R343,'FO-DRE-01'!$A$7:$U$301,18,FALSE))","v":""},{"$f":"IF($R343=\"\",\"\",VLOOKUP($R343,'FO-DRE-01'!$A$7:$U$301,16,FALSE))","v":""},{"$f":"IF($R343=\"\",\"\",VLOOKUP($R343,'FO-DRE-01'!$A$7:$U$301,17,FALSE))","v":""},{"$f":"IF($R343=\"\",\"\",VLOOKUP($R343,'FO-DRE-01'!$A$7:$U$301,3,FALSE))","v":""},{"$f":"IF($R343=\"\",\"\",VLOOKUP($R343,'FO-DRE-01'!$A$7:$U$301,4,FALSE))","v":""},{"$f":"IF($R343=\"\",\"\",VLOOKUP($R343,'FO-DRE-01'!$A$7:$U$301,5,FALSE))","v":""},{"$f":"IF($R343=\"\",\"\",VLOOKUP($R343,'FO-DRE-01'!$A$7:$U$301,7,FALSE))","v":""},{"$f":"IF($R343=\"\",\"\",VLOOKUP($R343,'FO-DRE-01'!$A$7:$U$301,8,FALSE))","v":""},{"$f":"IF($R343=\"\",\"\",VLOOKUP($R343,'FO-DRE-01'!$A$7:$U$301,9,FALSE))","v":""},{"$f":"IF($R343=\"\",\"\",VLOOKUP($R343,'FO-DRE-01'!$A$7:$U$301,10,FALSE))","v":""},{"$f":"IF($R343=\"\",\"\",VLOOKUP($R343,'FO-DRE-01'!$A$7:$U$301,11,FALSE))","v":""},{"$f":"IF($R343=\"\",\"\",VLOOKUP($R343,'FO-DRE-01'!$A$7:$U$301,12,FALSE))","v":""},{"$f":"IF($R343=\"\",\"\",VLOOKUP($R343,'FO-DRE-01'!$A$7:$U$301,13,FALSE))","v":""},{"$f":"IF($R343=\"\",\"\",VLOOKUP($R343,'FO-DRE-01'!$A$7:$U$301,14,FALSE))","v":""},{"$f":"IF($R343=\"\",\"\",VLOOKUP($R343,'FO-DRE-01'!$A$7:$U$301,15,FALSE))","v":""},{"$f":"IF($S343=\"\",\"\",VLOOKUP($S343,'FO-DRE-04'!$A$6:$L$301,2,FALSE))","v":""},{"$f":"IF($S343=\"\",\"\",VLOOKUP($S343,'FO-DRE-04'!$A$6:$L$301,3,FALSE))","v":""},{"$f":"IF($S343=\"\",\"\",VLOOKUP($S343,'FO-DRE-04'!$A$6:$L$301,4,FALSE))","v":""},{"$f":"IF($S343=\"\",\"\",VLOOKUP($S343,'FO-DRE-04'!$A$6:$L$301,6,FALSE))","v":""},{"$f":"IF($S343=\"\",\"\",VLOOKUP($S343,'FO-DRE-04'!$A$6:$L$301,11,FALSE))","v":""},{"$f":"IF($T343=\"\",\"\",VLOOKUP($T343,'FO-DRE-02'!$A$6:$M$101,2,FALSE))","v":""},{"$f":"IF($T343=\"\",\"\",VLOOKUP($T343,'FO-DRE-02'!$A$6:$M$101,3,FALSE))","v":""},{"$f":"IF($T343=\"\",\"\",VLOOKUP($T343,'FO-DRE-02'!$A$6:$M$101,6,FALSE))","v":""},{"$f":"IF($T343=\"\",\"\",VLOOKUP($T343,'FO-DRE-02'!$A$6:$M$101,4,FALSE))","v":""},{"$f":"IF($T343=\"\",\"\",VLOOKUP($T343,'FO-DRE-02'!$A$6:$M$101,5,FALSE))","v":""},{"$f":"IF($T343=\"\",\"\",VLOOKUP($T343,'FO-DRE-02'!$A$6:$M$101,6,FALSE))","v":""},{"$f":"IF($T343=\"\",\"\",VLOOKUP($T343,'FO-DRE-02'!$A$6:$M$101,6,FALSE))","v":""},{"$f":"IF($T343=\"\",\"\",VLOOKUP($T343,'FO-DRE-02'!$A$6:$M$101,8,FALSE))","v":""},{"$f":"IF($T343=\"\",\"\",VLOOKUP($T343,'FO-DRE-02'!$A$6:$M$101,11,FALSE))","v":""},{"$f":"IF($T343=\"\",\"\",VLOOKUP($T343,'FO-DRE-02'!$A$6:$M$101,12,FALSE))","v":""},{"$f":"IF($T343=\"\",\"\",VLOOKUP($T343,'FO-DRE-02'!$A$6:$M$101,13,FALSE))","v":""},null,null,null,334,"","F/D","F/D","","","","","","","","","","","","","","",""]
[null,null,null,null,null,null,null,null,"",{"$f":"CONCATENATE(#REF!,\"-\",\"TX\")","v":{"$error":"#REF!"}},{"$f":"CONCATENATE(#REF!,\"-\",\"RX\")","v":{"$error":"#REF!"}},null,null,null,null,0,null,null,null,null,null,{"$f":"IF($R344=\"\",\"\",VLOOKUP($R344,'FO-DRE-01'!$A$7:$U$301,18,FALSE))","v":""},{"$f":"IF($R344=\"\",\"\",VLOOKUP($R344,'FO-DRE-01'!$A$7:$U$301,16,FALSE))","v":""},{"$f":"IF($R344=\"\",\"\",VLOOKUP($R344,'FO-DRE-01'!$A$7:$U$301,17,FALSE))","v":""},{"$f":"IF($R344=\"\",\"\",VLOOKUP($R344,'FO-DRE-01'!$A$7:$U$301,3,FALSE))","v":""},{"$f":"IF($R344=\"\",\"\",VLOOKUP($R344,'FO-DRE-01'!$A$7:$U$301,4,FALSE))","v":""},{"$f":"IF($R344=\"\",\"\",VLOOKUP($R344,'FO-DRE-01'!$A$7:$U$301,5,FALSE))","v":""},{"$f":"IF($R344=\"\",\"\",VLOOKUP($R344,'FO-DRE-01'!$A$7:$U$301,7,FALSE))","v":""},{"$f":"IF($R344=\"\",\"\",VLOOKUP($R344,'FO-DRE-01'!$A$7:$U$301,8,FALSE))","v":""},{"$f":"IF($R344=\"\",\"\",VLOOKUP($R344,'FO-DRE-01'!$A$7:$U$301,9,FALSE))","v":""},{"$f":"IF($R344=\"\",\"\",VLOOKUP($R344,'FO-DRE-01'!$A$7:$U$301,10,FALSE))","v":""},{"$f":"IF($R344=\"\",\"\",VLOOKUP($R344,'FO-DRE-01'!$A$7:$U$301,11,FALSE))","v":""},{"$f":"IF($R344=\"\",\"\",VLOOKUP($R344,'FO-DRE-01'!$A$7:$U$301,12,FALSE))","v":""},{"$f":"IF($R344=\"\",\"\",VLOOKUP($R344,'FO-DRE-01'!$A$7:$U$301,13,FALSE))","v":""},{"$f":"IF($R344=\"\",\"\",VLOOKUP($R344,'FO-DRE-01'!$A$7:$U$301,14,FALSE))","v":""},{"$f":"IF($R344=\"\",\"\",VLOOKUP($R344,'FO-DRE-01'!$A$7:$U$301,15,FALSE))","v":""},{"$f":"IF($S344=\"\",\"\",VLOOKUP($S344,'FO-DRE-04'!$A$6:$L$301,2,FALSE))","v":""},{"$f":"IF($S344=\"\",\"\",VLOOKUP($S344,'FO-DRE-04'!$A$6:$L$301,3,FALSE))","v":""},{"$f":"IF($S344=\"\",\"\",VLOOKUP($S344,'FO-DRE-04'!$A$6:$L$301,4,FALSE))","v":""},{"$f":"IF($S344=\"\",\"\",VLOOKUP($S344,'FO-DRE-04'!$A$6:$L$301,6,FALSE))","v":""},{"$f":"IF($S344=\"\",\"\",VLOOKUP($S344,'FO-DRE-04'!$A$6:$L$301,11,FALSE))","v":""},{"$f":"IF($T344=\"\",\"\",VLOOKUP($T344,'FO-DRE-02'!$A$6:$M$101,2,FALSE))","v":""},{"$f":"IF($T344=\"\",\"\",VLOOKUP($T344,'FO-DRE-02'!$A$6:$M$101,3,FALSE))","v":""},{"$f":"IF($T344=\"\",\"\",VLOOKUP($T344,'FO-DRE-02'!$A$6:$M$101,6,FALSE))","v":""},{"$f":"IF($T344=\"\",\"\",VLOOKUP($T344,'FO-DRE-02'!$A$6:$M$101,4,FALSE))","v":""},{"$f":"IF($T344=\"\",\"\",VLOOKUP($T344,'FO-DRE-02'!$A$6:$M$101,5,FALSE))","v":""},{"$f":"IF($T344=\"\",\"\",VLOOKUP($T344,'FO-DRE-02'!$A$6:$M$101,6,FALSE))","v":""},{"$f":"IF($T344=\"\",\"\",VLOOKUP($T344,'FO-DRE-02'!$A$6:$M$101,6,FALSE))","v":""},{"$f":"IF($T344=\"\",\"\",VLOOKUP($T344,'FO-DRE-02'!$A$6:$M$101,8,FALSE))","v":""},{"$f":"IF($T344=\"\",\"\",VLOOKUP($T344,'FO-DRE-02'!$A$6:$M$101,11,FALSE))","v":""},{"$f":"IF($T344=\"\",\"\",VLOOKUP($T344,'FO-DRE-02'!$A$6:$M$101,12,FALSE))","v":""},{"$f":"IF($T344=\"\",\"\",VLOOKUP($T344,'FO-DRE-02'!$A$6:$M$101,13,FALSE))","v":""},null,null,null,335,"","F/D","F/D","","","","","","","","","","","","","","",""]
[null,null,null,null,null,null,null,null,"",{"$f":"CONCATENATE(#REF!,\"-\",\"TX\")","v":{"$error":"#REF!"}},{"$f":"CONCATENATE(#REF!,\"-\",\"RX\")","v":{"$error":"#REF!"}},null,null,null,null,0,null,null,null,null,null,{"$f":"IF($R345=\"\",\"\",VLOOKUP($R345,'FO-DRE-01'!$A$7:$U$301,18,FALSE))","v":""},{"$f":"IF($R345=\"\",\"\",VLOOKUP($R345,'FO-DRE-01'!$A$7:$U$301,16,FALSE))","v":""},{"$f":"IF($R345=\"\",\"\",VLOOKUP($R345,'FO-DRE-01'!$A$7:$U$301,17,FALSE))","v":""},{"$f":"IF($R345=\"\",\"\",VLOOKUP($R345,'FO-DRE-01'!$A$7:$U$301,3,FALSE))","v":""},{"$f":"IF($R345=\"\",\"\",VLOOKUP($R345,'FO-DRE-01'!$A$7:$U$301,4,FALSE))","v":""},{"$f":"IF($R345=\"\",\"\",VLOOKUP($R345,'FO-DRE-01'!$A$7:$U$301,5,FALSE))","v":""},{"$f":"IF($R345=\"\",\"\",VLOOKUP($R345,'FO-DRE-01'!$A$7:$U$301,7,FALSE))","v":""},{"$f":"IF($R345=\"\",\"\",VLOOKUP($R345,'FO-DRE-01'!$A$7:$U$301,8,FALSE))","v":""},{"$f":"IF($R345=\"\",\"\",VLOOKUP($R345,'FO-DRE-01'!$A$7:$U$301,9,FALSE))","v":""},{"$f":"IF($R345=\"\",\"\",VLOOKUP($R345,'FO-DRE-01'!$A$7:$U$301,10,FALSE))","v":""},{"$f":"IF($R345=\"\",\"\",VLOOKUP($R345,'FO-DRE-01'!$A$7:$U$301,11,FALSE))","v":""},{"$f":"IF($R345=\"\",\"\",VLOOKUP($R345,'FO-DRE-01'!$A$7:$U$301,12,FALSE))","v":""},{"$f":"IF($R345=\"\",\"\",VLOOKUP($R345,'FO-DRE-01'!$A$7:$U$301,13,FALSE))","v":""},{"$f":"IF($R345=\"\",\"\",VLOOKUP($R345,'FO-DRE-01'!$A$7:$U$301,14,FALSE))","v":""},{"$f":"IF($R345=\"\",\"\",VLOOKUP($R345,'FO-DRE-01'!$A$7:$U$301,15,FALSE))","v":""},{"$f":"IF($S345=\"\",\"\",VLOOKUP($S345,'FO-DRE-04'!$A$6:$L$301,2,FALSE))","v":""},{"$f":"IF($S345=\"\",\"\",VLOOKUP($S345,'FO-DRE-04'!$A$6:$L$301,3,FALSE))","v":""},{"$f":"IF($S345=\"\",\"\",VLOOKUP($S345,'FO-DRE-04'!$A$6:$L$301,4,FALSE))","v":""},{"$f":"IF($S345=\"\",\"\",VLOOKUP($S345,'FO-DRE-04'!$A$6:$L$301,6,FALSE))","v":""},{"$f":"IF($S345=\"\",\"\",VLOOKUP($S345,'FO-DRE-04'!$A$6:$L$301,11,FALSE))","v":""},{"$f":"IF($T345=\"\",\"\",VLOOKUP($T345,'FO-DRE-02'!$A$6:$M$101,2,FALSE))","v":""},{"$f":"IF($T345=\"\",\"\",VLOOKUP($T345,'FO-DRE-02'!$A$6:$M$101,3,FALSE))","v":""},{"$f":"IF($T345=\"\",\"\",VLOOKUP($T345,'FO-DRE-02'!$A$6:$M$101,6,FALSE))","v":""},{"$f":"IF($T345=\"\",\"\",VLOOKUP($T345,'FO-DRE-02'!$A$6:$M$101,4,FALSE))","v":""},{"$f":"IF($T345=\"\",\"\",VLOOKUP($T345,'FO-DRE-02'!$A$6:$M$101,5,FALSE))","v":""},{"$f":"IF($T345=\"\",\"\",VLOOKUP($T345,'FO-DRE-02'!$A$6:$M$101,6,FALSE))","v":""},{"$f":"IF($T345=\"\",\"\",VLOOKUP($T345,'FO-DRE-02'!$A$6:$M$101,6,FALSE))","v":""},{"$f":"IF($T345=\"\",\"\",VLOOKUP($T345,'FO-DRE-02'!$A$6:$M$101,8,FALSE))","v":""},{"$f":"IF($T345=\"\",\"\",VLOOKUP($T345,'FO-DRE-02'!$A$6:$M$101,11,FALSE))","v":""},{"$f":"IF($T345=\"\",\"\",VLOOKUP($T345,'FO-DRE-02'!$A$6:$M$101,12,FALSE))","v":""},{"$f":"IF($T345=\"\",\"\",VLOOKUP($T345,'FO-DRE-02'!$A$6:$M$101,13,FALSE))","v":""},null,null,null,336,"","F/D","F/D","","","","","","","","","","","","","","",""]
[null,null,null,null,null,null,null,null,"",{"$f":"CONCATENATE(#REF!,\"-\",\"TX\")","v":{"$error":"#REF!"}},{"$f":"CONCATENATE(#REF!,\"-\",\"RX\")","v":{"$error":"#REF!"}},null,null,null,null,0,null,null,null,null,null,{"$f":"IF($R346=\"\",\"\",VLOOKUP($R346,'FO-DRE-01'!$A$7:$U$301,18,FALSE))","v":""},{"$f":"IF($R346=\"\",\"\",VLOOKUP($R346,'FO-DRE-01'!$A$7:$U$301,16,FALSE))","v":""},{"$f":"IF($R346=\"\",\"\",VLOOKUP($R346,'FO-DRE-01'!$A$7:$U$301,17,FALSE))","v":""},{"$f":"IF($R346=\"\",\"\",VLOOKUP($R346,'FO-DRE-01'!$A$7:$U$301,3,FALSE))","v":""},{"$f":"IF($R346=\"\",\"\",VLOOKUP($R346,'FO-DRE-01'!$A$7:$U$301,4,FALSE))","v":""},{"$f":"IF($R346=\"\",\"\",VLOOKUP($R346,'FO-DRE-01'!$A$7:$U$301,5,FALSE))","v":""},{"$f":"IF($R346=\"\",\"\",VLOOKUP($R346,'FO-DRE-01'!$A$7:$U$301,7,FALSE))","v":""},{"$f":"IF($R346=\"\",\"\",VLOOKUP($R346,'FO-DRE-01'!$A$7:$U$301,8,FALSE))","v":""},{"$f":"IF($R346=\"\",\"\",VLOOKUP($R346,'FO-DRE-01'!$A$7:$U$301,9,FALSE))","v":""},{"$f":"IF($R346=\"\",\"\",VLOOKUP($R346,'FO-DRE-01'!$A$7:$U$301,10,FALSE))","v":""},{"$f":"IF($R346=\"\",\"\",VLOOKUP($R346,'FO-DRE-01'!$A$7:$U$301,11,FALSE))","v":""},{"$f":"IF($R346=\"\",\"\",VLOOKUP($R346,'FO-DRE-01'!$A$7:$U$301,12,FALSE))","v":""},{"$f":"IF($R346=\"\",\"\",VLOOKUP($R346,'FO-DRE-01'!$A$7:$U$301,13,FALSE))","v":""},{"$f":"IF($R346=\"\",\"\",VLOOKUP($R346,'FO-DRE-01'!$A$7:$U$301,14,FALSE))","v":""},{"$f":"IF($R346=\"\",\"\",VLOOKUP($R346,'FO-DRE-01'!$A$7:$U$301,15,FALSE))","v":""},{"$f":"IF($S346=\"\",\"\",VLOOKUP($S346,'FO-DRE-04'!$A$6:$L$301,2,FALSE))","v":""},{"$f":"IF($S346=\"\",\"\",VLOOKUP($S346,'FO-DRE-04'!$A$6:$L$301,3,FALSE))","v":""},{"$f":"IF($S346=\"\",\"\",VLOOKUP($S346,'FO-DRE-04'!$A$6:$L$301,4,FALSE))","v":""},{"$f":"IF($S346=\"\",\"\",VLOOKUP($S346,'FO-DRE-04'!$A$6:$L$301,6,FALSE))","v":""},{"$f":"IF($S346=\"\",\"\",VLOOKUP($S346,'FO-DRE-04'!$A$6:$L$301,11,FALSE))","v":""},{"$f":"IF($T346=\"\",\"\",VLOOKUP($T346,'FO-DRE-02'!$A$6:$M$101,2,FALSE))","v":""},{"$f":"IF($T346=\"\",\"\",VLOOKUP($T346,'FO-DRE-02'!$A$6:$M$101,3,FALSE))","v":""},{"$f":"IF($T346=\"\",\"\",VLOOKUP($T346,'FO-DRE-02'!$A$6:$M$101,6,FALSE))","v":""},{"$f":"IF($T346=\"\",\"\",VLOOKUP($T346,'FO-DRE-02'!$A$6:$M$101,4,FALSE))","v":""},{"$f":"IF($T346=\"\",\"\",VLOOKUP($T346,'FO-DRE-02'!$A$6:$M$101,5,FALSE))","v":""},{"$f":"IF($T346=\"\",\"\",VLOOKUP($T346,'FO-DRE-02'!$A$6:$M$101,6,FALSE))","v":""},{"$f":"IF($T346=\"\",\"\",VLOOKUP($T346,'FO-DRE-02'!$A$6:$M$101,6,FALSE))","v":""},{"$f":"IF($T346=\"\",\"\",VLOOKUP($T346,'FO-DRE-02'!$A$6:$M$101,8,FALSE))","v":""},{"$f":"IF($T346=\"\",\"\",VLOOKUP($T346,'FO-DRE-02'!$A$6:$M$101,11,FALSE))","v":""},{"$f":"IF($T346=\"\",\"\",VLOOKUP($T346,'FO-DRE-02'!$A$6:$M$101,12,FALSE))","v":""},{"$f":"IF($T346=\"\",\"\",VLOOKUP($T346,'FO-DRE-02'!$A$6:$M$101,13,FALSE))","v":""},null,null,null,337,"","F/D","F/D","","","","","","","","","","","","","","",""]
[null,null,null,null,null,null,null,null,"",{"$f":"CONCATENATE(#REF!,\"-\",\"TX\")","v":{"$error":"#REF!"}},{"$f":"CONCATENATE(#REF!,\"-\",\"RX\")","v":{"$error":"#REF!"}},null,null,null,null,0,null,null,null,null,null,{"$f":"IF($R347=\"\",\"\",VLOOKUP($R347,'FO-DRE-01'!$A$7:$U$301,18,FALSE))","v":""},{"$f":"IF($R347=\"\",\"\",VLOOKUP($R347,'FO-DRE-01'!$A$7:$U$301,16,FALSE))","v":""},{"$f":"IF($R347=\"\",\"\",VLOOKUP($R347,'FO-DRE-01'!$A$7:$U$301,17,FALSE))","v":""},{"$f":"IF($R347=\"\",\"\",VLOOKUP($R347,'FO-DRE-01'!$A$7:$U$301,3,FALSE))","v":""},{"$f":"IF($R347=\"\",\"\",VLOOKUP($R347,'FO-DRE-01'!$A$7:$U$301,4,FALSE))","v":""},{"$f":"IF($R347=\"\",\"\",VLOOKUP($R347,'FO-DRE-01'!$A$7:$U$301,5,FALSE))","v":""},{"$f":"IF($R347=\"\",\"\",VLOOKUP($R347,'FO-DRE-01'!$A$7:$U$301,7,FALSE))","v":""},{"$f":"IF($R347=\"\",\"\",VLOOKUP($R347,'FO-DRE-01'!$A$7:$U$301,8,FALSE))","v":""},{"$f":"IF($R347=\"\",\"\",VLOOKUP($R347,'FO-DRE-01'!$A$7:$U$301,9,FALSE))","v":""},{"$f":"IF($R347=\"\",\"\",VLOOKUP($R347,'FO-DRE-01'!$A$7:$U$301,10,FALSE))","v":""},{"$f":"IF($R347=\"\",\"\",VLOOKUP($R347,'FO-DRE-01'!$A$7:$U$301,11,FALSE))","v":""},{"$f":"IF($R347=\"\",\"\",VLOOKUP($R347,'FO-DRE-01'!$A$7:$U$301,12,FALSE))","v":""},{"$f":"IF($R347=\"\",\"\",VLOOKUP($R347,'FO-DRE-01'!$A$7:$U$301,13,FALSE))","v":""},{"$f":"IF($R347=\"\",\"\",VLOOKUP($R347,'FO-DRE-01'!$A$7:$U$301,14,FALSE))","v":""},{"$f":"IF($R347=\"\",\"\",VLOOKUP($R347,'FO-DRE-01'!$A$7:$U$301,15,FALSE))","v":""},{"$f":"IF($S347=\"\",\"\",VLOOKUP($S347,'FO-DRE-04'!$A$6:$L$301,2,FALSE))","v":""},{"$f":"IF($S347=\"\",\"\",VLOOKUP($S347,'FO-DRE-04'!$A$6:$L$301,3,FALSE))","v":""},{"$f":"IF($S347=\"\",\"\",VLOOKUP($S347,'FO-DRE-04'!$A$6:$L$301,4,FALSE))","v":""},{"$f":"IF($S347=\"\",\"\",VLOOKUP($S347,'FO-DRE-04'!$A$6:$L$301,6,FALSE))","v":""},{"$f":"IF($S347=\"\",\"\",VLOOKUP($S347,'FO-DRE-04'!$A$6:$L$301,11,FALSE))","v":""},{"$f":"IF($T347=\"\",\"\",VLOOKUP($T347,'FO-DRE-02'!$A$6:$M$101,2,FALSE))","v":""},{"$f":"IF($T347=\"\",\"\",VLOOKUP($T347,'FO-DRE-02'!$A$6:$M$101,3,FALSE))","v":""},{"$f":"IF($T347=\"\",\"\",VLOOKUP($T347,'FO-DRE-02'!$A$6:$M$101,6,FALSE))","v":""},{"$f":"IF($T347=\"\",\"\",VLOOKUP($T347,'FO-DRE-02'!$A$6:$M$101,4,FALSE))","v":""},{"$f":"IF($T347=\"\",\"\",VLOOKUP($T347,'FO-DRE-02'!$A$6:$M$101,5,FALSE))","v":""},{"$f":"IF($T347=\"\",\"\",VLOOKUP($T347,'FO-DRE-02'!$A$6:$M$101,6,FALSE))","v":""},{"$f":"IF($T347=\"\",\"\",VLOOKUP($T347,'FO-DRE-02'!$A$6:$M$101,6,FALSE))","v":""},{"$f":"IF($T347=\"\",\"\",VLOOKUP($T347,'FO-DRE-02'!$A$6:$M$101,8,FALSE))","v":""},{"$f":"IF($T347=\"\",\"\",VLOOKUP($T347,'FO-DRE-02'!$A$6:$M$101,11,FALSE))","v":""},{"$f":"IF($T347=\"\",\"\",VLOOKUP($T347,'FO-DRE-02'!$A$6:$M$101,12,FALSE))","v":""},{"$f":"IF($T347=\"\",\"\",VLOOKUP($T347,'FO-DRE-02'!$A$6:$M$101,13,FALSE))","v":""},null,null,null,338,"","F/D","F/D","","","","","","","","","","","","","","",""]
[null,null,null,null,null,null,null,null,"",{"$f":"CONCATENATE(#REF!,\"-\",\"TX\")","v":{"$error":"#REF!"}},{"$f":"CONCATENATE(#REF!,\"-\",\"RX\")","v":{"$error":"#REF!"}},null,null,null,null,0,null,null,null,null,null,{"$f":"IF($R348=\"\",\"\",VLOOKUP($R348,'FO-DRE-01'!$A$7:$U$301,18,FALSE))","v":""},{"$f":"IF($R348=\"\",\"\",VLOOKUP($R348,'FO-DRE-01'!$A$7:$U$301,16,FALSE))","v":""},{"$f":"IF($R348=\"\",\"\",VLOOKUP($R348,'FO-DRE-01'!$A$7:$U$301,17,FALSE))","v":""},{"$f":"IF($R348=\"\",\"\",VLOOKUP($R348,'FO-DRE-01'!$A$7:$U$301,3,FALSE))","v":""},{"$f":"IF($R348=\"\",\"\",VLOOKUP($R348,'FO-DRE-01'!$A$7:$U$301,4,FALSE))","v":""},{"$f":"IF($R348=\"\",\"\",VLOOKUP($R348,'FO-DRE-01'!$A$7:$U$301,5,FALSE))","v":""},{"$f":"IF($R348=\"\",\"\",VLOOKUP($R348,'FO-DRE-01'!$A$7:$U$301,7,FALSE))","v":""},{"$f":"IF($R348=\"\",\"\",VLOOKUP($R348,'FO-DRE-01'!$A$7:$U$301,8,FALSE))","v":""},{"$f":"IF($R348=\"\",\"\",VLOOKUP($R348,'FO-DRE-01'!$A$7:$U$301,9,FALSE))","v":""},{"$f":"IF($R348=\"\",\"\",VLOOKUP($R348,'FO-DRE-01'!$A$7:$U$301,10,FALSE))","v":""},{"$f":"IF($R348=\"\",\"\",VLOOKUP($R348,'FO-DRE-01'!$A$7:$U$301,11,FALSE))","v":""},{"$f":"IF($R348=\"\",\"\",VLOOKUP($R348,'FO-DRE-01'!$A$7:$U$301,12,FALSE))","v":""},{"$f":"IF($R348=\"\",\"\",VLOOKUP($R348,'FO-DRE-01'!$A$7:$U$301,13,FALSE))","v":""},{"$f":"IF($R348=\"\",\"\",VLOOKUP($R348,'FO-DRE-01'!$A$7:$U$301,14,FALSE))","v":""},{"$f":"IF($R348=\"\",\"\",VLOOKUP($R348,'FO-DRE-01'!$A$7:$U$301,15,FALSE))","v":""},{"$f":"IF($S348=\"\",\"\",VLOOKUP($S348,'FO-DRE-04'!$A$6:$L$301,2,FALSE))","v":""},{"$f":"IF($S348=\"\",\"\",VLOOKUP($S348,'FO-DRE-04'!$A$6:$L$301,3,FALSE))","v":""},{"$f":"IF($S348=\"\",\"\",VLOOKUP($S348,'FO-DRE-04'!$A$6:$L$301,4,FALSE))","v":""},{"$f":"IF($S348=\"\",\"\",VLOOKUP($S348,'FO-DRE-04'!$A$6:$L$301,6,FALSE))","v":""},{"$f":"IF($S348=\"\",\"\",VLOOKUP($S348,'FO-DRE-04'!$A$6:$L$301,11,FALSE))","v":""},{"$f":"IF($T348=\"\",\"\",VLOOKUP($T348,'FO-DRE-02'!$A$6:$M$101,2,FALSE))","v":""},{"$f":"IF($T348=\"\",\"\",VLOOKUP($T348,'FO-DRE-02'!$A$6:$M$101,3,FALSE))","v":""},{"$f":"IF($T348=\"\",\"\",VLOOKUP($T348,'FO-DRE-02'!$A$6:$M$101,6,FALSE))","v":""},{"$f":"IF($T348=\"\",\"\",VLOOKUP($T348,'FO-DRE-02'!$A$6:$M$101,4,FALSE))","v":""},{"$f":"IF($T348=\"\",\"\",VLOOKUP($T348,'FO-DRE-02'!$A$6:$M$101,5,FALSE))","v":""},{"$f":"IF($T348=\"\",\"\",VLOOKUP($T348,'FO-DRE-02'!$A$6:$M$101,6,FALSE))","v":""},{"$f":"IF($T348=\"\",\"\",VLOOKUP($T348,'FO-DRE-02'!$A$6:$M$101,6,FALSE))","v":""},{"$f":"IF($T348=\"\",\"\",VLOOKUP($T348,'FO-DRE-02'!$A$6:$M$101,8,FALSE))","v":""},{"$f":"IF($T348=\"\",\"\",VLOOKUP($T348,'FO-DRE-02'!$A$6:$M$101,11,FALSE))","v":""},{"$f":"IF($T348=\"\",\"\",VLOOKUP($T348,'FO-DRE-02'!$A$6:$M$101,12,FALSE))","v":""},{"$f":"IF($T348=\"\",\"\",VLOOKUP($T348,'FO-DRE-02'!$A$6:$M$101,13,FALSE))","v":""},null,null,null,339,"","F/D","F/D","","","","","","","","","","","","","","",""]
[null,null,null,null,null,null,null,null,"",{"$f":"CONCATENATE(#REF!,\"-\",\"TX\")","v":{"$error":"#REF!"}},{"$f":"CONCATENATE(#REF!,\"-\",\"RX\")","v":{"$error":"#REF!"}},null,null,null,null,0,null,null,null,null,null,{"$f":"IF($R349=\"\",\"\",VLOOKUP($R349,'FO-DRE-01'!$A$7:$U$301,18,FALSE))","v":""},{"$f":"IF($R349=\"\",\"\",VLOOKUP($R349,'FO-DRE-01'!$A$7:$U$301,16,FALSE))","v":""},{"$f":"IF($R349=\"\",\"\",VLOOKUP($R349,'FO-DRE-01'!$A$7:$U$301,17,FALSE))","v":""},{"$f":"IF($R349=\"\",\"\",VLOOKUP($R349,'FO-DRE-01'!$A$7:$U$301,3,FALSE))","v":""},{"$f":"IF($R349=\"\",\"\",VLOOKUP($R349,'FO-DRE-01'!$A$7:$U$301,4,FALSE))","v":""},{"$f":"IF($R349=\"\",\"\",VLOOKUP($R349,'FO-DRE-01'!$A$7:$U$301,5,FALSE))","v":""},{"$f":"IF($R349=\"\",\"\",VLOOKUP($R349,'FO-DRE-01'!$A$7:$U$301,7,FALSE))","v":""},{"$f":"IF($R349=\"\",\"\",VLOOKUP($R349,'FO-DRE-01'!$A$7:$U$301,8,FALSE))","v":""},{"$f":"IF($R349=\"\",\"\",VLOOKUP($R349,'FO-DRE-01'!$A$7:$U$301,9,FALSE))","v":""},{"$f":"IF($R349=\"\",\"\",VLOOKUP($R349,'FO-DRE-01'!$A$7:$U$301,10,FALSE))","v":""},{"$f":"IF($R349=\"\",\"\",VLOOKUP($R349,'FO-DRE-01'!$A$7:$U$301,11,FALSE))","v":""},{"$f":"IF($R349=\"\",\"\",VLOOKUP($R349,'FO-DRE-01'!$A$7:$U$301,12,FALSE))","v":""},{"$f":"IF($R349=\"\",\"\",VLOOKUP($R349,'FO-DRE-01'!$A$7:$U$301,13,FALSE))","v":""},{"$f":"IF($R349=\"\",\"\",VLOOKUP($R349,'FO-DRE-01'!$A$7:$U$301,14,FALSE))","v":""},{"$f":"IF($R349=\"\",\"\",VLOOKUP($R349,'FO-DRE-01'!$A$7:$U$301,15,FALSE))","v":""},{"$f":"IF($S349=\"\",\"\",VLOOKUP($S349,'FO-DRE-04'!$A$6:$L$301,2,FALSE))","v":""},{"$f":"IF($S349=\"\",\"\",VLOOKUP($S349,'FO-DRE-04'!$A$6:$L$301,3,FALSE))","v":""},{"$f":"IF($S349=\"\",\"\",VLOOKUP($S349,'FO-DRE-04'!$A$6:$L$301,4,FALSE))","v":""},{"$f":"IF($S349=\"\",\"\",VLOOKUP($S349,'FO-DRE-04'!$A$6:$L$301,6,FALSE))","v":""},{"$f":"IF($S349=\"\",\"\",VLOOKUP($S349,'FO-DRE-04'!$A$6:$L$301,11,FALSE))","v":""},{"$f":"IF($T349=\"\",\"\",VLOOKUP($T349,'FO-DRE-02'!$A$6:$M$101,2,FALSE))","v":""},{"$f":"IF($T349=\"\",\"\",VLOOKUP($T349,'FO-DRE-02'!$A$6:$M$101,3,FALSE))","v":""},{"$f":"IF($T349=\"\",\"\",VLOOKUP($T349,'FO-DRE-02'!$A$6:$M$101,6,FALSE))","v":""},{"$f":"IF($T349=\"\",\"\",VLOOKUP($T349,'FO-DRE-02'!$A$6:$M$101,4,FALSE))","v":""},{"$f":"IF($T349=\"\",\"\",VLOOKUP($T349,'FO-DRE-02'!$A$6:$M$101,5,FALSE))","v":""},{"$f":"IF($T349=\"\",\"\",VLOOKUP($T349,'FO-DRE-02'!$A$6:$M$101,6,FALSE))","v":""},{"$f":"IF($T349=\"\",\"\",VLOOKUP($T349,'FO-DRE-02'!$A$6:$M$101,6,FALSE))","v":""},{"$f":"IF($T349=\"\",\"\",VLOOKUP($T349,'FO-DRE-02'!$A$6:$M$101,8,FALSE))","v":""},{"$f":"IF($T349=\"\",\"\",VLOOKUP($T349,'FO-DRE-02'!$A$6:$M$101,11,FALSE))","v":""},{"$f":"IF($T349=\"\",\"\",VLOOKUP($T349,'FO-DRE-02'!$A$6:$M$101,12,FALSE))","v":""},{"$f":"IF($T349=\"\",\"\",VLOOKUP($T349,'FO-DRE-02'!$A$6:$M$101,13,FALSE))","v":""},null,null,null,340,"","F/D","F/D","","","","","","","","","","","","","","",""]
[null,null,null,null,null,null,null,null,"",{"$f":"CONCATENATE(#REF!,\"-\",\"TX\")","v":{"$error":"#REF!"}},{"$f":"CONCATENATE(#REF!,\"-\",\"RX\")","v":{"$error":"#REF!"}},null,null,null,null,0,null,null,null,null,null,{"$f":"IF($R350=\"\",\"\",VLOOKUP($R350,'FO-DRE-01'!$A$7:$U$301,18,FALSE))","v":""},{"$f":"IF($R350=\"\",\"\",VLOOKUP($R350,'FO-DRE-01'!$A$7:$U$301,16,FALSE))","v":""},{"$f":"IF($R350=\"\",\"\",VLOOKUP($R350,'FO-DRE-01'!$A$7:$U$301,17,FALSE))","v":""},{"$f":"IF($R350=\"\",\"\",VLOOKUP($R350,'FO-DRE-01'!$A$7:$U$301,3,FALSE))","v":""},{"$f":"IF($R350=\"\",\"\",VLOOKUP($R350,'FO-DRE-01'!$A$7:$U$301,4,FALSE))","v":""},{"$f":"IF($R350=\"\",\"\",VLOOKUP($R350,'FO-DRE-01'!$A$7:$U$301,5,FALSE))","v":""},{"$f":"IF($R350=\"\",\"\",VLOOKUP($R350,'FO-DRE-01'!$A$7:$U$301,7,FALSE))","v":""},{"$f":"IF($R350=\"\",\"\",VLOOKUP($R350,'FO-DRE-01'!$A$7:$U$301,8,FALSE))","v":""},{"$f":"IF($R350=\"\",\"\",VLOOKUP($R350,'FO-DRE-01'!$A$7:$U$301,9,FALSE))","v":""},{"$f":"IF($R350=\"\",\"\",VLOOKUP($R350,'FO-DRE-01'!$A$7:$U$301,10,FALSE))","v":""},{"$f":"IF($R350=\"\",\"\",VLOOKUP($R350,'FO-DRE-01'!$A$7:$U$301,11,FALSE))","v":""},{"$f":"IF($R350=\"\",\"\",VLOOKUP($R350,'FO-DRE-01'!$A$7:$U$301,12,FALSE))","v":""},{"$f":"IF($R350=\"\",\"\",VLOOKUP($R350,'FO-DRE-01'!$A$7:$U$301,13,FALSE))","v":""},{"$f":"IF($R350=\"\",\"\",VLOOKUP($R350,'FO-DRE-01'!$A$7:$U$301,14,FALSE))","v":""},{"$f":"IF($R350=\"\",\"\",VLOOKUP($R350,'FO-DRE-01'!$A$7:$U$301,15,FALSE))","v":""},{"$f":"IF($S350=\"\",\"\",VLOOKUP($S350,'FO-DRE-04'!$A$6:$L$301,2,FALSE))","v":""},{"$f":"IF($S350=\"\",\"\",VLOOKUP($S350,'FO-DRE-04'!$A$6:$L$301,3,FALSE))","v":""},{"$f":"IF($S350=\"\",\"\",VLOOKUP($S350,'FO-DRE-04'!$A$6:$L$301,4,FALSE))","v":""},{"$f":"IF($S350=\"\",\"\",VLOOKUP($S350,'FO-DRE-04'!$A$6:$L$301,6,FALSE))","v":""},{"$f":"IF($S350=\"\",\"\",VLOOKUP($S350,'FO-DRE-04'!$A$6:$L$301,11,FALSE))","v":""},{"$f":"IF($T350=\"\",\"\",VLOOKUP($T350,'FO-DRE-02'!$A$6:$M$101,2,FALSE))","v":""},{"$f":"IF($T350=\"\",\"\",VLOOKUP($T350,'FO-DRE-02'!$A$6:$M$101,3,FALSE))","v":""},{"$f":"IF($T350=\"\",\"\",VLOOKUP($T350,'FO-DRE-02'!$A$6:$M$101,6,FALSE))","v":""},{"$f":"IF($T350=\"\",\"\",VLOOKUP($T350,'FO-DRE-02'!$A$6:$M$101,4,FALSE))","v":""},{"$f":"IF($T350=\"\",\"\",VLOOKUP($T350,'FO-DRE-02'!$A$6:$M$101,5,FALSE))","v":""},{"$f":"IF($T350=\"\",\"\",VLOOKUP($T350,'FO-DRE-02'!$A$6:$M$101,6,FALSE))","v":""},{"$f":"IF($T350=\"\",\"\",VLOOKUP($T350,'FO-DRE-02'!$A$6:$M$101,6,FALSE))","v":""},{"$f":"IF($T350=\"\",\"\",VLOOKUP($T350,'FO-DRE-02'!$A$6:$M$101,8,FALSE))","v":""},{"$f":"IF($T350=\"\",\"\",VLOOKUP($T350,'FO-DRE-02'!$A$6:$M$101,11,FALSE))","v":""},{"$f":"IF($T350=\"\",\"\",VLOOKUP($T350,'FO-DRE-02'!$A$6:$M$101,12,FALSE))","v":""},{"$f":"IF($T350=\"\",\"\",VLOOKUP($T350,'FO-DRE-02'!$A$6:$M$101,13,FALSE))","v":""},null,null,null,341,"","F/D","F/D","","","","","","","","","","","","","","",""]
[null,null,null,null,null,null,null,null,"",{"$f":"CONCATENATE(#REF!,\"-\",\"TX\")","v":{"$error":"#REF!"}},{"$f":"CONCATENATE(#REF!,\"-\",\"RX\")","v":{"$error":"#REF!"}},null,null,null,null,0,null,null,null,null,null,{"$f":"IF($R351=\"\",\"\",VLOOKUP($R351,'FO-DRE-01'!$A$7:$U$301,18,FALSE))","v":""},{"$f":"IF($R351=\"\",\"\",VLOOKUP($R351,'FO-DRE-01'!$A$7:$U$301,16,FALSE))","v":""},{"$f":"IF($R351=\"\",\"\",VLOOKUP($R351,'FO-DRE-01'!$A$7:$U$301,17,FALSE))","v":""},{"$f":"IF($R351=\"\",\"\",VLOOKUP($R351,'FO-DRE-01'!$A$7:$U$301,3,FALSE))","v":""},{"$f":"IF($R351=\"\",\"\",VLOOKUP($R351,'FO-DRE-01'!$A$7:$U$301,4,FALSE))","v":""},{"$f":"IF($R351=\"\",\"\",VLOOKUP($R351,'FO-DRE-01'!$A$7:$U$301,5,FALSE))","v":""},{"$f":"IF($R351=\"\",\"\",VLOOKUP($R351,'FO-DRE-01'!$A$7:$U$301,7,FALSE))","v":""},{"$f":"IF($R351=\"\",\"\",VLOOKUP($R351,'FO-DRE-01'!$A$7:$U$301,8,FALSE))","v":""},{"$f":"IF($R351=\"\",\"\",VLOOKUP($R351,'FO-DRE-01'!$A$7:$U$301,9,FALSE))","v":""},{"$f":"IF($R351=\"\",\"\",VLOOKUP($R351,'FO-DRE-01'!$A$7:$U$301,10,FALSE))","v":""},{"$f":"IF($R351=\"\",\"\",VLOOKUP($R351,'FO-DRE-01'!$A$7:$U$301,11,FALSE))","v":""},{"$f":"IF($R351=\"\",\"\",VLOOKUP($R351,'FO-DRE-01'!$A$7:$U$301,12,FALSE))","v":""},{"$f":"IF($R351=\"\",\"\",VLOOKUP($R351,'FO-DRE-01'!$A$7:$U$301,13,FALSE))","v":""},{"$f":"IF($R351=\"\",\"\",VLOOKUP($R351,'FO-DRE-01'!$A$7:$U$301,14,FALSE))","v":""},{"$f":"IF($R351=\"\",\"\",VLOOKUP($R351,'FO-DRE-01'!$A$7:$U$301,15,FALSE))","v":""},{"$f":"IF($S351=\"\",\"\",VLOOKUP($S351,'FO-DRE-04'!$A$6:$L$301,2,FALSE))","v":""},{"$f":"IF($S351=\"\",\"\",VLOOKUP($S351,'FO-DRE-04'!$A$6:$L$301,3,FALSE))","v":""},{"$f":"IF($S351=\"\",\"\",VLOOKUP($S351,'FO-DRE-04'!$A$6:$L$301,4,FALSE))","v":""},{"$f":"IF($S351=\"\",\"\",VLOOKUP($S351,'FO-DRE-04'!$A$6:$L$301,6,FALSE))","v":""},{"$f":"IF($S351=\"\",\"\",VLOOKUP($S351,'FO-DRE-04'!$A$6:$L$301,11,FALSE))","v":""},{"$f":"IF($T351=\"\",\"\",VLOOKUP($T351,'FO-DRE-02'!$A$6:$M$101,2,FALSE))","v":""},{"$f":"IF($T351=\"\",\"\",VLOOKUP($T351,'FO-DRE-02'!$A$6:$M$101,3,FALSE))","v":""},{"$f":"IF($T351=\"\",\"\",VLOOKUP($T351,'FO-DRE-02'!$A$6:$M$101,6,FALSE))","v":""},{"$f":"IF($T351=\"\",\"\",VLOOKUP($T351,'FO-DRE-02'!$A$6:$M$101,4,FALSE))","v":""},{"$f":"IF($T351=\"\",\"\",VLOOKUP($T351,'FO-DRE-02'!$A$6:$M$101,5,FALSE))","v":""},{"$f":"IF($T351=\"\",\"\",VLOOKUP($T351,'FO-DRE-02'!$A$6:$M$101,6,FALSE))","v":""},{"$f":"IF($T351=\"\",\"\",VLOOKUP($T351,'FO-DRE-02'!$A$6:$M$101,6,FALSE))","v":""},{"$f":"IF($T351=\"\",\"\",VLOOKUP($T351,'FO-DRE-02'!$A$6:$M$101,8,FALSE))","v":""},{"$f":"IF($T351=\"\",\"\",VLOOKUP($T351,'FO-DRE-02'!$A$6:$M$101,11,FALSE))","v":""},{"$f":"IF($T351=\"\",\"\",VLOOKUP($T351,'FO-DRE-02'!$A$6:$M$101,12,FALSE))","v":""},{"$f":"IF($T351=\"\",\"\",VLOOKUP($T351,'FO-DRE-02'!$A$6:$M$101,13,FALSE))","v":""},null,null,null,342,"","F/D","F/D","","","","","","","","","","","","","","",""]
[null,null,null,null,null,null,null,null,"",{"$f":"CONCATENATE(#REF!,\"-\",\"TX\")","v":{"$error":"#REF!"}},{"$f":"CONCATENATE(#REF!,\"-\",\"RX\")","v":{"$error":"#REF!"}},null,null,null,null,0,null,null,null,null,null,{"$f":"IF($R352=\"\",\"\",VLOOKUP($R352,'FO-DRE-01'!$A$7:$U$301,18,FALSE))","v":""},{"$f":"IF($R352=\"\",\"\",VLOOKUP($R352,'FO-DRE-01'!$A$7:$U$301,16,FALSE))","v":""},{"$f":"IF($R352=\"\",\"\",VLOOKUP($R352,'FO-DRE-01'!$A$7:$U$301,17,FALSE))","v":""},{"$f":"IF($R352=\"\",\"\",VLOOKUP($R352,'FO-DRE-01'!$A$7:$U$301,3,FALSE))","v":""},{"$f":"IF($R352=\"\",\"\",VLOOKUP($R352,'FO-DRE-01'!$A$7:$U$301,4,FALSE))","v":""},{"$f":"IF($R352=\"\",\"\",VLOOKUP($R352,'FO-DRE-01'!$A$7:$U$301,5,FALSE))","v":""},{"$f":"IF($R352=\"\",\"\",VLOOKUP($R352,'FO-DRE-01'!$A$7:$U$301,7,FALSE))","v":""},{"$f":"IF($R352=\"\",\"\",VLOOKUP($R352,'FO-DRE-01'!$A$7:$U$301,8,FALSE))","v":""},{"$f":"IF($R352=\"\",\"\",VLOOKUP($R352,'FO-DRE-01'!$A$7:$U$301,9,FALSE))","v":""},{"$f":"IF($R352=\"\",\"\",VLOOKUP($R352,'FO-DRE-01'!$A$7:$U$301,10,FALSE))","v":""},{"$f":"IF($R352=\"\",\"\",VLOOKUP($R352,'FO-DRE-01'!$A$7:$U$301,11,FALSE))","v":""},{"$f":"IF($R352=\"\",\"\",VLOOKUP($R352,'FO-DRE-01'!$A$7:$U$301,12,FALSE))","v":""},{"$f":"IF($R352=\"\",\"\",VLOOKUP($R352,'FO-DRE-01'!$A$7:$U$301,13,FALSE))","v":""},{"$f":"IF($R352=\"\",\"\",VLOOKUP($R352,'FO-DRE-01'!$A$7:$U$301,14,FALSE))","v":""},{"$f":"IF($R352=\"\",\"\",VLOOKUP($R352,'FO-DRE-01'!$A$7:$U$301,15,FALSE))","v":""},{"$f":"IF($S352=\"\",\"\",VLOOKUP($S352,'FO-DRE-04'!$A$6:$L$301,2,FALSE))","v":""},{"$f":"IF($S352=\"\",\"\",VLOOKUP($S352,'FO-DRE-04'!$A$6:$L$301,3,FALSE))","v":""},{"$f":"IF($S352=\"\",\"\",VLOOKUP($S352,'FO-DRE-04'!$A$6:$L$301,4,FALSE))","v":""},{"$f":"IF($S352=\"\",\"\",VLOOKUP($S352,'FO-DRE-04'!$A$6:$L$301,6,FALSE))","v":""},{"$f":"IF($S352=\"\",\"\",VLOOKUP($S352,'FO-DRE-04'!$A$6:$L$301,11,FALSE))","v":""},{"$f":"IF($T352=\"\",\"\",VLOOKUP($T352,'FO-DRE-02'!$A$6:$M$101,2,FALSE))","v":""},{"$f":"IF($T352=\"\",\"\",VLOOKUP($T352,'FO-DRE-02'!$A$6:$M$101,3,FALSE))","v":""},{"$f":"IF($T352=\"\",\"\",VLOOKUP($T352,'FO-DRE-02'!$A$6:$M$101,6,FALSE))","v":""},{"$f":"IF($T352=\"\",\"\",VLOOKUP($T352,'FO-DRE-02'!$A$6:$M$101,4,FALSE))","v":""},{"$f":"IF($T352=\"\",\"\",VLOOKUP($T352,'FO-DRE-02'!$A$6:$M$101,5,FALSE))","v":""},{"$f":"IF($T352=\"\",\"\",VLOOKUP($T352,'FO-DRE-02'!$A$6:$M$101,6,FALSE))","v":""},{"$f":"IF($T352=\"\",\"\",VLOOKUP($T352,'FO-DRE-02'!$A$6:$M$101,6,FALSE))","v":""},{"$f":"IF($T352=\"\",\"\",VLOOKUP($T352,'FO-DRE-02'!$A$6:$M$101,8,FALSE))","v":""},{"$f":"IF($T352=\"\",\"\",VLOOKUP($T352,'FO-DRE-02'!$A$6:$M$101,11,FALSE))","v":""},{"$f":"IF($T352=\"\",\"\",VLOOKUP($T352,'FO-DRE-02'!$A$6:$M$101,12,FALSE))","v":""},{"$f":"IF($T352=\"\",\"\",VLOOKUP($T352,'FO-DRE-02'!$A$6:$M$101,13,FALSE))","v":""},null,null,null,343,"","F/D","F/D","","","","","","","","","","","","","","",""]
[null,null,null,null,null,null,null,null,"",{"$f":"CONCATENATE(#REF!,\"-\",\"TX\")","v":{"$error":"#REF!"}},{"$f":"CONCATENATE(#REF!,\"-\",\"RX\")","v":{"$error":"#REF!"}},null,null,null,null,0,null,null,null,null,null,{"$f":"IF($R353=\"\",\"\",VLOOKUP($R353,'FO-DRE-01'!$A$7:$U$301,18,FALSE))","v":""},{"$f":"IF($R353=\"\",\"\",VLOOKUP($R353,'FO-DRE-01'!$A$7:$U$301,16,FALSE))","v":""},{"$f":"IF($R353=\"\",\"\",VLOOKUP($R353,'FO-DRE-01'!$A$7:$U$301,17,FALSE))","v":""},{"$f":"IF($R353=\"\",\"\",VLOOKUP($R353,'FO-DRE-01'!$A$7:$U$301,3,FALSE))","v":""},{"$f":"IF($R353=\"\",\"\",VLOOKUP($R353,'FO-DRE-01'!$A$7:$U$301,4,FALSE))","v":""},{"$f":"IF($R353=\"\",\"\",VLOOKUP($R353,'FO-DRE-01'!$A$7:$U$301,5,FALSE))","v":""},{"$f":"IF($R353=\"\",\"\",VLOOKUP($R353,'FO-DRE-01'!$A$7:$U$301,7,FALSE))","v":""},{"$f":"IF($R353=\"\",\"\",VLOOKUP($R353,'FO-DRE-01'!$A$7:$U$301,8,FALSE))","v":""},{"$f":"IF($R353=\"\",\"\",VLOOKUP($R353,'FO-DRE-01'!$A$7:$U$301,9,FALSE))","v":""},{"$f":"IF($R353=\"\",\"\",VLOOKUP($R353,'FO-DRE-01'!$A$7:$U$301,10,FALSE))","v":""},{"$f":"IF($R353=\"\",\"\",VLOOKUP($R353,'FO-DRE-01'!$A$7:$U$301,11,FALSE))","v":""},{"$f":"IF($R353=\"\",\"\",VLOOKUP($R353,'FO-DRE-01'!$A$7:$U$301,12,FALSE))","v":""},{"$f":"IF($R353=\"\",\"\",VLOOKUP($R353,'FO-DRE-01'!$A$7:$U$301,13,FALSE))","v":""},{"$f":"IF($R353=\"\",\"\",VLOOKUP($R353,'FO-DRE-01'!$A$7:$U$301,14,FALSE))","v":""},{"$f":"IF($R353=\"\",\"\",VLOOKUP($R353,'FO-DRE-01'!$A$7:$U$301,15,FALSE))","v":""},{"$f":"IF($S353=\"\",\"\",VLOOKUP($S353,'FO-DRE-04'!$A$6:$L$301,2,FALSE))","v":""},{"$f":"IF($S353=\"\",\"\",VLOOKUP($S353,'FO-DRE-04'!$A$6:$L$301,3,FALSE))","v":""},{"$f":"IF($S353=\"\",\"\",VLOOKUP($S353,'FO-DRE-04'!$A$6:$L$301,4,FALSE))","v":""},{"$f":"IF($S353=\"\",\"\",VLOOKUP($S353,'FO-DRE-04'!$A$6:$L$301,6,FALSE))","v":""},{"$f":"IF($S353=\"\",\"\",VLOOKUP($S353,'FO-DRE-04'!$A$6:$L$301,11,FALSE))","v":""},{"$f":"IF($T353=\"\",\"\",VLOOKUP($T353,'FO-DRE-02'!$A$6:$M$101,2,FALSE))","v":""},{"$f":"IF($T353=\"\",\"\",VLOOKUP($T353,'FO-DRE-02'!$A$6:$M$101,3,FALSE))","v":""},{"$f":"IF($T353=\"\",\"\",VLOOKUP($T353,'FO-DRE-02'!$A$6:$M$101,6,FALSE))","v":""},{"$f":"IF($T353=\"\",\"\",VLOOKUP($T353,'FO-DRE-02'!$A$6:$M$101,4,FALSE))","v":""},{"$f":"IF($T353=\"\",\"\",VLOOKUP($T353,'FO-DRE-02'!$A$6:$M$101,5,FALSE))","v":""},{"$f":"IF($T353=\"\",\"\",VLOOKUP($T353,'FO-DRE-02'!$A$6:$M$101,6,FALSE))","v":""},{"$f":"IF($T353=\"\",\"\",VLOOKUP($T353,'FO-DRE-02'!$A$6:$M$101,6,FALSE))","v":""},{"$f":"IF($T353=\"\",\"\",VLOOKUP($T353,'FO-DRE-02'!$A$6:$M$101,8,FALSE))","v":""},{"$f":"IF($T353=\"\",\"\",VLOOKUP($T353,'FO-DRE-02'!$A$6:$M$101,11,FALSE))","v":""},{"$f":"IF($T353=\"\",\"\",VLOOKUP($T353,'FO-DRE-02'!$A$6:$M$101,12,FALSE))","v":""},{"$f":"IF($T353=\"\",\"\",VLOOKUP($T353,'FO-DRE-02'!$A$6:$M$101,13,FALSE))","v":""},null,null,null,344,"","F/D","F/D","","","","","","","","","","","","","","",""]
[null,null,null,null,null,null,null,null,"",{"$f":"CONCATENATE(#REF!,\"-\",\"TX\")","v":{"$error":"#REF!"}},{"$f":"CONCATENATE(#REF!,\"-\",\"RX\")","v":{"$error":"#REF!"}},null,null,null,null,0,null,null,null,null,null,{"$f":"IF($R354=\"\",\"\",VLOOKUP($R354,'FO-DRE-01'!$A$7:$U$301,18,FALSE))","v":""},{"$f":"IF($R354=\"\",\"\",VLOOKUP($R354,'FO-DRE-01'!$A$7:$U$301,16,FALSE))","v":""},{"$f":"IF($R354=\"\",\"\",VLOOKUP($R354,'FO-DRE-01'!$A$7:$U$301,17,FALSE))","v":""},{"$f":"IF($R354=\"\",\"\",VLOOKUP($R354,'FO-DRE-01'!$A$7:$U$301,3,FALSE))","v":""},{"$f":"IF($R354=\"\",\"\",VLOOKUP($R354,'FO-DRE-01'!$A$7:$U$301,4,FALSE))","v":""},{"$f":"IF($R354=\"\",\"\",VLOOKUP($R354,'FO-DRE-01'!$A$7:$U$301,5,FALSE))","v":""},{"$f":"IF($R354=\"\",\"\",VLOOKUP($R354,'FO-DRE-01'!$A$7:$U$301,7,FALSE))","v":""},{"$f":"IF($R354=\"\",\"\",VLOOKUP($R354,'FO-DRE-01'!$A$7:$U$301,8,FALSE))","v":""},{"$f":"IF($R354=\"\",\"\",VLOOKUP($R354,'FO-DRE-01'!$A$7:$U$301,9,FALSE))","v":""},{"$f":"IF($R354=\"\",\"\",VLOOKUP($R354,'FO-DRE-01'!$A$7:$U$301,10,FALSE))","v":""},{"$f":"IF($R354=\"\",\"\",VLOOKUP($R354,'FO-DRE-01'!$A$7:$U$301,11,FALSE))","v":""},{"$f":"IF($R354=\"\",\"\",VLOOKUP($R354,'FO-DRE-01'!$A$7:$U$301,12,FALSE))","v":""},{"$f":"IF($R354=\"\",\"\",VLOOKUP($R354,'FO-DRE-01'!$A$7:$U$301,13,FALSE))","v":""},{"$f":"IF($R354=\"\",\"\",VLOOKUP($R354,'FO-DRE-01'!$A$7:$U$301,14,FALSE))","v":""},{"$f":"IF($R354=\"\",\"\",VLOOKUP($R354,'FO-DRE-01'!$A$7:$U$301,15,FALSE))","v":""},{"$f":"IF($S354=\"\",\"\",VLOOKUP($S354,'FO-DRE-04'!$A$6:$L$301,2,FALSE))","v":""},{"$f":"IF($S354=\"\",\"\",VLOOKUP($S354,'FO-DRE-04'!$A$6:$L$301,3,FALSE))","v":""},{"$f":"IF($S354=\"\",\"\",VLOOKUP($S354,'FO-DRE-04'!$A$6:$L$301,4,FALSE))","v":""},{"$f":"IF($S354=\"\",\"\",VLOOKUP($S354,'FO-DRE-04'!$A$6:$L$301,6,FALSE))","v":""},{"$f":"IF($S354=\"\",\"\",VLOOKUP($S354,'FO-DRE-04'!$A$6:$L$301,11,FALSE))","v":""},{"$f":"IF($T354=\"\",\"\",VLOOKUP($T354,'FO-DRE-02'!$A$6:$M$101,2,FALSE))","v":""},{"$f":"IF($T354=\"\",\"\",VLOOKUP($T354,'FO-DRE-02'!$A$6:$M$101,3,FALSE))","v":""},{"$f":"IF($T354=\"\",\"\",VLOOKUP($T354,'FO-DRE-02'!$A$6:$M$101,6,FALSE))","v":""},{"$f":"IF($T354=\"\",\"\",VLOOKUP($T354,'FO-DRE-02'!$A$6:$M$101,4,FALSE))","v":""},{"$f":"IF($T354=\"\",\"\",VLOOKUP($T354,'FO-DRE-02'!$A$6:$M$101,5,FALSE))","v":""},{"$f":"IF($T354=\"\",\"\",VLOOKUP($T354,'FO-DRE-02'!$A$6:$M$101,6,FALSE))","v":""},{"$f":"IF($T354=\"\",\"\",VLOOKUP($T354,'FO-DRE-02'!$A$6:$M$101,6,FALSE))","v":""},{"$f":"IF($T354=\"\",\"\",VLOOKUP($T354,'FO-DRE-02'!$A$6:$M$101,8,FALSE))","v":""},{"$f":"IF($T354=\"\",\"\",VLOOKUP($T354,'FO-DRE-02'!$A$6:$M$101,11,FALSE))","v":""},{"$f":"IF($T354=\"\",\"\",VLOOKUP($T354,'FO-DRE-02'!$A$6:$M$101,12,FALSE))","v":""},{"$f":"IF($T354=\"\",\"\",VLOOKUP($T354,'FO-DRE-02'!$A$6:$M$101,13,FALSE))","v":""},null,null,null,345,"","F/D","F/D","","","","","","","",{"$f":"IF(OR(AK354=\"MOVIL\",AK354=\"PORTATIL\"),\"\",IF(AN354=\"\",\"\",AN354))","v":""},"",{"$f":"IF(OR(BO354=\"\",BP354=\"\"),\"\",BP354*BO354)","v":""},"","","","",""]
[null,null,null,null,null,null,null,null,"",{"$f":"CONCATENATE(#REF!,\"-\",\"TX\")","v":{"$error":"#REF!"}},{"$f":"CONCATENATE(#REF!,\"-\",\"RX\")","v":{"$error":"#REF!"}},null,null,null,null,0,null,null,null,null,null,{"$f":"IF($R355=\"\",\"\",VLOOKUP($R355,'FO-DRE-01'!$A$7:$U$301,18,FALSE))","v":""},{"$f":"IF($R355=\"\",\"\",VLOOKUP($R355,'FO-DRE-01'!$A$7:$U$301,16,FALSE))","v":""},{"$f":"IF($R355=\"\",\"\",VLOOKUP($R355,'FO-DRE-01'!$A$7:$U$301,17,FALSE))","v":""},{"$f":"IF($R355=\"\",\"\",VLOOKUP($R355,'FO-DRE-01'!$A$7:$U$301,3,FALSE))","v":""},{"$f":"IF($R355=\"\",\"\",VLOOKUP($R355,'FO-DRE-01'!$A$7:$U$301,4,FALSE))","v":""},{"$f":"IF($R355=\"\",\"\",VLOOKUP($R355,'FO-DRE-01'!$A$7:$U$301,5,FALSE))","v":""},{"$f":"IF($R355=\"\",\"\",VLOOKUP($R355,'FO-DRE-01'!$A$7:$U$301,7,FALSE))","v":""},{"$f":"IF($R355=\"\",\"\",VLOOKUP($R355,'FO-DRE-01'!$A$7:$U$301,8,FALSE))","v":""},{"$f":"IF($R355=\"\",\"\",VLOOKUP($R355,'FO-DRE-01'!$A$7:$U$301,9,FALSE))","v":""},{"$f":"IF($R355=\"\",\"\",VLOOKUP($R355,'FO-DRE-01'!$A$7:$U$301,10,FALSE))","v":""},{"$f":"IF($R355=\"\",\"\",VLOOKUP($R355,'FO-DRE-01'!$A$7:$U$301,11,FALSE))","v":""},{"$f":"IF($R355=\"\",\"\",VLOOKUP($R355,'FO-DRE-01'!$A$7:$U$301,12,FALSE))","v":""},{"$f":"IF($R355=\"\",\"\",VLOOKUP($R355,'FO-DRE-01'!$A$7:$U$301,13,FALSE))","v":""},{"$f":"IF($R355=\"\",\"\",VLOOKUP($R355,'FO-DRE-01'!$A$7:$U$301,14,FALSE))","v":""},{"$f":"IF($R355=\"\",\"\",VLOOKUP($R355,'FO-DRE-01'!$A$7:$U$301,15,FALSE))","v":""},{"$f":"IF($S355=\"\",\"\",VLOOKUP($S355,'FO-DRE-04'!$A$6:$L$301,2,FALSE))","v":""},{"$f":"IF($S355=\"\",\"\",VLOOKUP($S355,'FO-DRE-04'!$A$6:$L$301,3,FALSE))","v":""},{"$f":"IF($S355=\"\",\"\",VLOOKUP($S355,'FO-DRE-04'!$A$6:$L$301,4,FALSE))","v":""},{"$f":"IF($S355=\"\",\"\",VLOOKUP($S355,'FO-DRE-04'!$A$6:$L$301,6,FALSE))","v":""},{"$f":"IF($S355=\"\",\"\",VLOOKUP($S355,'FO-DRE-04'!$A$6:$L$301,11,FALSE))","v":""},{"$f":"IF($T355=\"\",\"\",VLOOKUP($T355,'FO-DRE-02'!$A$6:$M$101,2,FALSE))","v":""},{"$f":"IF($T355=\"\",\"\",VLOOKUP($T355,'FO-DRE-02'!$A$6:$M$101,3,FALSE))","v":""},{"$f":"IF($T355=\"\",\"\",VLOOKUP($T355,'FO-DRE-02'!$A$6:$M$101,6,FALSE))","v":""},{"$f":"IF($T355=\"\",\"\",VLOOKUP($T355,'FO-DRE-02'!$A$6:$M$101,4,FALSE))","v":""},{"$f":"IF($T355=\"\",\"\",VLOOKUP($T355,'FO-DRE-02'!$A$6:$M$101,5,FALSE))","v":""},{"$f":"IF($T355=\"\",\"\",VLOOKUP($T355,'FO-DRE-02'!$A$6:$M$101,6,FALSE))","v":""},{"$f":"IF($T355=\"\",\"\",VLOOKUP($T355,'FO-DRE-02'!$A$6:$M$101,6,FALSE))","v":""},{"$f":"IF($T355=\"\",\"\",VLOOKUP($T355,'FO-DRE-02'!$A$6:$M$101,8,FALSE))","v":""},{"$f":"IF($T355=\"\",\"\",VLOOKUP($T355,'FO-DRE-02'!$A$6:$M$101,11,FALSE))","v":""},{"$f":"IF($T355=\"\",\"\",VLOOKUP($T355,'FO-DRE-02'!$A$6:$M$101,12,FALSE))","v":""},{"$f":"IF($T355=\"\",\"\",VLOOKUP($T355,'FO-DRE-02'!$A$6:$M$101,13,FALSE))","v":""},null,null,null,346,"","F/D","F/D","","","","","","","","","","","","","","",""]
[null,null,null,null,null,null,null,null,"",{"$f":"CONCATENATE(#REF!,\"-\",\"TX\")","v":{"$error":"#REF!"}},{"$f":"CONCATENATE(#REF!,\"-\",\"RX\")","v":{"$error":"#REF!"}},null,null,null,null,0,null,null,null,null,null,{"$f":"IF($R356=\"\",\"\",VLOOKUP($R356,'FO-DRE-01'!$A$7:$U$301,18,FALSE))","v":""},{"$f":"IF($R356=\"\",\"\",VLOOKUP($R356,'FO-DRE-01'!$A$7:$U$301,16,FALSE))","v":""},{"$f":"IF($R356=\"\",\"\",VLOOKUP($R356,'FO-DRE-01'!$A$7:$U$301,17,FALSE))","v":""},{"$f":"IF($R356=\"\",\"\",VLOOKUP($R356,'FO-DRE-01'!$A$7:$U$301,3,FALSE))","v":""},{"$f":"IF($R356=\"\",\"\",VLOOKUP($R356,'FO-DRE-01'!$A$7:$U$301,4,FALSE))","v":""},{"$f":"IF($R356=\"\",\"\",VLOOKUP($R356,'FO-DRE-01'!$A$7:$U$301,5,FALSE))","v":""},{"$f":"IF($R356=\"\",\"\",VLOOKUP($R356,'FO-DRE-01'!$A$7:$U$301,7,FALSE))","v":""},{"$f":"IF($R356=\"\",\"\",VLOOKUP($R356,'FO-DRE-01'!$A$7:$U$301,8,FALSE))","v":""},{"$f":"IF($R356=\"\",\"\",VLOOKUP($R356,'FO-DRE-01'!$A$7:$U$301,9,FALSE))","v":""},{"$f":"IF($R356=\"\",\"\",VLOOKUP($R356,'FO-DRE-01'!$A$7:$U$301,10,FALSE))","v":""},{"$f":"IF($R356=\"\",\"\",VLOOKUP($R356,'FO-DRE-01'!$A$7:$U$301,11,FALSE))","v":""},{"$f":"IF($R356=\"\",\"\",VLOOKUP($R356,'FO-DRE-01'!$A$7:$U$301,12,FALSE))","v":""},{"$f":"IF($R356=\"\",\"\",VLOOKUP($R356,'FO-DRE-01'!$A$7:$U$301,13,FALSE))","v":""},{"$f":"IF($R356=\"\",\"\",VLOOKUP($R356,'FO-DRE-01'!$A$7:$U$301,14,FALSE))","v":""},{"$f":"IF($R356=\"\",\"\",VLOOKUP($R356,'FO-DRE-01'!$A$7:$U$301,15,FALSE))","v":""},{"$f":"IF($S356=\"\",\"\",VLOOKUP($S356,'FO-DRE-04'!$A$6:$L$301,2,FALSE))","v":""},{"$f":"IF($S356=\"\",\"\",VLOOKUP($S356,'FO-DRE-04'!$A$6:$L$301,3,FALSE))","v":""},{"$f":"IF($S356=\"\",\"\",VLOOKUP($S356,'FO-DRE-04'!$A$6:$L$301,4,FALSE))","v":""},{"$f":"IF($S356=\"\",\"\",VLOOKUP($S356,'FO-DRE-04'!$A$6:$L$301,6,FALSE))","v":""},{"$f":"IF($S356=\"\",\"\",VLOOKUP($S356,'FO-DRE-04'!$A$6:$L$301,11,FALSE))","v":""},{"$f":"IF($T356=\"\",\"\",VLOOKUP($T356,'FO-DRE-02'!$A$6:$M$101,2,FALSE))","v":""},{"$f":"IF($T356=\"\",\"\",VLOOKUP($T356,'FO-DRE-02'!$A$6:$M$101,3,FALSE))","v":""},{"$f":"IF($T356=\"\",\"\",VLOOKUP($T356,'FO-DRE-02'!$A$6:$M$101,6,FALSE))","v":""},{"$f":"IF($T356=\"\",\"\",VLOOKUP($T356,'FO-DRE-02'!$A$6:$M$101,4,FALSE))","v":""},{"$f":"IF($T356=\"\",\"\",VLOOKUP($T356,'FO-DRE-02'!$A$6:$M$101,5,FALSE))","v":""},{"$f":"IF($T356=\"\",\"\",VLOOKUP($T356,'FO-DRE-02'!$A$6:$M$101,6,FALSE))","v":""},{"$f":"IF($T356=\"\",\"\",VLOOKUP($T356,'FO-DRE-02'!$A$6:$M$101,6,FALSE))","v":""},{"$f":"IF($T356=\"\",\"\",VLOOKUP($T356,'FO-DRE-02'!$A$6:$M$101,8,FALSE))","v":""},{"$f":"IF($T356=\"\",\"\",VLOOKUP($T356,'FO-DRE-02'!$A$6:$M$101,11,FALSE))","v":""},{"$f":"IF($T356=\"\",\"\",VLOOKUP($T356,'FO-DRE-02'!$A$6:$M$101,12,FALSE))","v":""},{"$f":"IF($T356=\"\",\"\",VLOOKUP($T356,'FO-DRE-02'!$A$6:$M$101,13,FALSE))","v":""},null,null,null,347,"","F/D","F/D","","","","","","","","","","","","","","",""]
[null,null,null,null,null,null,null,null,"",{"$f":"CONCATENATE(#REF!,\"-\",\"TX\")","v":{"$error":"#REF!"}},{"$f":"CONCATENATE(#REF!,\"-\",\"RX\")","v":{"$error":"#REF!"}},null,null,null,null,0,null,null,null,null,null,{"$f":"IF($R357=\"\",\"\",VLOOKUP($R357,'FO-DRE-01'!$A$7:$U$301,18,FALSE))","v":""},{"$f":"IF($R357=\"\",\"\",VLOOKUP($R357,'FO-DRE-01'!$A$7:$U$301,16,FALSE))","v":""},{"$f":"IF($R357=\"\",\"\",VLOOKUP($R357,'FO-DRE-01'!$A$7:$U$301,17,FALSE))","v":""},{"$f":"IF($R357=\"\",\"\",VLOOKUP($R357,'FO-DRE-01'!$A$7:$U$301,3,FALSE))","v":""},{"$f":"IF($R357=\"\",\"\",VLOOKUP($R357,'FO-DRE-01'!$A$7:$U$301,4,FALSE))","v":""},{"$f":"IF($R357=\"\",\"\",VLOOKUP($R357,'FO-DRE-01'!$A$7:$U$301,5,FALSE))","v":""},{"$f":"IF($R357=\"\",\"\",VLOOKUP($R357,'FO-DRE-01'!$A$7:$U$301,7,FALSE))","v":""},{"$f":"IF($R357=\"\",\"\",VLOOKUP($R357,'FO-DRE-01'!$A$7:$U$301,8,FALSE))","v":""},{"$f":"IF($R357=\"\",\"\",VLOOKUP($R357,'FO-DRE-01'!$A$7:$U$301,9,FALSE))","v":""},{"$f":"IF($R357=\"\",\"\",VLOOKUP($R357,'FO-DRE-01'!$A$7:$U$301,10,FALSE))","v":""},{"$f":"IF($R357=\"\",\"\",VLOOKUP($R357,'FO-DRE-01'!$A$7:$U$301,11,FALSE))","v":""},{"$f":"IF($R357=\"\",\"\",VLOOKUP($R357,'FO-DRE-01'!$A$7:$U$301,12,FALSE))","v":""},{"$f":"IF($R357=\"\",\"\",VLOOKUP($R357,'FO-DRE-01'!$A$7:$U$301,13,FALSE))","v":""},{"$f":"IF($R357=\"\",\"\",VLOOKUP($R357,'FO-DRE-01'!$A$7:$U$301,14,FALSE))","v":""},{"$f":"IF($R357=\"\",\"\",VLOOKUP($R357,'FO-DRE-01'!$A$7:$U$301,15,FALSE))","v":""},{"$f":"IF($S357=\"\",\"\",VLOOKUP($S357,'FO-DRE-04'!$A$6:$L$301,2,FALSE))","v":""},{"$f":"IF($S357=\"\",\"\",VLOOKUP($S357,'FO-DRE-04'!$A$6:$L$301,3,FALSE))","v":""},{"$f":"IF($S357=\"\",\"\",VLOOKUP($S357,'FO-DRE-04'!$A$6:$L$301,4,FALSE))","v":""},{"$f":"IF($S357=\"\",\"\",VLOOKUP($S357,'FO-DRE-04'!$A$6:$L$301,6,FALSE))","v":""},{"$f":"IF($S357=\"\",\"\",VLOOKUP($S357,'FO-DRE-04'!$A$6:$L$301,11,FALSE))","v":""},{"$f":"IF($T357=\"\",\"\",VLOOKUP($T357,'FO-DRE-02'!$A$6:$M$101,2,FALSE))","v":""},{"$f":"IF($T357=\"\",\"\",VLOOKUP($T357,'FO-DRE-02'!$A$6:$M$101,3,FALSE))","v":""},{"$f":"IF($T357=\"\",\"\",VLOOKUP($T357,'FO-DRE-02'!$A$6:$M$101,6,FALSE))","v":""},{"$f":"IF($T357=\"\",\"\",VLOOKUP($T357,'FO-DRE-02'!$A$6:$M$101,4,FALSE))","v":""},{"$f":"IF($T357=\"\",\"\",VLOOKUP($T357,'FO-DRE-02'!$A$6:$M$101,5,FALSE))","v":""},{"$f":"IF($T357=\"\",\"\",VLOOKUP($T357,'FO-DRE-02'!$A$6:$M$101,6,FALSE))","v":""},{"$f":"IF($T357=\"\",\"\",VLOOKUP($T357,'FO-DRE-02'!$A$6:$M$101,6,FALSE))","v":""},{"$f":"IF($T357=\"\",\"\",VLOOKUP($T357,'FO-DRE-02'!$A$6:$M$101,8,FALSE))","v":""},{"$f":"IF($T357=\"\",\"\",VLOOKUP($T357,'FO-DRE-02'!$A$6:$M$101,11,FALSE))","v":""},{"$f":"IF($T357=\"\",\"\",VLOOKUP($T357,'FO-DRE-02'!$A$6:$M$101,12,FALSE))","v":""},{"$f":"IF($T357=\"\",\"\",VLOOKUP($T357,'FO-DRE-02'!$A$6:$M$101,13,FALSE))","v":""},null,null,null,348,"","F/D","F/D","","","","","","","","","","","","","","",""]
[null,null,null,null,null,null,null,null,"",{"$f":"CONCATENATE(#REF!,\"-\",\"TX\")","v":{"$error":"#REF!"}},{"$f":"CONCATENATE(#REF!,\"-\",\"RX\")","v":{"$error":"#REF!"}},null,null,null,null,0,null,null,null,null,null,{"$f":"IF($R358=\"\",\"\",VLOOKUP($R358,'FO-DRE-01'!$A$7:$U$301,18,FALSE))","v":""},{"$f":"IF($R358=\"\",\"\",VLOOKUP($R358,'FO-DRE-01'!$A$7:$U$301,16,FALSE))","v":""},{"$f":"IF($R358=\"\",\"\",VLOOKUP($R358,'FO-DRE-01'!$A$7:$U$301,17,FALSE))","v":""},{"$f":"IF($R358=\"\",\"\",VLOOKUP($R358,'FO-DRE-01'!$A$7:$U$301,3,FALSE))","v":""},{"$f":"IF($R358=\"\",\"\",VLOOKUP($R358,'FO-DRE-01'!$A$7:$U$301,4,FALSE))","v":""},{"$f":"IF($R358=\"\",\"\",VLOOKUP($R358,'FO-DRE-01'!$A$7:$U$301,5,FALSE))","v":""},{"$f":"IF($R358=\"\",\"\",VLOOKUP($R358,'FO-DRE-01'!$A$7:$U$301,7,FALSE))","v":""},{"$f":"IF($R358=\"\",\"\",VLOOKUP($R358,'FO-DRE-01'!$A$7:$U$301,8,FALSE))","v":""},{"$f":"IF($R358=\"\",\"\",VLOOKUP($R358,'FO-DRE-01'!$A$7:$U$301,9,FALSE))","v":""},{"$f":"IF($R358=\"\",\"\",VLOOKUP($R358,'FO-DRE-01'!$A$7:$U$301,10,FALSE))","v":""},{"$f":"IF($R358=\"\",\"\",VLOOKUP($R358,'FO-DRE-01'!$A$7:$U$301,11,FALSE))","v":""},{"$f":"IF($R358=\"\",\"\",VLOOKUP($R358,'FO-DRE-01'!$A$7:$U$301,12,FALSE))","v":""},{"$f":"IF($R358=\"\",\"\",VLOOKUP($R358,'FO-DRE-01'!$A$7:$U$301,13,FALSE))","v":""},{"$f":"IF($R358=\"\",\"\",VLOOKUP($R358,'FO-DRE-01'!$A$7:$U$301,14,FALSE))","v":""},{"$f":"IF($R358=\"\",\"\",VLOOKUP($R358,'FO-DRE-01'!$A$7:$U$301,15,FALSE))","v":""},{"$f":"IF($S358=\"\",\"\",VLOOKUP($S358,'FO-DRE-04'!$A$6:$L$301,2,FALSE))","v":""},{"$f":"IF($S358=\"\",\"\",VLOOKUP($S358,'FO-DRE-04'!$A$6:$L$301,3,FALSE))","v":""},{"$f":"IF($S358=\"\",\"\",VLOOKUP($S358,'FO-DRE-04'!$A$6:$L$301,4,FALSE))","v":""},{"$f":"IF($S358=\"\",\"\",VLOOKUP($S358,'FO-DRE-04'!$A$6:$L$301,6,FALSE))","v":""},{"$f":"IF($S358=\"\",\"\",VLOOKUP($S358,'FO-DRE-04'!$A$6:$L$301,11,FALSE))","v":""},{"$f":"IF($T358=\"\",\"\",VLOOKUP($T358,'FO-DRE-02'!$A$6:$M$101,2,FALSE))","v":""},{"$f":"IF($T358=\"\",\"\",VLOOKUP($T358,'FO-DRE-02'!$A$6:$M$101,3,FALSE))","v":""},{"$f":"IF($T358=\"\",\"\",VLOOKUP($T358,'FO-DRE-02'!$A$6:$M$101,6,FALSE))","v":""},{"$f":"IF($T358=\"\",\"\",VLOOKUP($T358,'FO-DRE-02'!$A$6:$M$101,4,FALSE))","v":""},{"$f":"IF($T358=\"\",\"\",VLOOKUP($T358,'FO-DRE-02'!$A$6:$M$101,5,FALSE))","v":""},{"$f":"IF($T358=\"\",\"\",VLOOKUP($T358,'FO-DRE-02'!$A$6:$M$101,6,FALSE))","v":""},{"$f":"IF($T358=\"\",\"\",VLOOKUP($T358,'FO-DRE-02'!$A$6:$M$101,6,FALSE))","v":""},{"$f":"IF($T358=\"\",\"\",VLOOKUP($T358,'FO-DRE-02'!$A$6:$M$101,8,FALSE))","v":""},{"$f":"IF($T358=\"\",\"\",VLOOKUP($T358,'FO-DRE-02'!$A$6:$M$101,11,FALSE))","v":""},{"$f":"IF($T358=\"\",\"\",VLOOKUP($T358,'FO-DRE-02'!$A$6:$M$101,12,FALSE))","v":""},{"$f":"IF($T358=\"\",\"\",VLOOKUP($T358,'FO-DRE-02'!$A$6:$M$101,13,FALSE))","v":""},null,null,null,349,"","F/D","F/D","","","","","","","","","","","","","","",""]
[null,null,null,null,null,null,null,null,"",{"$f":"CONCATENATE(#REF!,\"-\",\"TX\")","v":{"$error":"#REF!"}},{"$f":"CONCATENATE(#REF!,\"-\",\"RX\")","v":{"$error":"#REF!"}},null,null,null,null,0,null,null,null,null,null,{"$f":"IF($R359=\"\",\"\",VLOOKUP($R359,'FO-DRE-01'!$A$7:$U$301,18,FALSE))","v":""},{"$f":"IF($R359=\"\",\"\",VLOOKUP($R359,'FO-DRE-01'!$A$7:$U$301,16,FALSE))","v":""},{"$f":"IF($R359=\"\",\"\",VLOOKUP($R359,'FO-DRE-01'!$A$7:$U$301,17,FALSE))","v":""},{"$f":"IF($R359=\"\",\"\",VLOOKUP($R359,'FO-DRE-01'!$A$7:$U$301,3,FALSE))","v":""},{"$f":"IF($R359=\"\",\"\",VLOOKUP($R359,'FO-DRE-01'!$A$7:$U$301,4,FALSE))","v":""},{"$f":"IF($R359=\"\",\"\",VLOOKUP($R359,'FO-DRE-01'!$A$7:$U$301,5,FALSE))","v":""},{"$f":"IF($R359=\"\",\"\",VLOOKUP($R359,'FO-DRE-01'!$A$7:$U$301,7,FALSE))","v":""},{"$f":"IF($R359=\"\",\"\",VLOOKUP($R359,'FO-DRE-01'!$A$7:$U$301,8,FALSE))","v":""},{"$f":"IF($R359=\"\",\"\",VLOOKUP($R359,'FO-DRE-01'!$A$7:$U$301,9,FALSE))","v":""},{"$f":"IF($R359=\"\",\"\",VLOOKUP($R359,'FO-DRE-01'!$A$7:$U$301,10,FALSE))","v":""},{"$f":"IF($R359=\"\",\"\",VLOOKUP($R359,'FO-DRE-01'!$A$7:$U$301,11,FALSE))","v":""},{"$f":"IF($R359=\"\",\"\",VLOOKUP($R359,'FO-DRE-01'!$A$7:$U$301,12,FALSE))","v":""},{"$f":"IF($R359=\"\",\"\",VLOOKUP($R359,'FO-DRE-01'!$A$7:$U$301,13,FALSE))","v":""},{"$f":"IF($R359=\"\",\"\",VLOOKUP($R359,'FO-DRE-01'!$A$7:$U$301,14,FALSE))","v":""},{"$f":"IF($R359=\"\",\"\",VLOOKUP($R359,'FO-DRE-01'!$A$7:$U$301,15,FALSE))","v":""},{"$f":"IF($S359=\"\",\"\",VLOOKUP($S359,'FO-DRE-04'!$A$6:$L$301,2,FALSE))","v":""},{"$f":"IF($S359=\"\",\"\",VLOOKUP($S359,'FO-DRE-04'!$A$6:$L$301,3,FALSE))","v":""},{"$f":"IF($S359=\"\",\"\",VLOOKUP($S359,'FO-DRE-04'!$A$6:$L$301,4,FALSE))","v":""},{"$f":"IF($S359=\"\",\"\",VLOOKUP($S359,'FO-DRE-04'!$A$6:$L$301,6,FALSE))","v":""},{"$f":"IF($S359=\"\",\"\",VLOOKUP($S359,'FO-DRE-04'!$A$6:$L$301,11,FALSE))","v":""},{"$f":"IF($T359=\"\",\"\",VLOOKUP($T359,'FO-DRE-02'!$A$6:$M$101,2,FALSE))","v":""},{"$f":"IF($T359=\"\",\"\",VLOOKUP($T359,'FO-DRE-02'!$A$6:$M$101,3,FALSE))","v":""},{"$f":"IF($T359=\"\",\"\",VLOOKUP($T359,'FO-DRE-02'!$A$6:$M$101,6,FALSE))","v":""},{"$f":"IF($T359=\"\",\"\",VLOOKUP($T359,'FO-DRE-02'!$A$6:$M$101,4,FALSE))","v":""},{"$f":"IF($T359=\"\",\"\",VLOOKUP($T359,'FO-DRE-02'!$A$6:$M$101,5,FALSE))","v":""},{"$f":"IF($T359=\"\",\"\",VLOOKUP($T359,'FO-DRE-02'!$A$6:$M$101,6,FALSE))","v":""},{"$f":"IF($T359=\"\",\"\",VLOOKUP($T359,'FO-DRE-02'!$A$6:$M$101,6,FALSE))","v":""},{"$f":"IF($T359=\"\",\"\",VLOOKUP($T359,'FO-DRE-02'!$A$6:$M$101,8,FALSE))","v":""},{"$f":"IF($T359=\"\",\"\",VLOOKUP($T359,'FO-DRE-02'!$A$6:$M$101,11,FALSE))","v":""},{"$f":"IF($T359=\"\",\"\",VLOOKUP($T359,'FO-DRE-02'!$A$6:$M$101,12,FALSE))","v":""},{"$f":"IF($T359=\"\",\"\",VLOOKUP($T359,'FO-DRE-02'!$A$6:$M$101,13,FALSE))","v":""},null,null,null,350,"","F/D","F/D","","","","","","","","","","","","","","",""]
[null,null,null,null,null,null,null,null,"",{"$f":"CONCATENATE(#REF!,\"-\",\"TX\")","v":{"$error":"#REF!"}},{"$f":"CONCATENATE(#REF!,\"-\",\"RX\")","v":{"$error":"#REF!"}},null,null,null,null,0,null,null,null,null,null,{"$f":"IF($R360=\"\",\"\",VLOOKUP($R360,'FO-DRE-01'!$A$7:$U$301,18,FALSE))","v":""},{"$f":"IF($R360=\"\",\"\",VLOOKUP($R360,'FO-DRE-01'!$A$7:$U$301,16,FALSE))","v":""},{"$f":"IF($R360=\"\",\"\",VLOOKUP($R360,'FO-DRE-01'!$A$7:$U$301,17,FALSE))","v":""},{"$f":"IF($R360=\"\",\"\",VLOOKUP($R360,'FO-DRE-01'!$A$7:$U$301,3,FALSE))","v":""},{"$f":"IF($R360=\"\",\"\",VLOOKUP($R360,'FO-DRE-01'!$A$7:$U$301,4,FALSE))","v":""},{"$f":"IF($R360=\"\",\"\",VLOOKUP($R360,'FO-DRE-01'!$A$7:$U$301,5,FALSE))","v":""},{"$f":"IF($R360=\"\",\"\",VLOOKUP($R360,'FO-DRE-01'!$A$7:$U$301,7,FALSE))","v":""},{"$f":"IF($R360=\"\",\"\",VLOOKUP($R360,'FO-DRE-01'!$A$7:$U$301,8,FALSE))","v":""},{"$f":"IF($R360=\"\",\"\",VLOOKUP($R360,'FO-DRE-01'!$A$7:$U$301,9,FALSE))","v":""},{"$f":"IF($R360=\"\",\"\",VLOOKUP($R360,'FO-DRE-01'!$A$7:$U$301,10,FALSE))","v":""},{"$f":"IF($R360=\"\",\"\",VLOOKUP($R360,'FO-DRE-01'!$A$7:$U$301,11,FALSE))","v":""},{"$f":"IF($R360=\"\",\"\",VLOOKUP($R360,'FO-DRE-01'!$A$7:$U$301,12,FALSE))","v":""},{"$f":"IF($R360=\"\",\"\",VLOOKUP($R360,'FO-DRE-01'!$A$7:$U$301,13,FALSE))","v":""},{"$f":"IF($R360=\"\",\"\",VLOOKUP($R360,'FO-DRE-01'!$A$7:$U$301,14,FALSE))","v":""},{"$f":"IF($R360=\"\",\"\",VLOOKUP($R360,'FO-DRE-01'!$A$7:$U$301,15,FALSE))","v":""},{"$f":"IF($S360=\"\",\"\",VLOOKUP($S360,'FO-DRE-04'!$A$6:$L$301,2,FALSE))","v":""},{"$f":"IF($S360=\"\",\"\",VLOOKUP($S360,'FO-DRE-04'!$A$6:$L$301,3,FALSE))","v":""},{"$f":"IF($S360=\"\",\"\",VLOOKUP($S360,'FO-DRE-04'!$A$6:$L$301,4,FALSE))","v":""},{"$f":"IF($S360=\"\",\"\",VLOOKUP($S360,'FO-DRE-04'!$A$6:$L$301,6,FALSE))","v":""},{"$f":"IF($S360=\"\",\"\",VLOOKUP($S360,'FO-DRE-04'!$A$6:$L$301,11,FALSE))","v":""},{"$f":"IF($T360=\"\",\"\",VLOOKUP($T360,'FO-DRE-02'!$A$6:$M$101,2,FALSE))","v":""},{"$f":"IF($T360=\"\",\"\",VLOOKUP($T360,'FO-DRE-02'!$A$6:$M$101,3,FALSE))","v":""},{"$f":"IF($T360=\"\",\"\",VLOOKUP($T360,'FO-DRE-02'!$A$6:$M$101,6,FALSE))","v":""},{"$f":"IF($T360=\"\",\"\",VLOOKUP($T360,'FO-DRE-02'!$A$6:$M$101,4,FALSE))","v":""},{"$f":"IF($T360=\"\",\"\",VLOOKUP($T360,'FO-DRE-02'!$A$6:$M$101,5,FALSE))","v":""},{"$f":"IF($T360=\"\",\"\",VLOOKUP($T360,'FO-DRE-02'!$A$6:$M$101,6,FALSE))","v":""},{"$f":"IF($T360=\"\",\"\",VLOOKUP($T360,'FO-DRE-02'!$A$6:$M$101,6,FALSE))","v":""},{"$f":"IF($T360=\"\",\"\",VLOOKUP($T360,'FO-DRE-02'!$A$6:$M$101,8,FALSE))","v":""},{"$f":"IF($T360=\"\",\"\",VLOOKUP($T360,'FO-DRE-02'!$A$6:$M$101,11,FALSE))","v":""},{"$f":"IF($T360=\"\",\"\",VLOOKUP($T360,'FO-DRE-02'!$A$6:$M$101,12,FALSE))","v":""},{"$f":"IF($T360=\"\",\"\",VLOOKUP($T360,'FO-DRE-02'!$A$6:$M$101,13,FALSE))","v":""},null,null,null,351,"","F/D","F/D","","","","","","","","","","","","","","",""]
[null,null,null,null,null,null,null,null,"",{"$f":"CONCATENATE(#REF!,\"-\",\"TX\")","v":{"$error":"#REF!"}},{"$f":"CONCATENATE(#REF!,\"-\",\"RX\")","v":{"$error":"#REF!"}},null,null,null,null,0,null,null,null,null,null,{"$f":"IF($R361=\"\",\"\",VLOOKUP($R361,'FO-DRE-01'!$A$7:$U$301,18,FALSE))","v":""},{"$f":"IF($R361=\"\",\"\",VLOOKUP($R361,'FO-DRE-01'!$A$7:$U$301,16,FALSE))","v":""},{"$f":"IF($R361=\"\",\"\",VLOOKUP($R361,'FO-DRE-01'!$A$7:$U$301,17,FALSE))","v":""},{"$f":"IF($R361=\"\",\"\",VLOOKUP($R361,'FO-DRE-01'!$A$7:$U$301,3,FALSE))","v":""},{"$f":"IF($R361=\"\",\"\",VLOOKUP($R361,'FO-DRE-01'!$A$7:$U$301,4,FALSE))","v":""},{"$f":"IF($R361=\"\",\"\",VLOOKUP($R361,'FO-DRE-01'!$A$7:$U$301,5,FALSE))","v":""},{"$f":"IF($R361=\"\",\"\",VLOOKUP($R361,'FO-DRE-01'!$A$7:$U$301,7,FALSE))","v":""},{"$f":"IF($R361=\"\",\"\",VLOOKUP($R361,'FO-DRE-01'!$A$7:$U$301,8,FALSE))","v":""},{"$f":"IF($R361=\"\",\"\",VLOOKUP($R361,'FO-DRE-01'!$A$7:$U$301,9,FALSE))","v":""},{"$f":"IF($R361=\"\",\"\",VLOOKUP($R361,'FO-DRE-01'!$A$7:$U$301,10,FALSE))","v":""},{"$f":"IF($R361=\"\",\"\",VLOOKUP($R361,'FO-DRE-01'!$A$7:$U$301,11,FALSE))","v":""},{"$f":"IF($R361=\"\",\"\",VLOOKUP($R361,'FO-DRE-01'!$A$7:$U$301,12,FALSE))","v":""},{"$f":"IF($R361=\"\",\"\",VLOOKUP($R361,'FO-DRE-01'!$A$7:$U$301,13,FALSE))","v":""},{"$f":"IF($R361=\"\",\"\",VLOOKUP($R361,'FO-DRE-01'!$A$7:$U$301,14,FALSE))","v":""},{"$f":"IF($R361=\"\",\"\",VLOOKUP($R361,'FO-DRE-01'!$A$7:$U$301,15,FALSE))","v":""},{"$f":"IF($S361=\"\",\"\",VLOOKUP($S361,'FO-DRE-04'!$A$6:$L$301,2,FALSE))","v":""},{"$f":"IF($S361=\"\",\"\",VLOOKUP($S361,'FO-DRE-04'!$A$6:$L$301,3,FALSE))","v":""},{"$f":"IF($S361=\"\",\"\",VLOOKUP($S361,'FO-DRE-04'!$A$6:$L$301,4,FALSE))","v":""},{"$f":"IF($S361=\"\",\"\",VLOOKUP($S361,'FO-DRE-04'!$A$6:$L$301,6,FALSE))","v":""},{"$f":"IF($S361=\"\",\"\",VLOOKUP($S361,'FO-DRE-04'!$A$6:$L$301,11,FALSE))","v":""},{"$f":"IF($T361=\"\",\"\",VLOOKUP($T361,'FO-DRE-02'!$A$6:$M$101,2,FALSE))","v":""},{"$f":"IF($T361=\"\",\"\",VLOOKUP($T361,'FO-DRE-02'!$A$6:$M$101,3,FALSE))","v":""},{"$f":"IF($T361=\"\",\"\",VLOOKUP($T361,'FO-DRE-02'!$A$6:$M$101,6,FALSE))","v":""},{"$f":"IF($T361=\"\",\"\",VLOOKUP($T361,'FO-DRE-02'!$A$6:$M$101,4,FALSE))","v":""},{"$f":"IF($T361=\"\",\"\",VLOOKUP($T361,'FO-DRE-02'!$A$6:$M$101,5,FALSE))","v":""},{"$f":"IF($T361=\"\",\"\",VLOOKUP($T361,'FO-DRE-02'!$A$6:$M$101,6,FALSE))","v":""},{"$f":"IF($T361=\"\",\"\",VLOOKUP($T361,'FO-DRE-02'!$A$6:$M$101,6,FALSE))","v":""},{"$f":"IF($T361=\"\",\"\",VLOOKUP($T361,'FO-DRE-02'!$A$6:$M$101,8,FALSE))","v":""},{"$f":"IF($T361=\"\",\"\",VLOOKUP($T361,'FO-DRE-02'!$A$6:$M$101,11,FALSE))","v":""},{"$f":"IF($T361=\"\",\"\",VLOOKUP($T361,'FO-DRE-02'!$A$6:$M$101,12,FALSE))","v":""},{"$f":"IF($T361=\"\",\"\",VLOOKUP($T361,'FO-DRE-02'!$A$6:$M$101,13,FALSE))","v":""},null,null,null,352,"","F/D","F/D","","","","","","","","","","","","","","",""]
[null,null,null,null,null,null,null,null,"",{"$f":"CONCATENATE(#REF!,\"-\",\"TX\")","v":{"$error":"#REF!"}},{"$f":"CONCATENATE(#REF!,\"-\",\"RX\")","v":{"$error":"#REF!"}},null,null,null,null,0,null,null,null,null,null,{"$f":"IF($R362=\"\",\"\",VLOOKUP($R362,'FO-DRE-01'!$A$7:$U$301,18,FALSE))","v":""},{"$f":"IF($R362=\"\",\"\",VLOOKUP($R362,'FO-DRE-01'!$A$7:$U$301,16,FALSE))","v":""},{"$f":"IF($R362=\"\",\"\",VLOOKUP($R362,'FO-DRE-01'!$A$7:$U$301,17,FALSE))","v":""},{"$f":"IF($R362=\"\",\"\",VLOOKUP($R362,'FO-DRE-01'!$A$7:$U$301,3,FALSE))","v":""},{"$f":"IF($R362=\"\",\"\",VLOOKUP($R362,'FO-DRE-01'!$A$7:$U$301,4,FALSE))","v":""},{"$f":"IF($R362=\"\",\"\",VLOOKUP($R362,'FO-DRE-01'!$A$7:$U$301,5,FALSE))","v":""},{"$f":"IF($R362=\"\",\"\",VLOOKUP($R362,'FO-DRE-01'!$A$7:$U$301,7,FALSE))","v":""},{"$f":"IF($R362=\"\",\"\",VLOOKUP($R362,'FO-DRE-01'!$A$7:$U$301,8,FALSE))","v":""},{"$f":"IF($R362=\"\",\"\",VLOOKUP($R362,'FO-DRE-01'!$A$7:$U$301,9,FALSE))","v":""},{"$f":"IF($R362=\"\",\"\",VLOOKUP($R362,'FO-DRE-01'!$A$7:$U$301,10,FALSE))","v":""},{"$f":"IF($R362=\"\",\"\",VLOOKUP($R362,'FO-DRE-01'!$A$7:$U$301,11,FALSE))","v":""},{"$f":"IF($R362=\"\",\"\",VLOOKUP($R362,'FO-DRE-01'!$A$7:$U$301,12,FALSE))","v":""},{"$f":"IF($R362=\"\",\"\",VLOOKUP($R362,'FO-DRE-01'!$A$7:$U$301,13,FALSE))","v":""},{"$f":"IF($R362=\"\",\"\",VLOOKUP($R362,'FO-DRE-01'!$A$7:$U$301,14,FALSE))","v":""},{"$f":"IF($R362=\"\",\"\",VLOOKUP($R362,'FO-DRE-01'!$A$7:$U$301,15,FALSE))","v":""},{"$f":"IF($S362=\"\",\"\",VLOOKUP($S362,'FO-DRE-04'!$A$6:$L$301,2,FALSE))","v":""},{"$f":"IF($S362=\"\",\"\",VLOOKUP($S362,'FO-DRE-04'!$A$6:$L$301,3,FALSE))","v":""},{"$f":"IF($S362=\"\",\"\",VLOOKUP($S362,'FO-DRE-04'!$A$6:$L$301,4,FALSE))","v":""},{"$f":"IF($S362=\"\",\"\",VLOOKUP($S362,'FO-DRE-04'!$A$6:$L$301,6,FALSE))","v":""},{"$f":"IF($S362=\"\",\"\",VLOOKUP($S362,'FO-DRE-04'!$A$6:$L$301,11,FALSE))","v":""},{"$f":"IF($T362=\"\",\"\",VLOOKUP($T362,'FO-DRE-02'!$A$6:$M$101,2,FALSE))","v":""},{"$f":"IF($T362=\"\",\"\",VLOOKUP($T362,'FO-DRE-02'!$A$6:$M$101,3,FALSE))","v":""},{"$f":"IF($T362=\"\",\"\",VLOOKUP($T362,'FO-DRE-02'!$A$6:$M$101,6,FALSE))","v":""},{"$f":"IF($T362=\"\",\"\",VLOOKUP($T362,'FO-DRE-02'!$A$6:$M$101,4,FALSE))","v":""},{"$f":"IF($T362=\"\",\"\",VLOOKUP($T362,'FO-DRE-02'!$A$6:$M$101,5,FALSE))","v":""},{"$f":"IF($T362=\"\",\"\",VLOOKUP($T362,'FO-DRE-02'!$A$6:$M$101,6,FALSE))","v":""},{"$f":"IF($T362=\"\",\"\",VLOOKUP($T362,'FO-DRE-02'!$A$6:$M$101,6,FALSE))","v":""},{"$f":"IF($T362=\"\",\"\",VLOOKUP($T362,'FO-DRE-02'!$A$6:$M$101,8,FALSE))","v":""},{"$f":"IF($T362=\"\",\"\",VLOOKUP($T362,'FO-DRE-02'!$A$6:$M$101,11,FALSE))","v":""},{"$f":"IF($T362=\"\",\"\",VLOOKUP($T362,'FO-DRE-02'!$A$6:$M$101,12,FALSE))","v":""},{"$f":"IF($T362=\"\",\"\",VLOOKUP($T362,'FO-DRE-02'!$A$6:$M$101,13,FALSE))","v":""},null,null,null,353,"","F/D","F/D","","","","","","","","","","","","","","",""]
[null,null,null,null,null,null,null,null,"",{"$f":"CONCATENATE(#REF!,\"-\",\"TX\")","v":{"$error":"#REF!"}},{"$f":"CONCATENATE(#REF!,\"-\",\"RX\")","v":{"$error":"#REF!"}},null,null,null,null,0,null,null,null,null,null,{"$f":"IF($R363=\"\",\"\",VLOOKUP($R363,'FO-DRE-01'!$A$7:$U$301,18,FALSE))","v":""},{"$f":"IF($R363=\"\",\"\",VLOOKUP($R363,'FO-DRE-01'!$A$7:$U$301,16,FALSE))","v":""},{"$f":"IF($R363=\"\",\"\",VLOOKUP($R363,'FO-DRE-01'!$A$7:$U$301,17,FALSE))","v":""},{"$f":"IF($R363=\"\",\"\",VLOOKUP($R363,'FO-DRE-01'!$A$7:$U$301,3,FALSE))","v":""},{"$f":"IF($R363=\"\",\"\",VLOOKUP($R363,'FO-DRE-01'!$A$7:$U$301,4,FALSE))","v":""},{"$f":"IF($R363=\"\",\"\",VLOOKUP($R363,'FO-DRE-01'!$A$7:$U$301,5,FALSE))","v":""},{"$f":"IF($R363=\"\",\"\",VLOOKUP($R363,'FO-DRE-01'!$A$7:$U$301,7,FALSE))","v":""},{"$f":"IF($R363=\"\",\"\",VLOOKUP($R363,'FO-DRE-01'!$A$7:$U$301,8,FALSE))","v":""},{"$f":"IF($R363=\"\",\"\",VLOOKUP($R363,'FO-DRE-01'!$A$7:$U$301,9,FALSE))","v":""},{"$f":"IF($R363=\"\",\"\",VLOOKUP($R363,'FO-DRE-01'!$A$7:$U$301,10,FALSE))","v":""},{"$f":"IF($R363=\"\",\"\",VLOOKUP($R363,'FO-DRE-01'!$A$7:$U$301,11,FALSE))","v":""},{"$f":"IF($R363=\"\",\"\",VLOOKUP($R363,'FO-DRE-01'!$A$7:$U$301,12,FALSE))","v":""},{"$f":"IF($R363=\"\",\"\",VLOOKUP($R363,'FO-DRE-01'!$A$7:$U$301,13,FALSE))","v":""},{"$f":"IF($R363=\"\",\"\",VLOOKUP($R363,'FO-DRE-01'!$A$7:$U$301,14,FALSE))","v":""},{"$f":"IF($R363=\"\",\"\",VLOOKUP($R363,'FO-DRE-01'!$A$7:$U$301,15,FALSE))","v":""},{"$f":"IF($S363=\"\",\"\",VLOOKUP($S363,'FO-DRE-04'!$A$6:$L$301,2,FALSE))","v":""},{"$f":"IF($S363=\"\",\"\",VLOOKUP($S363,'FO-DRE-04'!$A$6:$L$301,3,FALSE))","v":""},{"$f":"IF($S363=\"\",\"\",VLOOKUP($S363,'FO-DRE-04'!$A$6:$L$301,4,FALSE))","v":""},{"$f":"IF($S363=\"\",\"\",VLOOKUP($S363,'FO-DRE-04'!$A$6:$L$301,6,FALSE))","v":""},{"$f":"IF($S363=\"\",\"\",VLOOKUP($S363,'FO-DRE-04'!$A$6:$L$301,11,FALSE))","v":""},{"$f":"IF($T363=\"\",\"\",VLOOKUP($T363,'FO-DRE-02'!$A$6:$M$101,2,FALSE))","v":""},{"$f":"IF($T363=\"\",\"\",VLOOKUP($T363,'FO-DRE-02'!$A$6:$M$101,3,FALSE))","v":""},{"$f":"IF($T363=\"\",\"\",VLOOKUP($T363,'FO-DRE-02'!$A$6:$M$101,6,FALSE))","v":""},{"$f":"IF($T363=\"\",\"\",VLOOKUP($T363,'FO-DRE-02'!$A$6:$M$101,4,FALSE))","v":""},{"$f":"IF($T363=\"\",\"\",VLOOKUP($T363,'FO-DRE-02'!$A$6:$M$101,5,FALSE))","v":""},{"$f":"IF($T363=\"\",\"\",VLOOKUP($T363,'FO-DRE-02'!$A$6:$M$101,6,FALSE))","v":""},{"$f":"IF($T363=\"\",\"\",VLOOKUP($T363,'FO-DRE-02'!$A$6:$M$101,6,FALSE))","v":""},{"$f":"IF($T363=\"\",\"\",VLOOKUP($T363,'FO-DRE-02'!$A$6:$M$101,8,FALSE))","v":""},{"$f":"IF($T363=\"\",\"\",VLOOKUP($T363,'FO-DRE-02'!$A$6:$M$101,11,FALSE))","v":""},{"$f":"IF($T363=\"\",\"\",VLOOKUP($T363,'FO-DRE-02'!$A$6:$M$101,12,FALSE))","v":""},{"$f":"IF($T363=\"\",\"\",VLOOKUP($T363,'FO-DRE-02'!$A$6:$M$101,13,FALSE))","v":""},null,null,null,354,"","F/D","F/D","","","","","","","","","","","","","","",""]
[null,null,null,null,null,null,null,null,"",{"$f":"CONCATENATE(#REF!,\"-\",\"TX\")","v":{"$error":"#REF!"}},{"$f":"CONCATENATE(#REF!,\"-\",\"RX\")","v":{"$error":"#REF!"}},null,null,null,null,0,null,null,null,null,null,{"$f":"IF($R364=\"\",\"\",VLOOKUP($R364,'FO-DRE-01'!$A$7:$U$301,18,FALSE))","v":""},{"$f":"IF($R364=\"\",\"\",VLOOKUP($R364,'FO-DRE-01'!$A$7:$U$301,16,FALSE))","v":""},{"$f":"IF($R364=\"\",\"\",VLOOKUP($R364,'FO-DRE-01'!$A$7:$U$301,17,FALSE))","v":""},{"$f":"IF($R364=\"\",\"\",VLOOKUP($R364,'FO-DRE-01'!$A$7:$U$301,3,FALSE))","v":""},{"$f":"IF($R364=\"\",\"\",VLOOKUP($R364,'FO-DRE-01'!$A$7:$U$301,4,FALSE))","v":""},{"$f":"IF($R364=\"\",\"\",VLOOKUP($R364,'FO-DRE-01'!$A$7:$U$301,5,FALSE))","v":""},{"$f":"IF($R364=\"\",\"\",VLOOKUP($R364,'FO-DRE-01'!$A$7:$U$301,7,FALSE))","v":""},{"$f":"IF($R364=\"\",\"\",VLOOKUP($R364,'FO-DRE-01'!$A$7:$U$301,8,FALSE))","v":""},{"$f":"IF($R364=\"\",\"\",VLOOKUP($R364,'FO-DRE-01'!$A$7:$U$301,9,FALSE))","v":""},{"$f":"IF($R364=\"\",\"\",VLOOKUP($R364,'FO-DRE-01'!$A$7:$U$301,10,FALSE))","v":""},{"$f":"IF($R364=\"\",\"\",VLOOKUP($R364,'FO-DRE-01'!$A$7:$U$301,11,FALSE))","v":""},{"$f":"IF($R364=\"\",\"\",VLOOKUP($R364,'FO-DRE-01'!$A$7:$U$301,12,FALSE))","v":""},{"$f":"IF($R364=\"\",\"\",VLOOKUP($R364,'FO-DRE-01'!$A$7:$U$301,13,FALSE))","v":""},{"$f":"IF($R364=\"\",\"\",VLOOKUP($R364,'FO-DRE-01'!$A$7:$U$301,14,FALSE))","v":""},{"$f":"IF($R364=\"\",\"\",VLOOKUP($R364,'FO-DRE-01'!$A$7:$U$301,15,FALSE))","v":""},{"$f":"IF($S364=\"\",\"\",VLOOKUP($S364,'FO-DRE-04'!$A$6:$L$301,2,FALSE))","v":""},{"$f":"IF($S364=\"\",\"\",VLOOKUP($S364,'FO-DRE-04'!$A$6:$L$301,3,FALSE))","v":""},{"$f":"IF($S364=\"\",\"\",VLOOKUP($S364,'FO-DRE-04'!$A$6:$L$301,4,FALSE))","v":""},{"$f":"IF($S364=\"\",\"\",VLOOKUP($S364,'FO-DRE-04'!$A$6:$L$301,6,FALSE))","v":""},{"$f":"IF($S364=\"\",\"\",VLOOKUP($S364,'FO-DRE-04'!$A$6:$L$301,11,FALSE))","v":""},{"$f":"IF($T364=\"\",\"\",VLOOKUP($T364,'FO-DRE-02'!$A$6:$M$101,2,FALSE))","v":""},{"$f":"IF($T364=\"\",\"\",VLOOKUP($T364,'FO-DRE-02'!$A$6:$M$101,3,FALSE))","v":""},{"$f":"IF($T364=\"\",\"\",VLOOKUP($T364,'FO-DRE-02'!$A$6:$M$101,6,FALSE))","v":""},{"$f":"IF($T364=\"\",\"\",VLOOKUP($T364,'FO-DRE-02'!$A$6:$M$101,4,FALSE))","v":""},{"$f":"IF($T364=\"\",\"\",VLOOKUP($T364,'FO-DRE-02'!$A$6:$M$101,5,FALSE))","v":""},{"$f":"IF($T364=\"\",\"\",VLOOKUP($T364,'FO-DRE-02'!$A$6:$M$101,6,FALSE))","v":""},{"$f":"IF($T364=\"\",\"\",VLOOKUP($T364,'FO-DRE-02'!$A$6:$M$101,6,FALSE))","v":""},{"$f":"IF($T364=\"\",\"\",VLOOKUP($T364,'FO-DRE-02'!$A$6:$M$101,8,FALSE))","v":""},{"$f":"IF($T364=\"\",\"\",VLOOKUP($T364,'FO-DRE-02'!$A$6:$M$101,11,FALSE))","v":""},{"$f":"IF($T364=\"\",\"\",VLOOKUP($T364,'FO-DRE-02'!$A$6:$M$101,12,FALSE))","v":""},{"$f":"IF($T364=\"\",\"\",VLOOKUP($T364,'FO-DRE-02'!$A$6:$M$101,13,FALSE))","v":""},null,null,null,355,"","F/D","F/D","","","","","","","","","","","","","","",""]
[null,null,null,null,null,null,null,null,"",{"$f":"CONCATENATE(#REF!,\"-\",\"TX\")","v":{"$error":"#REF!"}},{"$f":"CONCATENATE(#REF!,\"-\",\"RX\")","v":{"$error":"#REF!"}},null,null,null,null,0,null,null,null,null,null,{"$f":"IF($R365=\"\",\"\",VLOOKUP($R365,'FO-DRE-01'!$A$7:$U$301,18,FALSE))","v":""},{"$f":"IF($R365=\"\",\"\",VLOOKUP($R365,'FO-DRE-01'!$A$7:$U$301,16,FALSE))","v":""},{"$f":"IF($R365=\"\",\"\",VLOOKUP($R365,'FO-DRE-01'!$A$7:$U$301,17,FALSE))","v":""},{"$f":"IF($R365=\"\",\"\",VLOOKUP($R365,'FO-DRE-01'!$A$7:$U$301,3,FALSE))","v":""},{"$f":"IF($R365=\"\",\"\",VLOOKUP($R365,'FO-DRE-01'!$A$7:$U$301,4,FALSE))","v":""},{"$f":"IF($R365=\"\",\"\",VLOOKUP($R365,'FO-DRE-01'!$A$7:$U$301,5,FALSE))","v":""},{"$f":"IF($R365=\"\",\"\",VLOOKUP($R365,'FO-DRE-01'!$A$7:$U$301,7,FALSE))","v":""},{"$f":"IF($R365=\"\",\"\",VLOOKUP($R365,'FO-DRE-01'!$A$7:$U$301,8,FALSE))","v":""},{"$f":"IF($R365=\"\",\"\",VLOOKUP($R365,'FO-DRE-01'!$A$7:$U$301,9,FALSE))","v":""},{"$f":"IF($R365=\"\",\"\",VLOOKUP($R365,'FO-DRE-01'!$A$7:$U$301,10,FALSE))","v":""},{"$f":"IF($R365=\"\",\"\",VLOOKUP($R365,'FO-DRE-01'!$A$7:$U$301,11,FALSE))","v":""},{"$f":"IF($R365=\"\",\"\",VLOOKUP($R365,'FO-DRE-01'!$A$7:$U$301,12,FALSE))","v":""},{"$f":"IF($R365=\"\",\"\",VLOOKUP($R365,'FO-DRE-01'!$A$7:$U$301,13,FALSE))","v":""},{"$f":"IF($R365=\"\",\"\",VLOOKUP($R365,'FO-DRE-01'!$A$7:$U$301,14,FALSE))","v":""},{"$f":"IF($R365=\"\",\"\",VLOOKUP($R365,'FO-DRE-01'!$A$7:$U$301,15,FALSE))","v":""},{"$f":"IF($S365=\"\",\"\",VLOOKUP($S365,'FO-DRE-04'!$A$6:$L$301,2,FALSE))","v":""},{"$f":"IF($S365=\"\",\"\",VLOOKUP($S365,'FO-DRE-04'!$A$6:$L$301,3,FALSE))","v":""},{"$f":"IF($S365=\"\",\"\",VLOOKUP($S365,'FO-DRE-04'!$A$6:$L$301,4,FALSE))","v":""},{"$f":"IF($S365=\"\",\"\",VLOOKUP($S365,'FO-DRE-04'!$A$6:$L$301,6,FALSE))","v":""},{"$f":"IF($S365=\"\",\"\",VLOOKUP($S365,'FO-DRE-04'!$A$6:$L$301,11,FALSE))","v":""},{"$f":"IF($T365=\"\",\"\",VLOOKUP($T365,'FO-DRE-02'!$A$6:$M$101,2,FALSE))","v":""},{"$f":"IF($T365=\"\",\"\",VLOOKUP($T365,'FO-DRE-02'!$A$6:$M$101,3,FALSE))","v":""},{"$f":"IF($T365=\"\",\"\",VLOOKUP($T365,'FO-DRE-02'!$A$6:$M$101,6,FALSE))","v":""},{"$f":"IF($T365=\"\",\"\",VLOOKUP($T365,'FO-DRE-02'!$A$6:$M$101,4,FALSE))","v":""},{"$f":"IF($T365=\"\",\"\",VLOOKUP($T365,'FO-DRE-02'!$A$6:$M$101,5,FALSE))","v":""},{"$f":"IF($T365=\"\",\"\",VLOOKUP($T365,'FO-DRE-02'!$A$6:$M$101,6,FALSE))","v":""},{"$f":"IF($T365=\"\",\"\",VLOOKUP($T365,'FO-DRE-02'!$A$6:$M$101,6,FALSE))","v":""},{"$f":"IF($T365=\"\",\"\",VLOOKUP($T365,'FO-DRE-02'!$A$6:$M$101,8,FALSE))","v":""},{"$f":"IF($T365=\"\",\"\",VLOOKUP($T365,'FO-DRE-02'!$A$6:$M$101,11,FALSE))","v":""},{"$f":"IF($T365=\"\",\"\",VLOOKUP($T365,'FO-DRE-02'!$A$6:$M$101,12,FALSE))","v":""},{"$f":"IF($T365=\"\",\"\",VLOOKUP($T365,'FO-DRE-02'!$A$6:$M$101,13,FALSE))","v":""},null,null,null,356,"","F/D","F/D","","","","","","","","","","","","","","",""]
[null,null,null,null,null,null,null,null,{"$f":"IF(D366=\"\",\"\",IF(D366=\"SIM\",1,2))","v":""},{"$f":"CONCATENATE(#REF!,\"-\",\"TX\")","v":{"$error":"#REF!"}},{"$f":"CONCATENATE(#REF!,\"-\",\"RX\")","v":{"$error":"#REF!"}},null,null,null,null,0,null,null,null,null,null,{"$f":"IF($R366=\"\",\"\",VLOOKUP($R366,'FO-DRE-01'!$A$7:$U$301,18,FALSE))","v":""},{"$f":"IF($R366=\"\",\"\",VLOOKUP($R366,'FO-DRE-01'!$A$7:$U$301,16,FALSE))","v":""},{"$f":"IF($R366=\"\",\"\",VLOOKUP($R366,'FO-DRE-01'!$A$7:$U$301,17,FALSE))","v":""},{"$f":"IF($R366=\"\",\"\",VLOOKUP($R366,'FO-DRE-01'!$A$7:$U$301,3,FALSE))","v":""},{"$f":"IF($R366=\"\",\"\",VLOOKUP($R366,'FO-DRE-01'!$A$7:$U$301,4,FALSE))","v":""},{"$f":"IF($R366=\"\",\"\",VLOOKUP($R366,'FO-DRE-01'!$A$7:$U$301,5,FALSE))","v":""},{"$f":"IF($R366=\"\",\"\",VLOOKUP($R366,'FO-DRE-01'!$A$7:$U$301,7,FALSE))","v":""},{"$f":"IF($R366=\"\",\"\",VLOOKUP($R366,'FO-DRE-01'!$A$7:$U$301,8,FALSE))","v":""},{"$f":"IF($R366=\"\",\"\",VLOOKUP($R366,'FO-DRE-01'!$A$7:$U$301,9,FALSE))","v":""},{"$f":"IF($R366=\"\",\"\",VLOOKUP($R366,'FO-DRE-01'!$A$7:$U$301,10,FALSE))","v":""},{"$f":"IF($R366=\"\",\"\",VLOOKUP($R366,'FO-DRE-01'!$A$7:$U$301,11,FALSE))","v":""},{"$f":"IF($R366=\"\",\"\",VLOOKUP($R366,'FO-DRE-01'!$A$7:$U$301,12,FALSE))","v":""},{"$f":"IF($R366=\"\",\"\",VLOOKUP($R366,'FO-DRE-01'!$A$7:$U$301,13,FALSE))","v":""},{"$f":"IF($R366=\"\",\"\",VLOOKUP($R366,'FO-DRE-01'!$A$7:$U$301,14,FALSE))","v":""},{"$f":"IF($R366=\"\",\"\",VLOOKUP($R366,'FO-DRE-01'!$A$7:$U$301,15,FALSE))","v":""},{"$f":"IF($S366=\"\",\"\",VLOOKUP($S366,'FO-DRE-04'!$A$6:$L$301,2,FALSE))","v":""},{"$f":"IF($S366=\"\",\"\",VLOOKUP($S366,'FO-DRE-04'!$A$6:$L$301,3,FALSE))","v":""},{"$f":"IF($S366=\"\",\"\",VLOOKUP($S366,'FO-DRE-04'!$A$6:$L$301,4,FALSE))","v":""},{"$f":"IF($S366=\"\",\"\",VLOOKUP($S366,'FO-DRE-04'!$A$6:$L$301,6,FALSE))","v":""},{"$f":"IF($S366=\"\",\"\",VLOOKUP($S366,'FO-DRE-04'!$A$6:$L$301,11,FALSE))","v":""},{"$f":"IF($T366=\"\",\"\",VLOOKUP($T366,'FO-DRE-02'!$A$6:$M$101,2,FALSE))","v":""},{"$f":"IF($T366=\"\",\"\",VLOOKUP($T366,'FO-DRE-02'!$A$6:$M$101,3,FALSE))","v":""},{"$f":"IF($T366=\"\",\"\",VLOOKUP($T366,'FO-DRE-02'!$A$6:$M$101,6,FALSE))","v":""},{"$f":"IF($T366=\"\",\"\",VLOOKUP($T366,'FO-DRE-02'!$A$6:$M$101,4,FALSE))","v":""},{"$f":"IF($T366=\"\",\"\",VLOOKUP($T366,'FO-DRE-02'!$A$6:$M$101,5,FALSE))","v":""},{"$f":"IF($T366=\"\",\"\",VLOOKUP($T366,'FO-DRE-02'!$A$6:$M$101,6,FALSE))","v":""},{"$f":"IF($T366=\"\",\"\",VLOOKUP($T366,'FO-DRE-02'!$A$6:$M$101,6,FALSE))","v":""},{"$f":"IF($T366=\"\",\"\",VLOOKUP($T366,'FO-DRE-02'!$A$6:$M$101,8,FALSE))","v":""},{"$f":"IF($T366=\"\",\"\",VLOOKUP($T366,'FO-DRE-02'!$A$6:$M$101,11,FALSE))","v":""},{"$f":"IF($T366=\"\",\"\",VLOOKUP($T366,'FO-DRE-02'!$A$6:$M$101,12,FALSE))","v":""},{"$f":"IF($T366=\"\",\"\",VLOOKUP($T366,'FO-DRE-02'!$A$6:$M$101,13,FALSE))","v":""},null,null,null,357,"","F/D","F/D","","","","","","","","","","","","","","",""]
[null,null,null,null,null,null,null,null,"",{"$f":"CONCATENATE(#REF!,\"-\",\"TX\")","v":{"$error":"#REF!"}},{"$f":"CONCATENATE(#REF!,\"-\",\"RX\")","v":{"$error":"#REF!"}},null,null,null,null,0,null,null,null,null,null,{"$f":"IF($R367=\"\",\"\",VLOOKUP($R367,'FO-DRE-01'!$A$7:$U$301,18,FALSE))","v":""},{"$f":"IF($R367=\"\",\"\",VLOOKUP($R367,'FO-DRE-01'!$A$7:$U$301,16,FALSE))","v":""},{"$f":"IF($R367=\"\",\"\",VLOOKUP($R367,'FO-DRE-01'!$A$7:$U$301,17,FALSE))","v":""},{"$f":"IF($R367=\"\",\"\",VLOOKUP($R367,'FO-DRE-01'!$A$7:$U$301,3,FALSE))","v":""},{"$f":"IF($R367=\"\",\"\",VLOOKUP($R367,'FO-DRE-01'!$A$7:$U$301,4,FALSE))","v":""},{"$f":"IF($R367=\"\",\"\",VLOOKUP($R367,'FO-DRE-01'!$A$7:$U$301,5,FALSE))","v":""},{"$f":"IF($R367=\"\",\"\",VLOOKUP($R367,'FO-DRE-01'!$A$7:$U$301,7,FALSE))","v":""},{"$f":"IF($R367=\"\",\"\",VLOOKUP($R367,'FO-DRE-01'!$A$7:$U$301,8,FALSE))","v":""},{"$f":"IF($R367=\"\",\"\",VLOOKUP($R367,'FO-DRE-01'!$A$7:$U$301,9,FALSE))","v":""},{"$f":"IF($R367=\"\",\"\",VLOOKUP($R367,'FO-DRE-01'!$A$7:$U$301,10,FALSE))","v":""},{"$f":"IF($R367=\"\",\"\",VLOOKUP($R367,'FO-DRE-01'!$A$7:$U$301,11,FALSE))","v":""},{"$f":"IF($R367=\"\",\"\",VLOOKUP($R367,'FO-DRE-01'!$A$7:$U$301,12,FALSE))","v":""},{"$f":"IF($R367=\"\",\"\",VLOOKUP($R367,'FO-DRE-01'!$A$7:$U$301,13,FALSE))","v":""},{"$f":"IF($R367=\"\",\"\",VLOOKUP($R367,'FO-DRE-01'!$A$7:$U$301,14,FALSE))","v":""},{"$f":"IF($R367=\"\",\"\",VLOOKUP($R367,'FO-DRE-01'!$A$7:$U$301,15,FALSE))","v":""},{"$f":"IF($S367=\"\",\"\",VLOOKUP($S367,'FO-DRE-04'!$A$6:$L$301,2,FALSE))","v":""},{"$f":"IF($S367=\"\",\"\",VLOOKUP($S367,'FO-DRE-04'!$A$6:$L$301,3,FALSE))","v":""},{"$f":"IF($S367=\"\",\"\",VLOOKUP($S367,'FO-DRE-04'!$A$6:$L$301,4,FALSE))","v":""},{"$f":"IF($S367=\"\",\"\",VLOOKUP($S367,'FO-DRE-04'!$A$6:$L$301,6,FALSE))","v":""},{"$f":"IF($S367=\"\",\"\",VLOOKUP($S367,'FO-DRE-04'!$A$6:$L$301,11,FALSE))","v":""},{"$f":"IF($T367=\"\",\"\",VLOOKUP($T367,'FO-DRE-02'!$A$6:$M$101,2,FALSE))","v":""},{"$f":"IF($T367=\"\",\"\",VLOOKUP($T367,'FO-DRE-02'!$A$6:$M$101,3,FALSE))","v":""},{"$f":"IF($T367=\"\",\"\",VLOOKUP($T367,'FO-DRE-02'!$A$6:$M$101,6,FALSE))","v":""},{"$f":"IF($T367=\"\",\"\",VLOOKUP($T367,'FO-DRE-02'!$A$6:$M$101,4,FALSE))","v":""},{"$f":"IF($T367=\"\",\"\",VLOOKUP($T367,'FO-DRE-02'!$A$6:$M$101,5,FALSE))","v":""},{"$f":"IF($T367=\"\",\"\",VLOOKUP($T367,'FO-DRE-02'!$A$6:$M$101,6,FALSE))","v":""},{"$f":"IF($T367=\"\",\"\",VLOOKUP($T367,'FO-DRE-02'!$A$6:$M$101,6,FALSE))","v":""},{"$f":"IF($T367=\"\",\"\",VLOOKUP($T367,'FO-DRE-02'!$A$6:$M$101,8,FALSE))","v":""},{"$f":"IF($T367=\"\",\"\",VLOOKUP($T367,'FO-DRE-02'!$A$6:$M$101,11,FALSE))","v":""},{"$f":"IF($T367=\"\",\"\",VLOOKUP($T367,'FO-DRE-02'!$A$6:$M$101,12,FALSE))","v":""},{"$f":"IF($T367=\"\",\"\",VLOOKUP($T367,'FO-DRE-02'!$A$6:$M$101,13,FALSE))","v":""},null,null,null,358,"","F/D","F/D","","","","","","","","","","","","","","",""]
[null,null,null,null,null,null,null,null,"",{"$f":"CONCATENATE(#REF!,\"-\",\"TX\")","v":{"$error":"#REF!"}},{"$f":"CONCATENATE(#REF!,\"-\",\"RX\")","v":{"$error":"#REF!"}},null,null,null,null,0,null,null,null,null,null,{"$f":"IF($R368=\"\",\"\",VLOOKUP($R368,'FO-DRE-01'!$A$7:$U$301,18,FALSE))","v":""},{"$f":"IF($R368=\"\",\"\",VLOOKUP($R368,'FO-DRE-01'!$A$7:$U$301,16,FALSE))","v":""},{"$f":"IF($R368=\"\",\"\",VLOOKUP($R368,'FO-DRE-01'!$A$7:$U$301,17,FALSE))","v":""},{"$f":"IF($R368=\"\",\"\",VLOOKUP($R368,'FO-DRE-01'!$A$7:$U$301,3,FALSE))","v":""},{"$f":"IF($R368=\"\",\"\",VLOOKUP($R368,'FO-DRE-01'!$A$7:$U$301,4,FALSE))","v":""},{"$f":"IF($R368=\"\",\"\",VLOOKUP($R368,'FO-DRE-01'!$A$7:$U$301,5,FALSE))","v":""},{"$f":"IF($R368=\"\",\"\",VLOOKUP($R368,'FO-DRE-01'!$A$7:$U$301,7,FALSE))","v":""},{"$f":"IF($R368=\"\",\"\",VLOOKUP($R368,'FO-DRE-01'!$A$7:$U$301,8,FALSE))","v":""},{"$f":"IF($R368=\"\",\"\",VLOOKUP($R368,'FO-DRE-01'!$A$7:$U$301,9,FALSE))","v":""},{"$f":"IF($R368=\"\",\"\",VLOOKUP($R368,'FO-DRE-01'!$A$7:$U$301,10,FALSE))","v":""},{"$f":"IF($R368=\"\",\"\",VLOOKUP($R368,'FO-DRE-01'!$A$7:$U$301,11,FALSE))","v":""},{"$f":"IF($R368=\"\",\"\",VLOOKUP($R368,'FO-DRE-01'!$A$7:$U$301,12,FALSE))","v":""},{"$f":"IF($R368=\"\",\"\",VLOOKUP($R368,'FO-DRE-01'!$A$7:$U$301,13,FALSE))","v":""},{"$f":"IF($R368=\"\",\"\",VLOOKUP($R368,'FO-DRE-01'!$A$7:$U$301,14,FALSE))","v":""},{"$f":"IF($R368=\"\",\"\",VLOOKUP($R368,'FO-DRE-01'!$A$7:$U$301,15,FALSE))","v":""},{"$f":"IF($S368=\"\",\"\",VLOOKUP($S368,'FO-DRE-04'!$A$6:$L$301,2,FALSE))","v":""},{"$f":"IF($S368=\"\",\"\",VLOOKUP($S368,'FO-DRE-04'!$A$6:$L$301,3,FALSE))","v":""},{"$f":"IF($S368=\"\",\"\",VLOOKUP($S368,'FO-DRE-04'!$A$6:$L$301,4,FALSE))","v":""},{"$f":"IF($S368=\"\",\"\",VLOOKUP($S368,'FO-DRE-04'!$A$6:$L$301,6,FALSE))","v":""},{"$f":"IF($S368=\"\",\"\",VLOOKUP($S368,'FO-DRE-04'!$A$6:$L$301,11,FALSE))","v":""},{"$f":"IF($T368=\"\",\"\",VLOOKUP($T368,'FO-DRE-02'!$A$6:$M$101,2,FALSE))","v":""},{"$f":"IF($T368=\"\",\"\",VLOOKUP($T368,'FO-DRE-02'!$A$6:$M$101,3,FALSE))","v":""},{"$f":"IF($T368=\"\",\"\",VLOOKUP($T368,'FO-DRE-02'!$A$6:$M$101,6,FALSE))","v":""},{"$f":"IF($T368=\"\",\"\",VLOOKUP($T368,'FO-DRE-02'!$A$6:$M$101,4,FALSE))","v":""},{"$f":"IF($T368=\"\",\"\",VLOOKUP($T368,'FO-DRE-02'!$A$6:$M$101,5,FALSE))","v":""},{"$f":"IF($T368=\"\",\"\",VLOOKUP($T368,'FO-DRE-02'!$A$6:$M$101,6,FALSE))","v":""},{"$f":"IF($T368=\"\",\"\",VLOOKUP($T368,'FO-DRE-02'!$A$6:$M$101,6,FALSE))","v":""},{"$f":"IF($T368=\"\",\"\",VLOOKUP($T368,'FO-DRE-02'!$A$6:$M$101,8,FALSE))","v":""},{"$f":"IF($T368=\"\",\"\",VLOOKUP($T368,'FO-DRE-02'!$A$6:$M$101,11,FALSE))","v":""},{"$f":"IF($T368=\"\",\"\",VLOOKUP($T368,'FO-DRE-02'!$A$6:$M$101,12,FALSE))","v":""},{"$f":"IF($T368=\"\",\"\",VLOOKUP($T368,'FO-DRE-02'!$A$6:$M$101,13,FALSE))","v":""},null,null,null,359,"","F/D","F/D","","","","","","","","","","","","","","",""]
[null,null,null,null,null,null,null,null,"",{"$f":"CONCATENATE(#REF!,\"-\",\"TX\")","v":{"$error":"#REF!"}},{"$f":"CONCATENATE(#REF!,\"-\",\"RX\")","v":{"$error":"#REF!"}},null,null,null,null,0,null,null,null,null,null,{"$f":"IF($R369=\"\",\"\",VLOOKUP($R369,'FO-DRE-01'!$A$7:$U$301,18,FALSE))","v":""},{"$f":"IF($R369=\"\",\"\",VLOOKUP($R369,'FO-DRE-01'!$A$7:$U$301,16,FALSE))","v":""},{"$f":"IF($R369=\"\",\"\",VLOOKUP($R369,'FO-DRE-01'!$A$7:$U$301,17,FALSE))","v":""},{"$f":"IF($R369=\"\",\"\",VLOOKUP($R369,'FO-DRE-01'!$A$7:$U$301,3,FALSE))","v":""},{"$f":"IF($R369=\"\",\"\",VLOOKUP($R369,'FO-DRE-01'!$A$7:$U$301,4,FALSE))","v":""},{"$f":"IF($R369=\"\",\"\",VLOOKUP($R369,'FO-DRE-01'!$A$7:$U$301,5,FALSE))","v":""},{"$f":"IF($R369=\"\",\"\",VLOOKUP($R369,'FO-DRE-01'!$A$7:$U$301,7,FALSE))","v":""},{"$f":"IF($R369=\"\",\"\",VLOOKUP($R369,'FO-DRE-01'!$A$7:$U$301,8,FALSE))","v":""},{"$f":"IF($R369=\"\",\"\",VLOOKUP($R369,'FO-DRE-01'!$A$7:$U$301,9,FALSE))","v":""},{"$f":"IF($R369=\"\",\"\",VLOOKUP($R369,'FO-DRE-01'!$A$7:$U$301,10,FALSE))","v":""},{"$f":"IF($R369=\"\",\"\",VLOOKUP($R369,'FO-DRE-01'!$A$7:$U$301,11,FALSE))","v":""},{"$f":"IF($R369=\"\",\"\",VLOOKUP($R369,'FO-DRE-01'!$A$7:$U$301,12,FALSE))","v":""},{"$f":"IF($R369=\"\",\"\",VLOOKUP($R369,'FO-DRE-01'!$A$7:$U$301,13,FALSE))","v":""},{"$f":"IF($R369=\"\",\"\",VLOOKUP($R369,'FO-DRE-01'!$A$7:$U$301,14,FALSE))","v":""},{"$f":"IF($R369=\"\",\"\",VLOOKUP($R369,'FO-DRE-01'!$A$7:$U$301,15,FALSE))","v":""},{"$f":"IF($S369=\"\",\"\",VLOOKUP($S369,'FO-DRE-04'!$A$6:$L$301,2,FALSE))","v":""},{"$f":"IF($S369=\"\",\"\",VLOOKUP($S369,'FO-DRE-04'!$A$6:$L$301,3,FALSE))","v":""},{"$f":"IF($S369=\"\",\"\",VLOOKUP($S369,'FO-DRE-04'!$A$6:$L$301,4,FALSE))","v":""},{"$f":"IF($S369=\"\",\"\",VLOOKUP($S369,'FO-DRE-04'!$A$6:$L$301,6,FALSE))","v":""},{"$f":"IF($S369=\"\",\"\",VLOOKUP($S369,'FO-DRE-04'!$A$6:$L$301,11,FALSE))","v":""},{"$f":"IF($T369=\"\",\"\",VLOOKUP($T369,'FO-DRE-02'!$A$6:$M$101,2,FALSE))","v":""},{"$f":"IF($T369=\"\",\"\",VLOOKUP($T369,'FO-DRE-02'!$A$6:$M$101,3,FALSE))","v":""},{"$f":"IF($T369=\"\",\"\",VLOOKUP($T369,'FO-DRE-02'!$A$6:$M$101,6,FALSE))","v":""},{"$f":"IF($T369=\"\",\"\",VLOOKUP($T369,'FO-DRE-02'!$A$6:$M$101,4,FALSE))","v":""},{"$f":"IF($T369=\"\",\"\",VLOOKUP($T369,'FO-DRE-02'!$A$6:$M$101,5,FALSE))","v":""},{"$f":"IF($T369=\"\",\"\",VLOOKUP($T369,'FO-DRE-02'!$A$6:$M$101,6,FALSE))","v":""},{"$f":"IF($T369=\"\",\"\",VLOOKUP($T369,'FO-DRE-02'!$A$6:$M$101,6,FALSE))","v":""},{"$f":"IF($T369=\"\",\"\",VLOOKUP($T369,'FO-DRE-02'!$A$6:$M$101,8,FALSE))","v":""},{"$f":"IF($T369=\"\",\"\",VLOOKUP($T369,'FO-DRE-02'!$A$6:$M$101,11,FALSE))","v":""},{"$f":"IF($T369=\"\",\"\",VLOOKUP($T369,'FO-DRE-02'!$A$6:$M$101,12,FALSE))","v":""},{"$f":"IF($T369=\"\",\"\",VLOOKUP($T369,'FO-DRE-02'!$A$6:$M$101,13,FALSE))","v":""},null,null,null,360,"","F/D","F/D","","","","","","","","","","","","","","",""]
[null,null,null,null,null,null,null,null,"",{"$f":"CONCATENATE(#REF!,\"-\",\"TX\")","v":{"$error":"#REF!"}},{"$f":"CONCATENATE(#REF!,\"-\",\"RX\")","v":{"$error":"#REF!"}},null,null,null,null,0,null,null,null,null,null,{"$f":"IF($R370=\"\",\"\",VLOOKUP($R370,'FO-DRE-01'!$A$7:$U$301,18,FALSE))","v":""},{"$f":"IF($R370=\"\",\"\",VLOOKUP($R370,'FO-DRE-01'!$A$7:$U$301,16,FALSE))","v":""},{"$f":"IF($R370=\"\",\"\",VLOOKUP($R370,'FO-DRE-01'!$A$7:$U$301,17,FALSE))","v":""},{"$f":"IF($R370=\"\",\"\",VLOOKUP($R370,'FO-DRE-01'!$A$7:$U$301,3,FALSE))","v":""},{"$f":"IF($R370=\"\",\"\",VLOOKUP($R370,'FO-DRE-01'!$A$7:$U$301,4,FALSE))","v":""},{"$f":"IF($R370=\"\",\"\",VLOOKUP($R370,'FO-DRE-01'!$A$7:$U$301,5,FALSE))","v":""},{"$f":"IF($R370=\"\",\"\",VLOOKUP($R370,'FO-DRE-01'!$A$7:$U$301,7,FALSE))","v":""},{"$f":"IF($R370=\"\",\"\",VLOOKUP($R370,'FO-DRE-01'!$A$7:$U$301,8,FALSE))","v":""},{"$f":"IF($R370=\"\",\"\",VLOOKUP($R370,'FO-DRE-01'!$A$7:$U$301,9,FALSE))","v":""},{"$f":"IF($R370=\"\",\"\",VLOOKUP($R370,'FO-DRE-01'!$A$7:$U$301,10,FALSE))","v":""},{"$f":"IF($R370=\"\",\"\",VLOOKUP($R370,'FO-DRE-01'!$A$7:$U$301,11,FALSE))","v":""},{"$f":"IF($R370=\"\",\"\",VLOOKUP($R370,'FO-DRE-01'!$A$7:$U$301,12,FALSE))","v":""},{"$f":"IF($R370=\"\",\"\",VLOOKUP($R370,'FO-DRE-01'!$A$7:$U$301,13,FALSE))","v":""},{"$f":"IF($R370=\"\",\"\",VLOOKUP($R370,'FO-DRE-01'!$A$7:$U$301,14,FALSE))","v":""},{"$f":"IF($R370=\"\",\"\",VLOOKUP($R370,'FO-DRE-01'!$A$7:$U$301,15,FALSE))","v":""},{"$f":"IF($S370=\"\",\"\",VLOOKUP($S370,'FO-DRE-04'!$A$6:$L$301,2,FALSE))","v":""},{"$f":"IF($S370=\"\",\"\",VLOOKUP($S370,'FO-DRE-04'!$A$6:$L$301,3,FALSE))","v":""},{"$f":"IF($S370=\"\",\"\",VLOOKUP($S370,'FO-DRE-04'!$A$6:$L$301,4,FALSE))","v":""},{"$f":"IF($S370=\"\",\"\",VLOOKUP($S370,'FO-DRE-04'!$A$6:$L$301,6,FALSE))","v":""},{"$f":"IF($S370=\"\",\"\",VLOOKUP($S370,'FO-DRE-04'!$A$6:$L$301,11,FALSE))","v":""},{"$f":"IF($T370=\"\",\"\",VLOOKUP($T370,'FO-DRE-02'!$A$6:$M$101,2,FALSE))","v":""},{"$f":"IF($T370=\"\",\"\",VLOOKUP($T370,'FO-DRE-02'!$A$6:$M$101,3,FALSE))","v":""},{"$f":"IF($T370=\"\",\"\",VLOOKUP($T370,'FO-DRE-02'!$A$6:$M$101,6,FALSE))","v":""},{"$f":"IF($T370=\"\",\"\",VLOOKUP($T370,'FO-DRE-02'!$A$6:$M$101,4,FALSE))","v":""},{"$f":"IF($T370=\"\",\"\",VLOOKUP($T370,'FO-DRE-02'!$A$6:$M$101,5,FALSE))","v":""},{"$f":"IF($T370=\"\",\"\",VLOOKUP($T370,'FO-DRE-02'!$A$6:$M$101,6,FALSE))","v":""},{"$f":"IF($T370=\"\",\"\",VLOOKUP($T370,'FO-DRE-02'!$A$6:$M$101,6,FALSE))","v":""},{"$f":"IF($T370=\"\",\"\",VLOOKUP($T370,'FO-DRE-02'!$A$6:$M$101,8,FALSE))","v":""},{"$f":"IF($T370=\"\",\"\",VLOOKUP($T370,'FO-DRE-02'!$A$6:$M$101,11,FALSE))","v":""},{"$f":"IF($T370=\"\",\"\",VLOOKUP($T370,'FO-DRE-02'!$A$6:$M$101,12,FALSE))","v":""},{"$f":"IF($T370=\"\",\"\",VLOOKUP($T370,'FO-DRE-02'!$A$6:$M$101,13,FALSE))","v":""},null,null,null,361,"","F/D","F/D","","","","","","","","","","","","","","",""]
[null,null,null,null,null,null,null,null,"",{"$f":"CONCATENATE(#REF!,\"-\",\"TX\")","v":{"$error":"#REF!"}},{"$f":"CONCATENATE(#REF!,\"-\",\"RX\")","v":{"$error":"#REF!"}},null,null,null,null,0,null,null,null,null,null,{"$f":"IF($R371=\"\",\"\",VLOOKUP($R371,'FO-DRE-01'!$A$7:$U$301,18,FALSE))","v":""},{"$f":"IF($R371=\"\",\"\",VLOOKUP($R371,'FO-DRE-01'!$A$7:$U$301,16,FALSE))","v":""},{"$f":"IF($R371=\"\",\"\",VLOOKUP($R371,'FO-DRE-01'!$A$7:$U$301,17,FALSE))","v":""},{"$f":"IF($R371=\"\",\"\",VLOOKUP($R371,'FO-DRE-01'!$A$7:$U$301,3,FALSE))","v":""},{"$f":"IF($R371=\"\",\"\",VLOOKUP($R371,'FO-DRE-01'!$A$7:$U$301,4,FALSE))","v":""},{"$f":"IF($R371=\"\",\"\",VLOOKUP($R371,'FO-DRE-01'!$A$7:$U$301,5,FALSE))","v":""},{"$f":"IF($R371=\"\",\"\",VLOOKUP($R371,'FO-DRE-01'!$A$7:$U$301,7,FALSE))","v":""},{"$f":"IF($R371=\"\",\"\",VLOOKUP($R371,'FO-DRE-01'!$A$7:$U$301,8,FALSE))","v":""},{"$f":"IF($R371=\"\",\"\",VLOOKUP($R371,'FO-DRE-01'!$A$7:$U$301,9,FALSE))","v":""},{"$f":"IF($R371=\"\",\"\",VLOOKUP($R371,'FO-DRE-01'!$A$7:$U$301,10,FALSE))","v":""},{"$f":"IF($R371=\"\",\"\",VLOOKUP($R371,'FO-DRE-01'!$A$7:$U$301,11,FALSE))","v":""},{"$f":"IF($R371=\"\",\"\",VLOOKUP($R371,'FO-DRE-01'!$A$7:$U$301,12,FALSE))","v":""},{"$f":"IF($R371=\"\",\"\",VLOOKUP($R371,'FO-DRE-01'!$A$7:$U$301,13,FALSE))","v":""},{"$f":"IF($R371=\"\",\"\",VLOOKUP($R371,'FO-DRE-01'!$A$7:$U$301,14,FALSE))","v":""},{"$f":"IF($R371=\"\",\"\",VLOOKUP($R371,'FO-DRE-01'!$A$7:$U$301,15,FALSE))","v":""},{"$f":"IF($S371=\"\",\"\",VLOOKUP($S371,'FO-DRE-04'!$A$6:$L$301,2,FALSE))","v":""},{"$f":"IF($S371=\"\",\"\",VLOOKUP($S371,'FO-DRE-04'!$A$6:$L$301,3,FALSE))","v":""},{"$f":"IF($S371=\"\",\"\",VLOOKUP($S371,'FO-DRE-04'!$A$6:$L$301,4,FALSE))","v":""},{"$f":"IF($S371=\"\",\"\",VLOOKUP($S371,'FO-DRE-04'!$A$6:$L$301,6,FALSE))","v":""},{"$f":"IF($S371=\"\",\"\",VLOOKUP($S371,'FO-DRE-04'!$A$6:$L$301,11,FALSE))","v":""},{"$f":"IF($T371=\"\",\"\",VLOOKUP($T371,'FO-DRE-02'!$A$6:$M$101,2,FALSE))","v":""},{"$f":"IF($T371=\"\",\"\",VLOOKUP($T371,'FO-DRE-02'!$A$6:$M$101,3,FALSE))","v":""},{"$f":"IF($T371=\"\",\"\",VLOOKUP($T371,'FO-DRE-02'!$A$6:$M$101,6,FALSE))","v":""},{"$f":"IF($T371=\"\",\"\",VLOOKUP($T371,'FO-DRE-02'!$A$6:$M$101,4,FALSE))","v":""},{"$f":"IF($T371=\"\",\"\",VLOOKUP($T371,'FO-DRE-02'!$A$6:$M$101,5,FALSE))","v":""},{"$f":"IF($T371=\"\",\"\",VLOOKUP($T371,'FO-DRE-02'!$A$6:$M$101,6,FALSE))","v":""},{"$f":"IF($T371=\"\",\"\",VLOOKUP($T371,'FO-DRE-02'!$A$6:$M$101,6,FALSE))","v":""},{"$f":"IF($T371=\"\",\"\",VLOOKUP($T371,'FO-DRE-02'!$A$6:$M$101,8,FALSE))","v":""},{"$f":"IF($T371=\"\",\"\",VLOOKUP($T371,'FO-DRE-02'!$A$6:$M$101,11,FALSE))","v":""},{"$f":"IF($T371=\"\",\"\",VLOOKUP($T371,'FO-DRE-02'!$A$6:$M$101,12,FALSE))","v":""},{"$f":"IF($T371=\"\",\"\",VLOOKUP($T371,'FO-DRE-02'!$A$6:$M$101,13,FALSE))","v":""},null,null,null,362,"","F/D","F/D","","","","","","","","","","","","","","",""]
[null,null,null,null,null,null,null,null,"",{"$f":"CONCATENATE(#REF!,\"-\",\"TX\")","v":{"$error":"#REF!"}},{"$f":"CONCATENATE(#REF!,\"-\",\"RX\")","v":{"$error":"#REF!"}},null,null,null,null,0,null,null,null,null,null,{"$f":"IF($R372=\"\",\"\",VLOOKUP($R372,'FO-DRE-01'!$A$7:$U$301,18,FALSE))","v":""},{"$f":"IF($R372=\"\",\"\",VLOOKUP($R372,'FO-DRE-01'!$A$7:$U$301,16,FALSE))","v":""},{"$f":"IF($R372=\"\",\"\",VLOOKUP($R372,'FO-DRE-01'!$A$7:$U$301,17,FALSE))","v":""},{"$f":"IF($R372=\"\",\"\",VLOOKUP($R372,'FO-DRE-01'!$A$7:$U$301,3,FALSE))","v":""},{"$f":"IF($R372=\"\",\"\",VLOOKUP($R372,'FO-DRE-01'!$A$7:$U$301,4,FALSE))","v":""},{"$f":"IF($R372=\"\",\"\",VLOOKUP($R372,'FO-DRE-01'!$A$7:$U$301,5,FALSE))","v":""},{"$f":"IF($R372=\"\",\"\",VLOOKUP($R372,'FO-DRE-01'!$A$7:$U$301,7,FALSE))","v":""},{"$f":"IF($R372=\"\",\"\",VLOOKUP($R372,'FO-DRE-01'!$A$7:$U$301,8,FALSE))","v":""},{"$f":"IF($R372=\"\",\"\",VLOOKUP($R372,'FO-DRE-01'!$A$7:$U$301,9,FALSE))","v":""},{"$f":"IF($R372=\"\",\"\",VLOOKUP($R372,'FO-DRE-01'!$A$7:$U$301,10,FALSE))","v":""},{"$f":"IF($R372=\"\",\"\",VLOOKUP($R372,'FO-DRE-01'!$A$7:$U$301,11,FALSE))","v":""},{"$f":"IF($R372=\"\",\"\",VLOOKUP($R372,'FO-DRE-01'!$A$7:$U$301,12,FALSE))","v":""},{"$f":"IF($R372=\"\",\"\",VLOOKUP($R372,'FO-DRE-01'!$A$7:$U$301,13,FALSE))","v":""},{"$f":"IF($R372=\"\",\"\",VLOOKUP($R372,'FO-DRE-01'!$A$7:$U$301,14,FALSE))","v":""},{"$f":"IF($R372=\"\",\"\",VLOOKUP($R372,'FO-DRE-01'!$A$7:$U$301,15,FALSE))","v":""},{"$f":"IF($S372=\"\",\"\",VLOOKUP($S372,'FO-DRE-04'!$A$6:$L$301,2,FALSE))","v":""},{"$f":"IF($S372=\"\",\"\",VLOOKUP($S372,'FO-DRE-04'!$A$6:$L$301,3,FALSE))","v":""},{"$f":"IF($S372=\"\",\"\",VLOOKUP($S372,'FO-DRE-04'!$A$6:$L$301,4,FALSE))","v":""},{"$f":"IF($S372=\"\",\"\",VLOOKUP($S372,'FO-DRE-04'!$A$6:$L$301,6,FALSE))","v":""},{"$f":"IF($S372=\"\",\"\",VLOOKUP($S372,'FO-DRE-04'!$A$6:$L$301,11,FALSE))","v":""},{"$f":"IF($T372=\"\",\"\",VLOOKUP($T372,'FO-DRE-02'!$A$6:$M$101,2,FALSE))","v":""},{"$f":"IF($T372=\"\",\"\",VLOOKUP($T372,'FO-DRE-02'!$A$6:$M$101,3,FALSE))","v":""},{"$f":"IF($T372=\"\",\"\",VLOOKUP($T372,'FO-DRE-02'!$A$6:$M$101,6,FALSE))","v":""},{"$f":"IF($T372=\"\",\"\",VLOOKUP($T372,'FO-DRE-02'!$A$6:$M$101,4,FALSE))","v":""},{"$f":"IF($T372=\"\",\"\",VLOOKUP($T372,'FO-DRE-02'!$A$6:$M$101,5,FALSE))","v":""},{"$f":"IF($T372=\"\",\"\",VLOOKUP($T372,'FO-DRE-02'!$A$6:$M$101,6,FALSE))","v":""},{"$f":"IF($T372=\"\",\"\",VLOOKUP($T372,'FO-DRE-02'!$A$6:$M$101,6,FALSE))","v":""},{"$f":"IF($T372=\"\",\"\",VLOOKUP($T372,'FO-DRE-02'!$A$6:$M$101,8,FALSE))","v":""},{"$f":"IF($T372=\"\",\"\",VLOOKUP($T372,'FO-DRE-02'!$A$6:$M$101,11,FALSE))","v":""},{"$f":"IF($T372=\"\",\"\",VLOOKUP($T372,'FO-DRE-02'!$A$6:$M$101,12,FALSE))","v":""},{"$f":"IF($T372=\"\",\"\",VLOOKUP($T372,'FO-DRE-02'!$A$6:$M$101,13,FALSE))","v":""},null,null,null,363,"","F/D","F/D","","","","","","","","","","","","","","",""]
[null,null,null,null,null,null,null,null,"",{"$f":"CONCATENATE(#REF!,\"-\",\"TX\")","v":{"$error":"#REF!"}},{"$f":"CONCATENATE(#REF!,\"-\",\"RX\")","v":{"$error":"#REF!"}},null,null,null,null,0,null,null,null,null,null,{"$f":"IF($R373=\"\",\"\",VLOOKUP($R373,'FO-DRE-01'!$A$7:$U$301,18,FALSE))","v":""},{"$f":"IF($R373=\"\",\"\",VLOOKUP($R373,'FO-DRE-01'!$A$7:$U$301,16,FALSE))","v":""},{"$f":"IF($R373=\"\",\"\",VLOOKUP($R373,'FO-DRE-01'!$A$7:$U$301,17,FALSE))","v":""},{"$f":"IF($R373=\"\",\"\",VLOOKUP($R373,'FO-DRE-01'!$A$7:$U$301,3,FALSE))","v":""},{"$f":"IF($R373=\"\",\"\",VLOOKUP($R373,'FO-DRE-01'!$A$7:$U$301,4,FALSE))","v":""},{"$f":"IF($R373=\"\",\"\",VLOOKUP($R373,'FO-DRE-01'!$A$7:$U$301,5,FALSE))","v":""},{"$f":"IF($R373=\"\",\"\",VLOOKUP($R373,'FO-DRE-01'!$A$7:$U$301,7,FALSE))","v":""},{"$f":"IF($R373=\"\",\"\",VLOOKUP($R373,'FO-DRE-01'!$A$7:$U$301,8,FALSE))","v":""},{"$f":"IF($R373=\"\",\"\",VLOOKUP($R373,'FO-DRE-01'!$A$7:$U$301,9,FALSE))","v":""},{"$f":"IF($R373=\"\",\"\",VLOOKUP($R373,'FO-DRE-01'!$A$7:$U$301,10,FALSE))","v":""},{"$f":"IF($R373=\"\",\"\",VLOOKUP($R373,'FO-DRE-01'!$A$7:$U$301,11,FALSE))","v":""},{"$f":"IF($R373=\"\",\"\",VLOOKUP($R373,'FO-DRE-01'!$A$7:$U$301,12,FALSE))","v":""},{"$f":"IF($R373=\"\",\"\",VLOOKUP($R373,'FO-DRE-01'!$A$7:$U$301,13,FALSE))","v":""},{"$f":"IF($R373=\"\",\"\",VLOOKUP($R373,'FO-DRE-01'!$A$7:$U$301,14,FALSE))","v":""},{"$f":"IF($R373=\"\",\"\",VLOOKUP($R373,'FO-DRE-01'!$A$7:$U$301,15,FALSE))","v":""},{"$f":"IF($S373=\"\",\"\",VLOOKUP($S373,'FO-DRE-04'!$A$6:$L$301,2,FALSE))","v":""},{"$f":"IF($S373=\"\",\"\",VLOOKUP($S373,'FO-DRE-04'!$A$6:$L$301,3,FALSE))","v":""},{"$f":"IF($S373=\"\",\"\",VLOOKUP($S373,'FO-DRE-04'!$A$6:$L$301,4,FALSE))","v":""},{"$f":"IF($S373=\"\",\"\",VLOOKUP($S373,'FO-DRE-04'!$A$6:$L$301,6,FALSE))","v":""},{"$f":"IF($S373=\"\",\"\",VLOOKUP($S373,'FO-DRE-04'!$A$6:$L$301,11,FALSE))","v":""},{"$f":"IF($T373=\"\",\"\",VLOOKUP($T373,'FO-DRE-02'!$A$6:$M$101,2,FALSE))","v":""},{"$f":"IF($T373=\"\",\"\",VLOOKUP($T373,'FO-DRE-02'!$A$6:$M$101,3,FALSE))","v":""},{"$f":"IF($T373=\"\",\"\",VLOOKUP($T373,'FO-DRE-02'!$A$6:$M$101,6,FALSE))","v":""},{"$f":"IF($T373=\"\",\"\",VLOOKUP($T373,'FO-DRE-02'!$A$6:$M$101,4,FALSE))","v":""},{"$f":"IF($T373=\"\",\"\",VLOOKUP($T373,'FO-DRE-02'!$A$6:$M$101,5,FALSE))","v":""},{"$f":"IF($T373=\"\",\"\",VLOOKUP($T373,'FO-DRE-02'!$A$6:$M$101,6,FALSE))","v":""},{"$f":"IF($T373=\"\",\"\",VLOOKUP($T373,'FO-DRE-02'!$A$6:$M$101,6,FALSE))","v":""},{"$f":"IF($T373=\"\",\"\",VLOOKUP($T373,'FO-DRE-02'!$A$6:$M$101,8,FALSE))","v":""},{"$f":"IF($T373=\"\",\"\",VLOOKUP($T373,'FO-DRE-02'!$A$6:$M$101,11,FALSE))","v":""},{"$f":"IF($T373=\"\",\"\",VLOOKUP($T373,'FO-DRE-02'!$A$6:$M$101,12,FALSE))","v":""},{"$f":"IF($T373=\"\",\"\",VLOOKUP($T373,'FO-DRE-02'!$A$6:$M$101,13,FALSE))","v":""},null,null,null,364,"","F/D","F/D","","","","","","","","","","","","","","",""]
[null,null,null,null,null,null,null,null,"",{"$f":"CONCATENATE(#REF!,\"-\",\"TX\")","v":{"$error":"#REF!"}},{"$f":"CONCATENATE(#REF!,\"-\",\"RX\")","v":{"$error":"#REF!"}},null,null,null,null,0,null,null,null,null,null,{"$f":"IF($R374=\"\",\"\",VLOOKUP($R374,'FO-DRE-01'!$A$7:$U$301,18,FALSE))","v":""},{"$f":"IF($R374=\"\",\"\",VLOOKUP($R374,'FO-DRE-01'!$A$7:$U$301,16,FALSE))","v":""},{"$f":"IF($R374=\"\",\"\",VLOOKUP($R374,'FO-DRE-01'!$A$7:$U$301,17,FALSE))","v":""},{"$f":"IF($R374=\"\",\"\",VLOOKUP($R374,'FO-DRE-01'!$A$7:$U$301,3,FALSE))","v":""},{"$f":"IF($R374=\"\",\"\",VLOOKUP($R374,'FO-DRE-01'!$A$7:$U$301,4,FALSE))","v":""},{"$f":"IF($R374=\"\",\"\",VLOOKUP($R374,'FO-DRE-01'!$A$7:$U$301,5,FALSE))","v":""},{"$f":"IF($R374=\"\",\"\",VLOOKUP($R374,'FO-DRE-01'!$A$7:$U$301,7,FALSE))","v":""},{"$f":"IF($R374=\"\",\"\",VLOOKUP($R374,'FO-DRE-01'!$A$7:$U$301,8,FALSE))","v":""},{"$f":"IF($R374=\"\",\"\",VLOOKUP($R374,'FO-DRE-01'!$A$7:$U$301,9,FALSE))","v":""},{"$f":"IF($R374=\"\",\"\",VLOOKUP($R374,'FO-DRE-01'!$A$7:$U$301,10,FALSE))","v":""},{"$f":"IF($R374=\"\",\"\",VLOOKUP($R374,'FO-DRE-01'!$A$7:$U$301,11,FALSE))","v":""},{"$f":"IF($R374=\"\",\"\",VLOOKUP($R374,'FO-DRE-01'!$A$7:$U$301,12,FALSE))","v":""},{"$f":"IF($R374=\"\",\"\",VLOOKUP($R374,'FO-DRE-01'!$A$7:$U$301,13,FALSE))","v":""},{"$f":"IF($R374=\"\",\"\",VLOOKUP($R374,'FO-DRE-01'!$A$7:$U$301,14,FALSE))","v":""},{"$f":"IF($R374=\"\",\"\",VLOOKUP($R374,'FO-DRE-01'!$A$7:$U$301,15,FALSE))","v":""},{"$f":"IF($S374=\"\",\"\",VLOOKUP($S374,'FO-DRE-04'!$A$6:$L$301,2,FALSE))","v":""},{"$f":"IF($S374=\"\",\"\",VLOOKUP($S374,'FO-DRE-04'!$A$6:$L$301,3,FALSE))","v":""},{"$f":"IF($S374=\"\",\"\",VLOOKUP($S374,'FO-DRE-04'!$A$6:$L$301,4,FALSE))","v":""},{"$f":"IF($S374=\"\",\"\",VLOOKUP($S374,'FO-DRE-04'!$A$6:$L$301,6,FALSE))","v":""},{"$f":"IF($S374=\"\",\"\",VLOOKUP($S374,'FO-DRE-04'!$A$6:$L$301,11,FALSE))","v":""},{"$f":"IF($T374=\"\",\"\",VLOOKUP($T374,'FO-DRE-02'!$A$6:$M$101,2,FALSE))","v":""},{"$f":"IF($T374=\"\",\"\",VLOOKUP($T374,'FO-DRE-02'!$A$6:$M$101,3,FALSE))","v":""},{"$f":"IF($T374=\"\",\"\",VLOOKUP($T374,'FO-DRE-02'!$A$6:$M$101,6,FALSE))","v":""},{"$f":"IF($T374=\"\",\"\",VLOOKUP($T374,'FO-DRE-02'!$A$6:$M$101,4,FALSE))","v":""},{"$f":"IF($T374=\"\",\"\",VLOOKUP($T374,'FO-DRE-02'!$A$6:$M$101,5,FALSE))","v":""},{"$f":"IF($T374=\"\",\"\",VLOOKUP($T374,'FO-DRE-02'!$A$6:$M$101,6,FALSE))","v":""},{"$f":"IF($T374=\"\",\"\",VLOOKUP($T374,'FO-DRE-02'!$A$6:$M$101,6,FALSE))","v":""},{"$f":"IF($T374=\"\",\"\",VLOOKUP($T374,'FO-DRE-02'!$A$6:$M$101,8,FALSE))","v":""},{"$f":"IF($T374=\"\",\"\",VLOOKUP($T374,'FO-DRE-02'!$A$6:$M$101,11,FALSE))","v":""},{"$f":"IF($T374=\"\",\"\",VLOOKUP($T374,'FO-DRE-02'!$A$6:$M$101,12,FALSE))","v":""},{"$f":"IF($T374=\"\",\"\",VLOOKUP($T374,'FO-DRE-02'!$A$6:$M$101,13,FALSE))","v":""},null,null,null,365,"","F/D","F/D","","","","","","","","","","","","","","",""]
[null,null,null,null,null,null,null,null,"",{"$f":"CONCATENATE(#REF!,\"-\",\"TX\")","v":{"$error":"#REF!"}},{"$f":"CONCATENATE(#REF!,\"-\",\"RX\")","v":{"$error":"#REF!"}},null,null,null,null,0,null,null,null,null,null,{"$f":"IF($R375=\"\",\"\",VLOOKUP($R375,'FO-DRE-01'!$A$7:$U$301,18,FALSE))","v":""},{"$f":"IF($R375=\"\",\"\",VLOOKUP($R375,'FO-DRE-01'!$A$7:$U$301,16,FALSE))","v":""},{"$f":"IF($R375=\"\",\"\",VLOOKUP($R375,'FO-DRE-01'!$A$7:$U$301,17,FALSE))","v":""},{"$f":"IF($R375=\"\",\"\",VLOOKUP($R375,'FO-DRE-01'!$A$7:$U$301,3,FALSE))","v":""},{"$f":"IF($R375=\"\",\"\",VLOOKUP($R375,'FO-DRE-01'!$A$7:$U$301,4,FALSE))","v":""},{"$f":"IF($R375=\"\",\"\",VLOOKUP($R375,'FO-DRE-01'!$A$7:$U$301,5,FALSE))","v":""},{"$f":"IF($R375=\"\",\"\",VLOOKUP($R375,'FO-DRE-01'!$A$7:$U$301,7,FALSE))","v":""},{"$f":"IF($R375=\"\",\"\",VLOOKUP($R375,'FO-DRE-01'!$A$7:$U$301,8,FALSE))","v":""},{"$f":"IF($R375=\"\",\"\",VLOOKUP($R375,'FO-DRE-01'!$A$7:$U$301,9,FALSE))","v":""},{"$f":"IF($R375=\"\",\"\",VLOOKUP($R375,'FO-DRE-01'!$A$7:$U$301,10,FALSE))","v":""},{"$f":"IF($R375=\"\",\"\",VLOOKUP($R375,'FO-DRE-01'!$A$7:$U$301,11,FALSE))","v":""},{"$f":"IF($R375=\"\",\"\",VLOOKUP($R375,'FO-DRE-01'!$A$7:$U$301,12,FALSE))","v":""},{"$f":"IF($R375=\"\",\"\",VLOOKUP($R375,'FO-DRE-01'!$A$7:$U$301,13,FALSE))","v":""},{"$f":"IF($R375=\"\",\"\",VLOOKUP($R375,'FO-DRE-01'!$A$7:$U$301,14,FALSE))","v":""},{"$f":"IF($R375=\"\",\"\",VLOOKUP($R375,'FO-DRE-01'!$A$7:$U$301,15,FALSE))","v":""},{"$f":"IF($S375=\"\",\"\",VLOOKUP($S375,'FO-DRE-04'!$A$6:$L$301,2,FALSE))","v":""},{"$f":"IF($S375=\"\",\"\",VLOOKUP($S375,'FO-DRE-04'!$A$6:$L$301,3,FALSE))","v":""},{"$f":"IF($S375=\"\",\"\",VLOOKUP($S375,'FO-DRE-04'!$A$6:$L$301,4,FALSE))","v":""},{"$f":"IF($S375=\"\",\"\",VLOOKUP($S375,'FO-DRE-04'!$A$6:$L$301,6,FALSE))","v":""},{"$f":"IF($S375=\"\",\"\",VLOOKUP($S375,'FO-DRE-04'!$A$6:$L$301,11,FALSE))","v":""},{"$f":"IF($T375=\"\",\"\",VLOOKUP($T375,'FO-DRE-02'!$A$6:$M$101,2,FALSE))","v":""},{"$f":"IF($T375=\"\",\"\",VLOOKUP($T375,'FO-DRE-02'!$A$6:$M$101,3,FALSE))","v":""},{"$f":"IF($T375=\"\",\"\",VLOOKUP($T375,'FO-DRE-02'!$A$6:$M$101,6,FALSE))","v":""},{"$f":"IF($T375=\"\",\"\",VLOOKUP($T375,'FO-DRE-02'!$A$6:$M$101,4,FALSE))","v":""},{"$f":"IF($T375=\"\",\"\",VLOOKUP($T375,'FO-DRE-02'!$A$6:$M$101,5,FALSE))","v":""},{"$f":"IF($T375=\"\",\"\",VLOOKUP($T375,'FO-DRE-02'!$A$6:$M$101,6,FALSE))","v":""},{"$f":"IF($T375=\"\",\"\",VLOOKUP($T375,'FO-DRE-02'!$A$6:$M$101,6,FALSE))","v":""},{"$f":"IF($T375=\"\",\"\",VLOOKUP($T375,'FO-DRE-02'!$A$6:$M$101,8,FALSE))","v":""},{"$f":"IF($T375=\"\",\"\",VLOOKUP($T375,'FO-DRE-02'!$A$6:$M$101,11,FALSE))","v":""},{"$f":"IF($T375=\"\",\"\",VLOOKUP($T375,'FO-DRE-02'!$A$6:$M$101,12,FALSE))","v":""},{"$f":"IF($T375=\"\",\"\",VLOOKUP($T375,'FO-DRE-02'!$A$6:$M$101,13,FALSE))","v":""},null,null,null,366,"","F/D","F/D","","","","","","","","","","","","","","",""]
[null,null,null,null,null,null,null,null,"",{"$f":"CONCATENATE(#REF!,\"-\",\"TX\")","v":{"$error":"#REF!"}},{"$f":"CONCATENATE(#REF!,\"-\",\"RX\")","v":{"$error":"#REF!"}},null,null,null,null,0,null,null,null,null,null,{"$f":"IF($R376=\"\",\"\",VLOOKUP($R376,'FO-DRE-01'!$A$7:$U$301,18,FALSE))","v":""},{"$f":"IF($R376=\"\",\"\",VLOOKUP($R376,'FO-DRE-01'!$A$7:$U$301,16,FALSE))","v":""},{"$f":"IF($R376=\"\",\"\",VLOOKUP($R376,'FO-DRE-01'!$A$7:$U$301,17,FALSE))","v":""},{"$f":"IF($R376=\"\",\"\",VLOOKUP($R376,'FO-DRE-01'!$A$7:$U$301,3,FALSE))","v":""},{"$f":"IF($R376=\"\",\"\",VLOOKUP($R376,'FO-DRE-01'!$A$7:$U$301,4,FALSE))","v":""},{"$f":"IF($R376=\"\",\"\",VLOOKUP($R376,'FO-DRE-01'!$A$7:$U$301,5,FALSE))","v":""},{"$f":"IF($R376=\"\",\"\",VLOOKUP($R376,'FO-DRE-01'!$A$7:$U$301,7,FALSE))","v":""},{"$f":"IF($R376=\"\",\"\",VLOOKUP($R376,'FO-DRE-01'!$A$7:$U$301,8,FALSE))","v":""},{"$f":"IF($R376=\"\",\"\",VLOOKUP($R376,'FO-DRE-01'!$A$7:$U$301,9,FALSE))","v":""},{"$f":"IF($R376=\"\",\"\",VLOOKUP($R376,'FO-DRE-01'!$A$7:$U$301,10,FALSE))","v":""},{"$f":"IF($R376=\"\",\"\",VLOOKUP($R376,'FO-DRE-01'!$A$7:$U$301,11,FALSE))","v":""},{"$f":"IF($R376=\"\",\"\",VLOOKUP($R376,'FO-DRE-01'!$A$7:$U$301,12,FALSE))","v":""},{"$f":"IF($R376=\"\",\"\",VLOOKUP($R376,'FO-DRE-01'!$A$7:$U$301,13,FALSE))","v":""},{"$f":"IF($R376=\"\",\"\",VLOOKUP($R376,'FO-DRE-01'!$A$7:$U$301,14,FALSE))","v":""},{"$f":"IF($R376=\"\",\"\",VLOOKUP($R376,'FO-DRE-01'!$A$7:$U$301,15,FALSE))","v":""},{"$f":"IF($S376=\"\",\"\",VLOOKUP($S376,'FO-DRE-04'!$A$6:$L$301,2,FALSE))","v":""},{"$f":"IF($S376=\"\",\"\",VLOOKUP($S376,'FO-DRE-04'!$A$6:$L$301,3,FALSE))","v":""},{"$f":"IF($S376=\"\",\"\",VLOOKUP($S376,'FO-DRE-04'!$A$6:$L$301,4,FALSE))","v":""},{"$f":"IF($S376=\"\",\"\",VLOOKUP($S376,'FO-DRE-04'!$A$6:$L$301,6,FALSE))","v":""},{"$f":"IF($S376=\"\",\"\",VLOOKUP($S376,'FO-DRE-04'!$A$6:$L$301,11,FALSE))","v":""},{"$f":"IF($T376=\"\",\"\",VLOOKUP($T376,'FO-DRE-02'!$A$6:$M$101,2,FALSE))","v":""},{"$f":"IF($T376=\"\",\"\",VLOOKUP($T376,'FO-DRE-02'!$A$6:$M$101,3,FALSE))","v":""},{"$f":"IF($T376=\"\",\"\",VLOOKUP($T376,'FO-DRE-02'!$A$6:$M$101,6,FALSE))","v":""},{"$f":"IF($T376=\"\",\"\",VLOOKUP($T376,'FO-DRE-02'!$A$6:$M$101,4,FALSE))","v":""},{"$f":"IF($T376=\"\",\"\",VLOOKUP($T376,'FO-DRE-02'!$A$6:$M$101,5,FALSE))","v":""},{"$f":"IF($T376=\"\",\"\",VLOOKUP($T376,'FO-DRE-02'!$A$6:$M$101,6,FALSE))","v":""},{"$f":"IF($T376=\"\",\"\",VLOOKUP($T376,'FO-DRE-02'!$A$6:$M$101,6,FALSE))","v":""},{"$f":"IF($T376=\"\",\"\",VLOOKUP($T376,'FO-DRE-02'!$A$6:$M$101,8,FALSE))","v":""},{"$f":"IF($T376=\"\",\"\",VLOOKUP($T376,'FO-DRE-02'!$A$6:$M$101,11,FALSE))","v":""},{"$f":"IF($T376=\"\",\"\",VLOOKUP($T376,'FO-DRE-02'!$A$6:$M$101,12,FALSE))","v":""},{"$f":"IF($T376=\"\",\"\",VLOOKUP($T376,'FO-DRE-02'!$A$6:$M$101,13,FALSE))","v":""},null,null,null,367,"","F/D","F/D","","","","","","","","","","","","","","",""]
[null,null,null,null,null,null,null,null,"",{"$f":"CONCATENATE(#REF!,\"-\",\"TX\")","v":{"$error":"#REF!"}},{"$f":"CONCATENATE(#REF!,\"-\",\"RX\")","v":{"$error":"#REF!"}},null,null,null,null,0,null,null,null,null,null,{"$f":"IF($R377=\"\",\"\",VLOOKUP($R377,'FO-DRE-01'!$A$7:$U$301,18,FALSE))","v":""},{"$f":"IF($R377=\"\",\"\",VLOOKUP($R377,'FO-DRE-01'!$A$7:$U$301,16,FALSE))","v":""},{"$f":"IF($R377=\"\",\"\",VLOOKUP($R377,'FO-DRE-01'!$A$7:$U$301,17,FALSE))","v":""},{"$f":"IF($R377=\"\",\"\",VLOOKUP($R377,'FO-DRE-01'!$A$7:$U$301,3,FALSE))","v":""},{"$f":"IF($R377=\"\",\"\",VLOOKUP($R377,'FO-DRE-01'!$A$7:$U$301,4,FALSE))","v":""},{"$f":"IF($R377=\"\",\"\",VLOOKUP($R377,'FO-DRE-01'!$A$7:$U$301,5,FALSE))","v":""},{"$f":"IF($R377=\"\",\"\",VLOOKUP($R377,'FO-DRE-01'!$A$7:$U$301,7,FALSE))","v":""},{"$f":"IF($R377=\"\",\"\",VLOOKUP($R377,'FO-DRE-01'!$A$7:$U$301,8,FALSE))","v":""},{"$f":"IF($R377=\"\",\"\",VLOOKUP($R377,'FO-DRE-01'!$A$7:$U$301,9,FALSE))","v":""},{"$f":"IF($R377=\"\",\"\",VLOOKUP($R377,'FO-DRE-01'!$A$7:$U$301,10,FALSE))","v":""},{"$f":"IF($R377=\"\",\"\",VLOOKUP($R377,'FO-DRE-01'!$A$7:$U$301,11,FALSE))","v":""},{"$f":"IF($R377=\"\",\"\",VLOOKUP($R377,'FO-DRE-01'!$A$7:$U$301,12,FALSE))","v":""},{"$f":"IF($R377=\"\",\"\",VLOOKUP($R377,'FO-DRE-01'!$A$7:$U$301,13,FALSE))","v":""},{"$f":"IF($R377=\"\",\"\",VLOOKUP($R377,'FO-DRE-01'!$A$7:$U$301,14,FALSE))","v":""},{"$f":"IF($R377=\"\",\"\",VLOOKUP($R377,'FO-DRE-01'!$A$7:$U$301,15,FALSE))","v":""},{"$f":"IF($S377=\"\",\"\",VLOOKUP($S377,'FO-DRE-04'!$A$6:$L$301,2,FALSE))","v":""},{"$f":"IF($S377=\"\",\"\",VLOOKUP($S377,'FO-DRE-04'!$A$6:$L$301,3,FALSE))","v":""},{"$f":"IF($S377=\"\",\"\",VLOOKUP($S377,'FO-DRE-04'!$A$6:$L$301,4,FALSE))","v":""},{"$f":"IF($S377=\"\",\"\",VLOOKUP($S377,'FO-DRE-04'!$A$6:$L$301,6,FALSE))","v":""},{"$f":"IF($S377=\"\",\"\",VLOOKUP($S377,'FO-DRE-04'!$A$6:$L$301,11,FALSE))","v":""},{"$f":"IF($T377=\"\",\"\",VLOOKUP($T377,'FO-DRE-02'!$A$6:$M$101,2,FALSE))","v":""},{"$f":"IF($T377=\"\",\"\",VLOOKUP($T377,'FO-DRE-02'!$A$6:$M$101,3,FALSE))","v":""},{"$f":"IF($T377=\"\",\"\",VLOOKUP($T377,'FO-DRE-02'!$A$6:$M$101,6,FALSE))","v":""},{"$f":"IF($T377=\"\",\"\",VLOOKUP($T377,'FO-DRE-02'!$A$6:$M$101,4,FALSE))","v":""},{"$f":"IF($T377=\"\",\"\",VLOOKUP($T377,'FO-DRE-02'!$A$6:$M$101,5,FALSE))","v":""},{"$f":"IF($T377=\"\",\"\",VLOOKUP($T377,'FO-DRE-02'!$A$6:$M$101,6,FALSE))","v":""},{"$f":"IF($T377=\"\",\"\",VLOOKUP($T377,'FO-DRE-02'!$A$6:$M$101,6,FALSE))","v":""},{"$f":"IF($T377=\"\",\"\",VLOOKUP($T377,'FO-DRE-02'!$A$6:$M$101,8,FALSE))","v":""},{"$f":"IF($T377=\"\",\"\",VLOOKUP($T377,'FO-DRE-02'!$A$6:$M$101,11,FALSE))","v":""},{"$f":"IF($T377=\"\",\"\",VLOOKUP($T377,'FO-DRE-02'!$A$6:$M$101,12,FALSE))","v":""},{"$f":"IF($T377=\"\",\"\",VLOOKUP($T377,'FO-DRE-02'!$A$6:$M$101,13,FALSE))","v":""},null,null,null,368,"","F/D","F/D","","","","","","","","","","","","","","",""]
[null,null,null,null,null,null,null,null,"",{"$f":"CONCATENATE(#REF!,\"-\",\"TX\")","v":{"$error":"#REF!"}},{"$f":"CONCATENATE(#REF!,\"-\",\"RX\")","v":{"$error":"#REF!"}},null,null,null,null,0,null,null,null,null,null,{"$f":"IF($R378=\"\",\"\",VLOOKUP($R378,'FO-DRE-01'!$A$7:$U$301,18,FALSE))","v":""},{"$f":"IF($R378=\"\",\"\",VLOOKUP($R378,'FO-DRE-01'!$A$7:$U$301,16,FALSE))","v":""},{"$f":"IF($R378=\"\",\"\",VLOOKUP($R378,'FO-DRE-01'!$A$7:$U$301,17,FALSE))","v":""},{"$f":"IF($R378=\"\",\"\",VLOOKUP($R378,'FO-DRE-01'!$A$7:$U$301,3,FALSE))","v":""},{"$f":"IF($R378=\"\",\"\",VLOOKUP($R378,'FO-DRE-01'!$A$7:$U$301,4,FALSE))","v":""},{"$f":"IF($R378=\"\",\"\",VLOOKUP($R378,'FO-DRE-01'!$A$7:$U$301,5,FALSE))","v":""},{"$f":"IF($R378=\"\",\"\",VLOOKUP($R378,'FO-DRE-01'!$A$7:$U$301,7,FALSE))","v":""},{"$f":"IF($R378=\"\",\"\",VLOOKUP($R378,'FO-DRE-01'!$A$7:$U$301,8,FALSE))","v":""},{"$f":"IF($R378=\"\",\"\",VLOOKUP($R378,'FO-DRE-01'!$A$7:$U$301,9,FALSE))","v":""},{"$f":"IF($R378=\"\",\"\",VLOOKUP($R378,'FO-DRE-01'!$A$7:$U$301,10,FALSE))","v":""},{"$f":"IF($R378=\"\",\"\",VLOOKUP($R378,'FO-DRE-01'!$A$7:$U$301,11,FALSE))","v":""},{"$f":"IF($R378=\"\",\"\",VLOOKUP($R378,'FO-DRE-01'!$A$7:$U$301,12,FALSE))","v":""},{"$f":"IF($R378=\"\",\"\",VLOOKUP($R378,'FO-DRE-01'!$A$7:$U$301,13,FALSE))","v":""},{"$f":"IF($R378=\"\",\"\",VLOOKUP($R378,'FO-DRE-01'!$A$7:$U$301,14,FALSE))","v":""},{"$f":"IF($R378=\"\",\"\",VLOOKUP($R378,'FO-DRE-01'!$A$7:$U$301,15,FALSE))","v":""},{"$f":"IF($S378=\"\",\"\",VLOOKUP($S378,'FO-DRE-04'!$A$6:$L$301,2,FALSE))","v":""},{"$f":"IF($S378=\"\",\"\",VLOOKUP($S378,'FO-DRE-04'!$A$6:$L$301,3,FALSE))","v":""},{"$f":"IF($S378=\"\",\"\",VLOOKUP($S378,'FO-DRE-04'!$A$6:$L$301,4,FALSE))","v":""},{"$f":"IF($S378=\"\",\"\",VLOOKUP($S378,'FO-DRE-04'!$A$6:$L$301,6,FALSE))","v":""},{"$f":"IF($S378=\"\",\"\",VLOOKUP($S378,'FO-DRE-04'!$A$6:$L$301,11,FALSE))","v":""},{"$f":"IF($T378=\"\",\"\",VLOOKUP($T378,'FO-DRE-02'!$A$6:$M$101,2,FALSE))","v":""},{"$f":"IF($T378=\"\",\"\",VLOOKUP($T378,'FO-DRE-02'!$A$6:$M$101,3,FALSE))","v":""},{"$f":"IF($T378=\"\",\"\",VLOOKUP($T378,'FO-DRE-02'!$A$6:$M$101,6,FALSE))","v":""},{"$f":"IF($T378=\"\",\"\",VLOOKUP($T378,'FO-DRE-02'!$A$6:$M$101,4,FALSE))","v":""},{"$f":"IF($T378=\"\",\"\",VLOOKUP($T378,'FO-DRE-02'!$A$6:$M$101,5,FALSE))","v":""},{"$f":"IF($T378=\"\",\"\",VLOOKUP($T378,'FO-DRE-02'!$A$6:$M$101,6,FALSE))","v":""},{"$f":"IF($T378=\"\",\"\",VLOOKUP($T378,'FO-DRE-02'!$A$6:$M$101,6,FALSE))","v":""},{"$f":"IF($T378=\"\",\"\",VLOOKUP($T378,'FO-DRE-02'!$A$6:$M$101,8,FALSE))","v":""},{"$f":"IF($T378=\"\",\"\",VLOOKUP($T378,'FO-DRE-02'!$A$6:$M$101,11,FALSE))","v":""},{"$f":"IF($T378=\"\",\"\",VLOOKUP($T378,'FO-DRE-02'!$A$6:$M$101,12,FALSE))","v":""},{"$f":"IF($T378=\"\",\"\",VLOOKUP($T378,'FO-DRE-02'!$A$6:$M$101,13,FALSE))","v":""},null,null,null,369,"","F/D","F/D","","","","","","","","","","","","","","",""]
[null,null,null,null,null,null,null,null,"",{"$f":"CONCATENATE(#REF!,\"-\",\"TX\")","v":{"$error":"#REF!"}},{"$f":"CONCATENATE(#REF!,\"-\",\"RX\")","v":{"$error":"#REF!"}},null,null,null,null,0,null,null,null,null,null,{"$f":"IF($R379=\"\",\"\",VLOOKUP($R379,'FO-DRE-01'!$A$7:$U$301,18,FALSE))","v":""},{"$f":"IF($R379=\"\",\"\",VLOOKUP($R379,'FO-DRE-01'!$A$7:$U$301,16,FALSE))","v":""},{"$f":"IF($R379=\"\",\"\",VLOOKUP($R379,'FO-DRE-01'!$A$7:$U$301,17,FALSE))","v":""},{"$f":"IF($R379=\"\",\"\",VLOOKUP($R379,'FO-DRE-01'!$A$7:$U$301,3,FALSE))","v":""},{"$f":"IF($R379=\"\",\"\",VLOOKUP($R379,'FO-DRE-01'!$A$7:$U$301,4,FALSE))","v":""},{"$f":"IF($R379=\"\",\"\",VLOOKUP($R379,'FO-DRE-01'!$A$7:$U$301,5,FALSE))","v":""},{"$f":"IF($R379=\"\",\"\",VLOOKUP($R379,'FO-DRE-01'!$A$7:$U$301,7,FALSE))","v":""},{"$f":"IF($R379=\"\",\"\",VLOOKUP($R379,'FO-DRE-01'!$A$7:$U$301,8,FALSE))","v":""},{"$f":"IF($R379=\"\",\"\",VLOOKUP($R379,'FO-DRE-01'!$A$7:$U$301,9,FALSE))","v":""},{"$f":"IF($R379=\"\",\"\",VLOOKUP($R379,'FO-DRE-01'!$A$7:$U$301,10,FALSE))","v":""},{"$f":"IF($R379=\"\",\"\",VLOOKUP($R379,'FO-DRE-01'!$A$7:$U$301,11,FALSE))","v":""},{"$f":"IF($R379=\"\",\"\",VLOOKUP($R379,'FO-DRE-01'!$A$7:$U$301,12,FALSE))","v":""},{"$f":"IF($R379=\"\",\"\",VLOOKUP($R379,'FO-DRE-01'!$A$7:$U$301,13,FALSE))","v":""},{"$f":"IF($R379=\"\",\"\",VLOOKUP($R379,'FO-DRE-01'!$A$7:$U$301,14,FALSE))","v":""},{"$f":"IF($R379=\"\",\"\",VLOOKUP($R379,'FO-DRE-01'!$A$7:$U$301,15,FALSE))","v":""},{"$f":"IF($S379=\"\",\"\",VLOOKUP($S379,'FO-DRE-04'!$A$6:$L$301,2,FALSE))","v":""},{"$f":"IF($S379=\"\",\"\",VLOOKUP($S379,'FO-DRE-04'!$A$6:$L$301,3,FALSE))","v":""},{"$f":"IF($S379=\"\",\"\",VLOOKUP($S379,'FO-DRE-04'!$A$6:$L$301,4,FALSE))","v":""},{"$f":"IF($S379=\"\",\"\",VLOOKUP($S379,'FO-DRE-04'!$A$6:$L$301,6,FALSE))","v":""},{"$f":"IF($S379=\"\",\"\",VLOOKUP($S379,'FO-DRE-04'!$A$6:$L$301,11,FALSE))","v":""},{"$f":"IF($T379=\"\",\"\",VLOOKUP($T379,'FO-DRE-02'!$A$6:$M$101,2,FALSE))","v":""},{"$f":"IF($T379=\"\",\"\",VLOOKUP($T379,'FO-DRE-02'!$A$6:$M$101,3,FALSE))","v":""},{"$f":"IF($T379=\"\",\"\",VLOOKUP($T379,'FO-DRE-02'!$A$6:$M$101,6,FALSE))","v":""},{"$f":"IF($T379=\"\",\"\",VLOOKUP($T379,'FO-DRE-02'!$A$6:$M$101,4,FALSE))","v":""},{"$f":"IF($T379=\"\",\"\",VLOOKUP($T379,'FO-DRE-02'!$A$6:$M$101,5,FALSE))","v":""},{"$f":"IF($T379=\"\",\"\",VLOOKUP($T379,'FO-DRE-02'!$A$6:$M$101,6,FALSE))","v":""},{"$f":"IF($T379=\"\",\"\",VLOOKUP($T379,'FO-DRE-02'!$A$6:$M$101,6,FALSE))","v":""},{"$f":"IF($T379=\"\",\"\",VLOOKUP($T379,'FO-DRE-02'!$A$6:$M$101,8,FALSE))","v":""},{"$f":"IF($T379=\"\",\"\",VLOOKUP($T379,'FO-DRE-02'!$A$6:$M$101,11,FALSE))","v":""},{"$f":"IF($T379=\"\",\"\",VLOOKUP($T379,'FO-DRE-02'!$A$6:$M$101,12,FALSE))","v":""},{"$f":"IF($T379=\"\",\"\",VLOOKUP($T379,'FO-DRE-02'!$A$6:$M$101,13,FALSE))","v":""},null,null,null,370,"","F/D","F/D","","","","","","","","","","","","","","",""]
[null,null,null,null,null,null,null,null,"",{"$f":"CONCATENATE(#REF!,\"-\",\"TX\")","v":{"$error":"#REF!"}},{"$f":"CONCATENATE(#REF!,\"-\",\"RX\")","v":{"$error":"#REF!"}},null,null,null,null,0,null,null,null,null,null,{"$f":"IF($R380=\"\",\"\",VLOOKUP($R380,'FO-DRE-01'!$A$7:$U$301,18,FALSE))","v":""},{"$f":"IF($R380=\"\",\"\",VLOOKUP($R380,'FO-DRE-01'!$A$7:$U$301,16,FALSE))","v":""},{"$f":"IF($R380=\"\",\"\",VLOOKUP($R380,'FO-DRE-01'!$A$7:$U$301,17,FALSE))","v":""},{"$f":"IF($R380=\"\",\"\",VLOOKUP($R380,'FO-DRE-01'!$A$7:$U$301,3,FALSE))","v":""},{"$f":"IF($R380=\"\",\"\",VLOOKUP($R380,'FO-DRE-01'!$A$7:$U$301,4,FALSE))","v":""},{"$f":"IF($R380=\"\",\"\",VLOOKUP($R380,'FO-DRE-01'!$A$7:$U$301,5,FALSE))","v":""},{"$f":"IF($R380=\"\",\"\",VLOOKUP($R380,'FO-DRE-01'!$A$7:$U$301,7,FALSE))","v":""},{"$f":"IF($R380=\"\",\"\",VLOOKUP($R380,'FO-DRE-01'!$A$7:$U$301,8,FALSE))","v":""},{"$f":"IF($R380=\"\",\"\",VLOOKUP($R380,'FO-DRE-01'!$A$7:$U$301,9,FALSE))","v":""},{"$f":"IF($R380=\"\",\"\",VLOOKUP($R380,'FO-DRE-01'!$A$7:$U$301,10,FALSE))","v":""},{"$f":"IF($R380=\"\",\"\",VLOOKUP($R380,'FO-DRE-01'!$A$7:$U$301,11,FALSE))","v":""},{"$f":"IF($R380=\"\",\"\",VLOOKUP($R380,'FO-DRE-01'!$A$7:$U$301,12,FALSE))","v":""},{"$f":"IF($R380=\"\",\"\",VLOOKUP($R380,'FO-DRE-01'!$A$7:$U$301,13,FALSE))","v":""},{"$f":"IF($R380=\"\",\"\",VLOOKUP($R380,'FO-DRE-01'!$A$7:$U$301,14,FALSE))","v":""},{"$f":"IF($R380=\"\",\"\",VLOOKUP($R380,'FO-DRE-01'!$A$7:$U$301,15,FALSE))","v":""},{"$f":"IF($S380=\"\",\"\",VLOOKUP($S380,'FO-DRE-04'!$A$6:$L$301,2,FALSE))","v":""},{"$f":"IF($S380=\"\",\"\",VLOOKUP($S380,'FO-DRE-04'!$A$6:$L$301,3,FALSE))","v":""},{"$f":"IF($S380=\"\",\"\",VLOOKUP($S380,'FO-DRE-04'!$A$6:$L$301,4,FALSE))","v":""},{"$f":"IF($S380=\"\",\"\",VLOOKUP($S380,'FO-DRE-04'!$A$6:$L$301,6,FALSE))","v":""},{"$f":"IF($S380=\"\",\"\",VLOOKUP($S380,'FO-DRE-04'!$A$6:$L$301,11,FALSE))","v":""},{"$f":"IF($T380=\"\",\"\",VLOOKUP($T380,'FO-DRE-02'!$A$6:$M$101,2,FALSE))","v":""},{"$f":"IF($T380=\"\",\"\",VLOOKUP($T380,'FO-DRE-02'!$A$6:$M$101,3,FALSE))","v":""},{"$f":"IF($T380=\"\",\"\",VLOOKUP($T380,'FO-DRE-02'!$A$6:$M$101,6,FALSE))","v":""},{"$f":"IF($T380=\"\",\"\",VLOOKUP($T380,'FO-DRE-02'!$A$6:$M$101,4,FALSE))","v":""},{"$f":"IF($T380=\"\",\"\",VLOOKUP($T380,'FO-DRE-02'!$A$6:$M$101,5,FALSE))","v":""},{"$f":"IF($T380=\"\",\"\",VLOOKUP($T380,'FO-DRE-02'!$A$6:$M$101,6,FALSE))","v":""},{"$f":"IF($T380=\"\",\"\",VLOOKUP($T380,'FO-DRE-02'!$A$6:$M$101,6,FALSE))","v":""},{"$f":"IF($T380=\"\",\"\",VLOOKUP($T380,'FO-DRE-02'!$A$6:$M$101,8,FALSE))","v":""},{"$f":"IF($T380=\"\",\"\",VLOOKUP($T380,'FO-DRE-02'!$A$6:$M$101,11,FALSE))","v":""},{"$f":"IF($T380=\"\",\"\",VLOOKUP($T380,'FO-DRE-02'!$A$6:$M$101,12,FALSE))","v":""},{"$f":"IF($T380=\"\",\"\",VLOOKUP($T380,'FO-DRE-02'!$A$6:$M$101,13,FALSE))","v":""},null,null,null,371,"","F/D","F/D","","","","","","","","","","","","","","",""]
[null,null,null,null,null,null,null,null,"",{"$f":"CONCATENATE(#REF!,\"-\",\"TX\")","v":{"$error":"#REF!"}},{"$f":"CONCATENATE(#REF!,\"-\",\"RX\")","v":{"$error":"#REF!"}},null,null,null,null,0,null,null,null,null,null,{"$f":"IF($R381=\"\",\"\",VLOOKUP($R381,'FO-DRE-01'!$A$7:$U$301,18,FALSE))","v":""},{"$f":"IF($R381=\"\",\"\",VLOOKUP($R381,'FO-DRE-01'!$A$7:$U$301,16,FALSE))","v":""},{"$f":"IF($R381=\"\",\"\",VLOOKUP($R381,'FO-DRE-01'!$A$7:$U$301,17,FALSE))","v":""},{"$f":"IF($R381=\"\",\"\",VLOOKUP($R381,'FO-DRE-01'!$A$7:$U$301,3,FALSE))","v":""},{"$f":"IF($R381=\"\",\"\",VLOOKUP($R381,'FO-DRE-01'!$A$7:$U$301,4,FALSE))","v":""},{"$f":"IF($R381=\"\",\"\",VLOOKUP($R381,'FO-DRE-01'!$A$7:$U$301,5,FALSE))","v":""},{"$f":"IF($R381=\"\",\"\",VLOOKUP($R381,'FO-DRE-01'!$A$7:$U$301,7,FALSE))","v":""},{"$f":"IF($R381=\"\",\"\",VLOOKUP($R381,'FO-DRE-01'!$A$7:$U$301,8,FALSE))","v":""},{"$f":"IF($R381=\"\",\"\",VLOOKUP($R381,'FO-DRE-01'!$A$7:$U$301,9,FALSE))","v":""},{"$f":"IF($R381=\"\",\"\",VLOOKUP($R381,'FO-DRE-01'!$A$7:$U$301,10,FALSE))","v":""},{"$f":"IF($R381=\"\",\"\",VLOOKUP($R381,'FO-DRE-01'!$A$7:$U$301,11,FALSE))","v":""},{"$f":"IF($R381=\"\",\"\",VLOOKUP($R381,'FO-DRE-01'!$A$7:$U$301,12,FALSE))","v":""},{"$f":"IF($R381=\"\",\"\",VLOOKUP($R381,'FO-DRE-01'!$A$7:$U$301,13,FALSE))","v":""},{"$f":"IF($R381=\"\",\"\",VLOOKUP($R381,'FO-DRE-01'!$A$7:$U$301,14,FALSE))","v":""},{"$f":"IF($R381=\"\",\"\",VLOOKUP($R381,'FO-DRE-01'!$A$7:$U$301,15,FALSE))","v":""},{"$f":"IF($S381=\"\",\"\",VLOOKUP($S381,'FO-DRE-04'!$A$6:$L$301,2,FALSE))","v":""},{"$f":"IF($S381=\"\",\"\",VLOOKUP($S381,'FO-DRE-04'!$A$6:$L$301,3,FALSE))","v":""},{"$f":"IF($S381=\"\",\"\",VLOOKUP($S381,'FO-DRE-04'!$A$6:$L$301,4,FALSE))","v":""},{"$f":"IF($S381=\"\",\"\",VLOOKUP($S381,'FO-DRE-04'!$A$6:$L$301,6,FALSE))","v":""},{"$f":"IF($S381=\"\",\"\",VLOOKUP($S381,'FO-DRE-04'!$A$6:$L$301,11,FALSE))","v":""},{"$f":"IF($T381=\"\",\"\",VLOOKUP($T381,'FO-DRE-02'!$A$6:$M$101,2,FALSE))","v":""},{"$f":"IF($T381=\"\",\"\",VLOOKUP($T381,'FO-DRE-02'!$A$6:$M$101,3,FALSE))","v":""},{"$f":"IF($T381=\"\",\"\",VLOOKUP($T381,'FO-DRE-02'!$A$6:$M$101,6,FALSE))","v":""},{"$f":"IF($T381=\"\",\"\",VLOOKUP($T381,'FO-DRE-02'!$A$6:$M$101,4,FALSE))","v":""},{"$f":"IF($T381=\"\",\"\",VLOOKUP($T381,'FO-DRE-02'!$A$6:$M$101,5,FALSE))","v":""},{"$f":"IF($T381=\"\",\"\",VLOOKUP($T381,'FO-DRE-02'!$A$6:$M$101,6,FALSE))","v":""},{"$f":"IF($T381=\"\",\"\",VLOOKUP($T381,'FO-DRE-02'!$A$6:$M$101,6,FALSE))","v":""},{"$f":"IF($T381=\"\",\"\",VLOOKUP($T381,'FO-DRE-02'!$A$6:$M$101,8,FALSE))","v":""},{"$f":"IF($T381=\"\",\"\",VLOOKUP($T381,'FO-DRE-02'!$A$6:$M$101,11,FALSE))","v":""},{"$f":"IF($T381=\"\",\"\",VLOOKUP($T381,'FO-DRE-02'!$A$6:$M$101,12,FALSE))","v":""},{"$f":"IF($T381=\"\",\"\",VLOOKUP($T381,'FO-DRE-02'!$A$6:$M$101,13,FALSE))","v":""},null,null,null,372,"","F/D","F/D","","","","","","","","","","","","","","",""]
[null,null,null,null,null,null,null,null,"",{"$f":"CONCATENATE(#REF!,\"-\",\"TX\")","v":{"$error":"#REF!"}},{"$f":"CONCATENATE(#REF!,\"-\",\"RX\")","v":{"$error":"#REF!"}},null,null,null,null,0,null,null,null,null,null,{"$f":"IF($R382=\"\",\"\",VLOOKUP($R382,'FO-DRE-01'!$A$7:$U$301,18,FALSE))","v":""},{"$f":"IF($R382=\"\",\"\",VLOOKUP($R382,'FO-DRE-01'!$A$7:$U$301,16,FALSE))","v":""},{"$f":"IF($R382=\"\",\"\",VLOOKUP($R382,'FO-DRE-01'!$A$7:$U$301,17,FALSE))","v":""},{"$f":"IF($R382=\"\",\"\",VLOOKUP($R382,'FO-DRE-01'!$A$7:$U$301,3,FALSE))","v":""},{"$f":"IF($R382=\"\",\"\",VLOOKUP($R382,'FO-DRE-01'!$A$7:$U$301,4,FALSE))","v":""},{"$f":"IF($R382=\"\",\"\",VLOOKUP($R382,'FO-DRE-01'!$A$7:$U$301,5,FALSE))","v":""},{"$f":"IF($R382=\"\",\"\",VLOOKUP($R382,'FO-DRE-01'!$A$7:$U$301,7,FALSE))","v":""},{"$f":"IF($R382=\"\",\"\",VLOOKUP($R382,'FO-DRE-01'!$A$7:$U$301,8,FALSE))","v":""},{"$f":"IF($R382=\"\",\"\",VLOOKUP($R382,'FO-DRE-01'!$A$7:$U$301,9,FALSE))","v":""},{"$f":"IF($R382=\"\",\"\",VLOOKUP($R382,'FO-DRE-01'!$A$7:$U$301,10,FALSE))","v":""},{"$f":"IF($R382=\"\",\"\",VLOOKUP($R382,'FO-DRE-01'!$A$7:$U$301,11,FALSE))","v":""},{"$f":"IF($R382=\"\",\"\",VLOOKUP($R382,'FO-DRE-01'!$A$7:$U$301,12,FALSE))","v":""},{"$f":"IF($R382=\"\",\"\",VLOOKUP($R382,'FO-DRE-01'!$A$7:$U$301,13,FALSE))","v":""},{"$f":"IF($R382=\"\",\"\",VLOOKUP($R382,'FO-DRE-01'!$A$7:$U$301,14,FALSE))","v":""},{"$f":"IF($R382=\"\",\"\",VLOOKUP($R382,'FO-DRE-01'!$A$7:$U$301,15,FALSE))","v":""},{"$f":"IF($S382=\"\",\"\",VLOOKUP($S382,'FO-DRE-04'!$A$6:$L$301,2,FALSE))","v":""},{"$f":"IF($S382=\"\",\"\",VLOOKUP($S382,'FO-DRE-04'!$A$6:$L$301,3,FALSE))","v":""},{"$f":"IF($S382=\"\",\"\",VLOOKUP($S382,'FO-DRE-04'!$A$6:$L$301,4,FALSE))","v":""},{"$f":"IF($S382=\"\",\"\",VLOOKUP($S382,'FO-DRE-04'!$A$6:$L$301,6,FALSE))","v":""},{"$f":"IF($S382=\"\",\"\",VLOOKUP($S382,'FO-DRE-04'!$A$6:$L$301,11,FALSE))","v":""},{"$f":"IF($T382=\"\",\"\",VLOOKUP($T382,'FO-DRE-02'!$A$6:$M$101,2,FALSE))","v":""},{"$f":"IF($T382=\"\",\"\",VLOOKUP($T382,'FO-DRE-02'!$A$6:$M$101,3,FALSE))","v":""},{"$f":"IF($T382=\"\",\"\",VLOOKUP($T382,'FO-DRE-02'!$A$6:$M$101,6,FALSE))","v":""},{"$f":"IF($T382=\"\",\"\",VLOOKUP($T382,'FO-DRE-02'!$A$6:$M$101,4,FALSE))","v":""},{"$f":"IF($T382=\"\",\"\",VLOOKUP($T382,'FO-DRE-02'!$A$6:$M$101,5,FALSE))","v":""},{"$f":"IF($T382=\"\",\"\",VLOOKUP($T382,'FO-DRE-02'!$A$6:$M$101,6,FALSE))","v":""},{"$f":"IF($T382=\"\",\"\",VLOOKUP($T382,'FO-DRE-02'!$A$6:$M$101,6,FALSE))","v":""},{"$f":"IF($T382=\"\",\"\",VLOOKUP($T382,'FO-DRE-02'!$A$6:$M$101,8,FALSE))","v":""},{"$f":"IF($T382=\"\",\"\",VLOOKUP($T382,'FO-DRE-02'!$A$6:$M$101,11,FALSE))","v":""},{"$f":"IF($T382=\"\",\"\",VLOOKUP($T382,'FO-DRE-02'!$A$6:$M$101,12,FALSE))","v":""},{"$f":"IF($T382=\"\",\"\",VLOOKUP($T382,'FO-DRE-02'!$A$6:$M$101,13,FALSE))","v":""},null,null,null,373,"","F/D","F/D","","","","","","","","","","","","","","",""]
[null,null,null,null,null,null,null,null,"",{"$f":"CONCATENATE(#REF!,\"-\",\"TX\")","v":{"$error":"#REF!"}},{"$f":"CONCATENATE(#REF!,\"-\",\"RX\")","v":{"$error":"#REF!"}},null,null,null,null,0,null,null,null,null,null,{"$f":"IF($R383=\"\",\"\",VLOOKUP($R383,'FO-DRE-01'!$A$7:$U$301,18,FALSE))","v":""},{"$f":"IF($R383=\"\",\"\",VLOOKUP($R383,'FO-DRE-01'!$A$7:$U$301,16,FALSE))","v":""},{"$f":"IF($R383=\"\",\"\",VLOOKUP($R383,'FO-DRE-01'!$A$7:$U$301,17,FALSE))","v":""},{"$f":"IF($R383=\"\",\"\",VLOOKUP($R383,'FO-DRE-01'!$A$7:$U$301,3,FALSE))","v":""},{"$f":"IF($R383=\"\",\"\",VLOOKUP($R383,'FO-DRE-01'!$A$7:$U$301,4,FALSE))","v":""},{"$f":"IF($R383=\"\",\"\",VLOOKUP($R383,'FO-DRE-01'!$A$7:$U$301,5,FALSE))","v":""},{"$f":"IF($R383=\"\",\"\",VLOOKUP($R383,'FO-DRE-01'!$A$7:$U$301,7,FALSE))","v":""},{"$f":"IF($R383=\"\",\"\",VLOOKUP($R383,'FO-DRE-01'!$A$7:$U$301,8,FALSE))","v":""},{"$f":"IF($R383=\"\",\"\",VLOOKUP($R383,'FO-DRE-01'!$A$7:$U$301,9,FALSE))","v":""},{"$f":"IF($R383=\"\",\"\",VLOOKUP($R383,'FO-DRE-01'!$A$7:$U$301,10,FALSE))","v":""},{"$f":"IF($R383=\"\",\"\",VLOOKUP($R383,'FO-DRE-01'!$A$7:$U$301,11,FALSE))","v":""},{"$f":"IF($R383=\"\",\"\",VLOOKUP($R383,'FO-DRE-01'!$A$7:$U$301,12,FALSE))","v":""},{"$f":"IF($R383=\"\",\"\",VLOOKUP($R383,'FO-DRE-01'!$A$7:$U$301,13,FALSE))","v":""},{"$f":"IF($R383=\"\",\"\",VLOOKUP($R383,'FO-DRE-01'!$A$7:$U$301,14,FALSE))","v":""},{"$f":"IF($R383=\"\",\"\",VLOOKUP($R383,'FO-DRE-01'!$A$7:$U$301,15,FALSE))","v":""},{"$f":"IF($S383=\"\",\"\",VLOOKUP($S383,'FO-DRE-04'!$A$6:$L$301,2,FALSE))","v":""},{"$f":"IF($S383=\"\",\"\",VLOOKUP($S383,'FO-DRE-04'!$A$6:$L$301,3,FALSE))","v":""},{"$f":"IF($S383=\"\",\"\",VLOOKUP($S383,'FO-DRE-04'!$A$6:$L$301,4,FALSE))","v":""},{"$f":"IF($S383=\"\",\"\",VLOOKUP($S383,'FO-DRE-04'!$A$6:$L$301,6,FALSE))","v":""},{"$f":"IF($S383=\"\",\"\",VLOOKUP($S383,'FO-DRE-04'!$A$6:$L$301,11,FALSE))","v":""},{"$f":"IF($T383=\"\",\"\",VLOOKUP($T383,'FO-DRE-02'!$A$6:$M$101,2,FALSE))","v":""},{"$f":"IF($T383=\"\",\"\",VLOOKUP($T383,'FO-DRE-02'!$A$6:$M$101,3,FALSE))","v":""},{"$f":"IF($T383=\"\",\"\",VLOOKUP($T383,'FO-DRE-02'!$A$6:$M$101,6,FALSE))","v":""},{"$f":"IF($T383=\"\",\"\",VLOOKUP($T383,'FO-DRE-02'!$A$6:$M$101,4,FALSE))","v":""},{"$f":"IF($T383=\"\",\"\",VLOOKUP($T383,'FO-DRE-02'!$A$6:$M$101,5,FALSE))","v":""},{"$f":"IF($T383=\"\",\"\",VLOOKUP($T383,'FO-DRE-02'!$A$6:$M$101,6,FALSE))","v":""},{"$f":"IF($T383=\"\",\"\",VLOOKUP($T383,'FO-DRE-02'!$A$6:$M$101,6,FALSE))","v":""},{"$f":"IF($T383=\"\",\"\",VLOOKUP($T383,'FO-DRE-02'!$A$6:$M$101,8,FALSE))","v":""},{"$f":"IF($T383=\"\",\"\",VLOOKUP($T383,'FO-DRE-02'!$A$6:$M$101,11,FALSE))","v":""},{"$f":"IF($T383=\"\",\"\",VLOOKUP($T383,'FO-DRE-02'!$A$6:$M$101,12,FALSE))","v":""},{"$f":"IF($T383=\"\",\"\",VLOOKUP($T383,'FO-DRE-02'!$A$6:$M$101,13,FALSE))","v":""},null,null,null,374,"","F/D","F/D","","","","","","","","","","","","","","",""]
[null,null,null,null,null,null,null,null,"",{"$f":"CONCATENATE(#REF!,\"-\",\"TX\")","v":{"$error":"#REF!"}},{"$f":"CONCATENATE(#REF!,\"-\",\"RX\")","v":{"$error":"#REF!"}},null,null,null,null,0,null,null,null,null,null,{"$f":"IF($R384=\"\",\"\",VLOOKUP($R384,'FO-DRE-01'!$A$7:$U$301,18,FALSE))","v":""},{"$f":"IF($R384=\"\",\"\",VLOOKUP($R384,'FO-DRE-01'!$A$7:$U$301,16,FALSE))","v":""},{"$f":"IF($R384=\"\",\"\",VLOOKUP($R384,'FO-DRE-01'!$A$7:$U$301,17,FALSE))","v":""},{"$f":"IF($R384=\"\",\"\",VLOOKUP($R384,'FO-DRE-01'!$A$7:$U$301,3,FALSE))","v":""},{"$f":"IF($R384=\"\",\"\",VLOOKUP($R384,'FO-DRE-01'!$A$7:$U$301,4,FALSE))","v":""},{"$f":"IF($R384=\"\",\"\",VLOOKUP($R384,'FO-DRE-01'!$A$7:$U$301,5,FALSE))","v":""},{"$f":"IF($R384=\"\",\"\",VLOOKUP($R384,'FO-DRE-01'!$A$7:$U$301,7,FALSE))","v":""},{"$f":"IF($R384=\"\",\"\",VLOOKUP($R384,'FO-DRE-01'!$A$7:$U$301,8,FALSE))","v":""},{"$f":"IF($R384=\"\",\"\",VLOOKUP($R384,'FO-DRE-01'!$A$7:$U$301,9,FALSE))","v":""},{"$f":"IF($R384=\"\",\"\",VLOOKUP($R384,'FO-DRE-01'!$A$7:$U$301,10,FALSE))","v":""},{"$f":"IF($R384=\"\",\"\",VLOOKUP($R384,'FO-DRE-01'!$A$7:$U$301,11,FALSE))","v":""},{"$f":"IF($R384=\"\",\"\",VLOOKUP($R384,'FO-DRE-01'!$A$7:$U$301,12,FALSE))","v":""},{"$f":"IF($R384=\"\",\"\",VLOOKUP($R384,'FO-DRE-01'!$A$7:$U$301,13,FALSE))","v":""},{"$f":"IF($R384=\"\",\"\",VLOOKUP($R384,'FO-DRE-01'!$A$7:$U$301,14,FALSE))","v":""},{"$f":"IF($R384=\"\",\"\",VLOOKUP($R384,'FO-DRE-01'!$A$7:$U$301,15,FALSE))","v":""},{"$f":"IF($S384=\"\",\"\",VLOOKUP($S384,'FO-DRE-04'!$A$6:$L$301,2,FALSE))","v":""},{"$f":"IF($S384=\"\",\"\",VLOOKUP($S384,'FO-DRE-04'!$A$6:$L$301,3,FALSE))","v":""},{"$f":"IF($S384=\"\",\"\",VLOOKUP($S384,'FO-DRE-04'!$A$6:$L$301,4,FALSE))","v":""},{"$f":"IF($S384=\"\",\"\",VLOOKUP($S384,'FO-DRE-04'!$A$6:$L$301,6,FALSE))","v":""},{"$f":"IF($S384=\"\",\"\",VLOOKUP($S384,'FO-DRE-04'!$A$6:$L$301,11,FALSE))","v":""},{"$f":"IF($T384=\"\",\"\",VLOOKUP($T384,'FO-DRE-02'!$A$6:$M$101,2,FALSE))","v":""},{"$f":"IF($T384=\"\",\"\",VLOOKUP($T384,'FO-DRE-02'!$A$6:$M$101,3,FALSE))","v":""},{"$f":"IF($T384=\"\",\"\",VLOOKUP($T384,'FO-DRE-02'!$A$6:$M$101,6,FALSE))","v":""},{"$f":"IF($T384=\"\",\"\",VLOOKUP($T384,'FO-DRE-02'!$A$6:$M$101,4,FALSE))","v":""},{"$f":"IF($T384=\"\",\"\",VLOOKUP($T384,'FO-DRE-02'!$A$6:$M$101,5,FALSE))","v":""},{"$f":"IF($T384=\"\",\"\",VLOOKUP($T384,'FO-DRE-02'!$A$6:$M$101,6,FALSE))","v":""},{"$f":"IF($T384=\"\",\"\",VLOOKUP($T384,'FO-DRE-02'!$A$6:$M$101,6,FALSE))","v":""},{"$f":"IF($T384=\"\",\"\",VLOOKUP($T384,'FO-DRE-02'!$A$6:$M$101,8,FALSE))","v":""},{"$f":"IF($T384=\"\",\"\",VLOOKUP($T384,'FO-DRE-02'!$A$6:$M$101,11,FALSE))","v":""},{"$f":"IF($T384=\"\",\"\",VLOOKUP($T384,'FO-DRE-02'!$A$6:$M$101,12,FALSE))","v":""},{"$f":"IF($T384=\"\",\"\",VLOOKUP($T384,'FO-DRE-02'!$A$6:$M$101,13,FALSE))","v":""},null,null,null,375,"","F/D","F/D","","","","","","","","","","","","","","",""]
[null,null,null,null,null,null,null,null,"",{"$f":"CONCATENATE(#REF!,\"-\",\"TX\")","v":{"$error":"#REF!"}},{"$f":"CONCATENATE(#REF!,\"-\",\"RX\")","v":{"$error":"#REF!"}},null,null,null,null,0,null,null,null,null,null,{"$f":"IF($R385=\"\",\"\",VLOOKUP($R385,'FO-DRE-01'!$A$7:$U$301,18,FALSE))","v":""},{"$f":"IF($R385=\"\",\"\",VLOOKUP($R385,'FO-DRE-01'!$A$7:$U$301,16,FALSE))","v":""},{"$f":"IF($R385=\"\",\"\",VLOOKUP($R385,'FO-DRE-01'!$A$7:$U$301,17,FALSE))","v":""},{"$f":"IF($R385=\"\",\"\",VLOOKUP($R385,'FO-DRE-01'!$A$7:$U$301,3,FALSE))","v":""},{"$f":"IF($R385=\"\",\"\",VLOOKUP($R385,'FO-DRE-01'!$A$7:$U$301,4,FALSE))","v":""},{"$f":"IF($R385=\"\",\"\",VLOOKUP($R385,'FO-DRE-01'!$A$7:$U$301,5,FALSE))","v":""},{"$f":"IF($R385=\"\",\"\",VLOOKUP($R385,'FO-DRE-01'!$A$7:$U$301,7,FALSE))","v":""},{"$f":"IF($R385=\"\",\"\",VLOOKUP($R385,'FO-DRE-01'!$A$7:$U$301,8,FALSE))","v":""},{"$f":"IF($R385=\"\",\"\",VLOOKUP($R385,'FO-DRE-01'!$A$7:$U$301,9,FALSE))","v":""},{"$f":"IF($R385=\"\",\"\",VLOOKUP($R385,'FO-DRE-01'!$A$7:$U$301,10,FALSE))","v":""},{"$f":"IF($R385=\"\",\"\",VLOOKUP($R385,'FO-DRE-01'!$A$7:$U$301,11,FALSE))","v":""},{"$f":"IF($R385=\"\",\"\",VLOOKUP($R385,'FO-DRE-01'!$A$7:$U$301,12,FALSE))","v":""},{"$f":"IF($R385=\"\",\"\",VLOOKUP($R385,'FO-DRE-01'!$A$7:$U$301,13,FALSE))","v":""},{"$f":"IF($R385=\"\",\"\",VLOOKUP($R385,'FO-DRE-01'!$A$7:$U$301,14,FALSE))","v":""},{"$f":"IF($R385=\"\",\"\",VLOOKUP($R385,'FO-DRE-01'!$A$7:$U$301,15,FALSE))","v":""},{"$f":"IF($S385=\"\",\"\",VLOOKUP($S385,'FO-DRE-04'!$A$6:$L$301,2,FALSE))","v":""},{"$f":"IF($S385=\"\",\"\",VLOOKUP($S385,'FO-DRE-04'!$A$6:$L$301,3,FALSE))","v":""},{"$f":"IF($S385=\"\",\"\",VLOOKUP($S385,'FO-DRE-04'!$A$6:$L$301,4,FALSE))","v":""},{"$f":"IF($S385=\"\",\"\",VLOOKUP($S385,'FO-DRE-04'!$A$6:$L$301,6,FALSE))","v":""},{"$f":"IF($S385=\"\",\"\",VLOOKUP($S385,'FO-DRE-04'!$A$6:$L$301,11,FALSE))","v":""},{"$f":"IF($T385=\"\",\"\",VLOOKUP($T385,'FO-DRE-02'!$A$6:$M$101,2,FALSE))","v":""},{"$f":"IF($T385=\"\",\"\",VLOOKUP($T385,'FO-DRE-02'!$A$6:$M$101,3,FALSE))","v":""},{"$f":"IF($T385=\"\",\"\",VLOOKUP($T385,'FO-DRE-02'!$A$6:$M$101,6,FALSE))","v":""},{"$f":"IF($T385=\"\",\"\",VLOOKUP($T385,'FO-DRE-02'!$A$6:$M$101,4,FALSE))","v":""},{"$f":"IF($T385=\"\",\"\",VLOOKUP($T385,'FO-DRE-02'!$A$6:$M$101,5,FALSE))","v":""},{"$f":"IF($T385=\"\",\"\",VLOOKUP($T385,'FO-DRE-02'!$A$6:$M$101,6,FALSE))","v":""},{"$f":"IF($T385=\"\",\"\",VLOOKUP($T385,'FO-DRE-02'!$A$6:$M$101,6,FALSE))","v":""},{"$f":"IF($T385=\"\",\"\",VLOOKUP($T385,'FO-DRE-02'!$A$6:$M$101,8,FALSE))","v":""},{"$f":"IF($T385=\"\",\"\",VLOOKUP($T385,'FO-DRE-02'!$A$6:$M$101,11,FALSE))","v":""},{"$f":"IF($T385=\"\",\"\",VLOOKUP($T385,'FO-DRE-02'!$A$6:$M$101,12,FALSE))","v":""},{"$f":"IF($T385=\"\",\"\",VLOOKUP($T385,'FO-DRE-02'!$A$6:$M$101,13,FALSE))","v":""},null,null,null,376,"","F/D","F/D","","","","","","","","","","","","","","",""]
[null,null,null,null,null,null,null,null,"",{"$f":"CONCATENATE(#REF!,\"-\",\"TX\")","v":{"$error":"#REF!"}},{"$f":"CONCATENATE(#REF!,\"-\",\"RX\")","v":{"$error":"#REF!"}},null,null,null,null,0,null,null,null,null,null,{"$f":"IF($R386=\"\",\"\",VLOOKUP($R386,'FO-DRE-01'!$A$7:$U$301,18,FALSE))","v":""},{"$f":"IF($R386=\"\",\"\",VLOOKUP($R386,'FO-DRE-01'!$A$7:$U$301,16,FALSE))","v":""},{"$f":"IF($R386=\"\",\"\",VLOOKUP($R386,'FO-DRE-01'!$A$7:$U$301,17,FALSE))","v":""},{"$f":"IF($R386=\"\",\"\",VLOOKUP($R386,'FO-DRE-01'!$A$7:$U$301,3,FALSE))","v":""},{"$f":"IF($R386=\"\",\"\",VLOOKUP($R386,'FO-DRE-01'!$A$7:$U$301,4,FALSE))","v":""},{"$f":"IF($R386=\"\",\"\",VLOOKUP($R386,'FO-DRE-01'!$A$7:$U$301,5,FALSE))","v":""},{"$f":"IF($R386=\"\",\"\",VLOOKUP($R386,'FO-DRE-01'!$A$7:$U$301,7,FALSE))","v":""},{"$f":"IF($R386=\"\",\"\",VLOOKUP($R386,'FO-DRE-01'!$A$7:$U$301,8,FALSE))","v":""},{"$f":"IF($R386=\"\",\"\",VLOOKUP($R386,'FO-DRE-01'!$A$7:$U$301,9,FALSE))","v":""},{"$f":"IF($R386=\"\",\"\",VLOOKUP($R386,'FO-DRE-01'!$A$7:$U$301,10,FALSE))","v":""},{"$f":"IF($R386=\"\",\"\",VLOOKUP($R386,'FO-DRE-01'!$A$7:$U$301,11,FALSE))","v":""},{"$f":"IF($R386=\"\",\"\",VLOOKUP($R386,'FO-DRE-01'!$A$7:$U$301,12,FALSE))","v":""},{"$f":"IF($R386=\"\",\"\",VLOOKUP($R386,'FO-DRE-01'!$A$7:$U$301,13,FALSE))","v":""},{"$f":"IF($R386=\"\",\"\",VLOOKUP($R386,'FO-DRE-01'!$A$7:$U$301,14,FALSE))","v":""},{"$f":"IF($R386=\"\",\"\",VLOOKUP($R386,'FO-DRE-01'!$A$7:$U$301,15,FALSE))","v":""},{"$f":"IF($S386=\"\",\"\",VLOOKUP($S386,'FO-DRE-04'!$A$6:$L$301,2,FALSE))","v":""},{"$f":"IF($S386=\"\",\"\",VLOOKUP($S386,'FO-DRE-04'!$A$6:$L$301,3,FALSE))","v":""},{"$f":"IF($S386=\"\",\"\",VLOOKUP($S386,'FO-DRE-04'!$A$6:$L$301,4,FALSE))","v":""},{"$f":"IF($S386=\"\",\"\",VLOOKUP($S386,'FO-DRE-04'!$A$6:$L$301,6,FALSE))","v":""},{"$f":"IF($S386=\"\",\"\",VLOOKUP($S386,'FO-DRE-04'!$A$6:$L$301,11,FALSE))","v":""},{"$f":"IF($T386=\"\",\"\",VLOOKUP($T386,'FO-DRE-02'!$A$6:$M$101,2,FALSE))","v":""},{"$f":"IF($T386=\"\",\"\",VLOOKUP($T386,'FO-DRE-02'!$A$6:$M$101,3,FALSE))","v":""},{"$f":"IF($T386=\"\",\"\",VLOOKUP($T386,'FO-DRE-02'!$A$6:$M$101,6,FALSE))","v":""},{"$f":"IF($T386=\"\",\"\",VLOOKUP($T386,'FO-DRE-02'!$A$6:$M$101,4,FALSE))","v":""},{"$f":"IF($T386=\"\",\"\",VLOOKUP($T386,'FO-DRE-02'!$A$6:$M$101,5,FALSE))","v":""},{"$f":"IF($T386=\"\",\"\",VLOOKUP($T386,'FO-DRE-02'!$A$6:$M$101,6,FALSE))","v":""},{"$f":"IF($T386=\"\",\"\",VLOOKUP($T386,'FO-DRE-02'!$A$6:$M$101,6,FALSE))","v":""},{"$f":"IF($T386=\"\",\"\",VLOOKUP($T386,'FO-DRE-02'!$A$6:$M$101,8,FALSE))","v":""},{"$f":"IF($T386=\"\",\"\",VLOOKUP($T386,'FO-DRE-02'!$A$6:$M$101,11,FALSE))","v":""},{"$f":"IF($T386=\"\",\"\",VLOOKUP($T386,'FO-DRE-02'!$A$6:$M$101,12,FALSE))","v":""},{"$f":"IF($T386=\"\",\"\",VLOOKUP($T386,'FO-DRE-02'!$A$6:$M$101,13,FALSE))","v":""},null,null,null,377,"","F/D","F/D","","","","","","","","","","","","","","",""]
[null,null,null,null,null,null,null,null,"",{"$f":"CONCATENATE(#REF!,\"-\",\"TX\")","v":{"$error":"#REF!"}},{"$f":"CONCATENATE(#REF!,\"-\",\"RX\")","v":{"$error":"#REF!"}},null,null,null,null,0,null,null,null,null,null,{"$f":"IF($R387=\"\",\"\",VLOOKUP($R387,'FO-DRE-01'!$A$7:$U$301,18,FALSE))","v":""},{"$f":"IF($R387=\"\",\"\",VLOOKUP($R387,'FO-DRE-01'!$A$7:$U$301,16,FALSE))","v":""},{"$f":"IF($R387=\"\",\"\",VLOOKUP($R387,'FO-DRE-01'!$A$7:$U$301,17,FALSE))","v":""},{"$f":"IF($R387=\"\",\"\",VLOOKUP($R387,'FO-DRE-01'!$A$7:$U$301,3,FALSE))","v":""},{"$f":"IF($R387=\"\",\"\",VLOOKUP($R387,'FO-DRE-01'!$A$7:$U$301,4,FALSE))","v":""},{"$f":"IF($R387=\"\",\"\",VLOOKUP($R387,'FO-DRE-01'!$A$7:$U$301,5,FALSE))","v":""},{"$f":"IF($R387=\"\",\"\",VLOOKUP($R387,'FO-DRE-01'!$A$7:$U$301,7,FALSE))","v":""},{"$f":"IF($R387=\"\",\"\",VLOOKUP($R387,'FO-DRE-01'!$A$7:$U$301,8,FALSE))","v":""},{"$f":"IF($R387=\"\",\"\",VLOOKUP($R387,'FO-DRE-01'!$A$7:$U$301,9,FALSE))","v":""},{"$f":"IF($R387=\"\",\"\",VLOOKUP($R387,'FO-DRE-01'!$A$7:$U$301,10,FALSE))","v":""},{"$f":"IF($R387=\"\",\"\",VLOOKUP($R387,'FO-DRE-01'!$A$7:$U$301,11,FALSE))","v":""},{"$f":"IF($R387=\"\",\"\",VLOOKUP($R387,'FO-DRE-01'!$A$7:$U$301,12,FALSE))","v":""},{"$f":"IF($R387=\"\",\"\",VLOOKUP($R387,'FO-DRE-01'!$A$7:$U$301,13,FALSE))","v":""},{"$f":"IF($R387=\"\",\"\",VLOOKUP($R387,'FO-DRE-01'!$A$7:$U$301,14,FALSE))","v":""},{"$f":"IF($R387=\"\",\"\",VLOOKUP($R387,'FO-DRE-01'!$A$7:$U$301,15,FALSE))","v":""},{"$f":"IF($S387=\"\",\"\",VLOOKUP($S387,'FO-DRE-04'!$A$6:$L$301,2,FALSE))","v":""},{"$f":"IF($S387=\"\",\"\",VLOOKUP($S387,'FO-DRE-04'!$A$6:$L$301,3,FALSE))","v":""},{"$f":"IF($S387=\"\",\"\",VLOOKUP($S387,'FO-DRE-04'!$A$6:$L$301,4,FALSE))","v":""},{"$f":"IF($S387=\"\",\"\",VLOOKUP($S387,'FO-DRE-04'!$A$6:$L$301,6,FALSE))","v":""},{"$f":"IF($S387=\"\",\"\",VLOOKUP($S387,'FO-DRE-04'!$A$6:$L$301,11,FALSE))","v":""},{"$f":"IF($T387=\"\",\"\",VLOOKUP($T387,'FO-DRE-02'!$A$6:$M$101,2,FALSE))","v":""},{"$f":"IF($T387=\"\",\"\",VLOOKUP($T387,'FO-DRE-02'!$A$6:$M$101,3,FALSE))","v":""},{"$f":"IF($T387=\"\",\"\",VLOOKUP($T387,'FO-DRE-02'!$A$6:$M$101,6,FALSE))","v":""},{"$f":"IF($T387=\"\",\"\",VLOOKUP($T387,'FO-DRE-02'!$A$6:$M$101,4,FALSE))","v":""},{"$f":"IF($T387=\"\",\"\",VLOOKUP($T387,'FO-DRE-02'!$A$6:$M$101,5,FALSE))","v":""},{"$f":"IF($T387=\"\",\"\",VLOOKUP($T387,'FO-DRE-02'!$A$6:$M$101,6,FALSE))","v":""},{"$f":"IF($T387=\"\",\"\",VLOOKUP($T387,'FO-DRE-02'!$A$6:$M$101,6,FALSE))","v":""},{"$f":"IF($T387=\"\",\"\",VLOOKUP($T387,'FO-DRE-02'!$A$6:$M$101,8,FALSE))","v":""},{"$f":"IF($T387=\"\",\"\",VLOOKUP($T387,'FO-DRE-02'!$A$6:$M$101,11,FALSE))","v":""},{"$f":"IF($T387=\"\",\"\",VLOOKUP($T387,'FO-DRE-02'!$A$6:$M$101,12,FALSE))","v":""},{"$f":"IF($T387=\"\",\"\",VLOOKUP($T387,'FO-DRE-02'!$A$6:$M$101,13,FALSE))","v":""},null,null,null,378,"","F/D","F/D","","","","","","","","","","","","","","",""]
[null,null,null,null,null,null,null,null,"",{"$f":"CONCATENATE(#REF!,\"-\",\"TX\")","v":{"$error":"#REF!"}},{"$f":"CONCATENATE(#REF!,\"-\",\"RX\")","v":{"$error":"#REF!"}},null,null,null,null,0,null,null,null,null,null,{"$f":"IF($R388=\"\",\"\",VLOOKUP($R388,'FO-DRE-01'!$A$7:$U$301,18,FALSE))","v":""},{"$f":"IF($R388=\"\",\"\",VLOOKUP($R388,'FO-DRE-01'!$A$7:$U$301,16,FALSE))","v":""},{"$f":"IF($R388=\"\",\"\",VLOOKUP($R388,'FO-DRE-01'!$A$7:$U$301,17,FALSE))","v":""},{"$f":"IF($R388=\"\",\"\",VLOOKUP($R388,'FO-DRE-01'!$A$7:$U$301,3,FALSE))","v":""},{"$f":"IF($R388=\"\",\"\",VLOOKUP($R388,'FO-DRE-01'!$A$7:$U$301,4,FALSE))","v":""},{"$f":"IF($R388=\"\",\"\",VLOOKUP($R388,'FO-DRE-01'!$A$7:$U$301,5,FALSE))","v":""},{"$f":"IF($R388=\"\",\"\",VLOOKUP($R388,'FO-DRE-01'!$A$7:$U$301,7,FALSE))","v":""},{"$f":"IF($R388=\"\",\"\",VLOOKUP($R388,'FO-DRE-01'!$A$7:$U$301,8,FALSE))","v":""},{"$f":"IF($R388=\"\",\"\",VLOOKUP($R388,'FO-DRE-01'!$A$7:$U$301,9,FALSE))","v":""},{"$f":"IF($R388=\"\",\"\",VLOOKUP($R388,'FO-DRE-01'!$A$7:$U$301,10,FALSE))","v":""},{"$f":"IF($R388=\"\",\"\",VLOOKUP($R388,'FO-DRE-01'!$A$7:$U$301,11,FALSE))","v":""},{"$f":"IF($R388=\"\",\"\",VLOOKUP($R388,'FO-DRE-01'!$A$7:$U$301,12,FALSE))","v":""},{"$f":"IF($R388=\"\",\"\",VLOOKUP($R388,'FO-DRE-01'!$A$7:$U$301,13,FALSE))","v":""},{"$f":"IF($R388=\"\",\"\",VLOOKUP($R388,'FO-DRE-01'!$A$7:$U$301,14,FALSE))","v":""},{"$f":"IF($R388=\"\",\"\",VLOOKUP($R388,'FO-DRE-01'!$A$7:$U$301,15,FALSE))","v":""},{"$f":"IF($S388=\"\",\"\",VLOOKUP($S388,'FO-DRE-04'!$A$6:$L$301,2,FALSE))","v":""},{"$f":"IF($S388=\"\",\"\",VLOOKUP($S388,'FO-DRE-04'!$A$6:$L$301,3,FALSE))","v":""},{"$f":"IF($S388=\"\",\"\",VLOOKUP($S388,'FO-DRE-04'!$A$6:$L$301,4,FALSE))","v":""},{"$f":"IF($S388=\"\",\"\",VLOOKUP($S388,'FO-DRE-04'!$A$6:$L$301,6,FALSE))","v":""},{"$f":"IF($S388=\"\",\"\",VLOOKUP($S388,'FO-DRE-04'!$A$6:$L$301,11,FALSE))","v":""},{"$f":"IF($T388=\"\",\"\",VLOOKUP($T388,'FO-DRE-02'!$A$6:$M$101,2,FALSE))","v":""},{"$f":"IF($T388=\"\",\"\",VLOOKUP($T388,'FO-DRE-02'!$A$6:$M$101,3,FALSE))","v":""},{"$f":"IF($T388=\"\",\"\",VLOOKUP($T388,'FO-DRE-02'!$A$6:$M$101,6,FALSE))","v":""},{"$f":"IF($T388=\"\",\"\",VLOOKUP($T388,'FO-DRE-02'!$A$6:$M$101,4,FALSE))","v":""},{"$f":"IF($T388=\"\",\"\",VLOOKUP($T388,'FO-DRE-02'!$A$6:$M$101,5,FALSE))","v":""},{"$f":"IF($T388=\"\",\"\",VLOOKUP($T388,'FO-DRE-02'!$A$6:$M$101,6,FALSE))","v":""},{"$f":"IF($T388=\"\",\"\",VLOOKUP($T388,'FO-DRE-02'!$A$6:$M$101,6,FALSE))","v":""},{"$f":"IF($T388=\"\",\"\",VLOOKUP($T388,'FO-DRE-02'!$A$6:$M$101,8,FALSE))","v":""},{"$f":"IF($T388=\"\",\"\",VLOOKUP($T388,'FO-DRE-02'!$A$6:$M$101,11,FALSE))","v":""},{"$f":"IF($T388=\"\",\"\",VLOOKUP($T388,'FO-DRE-02'!$A$6:$M$101,12,FALSE))","v":""},{"$f":"IF($T388=\"\",\"\",VLOOKUP($T388,'FO-DRE-02'!$A$6:$M$101,13,FALSE))","v":""},null,null,null,379,"","F/D","F/D","","","","","","","","","","","","","","",""]
[null,null,null,null,null,null,null,null,"",{"$f":"CONCATENATE(#REF!,\"-\",\"TX\")","v":{"$error":"#REF!"}},{"$f":"CONCATENATE(#REF!,\"-\",\"RX\")","v":{"$error":"#REF!"}},null,null,null,null,0,null,null,null,null,null,{"$f":"IF($R389=\"\",\"\",VLOOKUP($R389,'FO-DRE-01'!$A$7:$U$301,18,FALSE))","v":""},{"$f":"IF($R389=\"\",\"\",VLOOKUP($R389,'FO-DRE-01'!$A$7:$U$301,16,FALSE))","v":""},{"$f":"IF($R389=\"\",\"\",VLOOKUP($R389,'FO-DRE-01'!$A$7:$U$301,17,FALSE))","v":""},{"$f":"IF($R389=\"\",\"\",VLOOKUP($R389,'FO-DRE-01'!$A$7:$U$301,3,FALSE))","v":""},{"$f":"IF($R389=\"\",\"\",VLOOKUP($R389,'FO-DRE-01'!$A$7:$U$301,4,FALSE))","v":""},{"$f":"IF($R389=\"\",\"\",VLOOKUP($R389,'FO-DRE-01'!$A$7:$U$301,5,FALSE))","v":""},{"$f":"IF($R389=\"\",\"\",VLOOKUP($R389,'FO-DRE-01'!$A$7:$U$301,7,FALSE))","v":""},{"$f":"IF($R389=\"\",\"\",VLOOKUP($R389,'FO-DRE-01'!$A$7:$U$301,8,FALSE))","v":""},{"$f":"IF($R389=\"\",\"\",VLOOKUP($R389,'FO-DRE-01'!$A$7:$U$301,9,FALSE))","v":""},{"$f":"IF($R389=\"\",\"\",VLOOKUP($R389,'FO-DRE-01'!$A$7:$U$301,10,FALSE))","v":""},{"$f":"IF($R389=\"\",\"\",VLOOKUP($R389,'FO-DRE-01'!$A$7:$U$301,11,FALSE))","v":""},{"$f":"IF($R389=\"\",\"\",VLOOKUP($R389,'FO-DRE-01'!$A$7:$U$301,12,FALSE))","v":""},{"$f":"IF($R389=\"\",\"\",VLOOKUP($R389,'FO-DRE-01'!$A$7:$U$301,13,FALSE))","v":""},{"$f":"IF($R389=\"\",\"\",VLOOKUP($R389,'FO-DRE-01'!$A$7:$U$301,14,FALSE))","v":""},{"$f":"IF($R389=\"\",\"\",VLOOKUP($R389,'FO-DRE-01'!$A$7:$U$301,15,FALSE))","v":""},{"$f":"IF($S389=\"\",\"\",VLOOKUP($S389,'FO-DRE-04'!$A$6:$L$301,2,FALSE))","v":""},{"$f":"IF($S389=\"\",\"\",VLOOKUP($S389,'FO-DRE-04'!$A$6:$L$301,3,FALSE))","v":""},{"$f":"IF($S389=\"\",\"\",VLOOKUP($S389,'FO-DRE-04'!$A$6:$L$301,4,FALSE))","v":""},{"$f":"IF($S389=\"\",\"\",VLOOKUP($S389,'FO-DRE-04'!$A$6:$L$301,6,FALSE))","v":""},{"$f":"IF($S389=\"\",\"\",VLOOKUP($S389,'FO-DRE-04'!$A$6:$L$301,11,FALSE))","v":""},{"$f":"IF($T389=\"\",\"\",VLOOKUP($T389,'FO-DRE-02'!$A$6:$M$101,2,FALSE))","v":""},{"$f":"IF($T389=\"\",\"\",VLOOKUP($T389,'FO-DRE-02'!$A$6:$M$101,3,FALSE))","v":""},{"$f":"IF($T389=\"\",\"\",VLOOKUP($T389,'FO-DRE-02'!$A$6:$M$101,6,FALSE))","v":""},{"$f":"IF($T389=\"\",\"\",VLOOKUP($T389,'FO-DRE-02'!$A$6:$M$101,4,FALSE))","v":""},{"$f":"IF($T389=\"\",\"\",VLOOKUP($T389,'FO-DRE-02'!$A$6:$M$101,5,FALSE))","v":""},{"$f":"IF($T389=\"\",\"\",VLOOKUP($T389,'FO-DRE-02'!$A$6:$M$101,6,FALSE))","v":""},{"$f":"IF($T389=\"\",\"\",VLOOKUP($T389,'FO-DRE-02'!$A$6:$M$101,6,FALSE))","v":""},{"$f":"IF($T389=\"\",\"\",VLOOKUP($T389,'FO-DRE-02'!$A$6:$M$101,8,FALSE))","v":""},{"$f":"IF($T389=\"\",\"\",VLOOKUP($T389,'FO-DRE-02'!$A$6:$M$101,11,FALSE))","v":""},{"$f":"IF($T389=\"\",\"\",VLOOKUP($T389,'FO-DRE-02'!$A$6:$M$101,12,FALSE))","v":""},{"$f":"IF($T389=\"\",\"\",VLOOKUP($T389,'FO-DRE-02'!$A$6:$M$101,13,FALSE))","v":""},null,null,null,380,"","F/D","F/D","","","","","","","","","","","","","","",""]
[null,null,null,null,null,null,null,null,"",{"$f":"CONCATENATE(#REF!,\"-\",\"TX\")","v":{"$error":"#REF!"}},{"$f":"CONCATENATE(#REF!,\"-\",\"RX\")","v":{"$error":"#REF!"}},null,null,null,null,0,null,null,null,null,null,{"$f":"IF($R390=\"\",\"\",VLOOKUP($R390,'FO-DRE-01'!$A$7:$U$301,18,FALSE))","v":""},{"$f":"IF($R390=\"\",\"\",VLOOKUP($R390,'FO-DRE-01'!$A$7:$U$301,16,FALSE))","v":""},{"$f":"IF($R390=\"\",\"\",VLOOKUP($R390,'FO-DRE-01'!$A$7:$U$301,17,FALSE))","v":""},{"$f":"IF($R390=\"\",\"\",VLOOKUP($R390,'FO-DRE-01'!$A$7:$U$301,3,FALSE))","v":""},{"$f":"IF($R390=\"\",\"\",VLOOKUP($R390,'FO-DRE-01'!$A$7:$U$301,4,FALSE))","v":""},{"$f":"IF($R390=\"\",\"\",VLOOKUP($R390,'FO-DRE-01'!$A$7:$U$301,5,FALSE))","v":""},{"$f":"IF($R390=\"\",\"\",VLOOKUP($R390,'FO-DRE-01'!$A$7:$U$301,7,FALSE))","v":""},{"$f":"IF($R390=\"\",\"\",VLOOKUP($R390,'FO-DRE-01'!$A$7:$U$301,8,FALSE))","v":""},{"$f":"IF($R390=\"\",\"\",VLOOKUP($R390,'FO-DRE-01'!$A$7:$U$301,9,FALSE))","v":""},{"$f":"IF($R390=\"\",\"\",VLOOKUP($R390,'FO-DRE-01'!$A$7:$U$301,10,FALSE))","v":""},{"$f":"IF($R390=\"\",\"\",VLOOKUP($R390,'FO-DRE-01'!$A$7:$U$301,11,FALSE))","v":""},{"$f":"IF($R390=\"\",\"\",VLOOKUP($R390,'FO-DRE-01'!$A$7:$U$301,12,FALSE))","v":""},{"$f":"IF($R390=\"\",\"\",VLOOKUP($R390,'FO-DRE-01'!$A$7:$U$301,13,FALSE))","v":""},{"$f":"IF($R390=\"\",\"\",VLOOKUP($R390,'FO-DRE-01'!$A$7:$U$301,14,FALSE))","v":""},{"$f":"IF($R390=\"\",\"\",VLOOKUP($R390,'FO-DRE-01'!$A$7:$U$301,15,FALSE))","v":""},{"$f":"IF($S390=\"\",\"\",VLOOKUP($S390,'FO-DRE-04'!$A$6:$L$301,2,FALSE))","v":""},{"$f":"IF($S390=\"\",\"\",VLOOKUP($S390,'FO-DRE-04'!$A$6:$L$301,3,FALSE))","v":""},{"$f":"IF($S390=\"\",\"\",VLOOKUP($S390,'FO-DRE-04'!$A$6:$L$301,4,FALSE))","v":""},{"$f":"IF($S390=\"\",\"\",VLOOKUP($S390,'FO-DRE-04'!$A$6:$L$301,6,FALSE))","v":""},{"$f":"IF($S390=\"\",\"\",VLOOKUP($S390,'FO-DRE-04'!$A$6:$L$301,11,FALSE))","v":""},{"$f":"IF($T390=\"\",\"\",VLOOKUP($T390,'FO-DRE-02'!$A$6:$M$101,2,FALSE))","v":""},{"$f":"IF($T390=\"\",\"\",VLOOKUP($T390,'FO-DRE-02'!$A$6:$M$101,3,FALSE))","v":""},{"$f":"IF($T390=\"\",\"\",VLOOKUP($T390,'FO-DRE-02'!$A$6:$M$101,6,FALSE))","v":""},{"$f":"IF($T390=\"\",\"\",VLOOKUP($T390,'FO-DRE-02'!$A$6:$M$101,4,FALSE))","v":""},{"$f":"IF($T390=\"\",\"\",VLOOKUP($T390,'FO-DRE-02'!$A$6:$M$101,5,FALSE))","v":""},{"$f":"IF($T390=\"\",\"\",VLOOKUP($T390,'FO-DRE-02'!$A$6:$M$101,6,FALSE))","v":""},{"$f":"IF($T390=\"\",\"\",VLOOKUP($T390,'FO-DRE-02'!$A$6:$M$101,6,FALSE))","v":""},{"$f":"IF($T390=\"\",\"\",VLOOKUP($T390,'FO-DRE-02'!$A$6:$M$101,8,FALSE))","v":""},{"$f":"IF($T390=\"\",\"\",VLOOKUP($T390,'FO-DRE-02'!$A$6:$M$101,11,FALSE))","v":""},{"$f":"IF($T390=\"\",\"\",VLOOKUP($T390,'FO-DRE-02'!$A$6:$M$101,12,FALSE))","v":""},{"$f":"IF($T390=\"\",\"\",VLOOKUP($T390,'FO-DRE-02'!$A$6:$M$101,13,FALSE))","v":""},null,null,null,381,"","F/D","F/D","","","","","","","","","","","","","","",""]
[null,null,null,null,null,null,null,null,"",{"$f":"CONCATENATE(#REF!,\"-\",\"TX\")","v":{"$error":"#REF!"}},{"$f":"CONCATENATE(#REF!,\"-\",\"RX\")","v":{"$error":"#REF!"}},null,null,null,null,0,null,null,null,null,null,{"$f":"IF($R391=\"\",\"\",VLOOKUP($R391,'FO-DRE-01'!$A$7:$U$301,18,FALSE))","v":""},{"$f":"IF($R391=\"\",\"\",VLOOKUP($R391,'FO-DRE-01'!$A$7:$U$301,16,FALSE))","v":""},{"$f":"IF($R391=\"\",\"\",VLOOKUP($R391,'FO-DRE-01'!$A$7:$U$301,17,FALSE))","v":""},{"$f":"IF($R391=\"\",\"\",VLOOKUP($R391,'FO-DRE-01'!$A$7:$U$301,3,FALSE))","v":""},{"$f":"IF($R391=\"\",\"\",VLOOKUP($R391,'FO-DRE-01'!$A$7:$U$301,4,FALSE))","v":""},{"$f":"IF($R391=\"\",\"\",VLOOKUP($R391,'FO-DRE-01'!$A$7:$U$301,5,FALSE))","v":""},{"$f":"IF($R391=\"\",\"\",VLOOKUP($R391,'FO-DRE-01'!$A$7:$U$301,7,FALSE))","v":""},{"$f":"IF($R391=\"\",\"\",VLOOKUP($R391,'FO-DRE-01'!$A$7:$U$301,8,FALSE))","v":""},{"$f":"IF($R391=\"\",\"\",VLOOKUP($R391,'FO-DRE-01'!$A$7:$U$301,9,FALSE))","v":""},{"$f":"IF($R391=\"\",\"\",VLOOKUP($R391,'FO-DRE-01'!$A$7:$U$301,10,FALSE))","v":""},{"$f":"IF($R391=\"\",\"\",VLOOKUP($R391,'FO-DRE-01'!$A$7:$U$301,11,FALSE))","v":""},{"$f":"IF($R391=\"\",\"\",VLOOKUP($R391,'FO-DRE-01'!$A$7:$U$301,12,FALSE))","v":""},{"$f":"IF($R391=\"\",\"\",VLOOKUP($R391,'FO-DRE-01'!$A$7:$U$301,13,FALSE))","v":""},{"$f":"IF($R391=\"\",\"\",VLOOKUP($R391,'FO-DRE-01'!$A$7:$U$301,14,FALSE))","v":""},{"$f":"IF($R391=\"\",\"\",VLOOKUP($R391,'FO-DRE-01'!$A$7:$U$301,15,FALSE))","v":""},{"$f":"IF($S391=\"\",\"\",VLOOKUP($S391,'FO-DRE-04'!$A$6:$L$301,2,FALSE))","v":""},{"$f":"IF($S391=\"\",\"\",VLOOKUP($S391,'FO-DRE-04'!$A$6:$L$301,3,FALSE))","v":""},{"$f":"IF($S391=\"\",\"\",VLOOKUP($S391,'FO-DRE-04'!$A$6:$L$301,4,FALSE))","v":""},{"$f":"IF($S391=\"\",\"\",VLOOKUP($S391,'FO-DRE-04'!$A$6:$L$301,6,FALSE))","v":""},{"$f":"IF($S391=\"\",\"\",VLOOKUP($S391,'FO-DRE-04'!$A$6:$L$301,11,FALSE))","v":""},{"$f":"IF($T391=\"\",\"\",VLOOKUP($T391,'FO-DRE-02'!$A$6:$M$101,2,FALSE))","v":""},{"$f":"IF($T391=\"\",\"\",VLOOKUP($T391,'FO-DRE-02'!$A$6:$M$101,3,FALSE))","v":""},{"$f":"IF($T391=\"\",\"\",VLOOKUP($T391,'FO-DRE-02'!$A$6:$M$101,6,FALSE))","v":""},{"$f":"IF($T391=\"\",\"\",VLOOKUP($T391,'FO-DRE-02'!$A$6:$M$101,4,FALSE))","v":""},{"$f":"IF($T391=\"\",\"\",VLOOKUP($T391,'FO-DRE-02'!$A$6:$M$101,5,FALSE))","v":""},{"$f":"IF($T391=\"\",\"\",VLOOKUP($T391,'FO-DRE-02'!$A$6:$M$101,6,FALSE))","v":""},{"$f":"IF($T391=\"\",\"\",VLOOKUP($T391,'FO-DRE-02'!$A$6:$M$101,6,FALSE))","v":""},{"$f":"IF($T391=\"\",\"\",VLOOKUP($T391,'FO-DRE-02'!$A$6:$M$101,8,FALSE))","v":""},{"$f":"IF($T391=\"\",\"\",VLOOKUP($T391,'FO-DRE-02'!$A$6:$M$101,11,FALSE))","v":""},{"$f":"IF($T391=\"\",\"\",VLOOKUP($T391,'FO-DRE-02'!$A$6:$M$101,12,FALSE))","v":""},{"$f":"IF($T391=\"\",\"\",VLOOKUP($T391,'FO-DRE-02'!$A$6:$M$101,13,FALSE))","v":""},null,null,null,382,"","F/D","F/D","","","","","","","","","","","","","","",""]
[null,null,null,null,null,null,null,null,"",{"$f":"CONCATENATE(#REF!,\"-\",\"TX\")","v":{"$error":"#REF!"}},{"$f":"CONCATENATE(#REF!,\"-\",\"RX\")","v":{"$error":"#REF!"}},null,null,null,null,0,null,null,null,null,null,{"$f":"IF($R392=\"\",\"\",VLOOKUP($R392,'FO-DRE-01'!$A$7:$U$301,18,FALSE))","v":""},{"$f":"IF($R392=\"\",\"\",VLOOKUP($R392,'FO-DRE-01'!$A$7:$U$301,16,FALSE))","v":""},{"$f":"IF($R392=\"\",\"\",VLOOKUP($R392,'FO-DRE-01'!$A$7:$U$301,17,FALSE))","v":""},{"$f":"IF($R392=\"\",\"\",VLOOKUP($R392,'FO-DRE-01'!$A$7:$U$301,3,FALSE))","v":""},{"$f":"IF($R392=\"\",\"\",VLOOKUP($R392,'FO-DRE-01'!$A$7:$U$301,4,FALSE))","v":""},{"$f":"IF($R392=\"\",\"\",VLOOKUP($R392,'FO-DRE-01'!$A$7:$U$301,5,FALSE))","v":""},{"$f":"IF($R392=\"\",\"\",VLOOKUP($R392,'FO-DRE-01'!$A$7:$U$301,7,FALSE))","v":""},{"$f":"IF($R392=\"\",\"\",VLOOKUP($R392,'FO-DRE-01'!$A$7:$U$301,8,FALSE))","v":""},{"$f":"IF($R392=\"\",\"\",VLOOKUP($R392,'FO-DRE-01'!$A$7:$U$301,9,FALSE))","v":""},{"$f":"IF($R392=\"\",\"\",VLOOKUP($R392,'FO-DRE-01'!$A$7:$U$301,10,FALSE))","v":""},{"$f":"IF($R392=\"\",\"\",VLOOKUP($R392,'FO-DRE-01'!$A$7:$U$301,11,FALSE))","v":""},{"$f":"IF($R392=\"\",\"\",VLOOKUP($R392,'FO-DRE-01'!$A$7:$U$301,12,FALSE))","v":""},{"$f":"IF($R392=\"\",\"\",VLOOKUP($R392,'FO-DRE-01'!$A$7:$U$301,13,FALSE))","v":""},{"$f":"IF($R392=\"\",\"\",VLOOKUP($R392,'FO-DRE-01'!$A$7:$U$301,14,FALSE))","v":""},{"$f":"IF($R392=\"\",\"\",VLOOKUP($R392,'FO-DRE-01'!$A$7:$U$301,15,FALSE))","v":""},{"$f":"IF($S392=\"\",\"\",VLOOKUP($S392,'FO-DRE-04'!$A$6:$L$301,2,FALSE))","v":""},{"$f":"IF($S392=\"\",\"\",VLOOKUP($S392,'FO-DRE-04'!$A$6:$L$301,3,FALSE))","v":""},{"$f":"IF($S392=\"\",\"\",VLOOKUP($S392,'FO-DRE-04'!$A$6:$L$301,4,FALSE))","v":""},{"$f":"IF($S392=\"\",\"\",VLOOKUP($S392,'FO-DRE-04'!$A$6:$L$301,6,FALSE))","v":""},{"$f":"IF($S392=\"\",\"\",VLOOKUP($S392,'FO-DRE-04'!$A$6:$L$301,11,FALSE))","v":""},{"$f":"IF($T392=\"\",\"\",VLOOKUP($T392,'FO-DRE-02'!$A$6:$M$101,2,FALSE))","v":""},{"$f":"IF($T392=\"\",\"\",VLOOKUP($T392,'FO-DRE-02'!$A$6:$M$101,3,FALSE))","v":""},{"$f":"IF($T392=\"\",\"\",VLOOKUP($T392,'FO-DRE-02'!$A$6:$M$101,6,FALSE))","v":""},{"$f":"IF($T392=\"\",\"\",VLOOKUP($T392,'FO-DRE-02'!$A$6:$M$101,4,FALSE))","v":""},{"$f":"IF($T392=\"\",\"\",VLOOKUP($T392,'FO-DRE-02'!$A$6:$M$101,5,FALSE))","v":""},{"$f":"IF($T392=\"\",\"\",VLOOKUP($T392,'FO-DRE-02'!$A$6:$M$101,6,FALSE))","v":""},{"$f":"IF($T392=\"\",\"\",VLOOKUP($T392,'FO-DRE-02'!$A$6:$M$101,6,FALSE))","v":""},{"$f":"IF($T392=\"\",\"\",VLOOKUP($T392,'FO-DRE-02'!$A$6:$M$101,8,FALSE))","v":""},{"$f":"IF($T392=\"\",\"\",VLOOKUP($T392,'FO-DRE-02'!$A$6:$M$101,11,FALSE))","v":""},{"$f":"IF($T392=\"\",\"\",VLOOKUP($T392,'FO-DRE-02'!$A$6:$M$101,12,FALSE))","v":""},{"$f":"IF($T392=\"\",\"\",VLOOKUP($T392,'FO-DRE-02'!$A$6:$M$101,13,FALSE))","v":""},null,null,null,383,"","F/D","F/D","","","","","","","","","","","","","","",""]
[null,null,null,null,null,null,null,null,"",{"$f":"CONCATENATE(#REF!,\"-\",\"TX\")","v":{"$error":"#REF!"}},{"$f":"CONCATENATE(#REF!,\"-\",\"RX\")","v":{"$error":"#REF!"}},null,null,null,null,0,null,null,null,null,null,{"$f":"IF($R393=\"\",\"\",VLOOKUP($R393,'FO-DRE-01'!$A$7:$U$301,18,FALSE))","v":""},{"$f":"IF($R393=\"\",\"\",VLOOKUP($R393,'FO-DRE-01'!$A$7:$U$301,16,FALSE))","v":""},{"$f":"IF($R393=\"\",\"\",VLOOKUP($R393,'FO-DRE-01'!$A$7:$U$301,17,FALSE))","v":""},{"$f":"IF($R393=\"\",\"\",VLOOKUP($R393,'FO-DRE-01'!$A$7:$U$301,3,FALSE))","v":""},{"$f":"IF($R393=\"\",\"\",VLOOKUP($R393,'FO-DRE-01'!$A$7:$U$301,4,FALSE))","v":""},{"$f":"IF($R393=\"\",\"\",VLOOKUP($R393,'FO-DRE-01'!$A$7:$U$301,5,FALSE))","v":""},{"$f":"IF($R393=\"\",\"\",VLOOKUP($R393,'FO-DRE-01'!$A$7:$U$301,7,FALSE))","v":""},{"$f":"IF($R393=\"\",\"\",VLOOKUP($R393,'FO-DRE-01'!$A$7:$U$301,8,FALSE))","v":""},{"$f":"IF($R393=\"\",\"\",VLOOKUP($R393,'FO-DRE-01'!$A$7:$U$301,9,FALSE))","v":""},{"$f":"IF($R393=\"\",\"\",VLOOKUP($R393,'FO-DRE-01'!$A$7:$U$301,10,FALSE))","v":""},{"$f":"IF($R393=\"\",\"\",VLOOKUP($R393,'FO-DRE-01'!$A$7:$U$301,11,FALSE))","v":""},{"$f":"IF($R393=\"\",\"\",VLOOKUP($R393,'FO-DRE-01'!$A$7:$U$301,12,FALSE))","v":""},{"$f":"IF($R393=\"\",\"\",VLOOKUP($R393,'FO-DRE-01'!$A$7:$U$301,13,FALSE))","v":""},{"$f":"IF($R393=\"\",\"\",VLOOKUP($R393,'FO-DRE-01'!$A$7:$U$301,14,FALSE))","v":""},{"$f":"IF($R393=\"\",\"\",VLOOKUP($R393,'FO-DRE-01'!$A$7:$U$301,15,FALSE))","v":""},{"$f":"IF($S393=\"\",\"\",VLOOKUP($S393,'FO-DRE-04'!$A$6:$L$301,2,FALSE))","v":""},{"$f":"IF($S393=\"\",\"\",VLOOKUP($S393,'FO-DRE-04'!$A$6:$L$301,3,FALSE))","v":""},{"$f":"IF($S393=\"\",\"\",VLOOKUP($S393,'FO-DRE-04'!$A$6:$L$301,4,FALSE))","v":""},{"$f":"IF($S393=\"\",\"\",VLOOKUP($S393,'FO-DRE-04'!$A$6:$L$301,6,FALSE))","v":""},{"$f":"IF($S393=\"\",\"\",VLOOKUP($S393,'FO-DRE-04'!$A$6:$L$301,11,FALSE))","v":""},{"$f":"IF($T393=\"\",\"\",VLOOKUP($T393,'FO-DRE-02'!$A$6:$M$101,2,FALSE))","v":""},{"$f":"IF($T393=\"\",\"\",VLOOKUP($T393,'FO-DRE-02'!$A$6:$M$101,3,FALSE))","v":""},{"$f":"IF($T393=\"\",\"\",VLOOKUP($T393,'FO-DRE-02'!$A$6:$M$101,6,FALSE))","v":""},{"$f":"IF($T393=\"\",\"\",VLOOKUP($T393,'FO-DRE-02'!$A$6:$M$101,4,FALSE))","v":""},{"$f":"IF($T393=\"\",\"\",VLOOKUP($T393,'FO-DRE-02'!$A$6:$M$101,5,FALSE))","v":""},{"$f":"IF($T393=\"\",\"\",VLOOKUP($T393,'FO-DRE-02'!$A$6:$M$101,6,FALSE))","v":""},{"$f":"IF($T393=\"\",\"\",VLOOKUP($T393,'FO-DRE-02'!$A$6:$M$101,6,FALSE))","v":""},{"$f":"IF($T393=\"\",\"\",VLOOKUP($T393,'FO-DRE-02'!$A$6:$M$101,8,FALSE))","v":""},{"$f":"IF($T393=\"\",\"\",VLOOKUP($T393,'FO-DRE-02'!$A$6:$M$101,11,FALSE))","v":""},{"$f":"IF($T393=\"\",\"\",VLOOKUP($T393,'FO-DRE-02'!$A$6:$M$101,12,FALSE))","v":""},{"$f":"IF($T393=\"\",\"\",VLOOKUP($T393,'FO-DRE-02'!$A$6:$M$101,13,FALSE))","v":""},null,null,null,384,"","F/D","F/D","","","","","","","","","","","","","","",""]
[null,null,null,null,null,null,null,null,"",{"$f":"CONCATENATE(#REF!,\"-\",\"TX\")","v":{"$error":"#REF!"}},{"$f":"CONCATENATE(#REF!,\"-\",\"RX\")","v":{"$error":"#REF!"}},null,null,null,null,0,null,null,null,null,null,{"$f":"IF($R394=\"\",\"\",VLOOKUP($R394,'FO-DRE-01'!$A$7:$U$301,18,FALSE))","v":""},{"$f":"IF($R394=\"\",\"\",VLOOKUP($R394,'FO-DRE-01'!$A$7:$U$301,16,FALSE))","v":""},{"$f":"IF($R394=\"\",\"\",VLOOKUP($R394,'FO-DRE-01'!$A$7:$U$301,17,FALSE))","v":""},{"$f":"IF($R394=\"\",\"\",VLOOKUP($R394,'FO-DRE-01'!$A$7:$U$301,3,FALSE))","v":""},{"$f":"IF($R394=\"\",\"\",VLOOKUP($R394,'FO-DRE-01'!$A$7:$U$301,4,FALSE))","v":""},{"$f":"IF($R394=\"\",\"\",VLOOKUP($R394,'FO-DRE-01'!$A$7:$U$301,5,FALSE))","v":""},{"$f":"IF($R394=\"\",\"\",VLOOKUP($R394,'FO-DRE-01'!$A$7:$U$301,7,FALSE))","v":""},{"$f":"IF($R394=\"\",\"\",VLOOKUP($R394,'FO-DRE-01'!$A$7:$U$301,8,FALSE))","v":""},{"$f":"IF($R394=\"\",\"\",VLOOKUP($R394,'FO-DRE-01'!$A$7:$U$301,9,FALSE))","v":""},{"$f":"IF($R394=\"\",\"\",VLOOKUP($R394,'FO-DRE-01'!$A$7:$U$301,10,FALSE))","v":""},{"$f":"IF($R394=\"\",\"\",VLOOKUP($R394,'FO-DRE-01'!$A$7:$U$301,11,FALSE))","v":""},{"$f":"IF($R394=\"\",\"\",VLOOKUP($R394,'FO-DRE-01'!$A$7:$U$301,12,FALSE))","v":""},{"$f":"IF($R394=\"\",\"\",VLOOKUP($R394,'FO-DRE-01'!$A$7:$U$301,13,FALSE))","v":""},{"$f":"IF($R394=\"\",\"\",VLOOKUP($R394,'FO-DRE-01'!$A$7:$U$301,14,FALSE))","v":""},{"$f":"IF($R394=\"\",\"\",VLOOKUP($R394,'FO-DRE-01'!$A$7:$U$301,15,FALSE))","v":""},{"$f":"IF($S394=\"\",\"\",VLOOKUP($S394,'FO-DRE-04'!$A$6:$L$301,2,FALSE))","v":""},{"$f":"IF($S394=\"\",\"\",VLOOKUP($S394,'FO-DRE-04'!$A$6:$L$301,3,FALSE))","v":""},{"$f":"IF($S394=\"\",\"\",VLOOKUP($S394,'FO-DRE-04'!$A$6:$L$301,4,FALSE))","v":""},{"$f":"IF($S394=\"\",\"\",VLOOKUP($S394,'FO-DRE-04'!$A$6:$L$301,6,FALSE))","v":""},{"$f":"IF($S394=\"\",\"\",VLOOKUP($S394,'FO-DRE-04'!$A$6:$L$301,11,FALSE))","v":""},{"$f":"IF($T394=\"\",\"\",VLOOKUP($T394,'FO-DRE-02'!$A$6:$M$101,2,FALSE))","v":""},{"$f":"IF($T394=\"\",\"\",VLOOKUP($T394,'FO-DRE-02'!$A$6:$M$101,3,FALSE))","v":""},{"$f":"IF($T394=\"\",\"\",VLOOKUP($T394,'FO-DRE-02'!$A$6:$M$101,6,FALSE))","v":""},{"$f":"IF($T394=\"\",\"\",VLOOKUP($T394,'FO-DRE-02'!$A$6:$M$101,4,FALSE))","v":""},{"$f":"IF($T394=\"\",\"\",VLOOKUP($T394,'FO-DRE-02'!$A$6:$M$101,5,FALSE))","v":""},{"$f":"IF($T394=\"\",\"\",VLOOKUP($T394,'FO-DRE-02'!$A$6:$M$101,6,FALSE))","v":""},{"$f":"IF($T394=\"\",\"\",VLOOKUP($T394,'FO-DRE-02'!$A$6:$M$101,6,FALSE))","v":""},{"$f":"IF($T394=\"\",\"\",VLOOKUP($T394,'FO-DRE-02'!$A$6:$M$101,8,FALSE))","v":""},{"$f":"IF($T394=\"\",\"\",VLOOKUP($T394,'FO-DRE-02'!$A$6:$M$101,11,FALSE))","v":""},{"$f":"IF($T394=\"\",\"\",VLOOKUP($T394,'FO-DRE-02'!$A$6:$M$101,12,FALSE))","v":""},{"$f":"IF($T394=\"\",\"\",VLOOKUP($T394,'FO-DRE-02'!$A$6:$M$101,13,FALSE))","v":""},null,null,null,385,"",{"$f":"IF(OR($C394=\"\",$AN394=\"\",$AW394=\"\"),\"F/D\",IF(BR394>BH394,\"SI\",\"\"))","v":"F/D"},{"$f":"IF(OR($C394=\"\",$AN394=\"\",$AW394=\"\"),\"F/D\",IF(BR394>BI394,\"SI\",\"\"))","v":"F/D"},{"$f":"IF(D394=\"\",\"\",IF(AND(10<BB394,BB394<=400),10,IF(AND(400<BB394,BB394<=2000),(BB394/40),IF(AND(2000<BB394,B394<=300000),50,0))))","v":""},{"$f":"IF(D394=\"\",\"\",IF(AND(10<BB394,BB394<=400),2,IF(AND(400<BB394,BB394<=2000),(BB394/200),IF(AND(2000<BB394,BB394<=300000),10,0))))","v":""},{"$f":"IF(M394=\"\",\"\",SQRT(POWER($BJ$9,2)+POWER((AZ394-1.5),2)))","v":""},{"$f":"IF(M394=\"\",\"\",SQRT(POWER($BK$9,2)+POWER((AZ394-1.5),2)))","v":""},{"$f":"IF(M394=\"\",\"\",SQRT(POWER($BL$9,2)+POWER((AZ394-1.5),2)))","v":""},{"$f":"IF(M394=\"\",\"\",SQRT(POWER($BM$9,2)+POWER((AZ394-1.5),2)))","v":""},{"$f":"IF(M394=\"\",\"\",SQRT(POWER($BN$9,2)+POWER((AZ394-1.5),2)))","v":""},"",{"$f":"IF(M394=\"\",\"\",POWER(10,(AW394+2.15)/10))","v":""},"",{"$f":"IF(M394=\"\",\"\",$BQ394/(PI()*BJ394^2))","v":""},{"$f":"IF(M394=\"\",\"\",$BQ394/(PI()*BK394^2))","v":""},{"$f":"IF(M394=\"\",\"\",$BQ394/(PI()*BL394^2))","v":""},{"$f":"IF(M394=\"\",\"\",$BQ394/(PI()*BM394^2))","v":""},{"$f":"IF(M394=\"\",\"\",$BQ394/(PI()*BN394^2))","v":""}]
[null,null,null,null,null,null,null,null,"",{"$f":"CONCATENATE(#REF!,\"-\",\"TX\")","v":{"$error":"#REF!"}},{"$f":"CONCATENATE(#REF!,\"-\",\"RX\")","v":{"$error":"#REF!"}},null,null,null,null,0,null,null,null,null,null,{"$f":"IF($R395=\"\",\"\",VLOOKUP($R395,'FO-DRE-01'!$A$7:$U$301,18,FALSE))","v":""},{"$f":"IF($R395=\"\",\"\",VLOOKUP($R395,'FO-DRE-01'!$A$7:$U$301,16,FALSE))","v":""},{"$f":"IF($R395=\"\",\"\",VLOOKUP($R395,'FO-DRE-01'!$A$7:$U$301,17,FALSE))","v":""},{"$f":"IF($R395=\"\",\"\",VLOOKUP($R395,'FO-DRE-01'!$A$7:$U$301,3,FALSE))","v":""},{"$f":"IF($R395=\"\",\"\",VLOOKUP($R395,'FO-DRE-01'!$A$7:$U$301,4,FALSE))","v":""},{"$f":"IF($R395=\"\",\"\",VLOOKUP($R395,'FO-DRE-01'!$A$7:$U$301,5,FALSE))","v":""},{"$f":"IF($R395=\"\",\"\",VLOOKUP($R395,'FO-DRE-01'!$A$7:$U$301,7,FALSE))","v":""},{"$f":"IF($R395=\"\",\"\",VLOOKUP($R395,'FO-DRE-01'!$A$7:$U$301,8,FALSE))","v":""},{"$f":"IF($R395=\"\",\"\",VLOOKUP($R395,'FO-DRE-01'!$A$7:$U$301,9,FALSE))","v":""},{"$f":"IF($R395=\"\",\"\",VLOOKUP($R395,'FO-DRE-01'!$A$7:$U$301,10,FALSE))","v":""},{"$f":"IF($R395=\"\",\"\",VLOOKUP($R395,'FO-DRE-01'!$A$7:$U$301,11,FALSE))","v":""},{"$f":"IF($R395=\"\",\"\",VLOOKUP($R395,'FO-DRE-01'!$A$7:$U$301,12,FALSE))","v":""},{"$f":"IF($R395=\"\",\"\",VLOOKUP($R395,'FO-DRE-01'!$A$7:$U$301,13,FALSE))","v":""},{"$f":"IF($R395=\"\",\"\",VLOOKUP($R395,'FO-DRE-01'!$A$7:$U$301,14,FALSE))","v":""},{"$f":"IF($R395=\"\",\"\",VLOOKUP($R395,'FO-DRE-01'!$A$7:$U$301,15,FALSE))","v":""},{"$f":"IF($S395=\"\",\"\",VLOOKUP($S395,'FO-DRE-04'!$A$6:$L$301,2,FALSE))","v":""},{"$f":"IF($S395=\"\",\"\",VLOOKUP($S395,'FO-DRE-04'!$A$6:$L$301,3,FALSE))","v":""},{"$f":"IF($S395=\"\",\"\",VLOOKUP($S395,'FO-DRE-04'!$A$6:$L$301,4,FALSE))","v":""},{"$f":"IF($S395=\"\",\"\",VLOOKUP($S395,'FO-DRE-04'!$A$6:$L$301,6,FALSE))","v":""},{"$f":"IF($S395=\"\",\"\",VLOOKUP($S395,'FO-DRE-04'!$A$6:$L$301,11,FALSE))","v":""},{"$f":"IF($T395=\"\",\"\",VLOOKUP($T395,'FO-DRE-02'!$A$6:$M$101,2,FALSE))","v":""},{"$f":"IF($T395=\"\",\"\",VLOOKUP($T395,'FO-DRE-02'!$A$6:$M$101,3,FALSE))","v":""},{"$f":"IF($T395=\"\",\"\",VLOOKUP($T395,'FO-DRE-02'!$A$6:$M$101,6,FALSE))","v":""},{"$f":"IF($T395=\"\",\"\",VLOOKUP($T395,'FO-DRE-02'!$A$6:$M$101,4,FALSE))","v":""},{"$f":"IF($T395=\"\",\"\",VLOOKUP($T395,'FO-DRE-02'!$A$6:$M$101,5,FALSE))","v":""},{"$f":"IF($T395=\"\",\"\",VLOOKUP($T395,'FO-DRE-02'!$A$6:$M$101,6,FALSE))","v":""},{"$f":"IF($T395=\"\",\"\",VLOOKUP($T395,'FO-DRE-02'!$A$6:$M$101,6,FALSE))","v":""},{"$f":"IF($T395=\"\",\"\",VLOOKUP($T395,'FO-DRE-02'!$A$6:$M$101,8,FALSE))","v":""},{"$f":"IF($T395=\"\",\"\",VLOOKUP($T395,'FO-DRE-02'!$A$6:$M$101,11,FALSE))","v":""},{"$f":"IF($T395=\"\",\"\",VLOOKUP($T395,'FO-DRE-02'!$A$6:$M$101,12,FALSE))","v":""},{"$f":"IF($T395=\"\",\"\",VLOOKUP($T395,'FO-DRE-02'!$A$6:$M$101,13,FALSE))","v":""},null,null,null,386,"","F/D","F/D","","","","","","","","","","","","","","",""]
[null,null,null,null,null,null,null,null,"",{"$f":"CONCATENATE(#REF!,\"-\",\"TX\")","v":{"$error":"#REF!"}},{"$f":"CONCATENATE(#REF!,\"-\",\"RX\")","v":{"$error":"#REF!"}},null,null,null,null,{"$f":"B396","v":0},null,null,null,null,null,{"$f":"IF($R396=\"\",\"\",VLOOKUP($R396,'FO-DRE-01'!$A$7:$U$301,18,FALSE))","v":""},{"$f":"IF($R396=\"\",\"\",VLOOKUP($R396,'FO-DRE-01'!$A$7:$U$301,16,FALSE))","v":""},{"$f":"IF($R396=\"\",\"\",VLOOKUP($R396,'FO-DRE-01'!$A$7:$U$301,17,FALSE))","v":""},{"$f":"IF($R396=\"\",\"\",VLOOKUP($R396,'FO-DRE-01'!$A$7:$U$301,3,FALSE))","v":""},{"$f":"IF($R396=\"\",\"\",VLOOKUP($R396,'FO-DRE-01'!$A$7:$U$301,4,FALSE))","v":""},{"$f":"IF($R396=\"\",\"\",VLOOKUP($R396,'FO-DRE-01'!$A$7:$U$301,5,FALSE))","v":""},{"$f":"IF($R396=\"\",\"\",VLOOKUP($R396,'FO-DRE-01'!$A$7:$U$301,7,FALSE))","v":""},{"$f":"IF($R396=\"\",\"\",VLOOKUP($R396,'FO-DRE-01'!$A$7:$U$301,8,FALSE))","v":""},{"$f":"IF($R396=\"\",\"\",VLOOKUP($R396,'FO-DRE-01'!$A$7:$U$301,9,FALSE))","v":""},{"$f":"IF($R396=\"\",\"\",VLOOKUP($R396,'FO-DRE-01'!$A$7:$U$301,10,FALSE))","v":""},{"$f":"IF($R396=\"\",\"\",VLOOKUP($R396,'FO-DRE-01'!$A$7:$U$301,11,FALSE))","v":""},{"$f":"IF($R396=\"\",\"\",VLOOKUP($R396,'FO-DRE-01'!$A$7:$U$301,12,FALSE))","v":""},{"$f":"IF($R396=\"\",\"\",VLOOKUP($R396,'FO-DRE-01'!$A$7:$U$301,13,FALSE))","v":""},{"$f":"IF($R396=\"\",\"\",VLOOKUP($R396,'FO-DRE-01'!$A$7:$U$301,14,FALSE))","v":""},{"$f":"IF($R396=\"\",\"\",VLOOKUP($R396,'FO-DRE-01'!$A$7:$U$301,15,FALSE))","v":""},{"$f":"IF($S396=\"\",\"\",VLOOKUP($S396,'FO-DRE-04'!$A$6:$L$301,2,FALSE))","v":""},{"$f":"IF($S396=\"\",\"\",VLOOKUP($S396,'FO-DRE-04'!$A$6:$L$301,3,FALSE))","v":""},{"$f":"IF($S396=\"\",\"\",VLOOKUP($S396,'FO-DRE-04'!$A$6:$L$301,4,FALSE))","v":""},{"$f":"IF($S396=\"\",\"\",VLOOKUP($S396,'FO-DRE-04'!$A$6:$L$301,6,FALSE))","v":""},{"$f":"IF($S396=\"\",\"\",VLOOKUP($S396,'FO-DRE-04'!$A$6:$L$301,11,FALSE))","v":""},{"$f":"IF($T396=\"\",\"\",VLOOKUP($T396,'FO-DRE-02'!$A$6:$M$101,2,FALSE))","v":""},{"$f":"IF($T396=\"\",\"\",VLOOKUP($T396,'FO-DRE-02'!$A$6:$M$101,3,FALSE))","v":""},{"$f":"IF($T396=\"\",\"\",VLOOKUP($T396,'FO-DRE-02'!$A$6:$M$101,6,FALSE))","v":""},{"$f":"IF($T396=\"\",\"\",VLOOKUP($T396,'FO-DRE-02'!$A$6:$M$101,4,FALSE))","v":""},{"$f":"IF($T396=\"\",\"\",VLOOKUP($T396,'FO-DRE-02'!$A$6:$M$101,5,FALSE))","v":""},{"$f":"IF($T396=\"\",\"\",VLOOKUP($T396,'FO-DRE-02'!$A$6:$M$101,6,FALSE))","v":""},{"$f":"IF($T396=\"\",\"\",VLOOKUP($T396,'FO-DRE-02'!$A$6:$M$101,6,FALSE))","v":""},{"$f":"IF($T396=\"\",\"\",VLOOKUP($T396,'FO-DRE-02'!$A$6:$M$101,8,FALSE))","v":""},{"$f":"IF($T396=\"\",\"\",VLOOKUP($T396,'FO-DRE-02'!$A$6:$M$101,11,FALSE))","v":""},{"$f":"IF($T396=\"\",\"\",VLOOKUP($T396,'FO-DRE-02'!$A$6:$M$101,12,FALSE))","v":""},{"$f":"IF($T396=\"\",\"\",VLOOKUP($T396,'FO-DRE-02'!$A$6:$M$101,13,FALSE))","v":""},null,null,null,387,"","F/D","F/D","","","","","","","","","","","","","","",""]
[null,null,null,null,null,null,null,null,"",{"$f":"CONCATENATE(#REF!,\"-\",\"TX\")","v":{"$error":"#REF!"}},{"$f":"CONCATENATE(#REF!,\"-\",\"RX\")","v":{"$error":"#REF!"}},null,null,null,null,0,null,null,null,null,null,{"$f":"IF($R397=\"\",\"\",VLOOKUP($R397,'FO-DRE-01'!$A$7:$U$301,18,FALSE))","v":""},{"$f":"IF($R397=\"\",\"\",VLOOKUP($R397,'FO-DRE-01'!$A$7:$U$301,16,FALSE))","v":""},{"$f":"IF($R397=\"\",\"\",VLOOKUP($R397,'FO-DRE-01'!$A$7:$U$301,17,FALSE))","v":""},{"$f":"IF($R397=\"\",\"\",VLOOKUP($R397,'FO-DRE-01'!$A$7:$U$301,3,FALSE))","v":""},{"$f":"IF($R397=\"\",\"\",VLOOKUP($R397,'FO-DRE-01'!$A$7:$U$301,4,FALSE))","v":""},{"$f":"IF($R397=\"\",\"\",VLOOKUP($R397,'FO-DRE-01'!$A$7:$U$301,5,FALSE))","v":""},{"$f":"IF($R397=\"\",\"\",VLOOKUP($R397,'FO-DRE-01'!$A$7:$U$301,7,FALSE))","v":""},{"$f":"IF($R397=\"\",\"\",VLOOKUP($R397,'FO-DRE-01'!$A$7:$U$301,8,FALSE))","v":""},{"$f":"IF($R397=\"\",\"\",VLOOKUP($R397,'FO-DRE-01'!$A$7:$U$301,9,FALSE))","v":""},{"$f":"IF($R397=\"\",\"\",VLOOKUP($R397,'FO-DRE-01'!$A$7:$U$301,10,FALSE))","v":""},{"$f":"IF($R397=\"\",\"\",VLOOKUP($R397,'FO-DRE-01'!$A$7:$U$301,11,FALSE))","v":""},{"$f":"IF($R397=\"\",\"\",VLOOKUP($R397,'FO-DRE-01'!$A$7:$U$301,12,FALSE))","v":""},{"$f":"IF($R397=\"\",\"\",VLOOKUP($R397,'FO-DRE-01'!$A$7:$U$301,13,FALSE))","v":""},{"$f":"IF($R397=\"\",\"\",VLOOKUP($R397,'FO-DRE-01'!$A$7:$U$301,14,FALSE))","v":""},{"$f":"IF($R397=\"\",\"\",VLOOKUP($R397,'FO-DRE-01'!$A$7:$U$301,15,FALSE))","v":""},{"$f":"IF($S397=\"\",\"\",VLOOKUP($S397,'FO-DRE-04'!$A$6:$L$301,2,FALSE))","v":""},{"$f":"IF($S397=\"\",\"\",VLOOKUP($S397,'FO-DRE-04'!$A$6:$L$301,3,FALSE))","v":""},{"$f":"IF($S397=\"\",\"\",VLOOKUP($S397,'FO-DRE-04'!$A$6:$L$301,4,FALSE))","v":""},{"$f":"IF($S397=\"\",\"\",VLOOKUP($S397,'FO-DRE-04'!$A$6:$L$301,6,FALSE))","v":""},{"$f":"IF($S397=\"\",\"\",VLOOKUP($S397,'FO-DRE-04'!$A$6:$L$301,11,FALSE))","v":""},{"$f":"IF($T397=\"\",\"\",VLOOKUP($T397,'FO-DRE-02'!$A$6:$M$101,2,FALSE))","v":""},{"$f":"IF($T397=\"\",\"\",VLOOKUP($T397,'FO-DRE-02'!$A$6:$M$101,3,FALSE))","v":""},{"$f":"IF($T397=\"\",\"\",VLOOKUP($T397,'FO-DRE-02'!$A$6:$M$101,6,FALSE))","v":""},{"$f":"IF($T397=\"\",\"\",VLOOKUP($T397,'FO-DRE-02'!$A$6:$M$101,4,FALSE))","v":""},{"$f":"IF($T397=\"\",\"\",VLOOKUP($T397,'FO-DRE-02'!$A$6:$M$101,5,FALSE))","v":""},{"$f":"IF($T397=\"\",\"\",VLOOKUP($T397,'FO-DRE-02'!$A$6:$M$101,6,FALSE))","v":""},{"$f":"IF($T397=\"\",\"\",VLOOKUP($T397,'FO-DRE-02'!$A$6:$M$101,6,FALSE))","v":""},{"$f":"IF($T397=\"\",\"\",VLOOKUP($T397,'FO-DRE-02'!$A$6:$M$101,8,FALSE))","v":""},{"$f":"IF($T397=\"\",\"\",VLOOKUP($T397,'FO-DRE-02'!$A$6:$M$101,11,FALSE))","v":""},{"$f":"IF($T397=\"\",\"\",VLOOKUP($T397,'FO-DRE-02'!$A$6:$M$101,12,FALSE))","v":""},{"$f":"IF($T397=\"\",\"\",VLOOKUP($T397,'FO-DRE-02'!$A$6:$M$101,13,FALSE))","v":""},null,null,null,388,"","F/D","F/D","","","","","","","","","","","","","","",""]
[null,null,null,null,null,null,null,null,{"$f":"IF(D398=\"\",\"\",IF(D398=\"SIM\",1,2))","v":""},{"$f":"CONCATENATE(#REF!,\"-\",\"TX\")","v":{"$error":"#REF!"}},{"$f":"CONCATENATE(#REF!,\"-\",\"RX\")","v":{"$error":"#REF!"}},null,null,null,null,0,null,null,null,null,null,{"$f":"IF($R398=\"\",\"\",VLOOKUP($R398,'FO-DRE-01'!$A$7:$U$301,18,FALSE))","v":""},{"$f":"IF($R398=\"\",\"\",VLOOKUP($R398,'FO-DRE-01'!$A$7:$U$301,16,FALSE))","v":""},{"$f":"IF($R398=\"\",\"\",VLOOKUP($R398,'FO-DRE-01'!$A$7:$U$301,17,FALSE))","v":""},{"$f":"IF($R398=\"\",\"\",VLOOKUP($R398,'FO-DRE-01'!$A$7:$U$301,3,FALSE))","v":""},{"$f":"IF($R398=\"\",\"\",VLOOKUP($R398,'FO-DRE-01'!$A$7:$U$301,4,FALSE))","v":""},{"$f":"IF($R398=\"\",\"\",VLOOKUP($R398,'FO-DRE-01'!$A$7:$U$301,5,FALSE))","v":""},{"$f":"IF($R398=\"\",\"\",VLOOKUP($R398,'FO-DRE-01'!$A$7:$U$301,7,FALSE))","v":""},{"$f":"IF($R398=\"\",\"\",VLOOKUP($R398,'FO-DRE-01'!$A$7:$U$301,8,FALSE))","v":""},{"$f":"IF($R398=\"\",\"\",VLOOKUP($R398,'FO-DRE-01'!$A$7:$U$301,9,FALSE))","v":""},{"$f":"IF($R398=\"\",\"\",VLOOKUP($R398,'FO-DRE-01'!$A$7:$U$301,10,FALSE))","v":""},{"$f":"IF($R398=\"\",\"\",VLOOKUP($R398,'FO-DRE-01'!$A$7:$U$301,11,FALSE))","v":""},{"$f":"IF($R398=\"\",\"\",VLOOKUP($R398,'FO-DRE-01'!$A$7:$U$301,12,FALSE))","v":""},{"$f":"IF($R398=\"\",\"\",VLOOKUP($R398,'FO-DRE-01'!$A$7:$U$301,13,FALSE))","v":""},{"$f":"IF($R398=\"\",\"\",VLOOKUP($R398,'FO-DRE-01'!$A$7:$U$301,14,FALSE))","v":""},{"$f":"IF($R398=\"\",\"\",VLOOKUP($R398,'FO-DRE-01'!$A$7:$U$301,15,FALSE))","v":""},{"$f":"IF($S398=\"\",\"\",VLOOKUP($S398,'FO-DRE-04'!$A$6:$L$301,2,FALSE))","v":""},{"$f":"IF($S398=\"\",\"\",VLOOKUP($S398,'FO-DRE-04'!$A$6:$L$301,3,FALSE))","v":""},{"$f":"IF($S398=\"\",\"\",VLOOKUP($S398,'FO-DRE-04'!$A$6:$L$301,4,FALSE))","v":""},{"$f":"IF($S398=\"\",\"\",VLOOKUP($S398,'FO-DRE-04'!$A$6:$L$301,6,FALSE))","v":""},{"$f":"IF($S398=\"\",\"\",VLOOKUP($S398,'FO-DRE-04'!$A$6:$L$301,11,FALSE))","v":""},{"$f":"IF($T398=\"\",\"\",VLOOKUP($T398,'FO-DRE-02'!$A$6:$M$101,2,FALSE))","v":""},{"$f":"IF($T398=\"\",\"\",VLOOKUP($T398,'FO-DRE-02'!$A$6:$M$101,3,FALSE))","v":""},{"$f":"IF($T398=\"\",\"\",VLOOKUP($T398,'FO-DRE-02'!$A$6:$M$101,6,FALSE))","v":""},{"$f":"IF($T398=\"\",\"\",VLOOKUP($T398,'FO-DRE-02'!$A$6:$M$101,4,FALSE))","v":""},{"$f":"IF($T398=\"\",\"\",VLOOKUP($T398,'FO-DRE-02'!$A$6:$M$101,5,FALSE))","v":""},{"$f":"IF($T398=\"\",\"\",VLOOKUP($T398,'FO-DRE-02'!$A$6:$M$101,6,FALSE))","v":""},{"$f":"IF($T398=\"\",\"\",VLOOKUP($T398,'FO-DRE-02'!$A$6:$M$101,6,FALSE))","v":""},{"$f":"IF($T398=\"\",\"\",VLOOKUP($T398,'FO-DRE-02'!$A$6:$M$101,8,FALSE))","v":""},{"$f":"IF($T398=\"\",\"\",VLOOKUP($T398,'FO-DRE-02'!$A$6:$M$101,11,FALSE))","v":""},{"$f":"IF($T398=\"\",\"\",VLOOKUP($T398,'FO-DRE-02'!$A$6:$M$101,12,FALSE))","v":""},{"$f":"IF($T398=\"\",\"\",VLOOKUP($T398,'FO-DRE-02'!$A$6:$M$101,13,FALSE))","v":""},null,null,null,389,{"$f":"IF($R398=\"\",\"\",$R398)","v":""},"F/D","F/D","","","","","","","","","","","","","","",""]
[null,null,null,null,null,null,null,null,"",{"$f":"CONCATENATE(#REF!,\"-\",\"TX\")","v":{"$error":"#REF!"}},{"$f":"CONCATENATE(#REF!,\"-\",\"RX\")","v":{"$error":"#REF!"}},null,null,null,null,0,null,null,null,null,null,{"$f":"IF($R399=\"\",\"\",VLOOKUP($R399,'FO-DRE-01'!$A$7:$U$301,18,FALSE))","v":""},{"$f":"IF($R399=\"\",\"\",VLOOKUP($R399,'FO-DRE-01'!$A$7:$U$301,16,FALSE))","v":""},{"$f":"IF($R399=\"\",\"\",VLOOKUP($R399,'FO-DRE-01'!$A$7:$U$301,17,FALSE))","v":""},{"$f":"IF($R399=\"\",\"\",VLOOKUP($R399,'FO-DRE-01'!$A$7:$U$301,3,FALSE))","v":""},{"$f":"IF($R399=\"\",\"\",VLOOKUP($R399,'FO-DRE-01'!$A$7:$U$301,4,FALSE))","v":""},{"$f":"IF($R399=\"\",\"\",VLOOKUP($R399,'FO-DRE-01'!$A$7:$U$301,5,FALSE))","v":""},{"$f":"IF($R399=\"\",\"\",VLOOKUP($R399,'FO-DRE-01'!$A$7:$U$301,7,FALSE))","v":""},{"$f":"IF($R399=\"\",\"\",VLOOKUP($R399,'FO-DRE-01'!$A$7:$U$301,8,FALSE))","v":""},{"$f":"IF($R399=\"\",\"\",VLOOKUP($R399,'FO-DRE-01'!$A$7:$U$301,9,FALSE))","v":""},{"$f":"IF($R399=\"\",\"\",VLOOKUP($R399,'FO-DRE-01'!$A$7:$U$301,10,FALSE))","v":""},{"$f":"IF($R399=\"\",\"\",VLOOKUP($R399,'FO-DRE-01'!$A$7:$U$301,11,FALSE))","v":""},{"$f":"IF($R399=\"\",\"\",VLOOKUP($R399,'FO-DRE-01'!$A$7:$U$301,12,FALSE))","v":""},{"$f":"IF($R399=\"\",\"\",VLOOKUP($R399,'FO-DRE-01'!$A$7:$U$301,13,FALSE))","v":""},{"$f":"IF($R399=\"\",\"\",VLOOKUP($R399,'FO-DRE-01'!$A$7:$U$301,14,FALSE))","v":""},{"$f":"IF($R399=\"\",\"\",VLOOKUP($R399,'FO-DRE-01'!$A$7:$U$301,15,FALSE))","v":""},{"$f":"IF($S399=\"\",\"\",VLOOKUP($S399,'FO-DRE-04'!$A$6:$L$301,2,FALSE))","v":""},{"$f":"IF($S399=\"\",\"\",VLOOKUP($S399,'FO-DRE-04'!$A$6:$L$301,3,FALSE))","v":""},{"$f":"IF($S399=\"\",\"\",VLOOKUP($S399,'FO-DRE-04'!$A$6:$L$301,4,FALSE))","v":""},{"$f":"IF($S399=\"\",\"\",VLOOKUP($S399,'FO-DRE-04'!$A$6:$L$301,6,FALSE))","v":""},{"$f":"IF($S399=\"\",\"\",VLOOKUP($S399,'FO-DRE-04'!$A$6:$L$301,11,FALSE))","v":""},{"$f":"IF($T399=\"\",\"\",VLOOKUP($T399,'FO-DRE-02'!$A$6:$M$101,2,FALSE))","v":""},{"$f":"IF($T399=\"\",\"\",VLOOKUP($T399,'FO-DRE-02'!$A$6:$M$101,3,FALSE))","v":""},{"$f":"IF($T399=\"\",\"\",VLOOKUP($T399,'FO-DRE-02'!$A$6:$M$101,6,FALSE))","v":""},{"$f":"IF($T399=\"\",\"\",VLOOKUP($T399,'FO-DRE-02'!$A$6:$M$101,4,FALSE))","v":""},{"$f":"IF($T399=\"\",\"\",VLOOKUP($T399,'FO-DRE-02'!$A$6:$M$101,5,FALSE))","v":""},{"$f":"IF($T399=\"\",\"\",VLOOKUP($T399,'FO-DRE-02'!$A$6:$M$101,6,FALSE))","v":""},{"$f":"IF($T399=\"\",\"\",VLOOKUP($T399,'FO-DRE-02'!$A$6:$M$101,6,FALSE))","v":""},{"$f":"IF($T399=\"\",\"\",VLOOKUP($T399,'FO-DRE-02'!$A$6:$M$101,8,FALSE))","v":""},{"$f":"IF($T399=\"\",\"\",VLOOKUP($T399,'FO-DRE-02'!$A$6:$M$101,11,FALSE))","v":""},{"$f":"IF($T399=\"\",\"\",VLOOKUP($T399,'FO-DRE-02'!$A$6:$M$101,12,FALSE))","v":""},{"$f":"IF($T399=\"\",\"\",VLOOKUP($T399,'FO-DRE-02'!$A$6:$M$101,13,FALSE))","v":""},null,null,null,390,"","F/D","F/D","","","","","","","","","","","","","","",""]
[null,null,null,null,null,null,null,null,"",{"$f":"CONCATENATE(#REF!,\"-\",\"TX\")","v":{"$error":"#REF!"}},{"$f":"CONCATENATE(#REF!,\"-\",\"RX\")","v":{"$error":"#REF!"}},null,null,null,null,0,null,null,null,null,null,{"$f":"IF($R400=\"\",\"\",VLOOKUP($R400,'FO-DRE-01'!$A$7:$U$301,18,FALSE))","v":""},{"$f":"IF($R400=\"\",\"\",VLOOKUP($R400,'FO-DRE-01'!$A$7:$U$301,16,FALSE))","v":""},{"$f":"IF($R400=\"\",\"\",VLOOKUP($R400,'FO-DRE-01'!$A$7:$U$301,17,FALSE))","v":""},{"$f":"IF($R400=\"\",\"\",VLOOKUP($R400,'FO-DRE-01'!$A$7:$U$301,3,FALSE))","v":""},{"$f":"IF($R400=\"\",\"\",VLOOKUP($R400,'FO-DRE-01'!$A$7:$U$301,4,FALSE))","v":""},{"$f":"IF($R400=\"\",\"\",VLOOKUP($R400,'FO-DRE-01'!$A$7:$U$301,5,FALSE))","v":""},{"$f":"IF($R400=\"\",\"\",VLOOKUP($R400,'FO-DRE-01'!$A$7:$U$301,7,FALSE))","v":""},{"$f":"IF($R400=\"\",\"\",VLOOKUP($R400,'FO-DRE-01'!$A$7:$U$301,8,FALSE))","v":""},{"$f":"IF($R400=\"\",\"\",VLOOKUP($R400,'FO-DRE-01'!$A$7:$U$301,9,FALSE))","v":""},{"$f":"IF($R400=\"\",\"\",VLOOKUP($R400,'FO-DRE-01'!$A$7:$U$301,10,FALSE))","v":""},{"$f":"IF($R400=\"\",\"\",VLOOKUP($R400,'FO-DRE-01'!$A$7:$U$301,11,FALSE))","v":""},{"$f":"IF($R400=\"\",\"\",VLOOKUP($R400,'FO-DRE-01'!$A$7:$U$301,12,FALSE))","v":""},{"$f":"IF($R400=\"\",\"\",VLOOKUP($R400,'FO-DRE-01'!$A$7:$U$301,13,FALSE))","v":""},{"$f":"IF($R400=\"\",\"\",VLOOKUP($R400,'FO-DRE-01'!$A$7:$U$301,14,FALSE))","v":""},{"$f":"IF($R400=\"\",\"\",VLOOKUP($R400,'FO-DRE-01'!$A$7:$U$301,15,FALSE))","v":""},{"$f":"IF($S400=\"\",\"\",VLOOKUP($S400,'FO-DRE-04'!$A$6:$L$301,2,FALSE))","v":""},{"$f":"IF($S400=\"\",\"\",VLOOKUP($S400,'FO-DRE-04'!$A$6:$L$301,3,FALSE))","v":""},{"$f":"IF($S400=\"\",\"\",VLOOKUP($S400,'FO-DRE-04'!$A$6:$L$301,4,FALSE))","v":""},{"$f":"IF($S400=\"\",\"\",VLOOKUP($S400,'FO-DRE-04'!$A$6:$L$301,6,FALSE))","v":""},{"$f":"IF($S400=\"\",\"\",VLOOKUP($S400,'FO-DRE-04'!$A$6:$L$301,11,FALSE))","v":""},{"$f":"IF($T400=\"\",\"\",VLOOKUP($T400,'FO-DRE-02'!$A$6:$M$101,2,FALSE))","v":""},{"$f":"IF($T400=\"\",\"\",VLOOKUP($T400,'FO-DRE-02'!$A$6:$M$101,3,FALSE))","v":""},{"$f":"IF($T400=\"\",\"\",VLOOKUP($T400,'FO-DRE-02'!$A$6:$M$101,6,FALSE))","v":""},{"$f":"IF($T400=\"\",\"\",VLOOKUP($T400,'FO-DRE-02'!$A$6:$M$101,4,FALSE))","v":""},{"$f":"IF($T400=\"\",\"\",VLOOKUP($T400,'FO-DRE-02'!$A$6:$M$101,5,FALSE))","v":""},{"$f":"IF($T400=\"\",\"\",VLOOKUP($T400,'FO-DRE-02'!$A$6:$M$101,6,FALSE))","v":""},{"$f":"IF($T400=\"\",\"\",VLOOKUP($T400,'FO-DRE-02'!$A$6:$M$101,6,FALSE))","v":""},{"$f":"IF($T400=\"\",\"\",VLOOKUP($T400,'FO-DRE-02'!$A$6:$M$101,8,FALSE))","v":""},{"$f":"IF($T400=\"\",\"\",VLOOKUP($T400,'FO-DRE-02'!$A$6:$M$101,11,FALSE))","v":""},{"$f":"IF($T400=\"\",\"\",VLOOKUP($T400,'FO-DRE-02'!$A$6:$M$101,12,FALSE))","v":""},{"$f":"IF($T400=\"\",\"\",VLOOKUP($T400,'FO-DRE-02'!$A$6:$M$101,13,FALSE))","v":""},null,null,null,391,"","F/D","F/D","","","","","","","","","","","","","","",""]

{"sheet":"FO-DRE-15","index":7,"n_rows":59,"n_cols":29,"rows_kept":59,"cut":false,"hidden":false,"merged":[[53,1,53,13],[53,16,53,28],[52,1,52,13],[52,16,52,28],[51,1,51,13],[51,16,51,28],[0,26,2,28],[3,1,3,4],[3,5,3,13],[3,16,3,19],[3,20,3,28],[4,1,4,13],[4,16,4,28],[5,1,5,13],[5,16,5,28],[19,1,19,13],[19,16,19,28],[20,1,20,13],[20,16,20,28],[24,1,25,13],[24,16,25,28],[26,1,26,6],[26,7,26,13],[26,16,26,21],[26,22,26,28],[21,16,21,28],[33,20,33,28],[34,1,34,13],[34,16,34,28],[27,7,27,13],[27,22,27,28],[30,1,31,1],[30,2,32,10],[30,11,32,13],[30,16,31,16],[30,17,32,25],[30,26,32,28],[33,1,33,4],[33,5,33,13],[33,16,33,19],[59,7,59,13],[59,22,59,28],[21,1,21,13],[0,1,1,1],[0,11,2,13],[0,2,2,10],[0,16,1,16],[0,17,2,25],[56,1,57,13],[56,16,57,28],[58,1,58,6],[58,7,58,13],[58,16,58,21],[58,22,58,28],[35,1,35,13],[35,16,35,28]]}
[null,"Código: FO-DRE-15\nVersión: 01 ","FORMULARIO  PARA CALCULOS DE PROPAGACION",null,null,null,null,null,null,null,null,null,null,null,null,null,"Código: FO-DRE-15\nVersión: 01 ","FORMULARIO  PARA CALCULOS DE PROPAGACION"]
[]
[null,"1) Cod. Cont:\n",null,null,null,null,null,null,null,null,null,null,null,null,null,null,"1) Cod. Cont:\n"]
[null,"2) No. CIRCUITO/RADIOBASE:",null,null,null,null,null,null,null,null,null,null,null,null,null,null,"2) No. CIRCUITO/RADIOBASE:"]
[null,"3) AREA DE COBERTURA",null,null,null,null,null,null,null,null,null,null,null,null,null,null,"3) AREA DE COBERTURA"]
[null,"NIVEL DE CAMPO ELECTRICO (dBV/m)",null,null,null,null,null,null,null,null,null,null,null,null,null,null,"NIVEL DE CAMPO ELECTRICO (dBV/m)"]
[null,"….…….....RADIALES\n\nDISTANCIA (Km)","0°","30°","60°","90°","120°","150°","180°","210°","240°","270°","300°","330°",null,null,"………...RADIALES\n\nDISTANCIA (Km)","0°","30°","60°","90°","120°","150°","180°","210°","240°","270°","300°","330°"]
[null,5,null,null,null,null,null,null,null,null,null,null,null,null,null,null,5]
[null,10,null,null,null,null,null,null,null,null,null,null,null,null,null,null,10]
[null,15,null,null,null,null,null,null,null,null,null,null,null,null,null,null,15]
[null,20,null,null,null,null,null,null,null,null,null,null,null,null,null,null,20]
[null,25,null,null,null,null,null,null,null,null,null,null,null,null,null,null,25]
[null,30,null,null,null,null,null,null,null,null,null,null,null,null,null,null,30]
[null,35,null,null,null,null,null,null,null,null,null,null,null,null,null,null,35]
[null,40,null,null,null,null,null,null,null,null,null,null,null,null,null,null,40]
[null,45,null,null,null,null,null,null,null,null,null,null,null,null,null,null,45]
[null,50,null,null,null,null,null,null,null,null,null,null,null,null,null,null,50]
[null,55,null,null,null,null,null,null,null,null,null,null,null,null,null,null,55]
[null,60,null,null,null,null,null,null,null,null,null,null,null,null,null,null,60]
[null,"NOTA:  La escala de distancia de esta tabla puede ser modificada de acuerdo al radio de cobertura.  Debe presentarse el diagrama de cobertura en una copia de un mapa cartográfico de escala adecuada.",null,null,null,null,null,null,null,null,null,null,null,null,null,null,"NOTA:  La escala de distancia de esta tabla puede ser modificada de acuerdo al radio de cobertura.  Debe presentarse el diagrama de cobertura en una copia de un mapa cartográfico de escala adecuada."]
[null,"4) RADIO DE COBERTURA",null,null,null,null,null,null,null,null,null,null,null,null,null,null,"4) RADIO DE COBERTURA"]
[null,"DISTANCIA (Km)",null,null,null,null,null,null,null,null,null,null,null,null,null,null,"DISTANCIA (Km)"]
[null,"….…….....RADIALES\n\nDISTANCIA (Km)","0°","30°","60°","90°","120°","150°","180°","210°","240°","270°","300°","330°",null,null,"………...RADIALES\n\nDISTANCIA (Km)","0°","30°","60°","90°","120°","150°","180°","210°","240°","270°","300°","330°"]
[null,"E = 38.5 dBµV/U",5,6,18,20,14,25,5,6,8,15,32,33,null,null,"E = 38.5 dBµV/U"]
[null,"NOTA:  La escala de distancia de esta tabla puede ser modificada de acuerdo al radio de cobertura.  Debe presentarse el diagrama de cobertura en una copia de un mapa cartográfico de escala adecuada",null,null,null,null,null,null,null,null,null,null,null,null,null,null,"NOTA:  La escala de distancia de esta tabla puede ser modificada de acuerdo al radio de cobertura.  Debe presentarse el diagrama de cobertura en una copia de un mapa cartográfico de escala adecuada"]
[]
[null,"DIAGRAMA DEL AEREA DE COBERTURA",null,null,null,null,null,"5) ESQUEMA DEL CIRCUITO",null,null,null,null,null,null,null,null,"DIAGRAMA DEL AEREA DE COBERTURA",null,null,null,null,null,"5) ESQUEMA DEL CIRCUITO"]
[]
[]
[]
[null,"Código: FO-DRE-15\nVersión: 01 ","FORMULARIO  PARA CALCULOS DE PROPAGACION",null,null,null,null,null,null,null,null,null,null,null,null,null,"Código: FO-DRE-15\nVersión: 01 ","FORMULARIO  PARA CALCULOS DE PROPAGACION"]
[]
[null,"1) Cod. Cont:\n",null,null,null,null,null,null,null,null,null,null,null,null,null,null,"1) Cod. Cont:\n"]
[null,"2) No. CIRCUITO/RADIOBASE:",null,null,null,null,null,null,null,null,null,null,null,null,null,null,"2) No. CIRCUITO/RADIOBASE:"]
[null,"3) AREA DE COBERTURA",null,null,null,null,null,null,null,null,null,null,null,null,null,null,"3) AREA DE COBERTURA"]
[null,"NIVEL DE CAMPO ELECTRICO (dBV/m)",null,null,null,null,null,null,null,null,null,null,null,null,null,null,"NIVEL DE CAMPO ELECTRICO (dBV/m)"]
[null,"………...RADIALES\n\nDISTANCIA (Km)","0°","30°","60°","90°","120°","150°","180°","210°","240°","270°","300°","330°",null,null,"………...RADIALES\n\nDISTANCIA (Km)","0°","30°","60°","90°","120°","150°","180°","210°","240°","270°","300°","330°"]
[null,5,null,null,null,null,null,null,null,null,null,null,null,null,null,null,5]
[null,10,null,null,null,null,null,null,null,null,null,null,null,null,null,null,10]
[null,15,null,null,null,null,null,null,null,null,null,null,null,null,null,null,15]
[null,20,null,null,null,null,null,null,null,null,null,null,null,null,null,null,20]
[null,25,null,null,null,null,null,null,null,null,null,null,null,null,null,null,25]
[null,30,null,null,null,null,null,null,null,null,null,null,null,null,null,null,30]
[null,35,null,null,null,null,null,null,null,null,null,null,null,null,null,null,35]
[null,40,null,null,null,null,null,null,null,null,null,null,null,null,null,null,40]
[null,45,null,null,null,null,null,null,null,null,null,null,null,null,null,null,45]
[null,50,null,null,null,null,null,null,null,null,null,null,null,null,null,null,50]
[null,55,null,null,null,null,null,null,null,null,null,null,null,null,null,null,55]
[null,60,null,null,null,null,null,null,null,null,null,null,null,null,null,null,60]
[null,65,null,null,null,null,null,null,null,null,null,null,null,null,null,null,65]
[null,70,null,null,null,null,null,null,null,null,null,null,null,null,null,null,70]
[null,"NOTA:  La escala de distancia de esta tabla puede ser modificada de acuerdo al radio de cobertura.  Debe presentarse el diagrama de cobertura en una copia de un mapa cartográfico de escala adecuada.",null,null,null,null,null,null,null,null,null,null,null,null,null,null,"NOTA:  La escala de distancia de esta tabla puede ser modificada de acuerdo al radio de cobertura.  Debe presentarse el diagrama de cobertura en una copia de un mapa cartográfico de escala adecuada."]
[null,"4) RADIO DE COBERTURA",null,null,null,null,null,null,null,null,null,null,null,null,null,null,"4) RADIO DE COBERTURA"]
[null,"DISTANCIA (Km)",null,null,null,null,null,null,null,null,null,null,null,null,null,null,"DISTANCIA (Km)"]
[null,"………...RADIALES\nCAMPO\nELECTRICO","0°","30°","60°","90°","120°","150°","180°","210°","240°","270°","300°","330°",null,null,"………...RADIALES\n\nDISTANCIA (Km)","0°","30°","60°","90°","120°","150°",null,"210°","240°","270°","300°","330°"]
[null,"E = 38.5 dBµV/U",25,27,27,28,29,35,29,28,15,12,9,5,null,null,"E = 38.5 dBµV/U",5,2,1,3]
[null,"NOTA:  La escala de distancia de esta tabla puede ser modificada de acuerdo al radio de cobertura.  Debe presentarse el diagrama de cobertura en una copia de un mapa cartográfico de escala adecuada",null,null,null,null,null,null,null,null,null,null,null,null,null,null,"NOTA:  La escala de distancia de esta tabla puede ser modificada de acuerdo al radio de cobertura.  Debe presentarse el diagrama de cobertura en una copia de un mapa cartográfico de escala adecuada"]
[]
[null,"DIAGRAMA DEL AEREA DE COBERTURA",null,null,null,null,null,"5) ESQUEMA DEL CIRCUITO",null,null,null,null,null,null,null,null,"DIAGRAMA DEL AEREA DE COBERTURA",null,null,null,null,null,"5) ESQUEMA DEL CIRCUITO"]

{"sheet":"FO-DRE-16","index":8,"n_rows":346,"n_cols":19,"rows_kept":346,"cut":false,"hidden":false,"merged":[[0,3,2,12],[0,0,2,2],[3,0,3,2],[3,3,3,12],[4,0,8,0],[4,1,8,1],[4,2,7,2],[4,3,7,3],[4,4,5,15],[400,4,400,12],[401,4,402,12],[3,13,3,14],[4,16,5,18],[6,4,7,5],[6,6,7,10],[6,11,7,13],[6,14,6,18],[7,14,7,18]]}
["Código: FO-DRE-16\nVersión: 01 ",null,null,"FORMULARIO  PARA ESTUDIO  TECNICO DE EMISIONES DE RNI\n(CALCULO DE LA DISTANCIA DE SEGURIDAD)\nRESOLUCION 01-01-CONATEL-2005"]
[]
[]
["NOMBRE DE LA EMPRESA:",null,null,null,null,null,null,null,null,null,null,null,null,"1) Cod. Cont:"]
["\nNo","CODIGO DE ESTRUCTURA \nASOCIADA","SOBREPASA LÍMITES POBLACIONAL","SOBREPASA LÍMITES OCUPACIONAL","ESTACION REPETIDORA / FIJA ",null,null,null,null,null,null,null,null,null,null,null,"2016-05-11"]
[]
[null,null,null,null,"Slím A CONSIDERAR",null,"CALCULO DE R2",null,null,null,null,"CÁLCULO DEL PIRE",null,null,"Slím TEÓRICO (W/m2)"]
[null,null,null,null,null,null,null,null,null,null,null,null,null,null,"Distancia (m)"]
[null,null,"Estación de Rx","Estación de Rx","Slím OCUPACIONAL (W/m2)","Slím POBLACIONAL (W/m2)",2,5,10,20,50,"Pmax (W)","Gmax","PIRE (W)",2,5,10,20,50]
[{"$f":"'FO-DRE-12'!BD10","v":1},{"$f":"'FO-DRE-12'!BE10","v":"S1"},{"$f":"'FO-DRE-12'!BF10","v":""},{"$f":"'FO-DRE-12'!BG10","v":"SI"},{"$f":"'FO-DRE-12'!BH10","v":21.725000000000001},{"$f":"'FO-DRE-12'!BI10","v":4.3449999999999998},{"$f":"'FO-DRE-12'!BJ10","v":4.0311288741492746},{"$f":"'FO-DRE-12'!BK10","v":6.103277807866851},{"$f":"'FO-DRE-12'!BL10","v":10.594810050208546},{"$f":"'FO-DRE-12'!BM10","v":20.303940504246953},{"$f":"'FO-DRE-12'!BN10","v":50.122350304031038},{"$f":"'FO-DRE-12'!BO10","v":45},{"$f":"'FO-DRE-12'!BP10","v":16.405897731995399},{"$f":"'FO-DRE-12'!BQ10","v":738.26539793979293},{"$f":"'FO-DRE-12'!BR10","v":14.46136460256286},{"$f":"'FO-DRE-12'!BS10","v":6.3086489876952072},{"$f":"'FO-DRE-12'!BT10","v":2.0935160337785872},{"$f":"'FO-DRE-12'!BU10","v":0.57003559682631033},{"$f":"'FO-DRE-12'!BV10","v":9.3540521361984832E-2}]
[{"$f":"'FO-DRE-12'!BD11","v":2},{"$f":"'FO-DRE-12'!BE11","v":"S2"},{"$f":"'FO-DRE-12'!BF11","v":""},{"$f":"'FO-DRE-12'!BG11","v":""},{"$f":"'FO-DRE-12'!BH11","v":21.4},{"$f":"'FO-DRE-12'!BI11","v":4.28},{"$f":"'FO-DRE-12'!BJ11","v":10.688779163215974},{"$f":"'FO-DRE-12'!BK11","v":11.629703349613008},{"$f":"'FO-DRE-12'!BL11","v":14.5},{"$f":"'FO-DRE-12'!BM11","v":22.588713996153036},{"$f":"'FO-DRE-12'!BN11","v":51.090605790105876},{"$f":"'FO-DRE-12'!BO11","v":40},{"$f":"'FO-DRE-12'!BP11","v":6.5313055264747248},{"$f":"'FO-DRE-12'!BQ11","v":261.25222105898899},{"$f":"'FO-DRE-12'!BR11","v":0.72787015098949082},{"$f":"'FO-DRE-12'!BS11","v":0.61485519224066021},{"$f":"'FO-DRE-12'!BT11","v":0.39552515933673871},{"$f":"'FO-DRE-12'!BU11","v":0.16297729495453073},{"$f":"'FO-DRE-12'!BV11","v":3.1858697347207858E-2}]
[{"$f":"'FO-DRE-12'!BD12","v":3},{"$f":"'FO-DRE-12'!BE12","v":"S3"},{"$f":"'FO-DRE-12'!BF12","v":"SI"},{"$f":"'FO-DRE-12'!BG12","v":"SI"},{"$f":"'FO-DRE-12'!BH12","v":21.725000000000001},{"$f":"'FO-DRE-12'!BI12","v":4.3449999999999998},{"$f":"'FO-DRE-12'!BJ12","v":4.0311288741492746},{"$f":"'FO-DRE-12'!BK12","v":6.103277807866851},{"$f":"'FO-DRE-12'!BL12","v":10.594810050208546},{"$f":"'FO-DRE-12'!BM12","v":20.303940504246953},{"$f":"'FO-DRE-12'!BN12","v":50.122350304031038},{"$f":"'FO-DRE-12'!BO12","v":75},{"$f":"'FO-DRE-12'!BP12","v":16.405897731995399},{"$f":"'FO-DRE-12'!BQ12","v":1230.4423298996549},{"$f":"'FO-DRE-12'!BR12","v":24.102274337604765},{"$f":"'FO-DRE-12'!BS12","v":10.514414979492011},{"$f":"'FO-DRE-12'!BT12","v":3.4891933896309784},{"$f":"'FO-DRE-12'!BU12","v":0.95005932804385052},{"$f":"'FO-DRE-12'!BV12","v":0.15590086893664137}]
[{"$f":"'FO-DRE-12'!BD13","v":4},{"$f":"'FO-DRE-12'!BE13","v":""},{"$f":"'FO-DRE-12'!BF13","v":"F/D"},{"$f":"'FO-DRE-12'!BG13","v":"F/D"},{"$f":"'FO-DRE-12'!BH13","v":""},{"$f":"'FO-DRE-12'!BI13","v":""},{"$f":"'FO-DRE-12'!BJ13","v":""},{"$f":"'FO-DRE-12'!BK13","v":""},{"$f":"'FO-DRE-12'!BL13","v":""},{"$f":"'FO-DRE-12'!BM13","v":""},{"$f":"'FO-DRE-12'!BN13","v":""},{"$f":"'FO-DRE-12'!BO13","v":""},{"$f":"'FO-DRE-12'!BP13","v":""},{"$f":"'FO-DRE-12'!BQ13","v":""},{"$f":"'FO-DRE-12'!BR13","v":""},{"$f":"'FO-DRE-12'!BS13","v":""},{"$f":"'FO-DRE-12'!BT13","v":""},{"$f":"'FO-DRE-12'!BU13","v":""},{"$f":"'FO-DRE-12'!BV13","v":""}]
[{"$f":"'FO-DRE-12'!BD14","v":5},{"$f":"'FO-DRE-12'!BE14","v":""},{"$f":"'FO-DRE-12'!BF14","v":"F/D"},{"$f":"'FO-DRE-12'!BG14","v":"F/D"},{"$f":"'FO-DRE-12'!BH14","v":""},{"$f":"'FO-DRE-12'!BI14","v":""},{"$f":"'FO-DRE-12'!BJ14","v":""},{"$f":"'FO-DRE-12'!BK14","v":""},{"$f":"'FO-DRE-12'!BL14","v":""},{"$f":"'FO-DRE-12'!BM14","v":""},{"$f":"'FO-DRE-12'!BN14","v":""},{"$f":"'FO-DRE-12'!BO14","v":""},{"$f":"'FO-DRE-12'!BP14","v":""},{"$f":"'FO-DRE-12'!BQ14","v":""},{"$f":"'FO-DRE-12'!BR14","v":""},{"$f":"'FO-DRE-12'!BS14","v":""},{"$f":"'FO-DRE-12'!BT14","v":""},{"$f":"'FO-DRE-12'!BU14","v":""},{"$f":"'FO-DRE-12'!BV14","v":""}]
[{"$f":"'FO-DRE-12'!BD15","v":6},{"$f":"'FO-DRE-12'!BE15","v":""},{"$f":"'FO-DRE-12'!BF15","v":"F/D"},{"$f":"'FO-DRE-12'!BG15","v":"F/D"},{"$f":"'FO-DRE-12'!BH15","v":""},{"$f":"'FO-DRE-12'!BI15","v":""},{"$f":"'FO-DRE-12'!BJ15","v":""},{"$f":"'FO-DRE-12'!BK15","v":""},{"$f":"'FO-DRE-12'!BL15","v":""},{"$f":"'FO-DRE-12'!BM15","v":""},{"$f":"'FO-DRE-12'!BN15","v":""},{"$f":"'FO-DRE-12'!BO15","v":""},{"$f":"'FO-DRE-12'!BP15","v":""},{"$f":"'FO-DRE-12'!BQ15","v":""},{"$f":"'FO-DRE-12'!BR15","v":""},{"$f":"'FO-DRE-12'!BS15","v":""},{"$f":"'FO-DRE-12'!BT15","v":""},{"$f":"'FO-DRE-12'!BU15","v":""},{"$f":"'FO-DRE-12'!BV15","v":""}]
[{"$f":"'FO-DRE-12'!BD16","v":7},{"$f":"'FO-DRE-12'!BE16","v":""},{"$f":"'FO-DRE-12'!BF16","v":"F/D"},{"$f":"'FO-DRE-12'!BG16","v":"F/D"},{"$f":"'FO-DRE-12'!BH16","v":""},{"$f":"'FO-DRE-12'!BI16","v":""},{"$f":"'FO-DRE-12'!BJ16","v":""},{"$f":"'FO-DRE-12'!BK16","v":""},{"$f":"'FO-DRE-12'!BL16","v":""},{"$f":"'FO-DRE-12'!BM16","v":""},{"$f":"'FO-DRE-12'!BN16","v":""},{"$f":"'FO-DRE-12'!BO16","v":""},{"$f":"'FO-DRE-12'!BP16","v":""},{"$f":"'FO-DRE-12'!BQ16","v":""},{"$f":"'FO-DRE-12'!BR16","v":""},{"$f":"'FO-DRE-12'!BS16","v":""},{"$f":"'FO-DRE-12'!BT16","v":""},{"$f":"'FO-DRE-12'!BU16","v":""},{"$f":"'FO-DRE-12'!BV16","v":""}]
[{"$f":"'FO-DRE-12'!BD17","v":8},{"$f":"'FO-DRE-12'!BE17","v":""},{"$f":"'FO-DRE-12'!BF17","v":"F/D"},{"$f":"'FO-DRE-12'!BG17","v":"F/D"},{"$f":"'FO-DRE-12'!BH17","v":""},{"$f":"'FO-DRE-12'!BI17","v":""},{"$f":"'FO-DRE-12'!BJ17","v":""},{"$f":"'FO-DRE-12'!BK17","v":""},{"$f":"'FO-DRE-12'!BL17","v":""},{"$f":"'FO-DRE-12'!BM17","v":""},{"$f":"'FO-DRE-12'!BN17","v":""},{"$f":"'FO-DRE-12'!BO17","v":""},{"$f":"'FO-DRE-12'!BP17","v":""},{"$f":"'FO-DRE-12'!BQ17","v":""},{"$f":"'FO-DRE-12'!BR17","v":""},{"$f":"'FO-DRE-12'!BS17","v":""},{"$f":"'FO-DRE-12'!BT17","v":""},{"$f":"'FO-DRE-12'!BU17","v":""},{"$f":"'FO-DRE-12'!BV17","v":""}]
[{"$f":"'FO-DRE-12'!BD18","v":9},{"$f":"'FO-DRE-12'!BE18","v":""},{"$f":"'FO-DRE-12'!BF18","v":"F/D"},{"$f":"'FO-DRE-12'!BG18","v":"F/D"},{"$f":"'FO-DRE-12'!BH18","v":""},{"$f":"'FO-DRE-12'!BI18","v":""},{"$f":"'FO-DRE-12'!BJ18","v":""},{"$f":"'FO-DRE-12'!BK18","v":""},{"$f":"'FO-DRE-12'!BL18","v":""},{"$f":"'FO-DRE-12'!BM18","v":""},{"$f":"'FO-DRE-12'!BN18","v":""},{"$f":"'FO-DRE-12'!BO18","v":""},{"$f":"'FO-DRE-12'!BP18","v":""},{"$f":"'FO-DRE-12'!BQ18","v":""},{"$f":"'FO-DRE-12'!BR18","v":""},{"$f":"'FO-DRE-12'!BS18","v":""},{"$f":"'FO-DRE-12'!BT18","v":""},{"$f":"'FO-DRE-12'!BU18","v":""},{"$f":"'FO-DRE-12'!BV18","v":""}]
[{"$f":"'FO-DRE-12'!BD19","v":10},{"$f":"'FO-DRE-12'!BE19","v":""},{"$f":"'FO-DRE-12'!BF19","v":"F/D"},{"$f":"'FO-DRE-12'!BG19","v":"F/D"},{"$f":"'FO-DRE-12'!BH19","v":""},{"$f":"'FO-DRE-12'!BI19","v":""},{"$f":"'FO-DRE-12'!BJ19","v":""},{"$f":"'FO-DRE-12'!BK19","v":""},{"$f":"'FO-DRE-12'!BL19","v":""},{"$f":"'FO-DRE-12'!BM19","v":""},{"$f":"'FO-DRE-12'!BN19","v":""},{"$f":"'FO-DRE-12'!BO19","v":""},{"$f":"'FO-DRE-12'!BP19","v":""},{"$f":"'FO-DRE-12'!BQ19","v":""},{"$f":"'FO-DRE-12'!BR19","v":""},{"$f":"'FO-DRE-12'!BS19","v":""},{"$f":"'FO-DRE-12'!BT19","v":""},{"$f":"'FO-DRE-12'!BU19","v":""},{"$f":"'FO-DRE-12'!BV19","v":""}]
[{"$f":"'FO-DRE-12'!BD20","v":11},{"$f":"'FO-DRE-12'!BE20","v":""},{"$f":"'FO-DRE-12'!BF20","v":"F/D"},{"$f":"'FO-DRE-12'!BG20","v":"F/D"},{"$f":"'FO-DRE-12'!BH20","v":""},{"$f":"'FO-DRE-12'!BI20","v":""},{"$f":"'FO-DRE-12'!BJ20","v":""},{"$f":"'FO-DRE-12'!BK20","v":""},{"$f":"'FO-DRE-12'!BL20","v":""},{"$f":"'FO-DRE-12'!BM20","v":""},{"$f":"'FO-DRE-12'!BN20","v":""},{"$f":"'FO-DRE-12'!BO20","v":""},{"$f":"'FO-DRE-12'!BP20","v":""},{"$f":"'FO-DRE-12'!BQ20","v":""},{"$f":"'FO-DRE-12'!BR20","v":""},{"$f":"'FO-DRE-12'!BS20","v":""},{"$f":"'FO-DRE-12'!BT20","v":""},{"$f":"'FO-DRE-12'!BU20","v":""},{"$f":"'FO-DRE-12'!BV20","v":""}]
[{"$f":"'FO-DRE-12'!BD21","v":12},{"$f":"'FO-DRE-12'!BE21","v":""},{"$f":"'FO-DRE-12'!BF21","v":"F/D"},{"$f":"'FO-DRE-12'!BG21","v":"F/D"},{"$f":"'FO-DRE-12'!BH21","v":""},{"$f":"'FO-DRE-12'!BI21","v":""},{"$f":"'FO-DRE-12'!BJ21","v":""},{"$f":"'FO-DRE-12'!BK21","v":""},{"$f":"'FO-DRE-12'!BL21","v":""},{"$f":"'FO-DRE-12'!BM21","v":""},{"$f":"'FO-DRE-12'!BN21","v":""},{"$f":"'FO-DRE-12'!BO21","v":""},{"$f":"'FO-DRE-12'!BP21","v":""},{"$f":"'FO-DRE-12'!BQ21","v":""},{"$f":"'FO-DRE-12'!BR21","v":""},{"$f":"'FO-DRE-12'!BS21","v":""},{"$f":"'FO-DRE-12'!BT21","v":""},{"$f":"'FO-DRE-12'!BU21","v":""},{"$f":"'FO-DRE-12'!BV21","v":""}]
[{"$f":"'FO-DRE-12'!BD22","v":13},{"$f":"'FO-DRE-12'!BE22","v":""},{"$f":"'FO-DRE-12'!BF22","v":"F/D"},{"$f":"'FO-DRE-12'!BG22","v":"F/D"},{"$f":"'FO-DRE-12'!BH22","v":""},{"$f":"'FO-DRE-12'!BI22","v":""},{"$f":"'FO-DRE-12'!BJ22","v":""},{"$f":"'FO-DRE-12'!BK22","v":""},{"$f":"'FO-DRE-12'!BL22","v":""},{"$f":"'FO-DRE-12'!BM22","v":""},{"$f":"'FO-DRE-12'!BN22","v":""},{"$f":"'FO-DRE-12'!BO22","v":""},{"$f":"'FO-DRE-12'!BP22","v":""},{"$f":"'FO-DRE-12'!BQ22","v":""},{"$f":"'FO-DRE-12'!BR22","v":""},{"$f":"'FO-DRE-12'!BS22","v":""},{"$f":"'FO-DRE-12'!BT22","v":""},{"$f":"'FO-DRE-12'!BU22","v":""},{"$f":"'FO-DRE-12'!BV22","v":""}]
[{"$f":"'FO-DRE-12'!BD23","v":14},{"$f":"'FO-DRE-12'!BE23","v":""},{"$f":"'FO-DRE-12'!BF23","v":"F/D"},{"$f":"'FO-DRE-12'!BG23","v":"F/D"},{"$f":"'FO-DRE-12'!BH23","v":""},{"$f":"'FO-DRE-12'!BI23","v":""},{"$f":"'FO-DRE-12'!BJ23","v":""},{"$f":"'FO-DRE-12'!BK23","v":""},{"$f":"'FO-DRE-12'!BL23","v":""},{"$f":"'FO-DRE-12'!BM23","v":""},{"$f":"'FO-DRE-12'!BN23","v":""},{"$f":"'FO-DRE-12'!BO23","v":""},{"$f":"'FO-DRE-12'!BP23","v":""},{"$f":"'FO-DRE-12'!BQ23","v":""},{"$f":"'FO-DRE-12'!BR23","v":""},{"$f":"'FO-DRE-12'!BS23","v":""},{"$f":"'FO-DRE-12'!BT23","v":""},{"$f":"'FO-DRE-12'!BU23","v":""},{"$f":"'FO-DRE-12'!BV23","v":""}]
[{"$f":"'FO-DRE-12'!BD24","v":15},{"$f":"'FO-DRE-12'!BE24","v":""},{"$f":"'FO-DRE-12'!BF24","v":"F/D"},{"$f":"'FO-DRE-12'!BG24","v":"F/D"},{"$f":"'FO-DRE-12'!BH24","v":""},{"$f":"'FO-DRE-12'!BI24","v":""},{"$f":"'FO-DRE-12'!BJ24","v":""},{"$f":"'FO-DRE-12'!BK24","v":""},{"$f":"'FO-DRE-12'!BL24","v":""},{"$f":"'FO-DRE-12'!BM24","v":""},{"$f":"'FO-DRE-12'!BN24","v":""},{"$f":"'FO-DRE-12'!BO24","v":""},{"$f":"'FO-DRE-12'!BP24","v":""},{"$f":"'FO-DRE-12'!BQ24","v":""},{"$f":"'FO-DRE-12'!BR24","v":""},{"$f":"'FO-DRE-12'!BS24","v":""},{"$f":"'FO-DRE-12'!BT24","v":""},{"$f":"'FO-DRE-12'!BU24","v":""},{"$f":"'FO-DRE-12'!BV24","v":""}]
[{"$f":"'FO-DRE-12'!BD25","v":16},{"$f":"'FO-DRE-12'!BE25","v":""},{"$f":"'FO-DRE-12'!BF25","v":"F/D"},{"$f":"'FO-DRE-12'!BG25","v":"F/D"},{"$f":"'FO-DRE-12'!BH25","v":""},{"$f":"'FO-DRE-12'!BI25","v":""},{"$f":"'FO-DRE-12'!BJ25","v":""},{"$f":"'FO-DRE-12'!BK25","v":""},{"$f":"'FO-DRE-12'!BL25","v":""},{"$f":"'FO-DRE-12'!BM25","v":""},{"$f":"'FO-DRE-12'!BN25","v":""},{"$f":"'FO-DRE-12'!BO25","v":""},{"$f":"'FO-DRE-12'!BP25","v":""},{"$f":"'FO-DRE-12'!BQ25","v":""},{"$f":"'FO-DRE-12'!BR25","v":""},{"$f":"'FO-DRE-12'!BS25","v":""},{"$f":"'FO-DRE-12'!BT25","v":""},{"$f":"'FO-DRE-12'!BU25","v":""},{"$f":"'FO-DRE-12'!BV25","v":""}]
[{"$f":"'FO-DRE-12'!BD26","v":17},{"$f":"'FO-DRE-12'!BE26","v":""},{"$f":"'FO-DRE-12'!BF26","v":"F/D"},{"$f":"'FO-DRE-12'!BG26","v":"F/D"},{"$f":"'FO-DRE-12'!BH26","v":""},{"$f":"'FO-DRE-12'!BI26","v":""},{"$f":"'FO-DRE-12'!BJ26","v":""},{"$f":"'FO-DRE-12'!BK26","v":""},{"$f":"'FO-DRE-12'!BL26","v":""},{"$f":"'FO-DRE-12'!BM26","v":""},{"$f":"'FO-DRE-12'!BN26","v":""},{"$f":"'FO-DRE-12'!BO26","v":""},{"$f":"'FO-DRE-12'!BP26","v":""},{"$f":"'FO-DRE-12'!BQ26","v":""},{"$f":"'FO-DRE-12'!BR26","v":""},{"$f":"'FO-DRE-12'!BS26","v":""},{"$f":"'FO-DRE-12'!BT26","v":""},{"$f":"'FO-DRE-12'!BU26","v":""},{"$f":"'FO-DRE-12'!BV26","v":""}]
[{"$f":"'FO-DRE-12'!BD27","v":18},{"$f":"'FO-DRE-12'!BE27","v":""},{"$f":"'FO-DRE-12'!BF27","v":"F/D"},{"$f":"'FO-DRE-12'!BG27","v":"F/D"},{"$f":"'FO-DRE-12'!BH27","v":""},{"$f":"'FO-DRE-12'!BI27","v":""},{"$f":"'FO-DRE-12'!BJ27","v":""},{"$f":"'FO-DRE-12'!BK27","v":""},{"$f":"'FO-DRE-12'!BL27","v":""},{"$f":"'FO-DRE-12'!BM27","v":""},{"$f":"'FO-DRE-12'!BN27","v":""},{"$f":"'FO-DRE-12'!BO27","v":""},{"$f":"'FO-DRE-12'!BP27","v":""},{"$f":"'FO-DRE-12'!BQ27","v":""},{"$f":"'FO-DRE-12'!BR27","v":""},{"$f":"'FO-DRE-12'!BS27","v":""},{"$f":"'FO-DRE-12'!BT27","v":""},{"$f":"'FO-DRE-12'!BU27","v":""},{"$f":"'FO-DRE-12'!BV27","v":""}]
[{"$f":"'FO-DRE-12'!BD28","v":19},{"$f":"'FO-DRE-12'!BE28","v":""},{"$f":"'FO-DRE-12'!BF28","v":"F/D"},{"$f":"'FO-DRE-12'!BG28","v":"F/D"},{"$f":"'FO-DRE-12'!BH28","v":""},{"$f":"'FO-DRE-12'!BI28","v":""},{"$f":"'FO-DRE-12'!BJ28","v":""},{"$f":"'FO-DRE-12'!BK28","v":""},{"$f":"'FO-DRE-12'!BL28","v":""},{"$f":"'FO-DRE-12'!BM28","v":""},{"$f":"'FO-DRE-12'!BN28","v":""},{"$f":"'FO-DRE-12'!BO28","v":""},{"$f":"'FO-DRE-12'!BP28","v":""},{"$f":"'FO-DRE-12'!BQ28","v":""},{"$f":"'FO-DRE-12'!BR28","v":""},{"$f":"'FO-DRE-12'!BS28","v":""},{"$f":"'FO-DRE-12'!BT28","v":""},{"$f":"'FO-DRE-12'!BU28","v":""},{"$f":"'FO-DRE-12'!BV28","v":""}]
[{"$f":"'FO-DRE-12'!BD29","v":20},{"$f":"'FO-DRE-12'!BE29","v":""},{"$f":"'FO-DRE-12'!BF29","v":"F/D"},{"$f":"'FO-DRE-12'!BG29","v":"F/D"},{"$f":"'FO-DRE-12'!BH29","v":""},{"$f":"'FO-DRE-12'!BI29","v":""},{"$f":"'FO-DRE-12'!BJ29","v":""},{"$f":"'FO-DRE-12'!BK29","v":""},{"$f":"'FO-DRE-12'!BL29","v":""},{"$f":"'FO-DRE-12'!BM29","v":""},{"$f":"'FO-DRE-12'!BN29","v":""},{"$f":"'FO-DRE-12'!BO29","v":""},{"$f":"'FO-DRE-12'!BP29","v":""},{"$f":"'FO-DRE-12'!BQ29","v":""},{"$f":"'FO-DRE-12'!BR29","v":""},{"$f":"'FO-DRE-12'!BS29","v":""},{"$f":"'FO-DRE-12'!BT29","v":""},{"$f":"'FO-DRE-12'!BU29","v":""},{"$f":"'FO-DRE-12'!BV29","v":""}]
[{"$f":"'FO-DRE-12'!BD30","v":21},{"$f":"'FO-DRE-12'!BE30","v":""},{"$f":"'FO-DRE-12'!BF30","v":"F/D"},{"$f":"'FO-DRE-12'!BG30","v":"F/D"},{"$f":"'FO-DRE-12'!BH30","v":""},{"$f":"'FO-DRE-12'!BI30","v":""},{"$f":"'FO-DRE-12'!BJ30","v":""},{"$f":"'FO-DRE-12'!BK30","v":""},{"$f":"'FO-DRE-12'!BL30","v":""},{"$f":"'FO-DRE-12'!BM30","v":""},{"$f":"'FO-DRE-12'!BN30","v":""},{"$f":"'FO-DRE-12'!BO30","v":""},{"$f":"'FO-DRE-12'!BP30","v":""},{"$f":"'FO-DRE-12'!BQ30","v":""},{"$f":"'FO-DRE-12'!BR30","v":""},{"$f":"'FO-DRE-12'!BS30","v":""},{"$f":"'FO-DRE-12'!BT30","v":""},{"$f":"'FO-DRE-12'!BU30","v":""},{"$f":"'FO-DRE-12'!BV30","v":""}]
[{"$f":"'FO-DRE-12'!BD31","v":22},{"$f":"'FO-DRE-12'!BE31","v":""},{"$f":"'FO-DRE-12'!BF31","v":"F/D"},{"$f":"'FO-DRE-12'!BG31","v":"F/D"},{"$f":"'FO-DRE-12'!BH31","v":""},{"$f":"'FO-DRE-12'!BI31","v":""},{"$f":"'FO-DRE-12'!BJ31","v":""},{"$f":"'FO-DRE-12'!BK31","v":""},{"$f":"'FO-DRE-12'!BL31","v":""},{"$f":"'FO-DRE-12'!BM31","v":""},{"$f":"'FO-DRE-12'!BN31","v":""},{"$f":"'FO-DRE-12'!BO31","v":""},{"$f":"'FO-DRE-12'!BP31","v":""},{"$f":"'FO-DRE-12'!BQ31","v":""},{"$f":"'FO-DRE-12'!BR31","v":""},{"$f":"'FO-DRE-12'!BS31","v":""},{"$f":"'FO-DRE-12'!BT31","v":""},{"$f":"'FO-DRE-12'!BU31","v":""},{"$f":"'FO-DRE-12'!BV31","v":""}]
[{"$f":"'FO-DRE-12'!BD32","v":23},{"$f":"'FO-DRE-12'!BE32","v":""},{"$f":"'FO-DRE-12'!BF32","v":"F/D"},{"$f":"'FO-DRE-12'!BG32","v":"F/D"},{"$f":"'FO-DRE-12'!BH32","v":""},{"$f":"'FO-DRE-12'!BI32","v":""},{"$f":"'FO-DRE-12'!BJ32","v":""},{"$f":"'FO-DRE-12'!BK32","v":""},{"$f":"'FO-DRE-12'!BL32","v":""},{"$f":"'FO-DRE-12'!BM32","v":""},{"$f":"'FO-DRE-12'!BN32","v":""},{"$f":"'FO-DRE-12'!BO32","v":""},{"$f":"'FO-DRE-12'!BP32","v":""},{"$f":"'FO-DRE-12'!BQ32","v":""},{"$f":"'FO-DRE-12'!BR32","v":""},{"$f":"'FO-DRE-12'!BS32","v":""},{"$f":"'FO-DRE-12'!BT32","v":""},{"$f":"'FO-DRE-12'!BU32","v":""},{"$f":"'FO-DRE-12'!BV32","v":""}]
[{"$f":"'FO-DRE-12'!BD33","v":24},{"$f":"'FO-DRE-12'!BE33","v":""},{"$f":"'FO-DRE-12'!BF33","v":"F/D"},{"$f":"'FO-DRE-12'!BG33","v":"F/D"},{"$f":"'FO-DRE-12'!BH33","v":""},{"$f":"'FO-DRE-12'!BI33","v":""},{"$f":"'FO-DRE-12'!BJ33","v":""},{"$f":"'FO-DRE-12'!BK33","v":""},{"$f":"'FO-DRE-12'!BL33","v":""},{"$f":"'FO-DRE-12'!BM33","v":""},{"$f":"'FO-DRE-12'!BN33","v":""},{"$f":"'FO-DRE-12'!BO33","v":""},{"$f":"'FO-DRE-12'!BP33","v":""},{"$f":"'FO-DRE-12'!BQ33","v":""},{"$f":"'FO-DRE-12'!BR33","v":""},{"$f":"'FO-DRE-12'!BS33","v":""},{"$f":"'FO-DRE-12'!BT33","v":""},{"$f":"'FO-DRE-12'!BU33","v":""},{"$f":"'FO-DRE-12'!BV33","v":""}]
[{"$f":"'FO-DRE-12'!BD34","v":25},{"$f":"'FO-DRE-12'!BE34","v":""},{"$f":"'FO-DRE-12'!BF34","v":"F/D"},{"$f":"'FO-DRE-12'!BG34","v":"F/D"},{"$f":"'FO-DRE-12'!BH34","v":""},{"$f":"'FO-DRE-12'!BI34","v":""},{"$f":"'FO-DRE-12'!BJ34","v":""},{"$f":"'FO-DRE-12'!BK34","v":""},{"$f":"'FO-DRE-12'!BL34","v":""},{"$f":"'FO-DRE-12'!BM34","v":""},{"$f":"'FO-DRE-12'!BN34","v":""},{"$f":"'FO-DRE-12'!BO34","v":""},{"$f":"'FO-DRE-12'!BP34","v":""},{"$f":"'FO-DRE-12'!BQ34","v":""},{"$f":"'FO-DRE-12'!BR34","v":""},{"$f":"'FO-DRE-12'!BS34","v":""},{"$f":"'FO-DRE-12'!BT34","v":""},{"$f":"'FO-DRE-12'!BU34","v":""},{"$f":"'FO-DRE-12'!BV34","v":""}]
[{"$f":"'FO-DRE-12'!BD35","v":26},{"$f":"'FO-DRE-12'!BE35","v":""},{"$f":"'FO-DRE-12'!BF35","v":"F/D"},{"$f":"'FO-DRE-12'!BG35","v":"F/D"},{"$f":"'FO-DRE-12'!BH35","v":""},{"$f":"'FO-DRE-12'!BI35","v":""},{"$f":"'FO-DRE-12'!BJ35","v":""},{"$f":"'FO-DRE-12'!BK35","v":""},{"$f":"'FO-DRE-12'!BL35","v":""},{"$f":"'FO-DRE-12'!BM35","v":""},{"$f":"'FO-DRE-12'!BN35","v":""},{"$f":"'FO-DRE-12'!BO35","v":""},{"$f":"'FO-DRE-12'!BP35","v":""},{"$f":"'FO-DRE-12'!BQ35","v":""},{"$f":"'FO-DRE-12'!BR35","v":""},{"$f":"'FO-DRE-12'!BS35","v":""},{"$f":"'FO-DRE-12'!BT35","v":""},{"$f":"'FO-DRE-12'!BU35","v":""},{"$f":"'FO-DRE-12'!BV35","v":""}]
[{"$f":"'FO-DRE-12'!BD36","v":27},{"$f":"'FO-DRE-12'!BE36","v":""},{"$f":"'FO-DRE-12'!BF36","v":"F/D"},{"$f":"'FO-DRE-12'!BG36","v":"F/D"},{"$f":"'FO-DRE-12'!BH36","v":""},{"$f":"'FO-DRE-12'!BI36","v":""},{"$f":"'FO-DRE-12'!BJ36","v":""},{"$f":"'FO-DRE-12'!BK36","v":""},{"$f":"'FO-DRE-12'!BL36","v":""},{"$f":"'FO-DRE-12'!BM36","v":""},{"$f":"'FO-DRE-12'!BN36","v":""},{"$f":"'FO-DRE-12'!BO36","v":""},{"$f":"'FO-DRE-12'!BP36","v":""},{"$f":"'FO-DRE-12'!BQ36","v":""},{"$f":"'FO-DRE-12'!BR36","v":""},{"$f":"'FO-DRE-12'!BS36","v":""},{"$f":"'FO-DRE-12'!BT36","v":""},{"$f":"'FO-DRE-12'!BU36","v":""},{"$f":"'FO-DRE-12'!BV36","v":""}]
[{"$f":"'FO-DRE-12'!BD37","v":28},{"$f":"'FO-DRE-12'!BE37","v":""},{"$f":"'FO-DRE-12'!BF37","v":"F/D"},{"$f":"'FO-DRE-12'!BG37","v":"F/D"},{"$f":"'FO-DRE-12'!BH37","v":""},{"$f":"'FO-DRE-12'!BI37","v":""},{"$f":"'FO-DRE-12'!BJ37","v":""},{"$f":"'FO-DRE-12'!BK37","v":""},{"$f":"'FO-DRE-12'!BL37","v":""},{"$f":"'FO-DRE-12'!BM37","v":""},{"$f":"'FO-DRE-12'!BN37","v":""},{"$f":"'FO-DRE-12'!BO37","v":""},{"$f":"'FO-DRE-12'!BP37","v":""},{"$f":"'FO-DRE-12'!BQ37","v":""},{"$f":"'FO-DRE-12'!BR37","v":""},{"$f":"'FO-DRE-12'!BS37","v":""},{"$f":"'FO-DRE-12'!BT37","v":""},{"$f":"'FO-DRE-12'!BU37","v":""},{"$f":"'FO-DRE-12'!BV37","v":""}]
[{"$f":"'FO-DRE-12'!BD38","v":29},{"$f":"'FO-DRE-12'!BE38","v":""},{"$f":"'FO-DRE-12'!BF38","v":"F/D"},{"$f":"'FO-DRE-12'!BG38","v":"F/D"},{"$f":"'FO-DRE-12'!BH38","v":""},{"$f":"'FO-DRE-12'!BI38","v":""},{"$f":"'FO-DRE-12'!BJ38","v":""},{"$f":"'FO-DRE-12'!BK38","v":""},{"$f":"'FO-DRE-12'!BL38","v":""},{"$f":"'FO-DRE-12'!BM38","v":""},{"$f":"'FO-DRE-12'!BN38","v":""},{"$f":"'FO-DRE-12'!BO38","v":""},{"$f":"'FO-DRE-12'!BP38","v":""},{"$f":"'FO-DRE-12'!BQ38","v":""},{"$f":"'FO-DRE-12'!BR38","v":""},{"$f":"'FO-DRE-12'!BS38","v":""},{"$f":"'FO-DRE-12'!BT38","v":""},{"$f":"'FO-DRE-12'!BU38","v":""},{"$f":"'FO-DRE-12'!BV38","v":""}]
[{"$f":"'FO-DRE-12'!BD39","v":30},{"$f":"'FO-DRE-12'!BE39","v":""},{"$f":"'FO-DRE-12'!BF39","v":"F/D"},{"$f":"'FO-DRE-12'!BG39","v":"F/D"},{"$f":"'FO-DRE-12'!BH39","v":""},{"$f":"'FO-DRE-12'!BI39","v":""},{"$f":"'FO-DRE-12'!BJ39","v":""},{"$f":"'FO-DRE-12'!BK39","v":""},{"$f":"'FO-DRE-12'!BL39","v":""},{"$f":"'FO-DRE-12'!BM39","v":""},{"$f":"'FO-DRE-12'!BN39","v":""},{"$f":"'FO-DRE-12'!BO39","v":""},{"$f":"'FO-DRE-12'!BP39","v":""},{"$f":"'FO-DRE-12'!BQ39","v":""},{"$f":"'FO-DRE-12'!BR39","v":""},{"$f":"'FO-DRE-12'!BS39","v":""},{"$f":"'FO-DRE-12'!BT39","v":""},{"$f":"'FO-DRE-12'!BU39","v":""},{"$f":"'FO-DRE-12'!BV39","v":""}]
[{"$f":"'FO-DRE-12'!BD40","v":31},{"$f":"'FO-DRE-12'!BE40","v":""},{"$f":"'FO-DRE-12'!BF40","v":"F/D"},{"$f":"'FO-DRE-12'!BG40","v":"F/D"},{"$f":"'FO-DRE-12'!BH40","v":""},{"$f":"'FO-DRE-12'!BI40","v":""},{"$f":"'FO-DRE-12'!BJ40","v":""},{"$f":"'FO-DRE-12'!BK40","v":""},{"$f":"'FO-DRE-12'!BL40","v":""},{"$f":"'FO-DRE-12'!BM40","v":""},{"$f":"'FO-DRE-12'!BN40","v":""},{"$f":"'FO-DRE-12'!BO40","v":""},{"$f":"'FO-DRE-12'!BP40","v":""},{"$f":"'FO-DRE-12'!BQ40","v":""},{"$f":"'FO-DRE-12'!BR40","v":""},{"$f":"'FO-DRE-12'!BS40","v":""},{"$f":"'FO-DRE-12'!BT40","v":""},{"$f":"'FO-DRE-12'!BU40","v":""},{"$f":"'FO-DRE-12'!BV40","v":""}]
[{"$f":"'FO-DRE-12'!BD41","v":32},{"$f":"'FO-DRE-12'!BE41","v":""},{"$f":"'FO-DRE-12'!BF41","v":"F/D"},{"$f":"'FO-DRE-12'!BG41","v":"F/D"},{"$f":"'FO-DRE-12'!BH41","v":""},{"$f":"'FO-DRE-12'!BI41","v":""},{"$f":"'FO-DRE-12'!BJ41","v":""},{"$f":"'FO-DRE-12'!BK41","v":""},{"$f":"'FO-DRE-12'!BL41","v":""},{"$f":"'FO-DRE-12'!BM41","v":""},{"$f":"'FO-DRE-12'!BN41","v":""},{"$f":"'FO-DRE-12'!BO41","v":""},{"$f":"'FO-DRE-12'!BP41","v":""},{"$f":"'FO-DRE-12'!BQ41","v":""},{"$f":"'FO-DRE-12'!BR41","v":""},{"$f":"'FO-DRE-12'!BS41","v":""},{"$f":"'FO-DRE-12'!BT41","v":""},{"$f":"'FO-DRE-12'!BU41","v":""},{"$f":"'FO-DRE-12'!BV41","v":""}]
[{"$f":"'FO-DRE-12'!BD42","v":33},{"$f":"'FO-DRE-12'!BE42","v":""},{"$f":"'FO-DRE-12'!BF42","v":"F/D"},{"$f":"'FO-DRE-12'!BG42","v":"F/D"},{"$f":"'FO-DRE-12'!BH42","v":""},{"$f":"'FO-DRE-12'!BI42","v":""},{"$f":"'FO-DRE-12'!BJ42","v":""},{"$f":"'FO-DRE-12'!BK42","v":""},{"$f":"'FO-DRE-12'!BL42","v":""},{"$f":"'FO-DRE-12'!BM42","v":""},{"$f":"'FO-DRE-12'!BN42","v":""},{"$f":"'FO-DRE-12'!BO42","v":""},{"$f":"'FO-DRE-12'!BP42","v":""},{"$f":"'FO-DRE-12'!BQ42","v":""},{"$f":"'FO-DRE-12'!BR42","v":""},{"$f":"'FO-DRE-12'!BS42","v":""},{"$f":"'FO-DRE-12'!BT42","v":""},{"$f":"'FO-DRE-12'!BU42","v":""},{"$f":"'FO-DRE-12'!BV42","v":""}]
[{"$f":"'FO-DRE-12'!BD43","v":34},{"$f":"'FO-DRE-12'!BE43","v":""},{"$f":"'FO-DRE-12'!BF43","v":"F/D"},{"$f":"'FO-DRE-12'!BG43","v":"F/D"},{"$f":"'FO-DRE-12'!BH43","v":""},{"$f":"'FO-DRE-12'!BI43","v":""},{"$f":"'FO-DRE-12'!BJ43","v":""},{"$f":"'FO-DRE-12'!BK43","v":""},{"$f":"'FO-DRE-12'!BL43","v":""},{"$f":"'FO-DRE-12'!BM43","v":""},{"$f":"'FO-DRE-12'!BN43","v":""},{"$f":"'FO-DRE-12'!BO43","v":""},{"$f":"'FO-DRE-12'!BP43","v":""},{"$f":"'FO-DRE-12'!BQ43","v":""},{"$f":"'FO-DRE-12'!BR43","v":""},{"$f":"'FO-DRE-12'!BS43","v":""},{"$f":"'FO-DRE-12'!BT43","v":""},{"$f":"'FO-DRE-12'!BU43","v":""},{"$f":"'FO-DRE-12'!BV43","v":""}]
[{"$f":"'FO-DRE-12'!BD44","v":35},{"$f":"'FO-DRE-12'!BE44","v":""},{"$f":"'FO-DRE-12'!BF44","v":"F/D"},{"$f":"'FO-DRE-12'!BG44","v":"F/D"},{"$f":"'FO-DRE-12'!BH44","v":""},{"$f":"'FO-DRE-12'!BI44","v":""},{"$f":"'FO-DRE-12'!BJ44","v":""},{"$f":"'FO-DRE-12'!BK44","v":""},{"$f":"'FO-DRE-12'!BL44","v":""},{"$f":"'FO-DRE-12'!BM44","v":""},{"$f":"'FO-DRE-12'!BN44","v":""},{"$f":"'FO-DRE-12'!BO44","v":""},{"$f":"'FO-DRE-12'!BP44","v":""},{"$f":"'FO-DRE-12'!BQ44","v":""},{"$f":"'FO-DRE-12'!BR44","v":""},{"$f":"'FO-DRE-12'!BS44","v":""},{"$f":"'FO-DRE-12'!BT44","v":""},{"$f":"'FO-DRE-12'!BU44","v":""},{"$f":"'FO-DRE-12'!BV44","v":""}]
[{"$f":"'FO-DRE-12'!BD45","v":36},{"$f":"'FO-DRE-12'!BE45","v":""},{"$f":"'FO-DRE-12'!BF45","v":"F/D"},{"$f":"'FO-DRE-12'!BG45","v":"F/D"},{"$f":"'FO-DRE-12'!BH45","v":""},{"$f":"'FO-DRE-12'!BI45","v":""},{"$f":"'FO-DRE-12'!BJ45","v":""},{"$f":"'FO-DRE-12'!BK45","v":""},{"$f":"'FO-DRE-12'!BL45","v":""},{"$f":"'FO-DRE-12'!BM45","v":""},{"$f":"'FO-DRE-12'!BN45","v":""},{"$f":"'FO-DRE-12'!BO45","v":""},{"$f":"'FO-DRE-12'!BP45","v":""},{"$f":"'FO-DRE-12'!BQ45","v":""},{"$f":"'FO-DRE-12'!BR45","v":""},{"$f":"'FO-DRE-12'!BS45","v":""},{"$f":"'FO-DRE-12'!BT45","v":""},{"$f":"'FO-DRE-12'!BU45","v":""},{"$f":"'FO-DRE-12'!BV45","v":""}]
[{"$f":"'FO-DRE-12'!BD46","v":37},{"$f":"'FO-DRE-12'!BE46","v":""},{"$f":"'FO-DRE-12'!BF46","v":"F/D"},{"$f":"'FO-DRE-12'!BG46","v":"F/D"},{"$f":"'FO-DRE-12'!BH46","v":""},{"$f":"'FO-DRE-12'!BI46","v":""},{"$f":"'FO-DRE-12'!BJ46","v":""},{"$f":"'FO-DRE-12'!BK46","v":""},{"$f":"'FO-DRE-12'!BL46","v":""},{"$f":"'FO-DRE-12'!BM46","v":""},{"$f":"'FO-DRE-12'!BN46","v":""},{"$f":"'FO-DRE-12'!BO46","v":""},{"$f":"'FO-DRE-12'!BP46","v":""},{"$f":"'FO-DRE-12'!BQ46","v":""},{"$f":"'FO-DRE-12'!BR46","v":""},{"$f":"'FO-DRE-12'!BS46","v":""},{"$f":"'FO-DRE-12'!BT46","v":""},{"$f":"'FO-DRE-12'!BU46","v":""},{"$f":"'FO-DRE-12'!BV46","v":""}]
[{"$f":"'FO-DRE-12'!BD47","v":38},{"$f":"'FO-DRE-12'!BE47","v":""},{"$f":"'FO-DRE-12'!BF47","v":"F/D"},{"$f":"'FO-DRE-12'!BG47","v":"F/D"},{"$f":"'FO-DRE-12'!BH47","v":""},{"$f":"'FO-DRE-12'!BI47","v":""},{"$f":"'FO-DRE-12'!BJ47","v":""},{"$f":"'FO-DRE-12'!BK47","v":""},{"$f":"'FO-DRE-12'!BL47","v":""},{"$f":"'FO-DRE-12'!BM47","v":""},{"$f":"'FO-DRE-12'!BN47","v":""},{"$f":"'FO-DRE-12'!BO47","v":""},{"$f":"'FO-DRE-12'!BP47","v":""},{"$f":"'FO-DRE-12'!BQ47","v":""},{"$f":"'FO-DRE-12'!BR47","v":""},{"$f":"'FO-DRE-12'!BS47","v":""},{"$f":"'FO-DRE-12'!BT47","v":""},{"$f":"'FO-DRE-12'!BU47","v":""},{"$f":"'FO-DRE-12'!BV47","v":""}]
[{"$f":"'FO-DRE-12'!BD48","v":39},{"$f":"'FO-DRE-12'!BE48","v":""},{"$f":"'FO-DRE-12'!BF48","v":"F/D"},{"$f":"'FO-DRE-12'!BG48","v":"F/D"},{"$f":"'FO-DRE-12'!BH48","v":""},{"$f":"'FO-DRE-12'!BI48","v":""},{"$f":"'FO-DRE-12'!BJ48","v":""},{"$f":"'FO-DRE-12'!BK48","v":""},{"$f":"'FO-DRE-12'!BL48","v":""},{"$f":"'FO-DRE-12'!BM48","v":""},{"$f":"'FO-DRE-12'!BN48","v":""},{"$f":"'FO-DRE-12'!BO48","v":""},{"$f":"'FO-DRE-12'!BP48","v":""},{"$f":"'FO-DRE-12'!BQ48","v":""},{"$f":"'FO-DRE-12'!BR48","v":""},{"$f":"'FO-DRE-12'!BS48","v":""},{"$f":"'FO-DRE-12'!BT48","v":""},{"$f":"'FO-DRE-12'!BU48","v":""},{"$f":"'FO-DRE-12'!BV48","v":""}]
[{"$f":"'FO-DRE-12'!BD49","v":40},{"$f":"'FO-DRE-12'!BE49","v":""},{"$f":"'FO-DRE-12'!BF49","v":"F/D"},{"$f":"'FO-DRE-12'!BG49","v":"F/D"},{"$f":"'FO-DRE-12'!BH49","v":""},{"$f":"'FO-DRE-12'!BI49","v":""},{"$f":"'FO-DRE-12'!BJ49","v":""},{"$f":"'FO-DRE-12'!BK49","v":""},{"$f":"'FO-DRE-12'!BL49","v":""},{"$f":"'FO-DRE-12'!BM49","v":""},{"$f":"'FO-DRE-12'!BN49","v":""},{"$f":"'FO-DRE-12'!BO49","v":""},{"$f":"'FO-DRE-12'!BP49","v":""},{"$f":"'FO-DRE-12'!BQ49","v":""},{"$f":"'FO-DRE-12'!BR49","v":""},{"$f":"'FO-DRE-12'!BS49","v":""},{"$f":"'FO-DRE-12'!BT49","v":""},{"$f":"'FO-DRE-12'!BU49","v":""},{"$f":"'FO-DRE-12'!BV49","v":""}]
[{"$f":"'FO-DRE-12'!BD50","v":41},{"$f":"'FO-DRE-12'!BE50","v":""},{"$f":"'FO-DRE-12'!BF50","v":"F/D"},{"$f":"'FO-DRE-12'!BG50","v":"F/D"},{"$f":"'FO-DRE-12'!BH50","v":""},{"$f":"'FO-DRE-12'!BI50","v":""},{"$f":"'FO-DRE-12'!BJ50","v":""},{"$f":"'FO-DRE-12'!BK50","v":""},{"$f":"'FO-DRE-12'!BL50","v":""},{"$f":"'FO-DRE-12'!BM50","v":""},{"$f":"'FO-DRE-12'!BN50","v":""},{"$f":"'FO-DRE-12'!BO50","v":""},{"$f":"'FO-DRE-12'!BP50","v":""},{"$f":"'FO-DRE-12'!BQ50","v":""},{"$f":"'FO-DRE-12'!BR50","v":""},{"$f":"'FO-DRE-12'!BS50","v":""},{"$f":"'FO-DRE-12'!BT50","v":""},{"$f":"'FO-DRE-12'!BU50","v":""},{"$f":"'FO-DRE-12'!BV50","v":""}]
[{"$f":"'FO-DRE-12'!BD51","v":42},{"$f":"'FO-DRE-12'!BE51","v":""},{"$f":"'FO-DRE-12'!BF51","v":"F/D"},{"$f":"'FO-DRE-12'!BG51","v":"F/D"},{"$f":"'FO-DRE-12'!BH51","v":""},{"$f":"'FO-DRE-12'!BI51","v":""},{"$f":"'FO-DRE-12'!BJ51","v":""},{"$f":"'FO-DRE-12'!BK51","v":""},{"$f":"'FO-DRE-12'!BL51","v":""},{"$f":"'FO-DRE-12'!BM51","v":""},{"$f":"'FO-DRE-12'!BN51","v":""},{"$f":"'FO-DRE-12'!BO51","v":""},{"$f":"'FO-DRE-12'!BP51","v":""},{"$f":"'FO-DRE-12'!BQ51","v":""},{"$f":"'FO-DRE-12'!BR51","v":""},{"$f":"'FO-DRE-12'!BS51","v":""},{"$f":"'FO-DRE-12'!BT51","v":""},{"$f":"'FO-DRE-12'!BU51","v":""},{"$f":"'FO-DRE-12'!BV51","v":""}]
[{"$f":"'FO-DRE-12'!BD52","v":43},{"$f":"'FO-DRE-12'!BE52","v":""},{"$f":"'FO-DRE-12'!BF52","v":"F/D"},{"$f":"'FO-DRE-12'!BG52","v":"F/D"},{"$f":"'FO-DRE-12'!BH52","v":""},{"$f":"'FO-DRE-12'!BI52","v":""},{"$f":"'FO-DRE-12'!BJ52","v":""},{"$f":"'FO-DRE-12'!BK52","v":""},{"$f":"'FO-DRE-12'!BL52","v":""},{"$f":"'FO-DRE-12'!BM52","v":""},{"$f":"'FO-DRE-12'!BN52","v":""},{"$f":"'FO-DRE-12'!BO52","v":""},{"$f":"'FO-DRE-12'!BP52","v":""},{"$f":"'FO-DRE-12'!BQ52","v":""},{"$f":"'FO-DRE-12'!BR52","v":""},{"$f":"'FO-DRE-12'!BS52","v":""},{"$f":"'FO-DRE-12'!BT52","v":""},{"$f":"'FO-DRE-12'!BU52","v":""},{"$f":"'FO-DRE-12'!BV52","v":""}]
[{"$f":"'FO-DRE-12'!BD53","v":44},{"$f":"'FO-DRE-12'!BE53","v":""},{"$f":"'FO-DRE-12'!BF53","v":"F/D"},{"$f":"'FO-DRE-12'!BG53","v":"F/D"},{"$f":"'FO-DRE-12'!BH53","v":""},{"$f":"'FO-DRE-12'!BI53","v":""},{"$f":"'FO-DRE-12'!BJ53","v":""},{"$f":"'FO-DRE-12'!BK53","v":""},{"$f":"'FO-DRE-12'!BL53","v":""},{"$f":"'FO-DRE-12'!BM53","v":""},{"$f":"'FO-DRE-12'!BN53","v":""},{"$f":"'FO-DRE-12'!BO53","v":""},{"$f":"'FO-DRE-12'!BP53","v":""},{"$f":"'FO-DRE-12'!BQ53","v":""},{"$f":"'FO-DRE-12'!BR53","v":""},{"$f":"'FO-DRE-12'!BS53","v":""},{"$f":"'FO-DRE-12'!BT53","v":""},{"$f":"'FO-DRE-12'!BU53","v":""},{"$f":"'FO-DRE-12'!BV53","v":""}]
[{"$f":"'FO-DRE-12'!BD54","v":45},{"$f":"'FO-DRE-12'!BE54","v":""},{"$f":"'FO-DRE-12'!BF54","v":"F/D"},{"$f":"'FO-DRE-12'!BG54","v":"F/D"},{"$f":"'FO-DRE-12'!BH54","v":""},{"$f":"'FO-DRE-12'!BI54","v":""},{"$f":"'FO-DRE-12'!BJ54","v":""},{"$f":"'FO-DRE-12'!BK54","v":""},{"$f":"'FO-DRE-12'!BL54","v":""},{"$f":"'FO-DRE-12'!BM54","v":""},{"$f":"'FO-DRE-12'!BN54","v":""},{"$f":"'FO-DRE-12'!BO54","v":""},{"$f":"'FO-DRE-12'!BP54","v":""},{"$f":"'FO-DRE-12'!BQ54","v":""},{"$f":"'FO-DRE-12'!BR54","v":""},{"$f":"'FO-DRE-12'!BS54","v":""},{"$f":"'FO-DRE-12'!BT54","v":""},{"$f":"'FO-DRE-12'!BU54","v":""},{"$f":"'FO-DRE-12'!BV54","v":""}]
[{"$f":"'FO-DRE-12'!BD55","v":46},{"$f":"'FO-DRE-12'!BE55","v":""},{"$f":"'FO-DRE-12'!BF55","v":"F/D"},{"$f":"'FO-DRE-12'!BG55","v":"F/D"},{"$f":"'FO-DRE-12'!BH55","v":""},{"$f":"'FO-DRE-12'!BI55","v":""},{"$f":"'FO-DRE-12'!BJ55","v":""},{"$f":"'FO-DRE-12'!BK55","v":""},{"$f":"'FO-DRE-12'!BL55","v":""},{"$f":"'FO-DRE-12'!BM55","v":""},{"$f":"'FO-DRE-12'!BN55","v":""},{"$f":"'FO-DRE-12'!BO55","v":""},{"$f":"'FO-DRE-12'!BP55","v":""},{"$f":"'FO-DRE-12'!BQ55","v":""},{"$f":"'FO-DRE-12'!BR55","v":""},{"$f":"'FO-DRE-12'!BS55","v":""},{"$f":"'FO-DRE-12'!BT55","v":""},{"$f":"'FO-DRE-12'!BU55","v":""},{"$f":"'FO-DRE-12'!BV55","v":""}]
[{"$f":"'FO-DRE-12'!BD56","v":47},{"$f":"'FO-DRE-12'!BE56","v":""},{"$f":"'FO-DRE-12'!BF56","v":"F/D"},{"$f":"'FO-DRE-12'!BG56","v":"F/D"},{"$f":"'FO-DRE-12'!BH56","v":""},{"$f":"'FO-DRE-12'!BI56","v":""},{"$f":"'FO-DRE-12'!BJ56","v":""},{"$f":"'FO-DRE-12'!BK56","v":""},{"$f":"'FO-DRE-12'!BL56","v":""},{"$f":"'FO-DRE-12'!BM56","v":""},{"$f":"'FO-DRE-12'!BN56","v":""},{"$f":"'FO-DRE-12'!BO56","v":""},{"$f":"'FO-DRE-12'!BP56","v":""},{"$f":"'FO-DRE-12'!BQ56","v":""},{"$f":"'FO-DRE-12'!BR56","v":""},{"$f":"'FO-DRE-12'!BS56","v":""},{"$f":"'FO-DRE-12'!BT56","v":""},{"$f":"'FO-DRE-12'!BU56","v":""},{"$f":"'FO-DRE-12'!BV56","v":""}]
[{"$f":"'FO-DRE-12'!BD57","v":48},{"$f":"'FO-DRE-12'!BE57","v":""},{"$f":"'FO-DRE-12'!BF57","v":"F/D"},{"$f":"'FO-DRE-12'!BG57","v":"F/D"},{"$f":"'FO-DRE-12'!BH57","v":""},{"$f":"'FO-DRE-12'!BI57","v":""},{"$f":"'FO-DRE-12'!BJ57","v":""},{"$f":"'FO-DRE-12'!BK57","v":""},{"$f":"'FO-DRE-12'!BL57","v":""},{"$f":"'FO-DRE-12'!BM57","v":""},{"$f":"'FO-DRE-12'!BN57","v":""},{"$f":"'FO-DRE-12'!BO57","v":""},{"$f":"'FO-DRE-12'!BP57","v":""},{"$f":"'FO-DRE-12'!BQ57","v":""},{"$f":"'FO-DRE-12'!BR57","v":""},{"$f":"'FO-DRE-12'!BS57","v":""},{"$f":"'FO-DRE-12'!BT57","v":""},{"$f":"'FO-DRE-12'!BU57","v":""},{"$f":"'FO-DRE-12'!BV57","v":""}]
[{"$f":"'FO-DRE-12'!BD58","v":49},{"$f":"'FO-DRE-12'!BE58","v":""},{"$f":"'FO-DRE-12'!BF58","v":"F/D"},{"$f":"'FO-DRE-12'!BG58","v":"F/D"},{"$f":"'FO-DRE-12'!BH58","v":""},{"$f":"'FO-DRE-12'!BI58","v":""},{"$f":"'FO-DRE-12'!BJ58","v":""},{"$f":"'FO-DRE-12'!BK58","v":""},{"$f":"'FO-DRE-12'!BL58","v":""},{"$f":"'FO-DRE-12'!BM58","v":""},{"$f":"'FO-DRE-12'!BN58","v":""},{"$f":"'FO-DRE-12'!BO58","v":""},{"$f":"'FO-DRE-12'!BP58","v":""},{"$f":"'FO-DRE-12'!BQ58","v":""},{"$f":"'FO-DRE-12'!BR58","v":""},{"$f":"'FO-DRE-12'!BS58","v":""},{"$f":"'FO-DRE-12'!BT58","v":""},{"$f":"'FO-DRE-12'!BU58","v":""},{"$f":"'FO-DRE-12'!BV58","v":""}]
[{"$f":"'FO-DRE-12'!BD59","v":50},{"$f":"'FO-DRE-12'!BE59","v":""},{"$f":"'FO-DRE-12'!BF59","v":"F/D"},{"$f":"'FO-DRE-12'!BG59","v":"F/D"},{"$f":"'FO-DRE-12'!BH59","v":""},{"$f":"'FO-DRE-12'!BI59","v":""},{"$f":"'FO-DRE-12'!BJ59","v":""},{"$f":"'FO-DRE-12'!BK59","v":""},{"$f":"'FO-DRE-12'!BL59","v":""},{"$f":"'FO-DRE-12'!BM59","v":""},{"$f":"'FO-DRE-12'!BN59","v":""},{"$f":"'FO-DRE-12'!BO59","v":""},{"$f":"'FO-DRE-12'!BP59","v":""},{"$f":"'FO-DRE-12'!BQ59","v":""},{"$f":"'FO-DRE-12'!BR59","v":""},{"$f":"'FO-DRE-12'!BS59","v":""},{"$f":"'FO-DRE-12'!BT59","v":""},{"$f":"'FO-DRE-12'!BU59","v":""},{"$f":"'FO-DRE-12'!BV59","v":""}]
[{"$f":"'FO-DRE-12'!BD60","v":51},{"$f":"'FO-DRE-12'!BE60","v":""},{"$f":"'FO-DRE-12'!BF60","v":"F/D"},{"$f":"'FO-DRE-12'!BG60","v":"F/D"},{"$f":"'FO-DRE-12'!BH60","v":""},{"$f":"'FO-DRE-12'!BI60","v":""},{"$f":"'FO-DRE-12'!BJ60","v":""},{"$f":"'FO-DRE-12'!BK60","v":""},{"$f":"'FO-DRE-12'!BL60","v":""},{"$f":"'FO-DRE-12'!BM60","v":""},{"$f":"'FO-DRE-12'!BN60","v":""},{"$f":"'FO-DRE-12'!BO60","v":""},{"$f":"'FO-DRE-12'!BP60","v":""},{"$f":"'FO-DRE-12'!BQ60","v":""},{"$f":"'FO-DRE-12'!BR60","v":""},{"$f":"'FO-DRE-12'!BS60","v":""},{"$f":"'FO-DRE-12'!BT60","v":""},{"$f":"'FO-DRE-12'!BU60","v":""},{"$f":"'FO-DRE-12'!BV60","v":""}]
[{"$f":"'FO-DRE-12'!BD61","v":52},{"$f":"'FO-DRE-12'!BE61","v":""},{"$f":"'FO-DRE-12'!BF61","v":"F/D"},{"$f":"'FO-DRE-12'!BG61","v":"F/D"},{"$f":"'FO-DRE-12'!BH61","v":""},{"$f":"'FO-DRE-12'!BI61","v":""},{"$f":"'FO-DRE-12'!BJ61","v":""},{"$f":"'FO-DRE-12'!BK61","v":""},{"$f":"'FO-DRE-12'!BL61","v":""},{"$f":"'FO-DRE-12'!BM61","v":""},{"$f":"'FO-DRE-12'!BN61","v":""},{"$f":"'FO-DRE-12'!BO61","v":""},{"$f":"'FO-DRE-12'!BP61","v":""},{"$f":"'FO-DRE-12'!BQ61","v":""},{"$f":"'FO-DRE-12'!BR61","v":""},{"$f":"'FO-DRE-12'!BS61","v":""},{"$f":"'FO-DRE-12'!BT61","v":""},{"$f":"'FO-DRE-12'!BU61","v":""},{"$f":"'FO-DRE-12'!BV61","v":""}]
[{"$f":"'FO-DRE-12'!BD62","v":53},{"$f":"'FO-DRE-12'!BE62","v":""},{"$f":"'FO-DRE-12'!BF62","v":"F/D"},{"$f":"'FO-DRE-12'!BG62","v":"F/D"},{"$f":"'FO-DRE-12'!BH62","v":""},{"$f":"'FO-DRE-12'!BI62","v":""},{"$f":"'FO-DRE-12'!BJ62","v":""},{"$f":"'FO-DRE-12'!BK62","v":""},{"$f":"'FO-DRE-12'!BL62","v":""},{"$f":"'FO-DRE-12'!BM62","v":""},{"$f":"'FO-DRE-12'!BN62","v":""},{"$f":"'FO-DRE-12'!BO62","v":""},{"$f":"'FO-DRE-12'!BP62","v":""},{"$f":"'FO-DRE-12'!BQ62","v":""},{"$f":"'FO-DRE-12'!BR62","v":""},{"$f":"'FO-DRE-12'!BS62","v":""},{"$f":"'FO-DRE-12'!BT62","v":""},{"$f":"'FO-DRE-12'!BU62","v":""},{"$f":"'FO-DRE-12'!BV62","v":""}]
[{"$f":"'FO-DRE-12'!BD63","v":54},{"$f":"'FO-DRE-12'!BE63","v":""},{"$f":"'FO-DRE-12'!BF63","v":"F/D"},{"$f":"'FO-DRE-12'!BG63","v":"F/D"},{"$f":"'FO-DRE-12'!BH63","v":""},{"$f":"'FO-DRE-12'!BI63","v":""},{"$f":"'FO-DRE-12'!BJ63","v":""},{"$f":"'FO-DRE-12'!BK63","v":""},{"$f":"'FO-DRE-12'!BL63","v":""},{"$f":"'FO-DRE-12'!BM63","v":""},{"$f":"'FO-DRE-12'!BN63","v":""},{"$f":"'FO-DRE-12'!BO63","v":""},{"$f":"'FO-DRE-12'!BP63","v":""},{"$f":"'FO-DRE-12'!BQ63","v":""},{"$f":"'FO-DRE-12'!BR63","v":""},{"$f":"'FO-DRE-12'!BS63","v":""},{"$f":"'FO-DRE-12'!BT63","v":""},{"$f":"'FO-DRE-12'!BU63","v":""},{"$f":"'FO-DRE-12'!BV63","v":""}]
[{"$f":"'FO-DRE-12'!BD64","v":55},{"$f":"'FO-DRE-12'!BE64","v":""},{"$f":"'FO-DRE-12'!BF64","v":"F/D"},{"$f":"'FO-DRE-12'!BG64","v":"F/D"},{"$f":"'FO-DRE-12'!BH64","v":""},{"$f":"'FO-DRE-12'!BI64","v":""},{"$f":"'FO-DRE-12'!BJ64","v":""},{"$f":"'FO-DRE-12'!BK64","v":""},{"$f":"'FO-DRE-12'!BL64","v":""},{"$f":"'FO-DRE-12'!BM64","v":""},{"$f":"'FO-DRE-12'!BN64","v":""},{"$f":"'FO-DRE-12'!BO64","v":""},{"$f":"'FO-DRE-12'!BP64","v":""},{"$f":"'FO-DRE-12'!BQ64","v":""},{"$f":"'FO-DRE-12'!BR64","v":""},{"$f":"'FO-DRE-12'!BS64","v":""},{"$f":"'FO-DRE-12'!BT64","v":""},{"$f":"'FO-DRE-12'!BU64","v":""},{"$f":"'FO-DRE-12'!BV64","v":""}]
[{"$f":"'FO-DRE-12'!BD65","v":56},{"$f":"'FO-DRE-12'!BE65","v":""},{"$f":"'FO-DRE-12'!BF65","v":"F/D"},{"$f":"'FO-DRE-12'!BG65","v":"F/D"},{"$f":"'FO-DRE-12'!BH65","v":""},{"$f":"'FO-DRE-12'!BI65","v":""},{"$f":"'FO-DRE-12'!BJ65","v":""},{"$f":"'FO-DRE-12'!BK65","v":""},{"$f":"'FO-DRE-12'!BL65","v":""},{"$f":"'FO-DRE-12'!BM65","v":""},{"$f":"'FO-DRE-12'!BN65","v":""},{"$f":"'FO-DRE-12'!BO65","v":""},{"$f":"'FO-DRE-12'!BP65","v":""},{"$f":"'FO-DRE-12'!BQ65","v":""},{"$f":"'FO-DRE-12'!BR65","v":""},{"$f":"'FO-DRE-12'!BS65","v":""},{"$f":"'FO-DRE-12'!BT65","v":""},{"$f":"'FO-DRE-12'!BU65","v":""},{"$f":"'FO-DRE-12'!BV65","v":""}]
[{"$f":"'FO-DRE-12'!BD66","v":57},{"$f":"'FO-DRE-12'!BE66","v":""},{"$f":"'FO-DRE-12'!BF66","v":"F/D"},{"$f":"'FO-DRE-12'!BG66","v":"F/D"},{"$f":"'FO-DRE-12'!BH66","v":""},{"$f":"'FO-DRE-12'!BI66","v":""},{"$f":"'FO-DRE-12'!BJ66","v":""},{"$f":"'FO-DRE-12'!BK66","v":""},{"$f":"'FO-DRE-12'!BL66","v":""},{"$f":"'FO-DRE-12'!BM66","v":""},{"$f":"'FO-DRE-12'!BN66","v":""},{"$f":"'FO-DRE-12'!BO66","v":""},{"$f":"'FO-DRE-12'!BP66","v":""},{"$f":"'FO-DRE-12'!BQ66","v":""},{"$f":"'FO-DRE-12'!BR66","v":""},{"$f":"'FO-DRE-12'!BS66","v":""},{"$f":"'FO-DRE-12'!BT66","v":""},{"$f":"'FO-DRE-12'!BU66","v":""},{"$f":"'FO-DRE-12'!BV66","v":""}]
[{"$f":"'FO-DRE-12'!BD67","v":58},{"$f":"'FO-DRE-12'!BE67","v":""},{"$f":"'FO-DRE-12'!BF67","v":"F/D"},{"$f":"'FO-DRE-12'!BG67","v":"F/D"},{"$f":"'FO-DRE-12'!BH67","v":""},{"$f":"'FO-DRE-12'!BI67","v":""},{"$f":"'FO-DRE-12'!BJ67","v":""},{"$f":"'FO-DRE-12'!BK67","v":""},{"$f":"'FO-DRE-12'!BL67","v":""},{"$f":"'FO-DRE-12'!BM67","v":""},{"$f":"'FO-DRE-12'!BN67","v":""},{"$f":"'FO-DRE-12'!BO67","v":""},{"$f":"'FO-DRE-12'!BP67","v":""},{"$f":"'FO-DRE-12'!BQ67","v":""},{"$f":"'FO-DRE-12'!BR67","v":""},{"$f":"'FO-DRE-12'!BS67","v":""},{"$f":"'FO-DRE-12'!BT67","v":""},{"$f":"'FO-DRE-12'!BU67","v":""},{"$f":"'FO-DRE-12'!BV67","v":""}]
[{"$f":"'FO-DRE-12'!BD68","v":59},{"$f":"'FO-DRE-12'!BE68","v":""},{"$f":"'FO-DRE-12'!BF68","v":"F/D"},{"$f":"'FO-DRE-12'!BG68","v":"F/D"},{"$f":"'FO-DRE-12'!BH68","v":""},{"$f":"'FO-DRE-12'!BI68","v":""},{"$f":"'FO-DRE-12'!BJ68","v":""},{"$f":"'FO-DRE-12'!BK68","v":""},{"$f":"'FO-DRE-12'!BL68","v":""},{"$f":"'FO-DRE-12'!BM68","v":""},{"$f":"'FO-DRE-12'!BN68","v":""},{"$f":"'FO-DRE-12'!BO68","v":""},{"$f":"'FO-DRE-12'!BP68","v":""},{"$f":"'FO-DRE-12'!BQ68","v":""},{"$f":"'FO-DRE-12'!BR68","v":""},{"$f":"'FO-DRE-12'!BS68","v":""},{"$f":"'FO-DRE-12'!BT68","v":""},{"$f":"'FO-DRE-12'!BU68","v":""},{"$f":"'FO-DRE-12'!BV68","v":""}]
[{"$f":"'FO-DRE-12'!BD69","v":60},{"$f":"'FO-DRE-12'!BE69","v":""},{"$f":"'FO-DRE-12'!BF69","v":"F/D"},{"$f":"'FO-DRE-12'!BG69","v":"F/D"},{"$f":"'FO-DRE-12'!BH69","v":""},{"$f":"'FO-DRE-12'!BI69","v":""},{"$f":"'FO-DRE-12'!BJ69","v":""},{"$f":"'FO-DRE-12'!BK69","v":""},{"$f":"'FO-DRE-12'!BL69","v":""},{"$f":"'FO-DRE-12'!BM69","v":""},{"$f":"'FO-DRE-12'!BN69","v":""},{"$f":"'FO-DRE-12'!BO69","v":""},{"$f":"'FO-DRE-12'!BP69","v":""},{"$f":"'FO-DRE-12'!BQ69","v":""},{"$f":"'FO-DRE-12'!BR69","v":""},{"$f":"'FO-DRE-12'!BS69","v":""},{"$f":"'FO-DRE-12'!BT69","v":""},{"$f":"'FO-DRE-12'!BU69","v":""},{"$f":"'FO-DRE-12'!BV69","v":""}]
[{"$f":"'FO-DRE-12'!BD70","v":61},{"$f":"'FO-DRE-12'!BE70","v":""},{"$f":"'FO-DRE-12'!BF70","v":"F/D"},{"$f":"'FO-DRE-12'!BG70","v":"F/D"},{"$f":"'FO-DRE-12'!BH70","v":""},{"$f":"'FO-DRE-12'!BI70","v":""},{"$f":"'FO-DRE-12'!BJ70","v":""},{"$f":"'FO-DRE-12'!BK70","v":""},{"$f":"'FO-DRE-12'!BL70","v":""},{"$f":"'FO-DRE-12'!BM70","v":""},{"$f":"'FO-DRE-12'!BN70","v":""},{"$f":"'FO-DRE-12'!BO70","v":""},{"$f":"'FO-DRE-12'!BP70","v":""},{"$f":"'FO-DRE-12'!BQ70","v":""},{"$f":"'FO-DRE-12'!BR70","v":""},{"$f":"'FO-DRE-12'!BS70","v":""},{"$f":"'FO-DRE-12'!BT70","v":""},{"$f":"'FO-DRE-12'!BU70","v":""},{"$f":"'FO-DRE-12'!BV70","v":""}]
[{"$f":"'FO-DRE-12'!BD71","v":62},{"$f":"'FO-DRE-12'!BE71","v":""},{"$f":"'FO-DRE-12'!BF71","v":"F/D"},{"$f":"'FO-DRE-12'!BG71","v":"F/D"},{"$f":"'FO-DRE-12'!BH71","v":""},{"$f":"'FO-DRE-12'!BI71","v":""},{"$f":"'FO-DRE-12'!BJ71","v":""},{"$f":"'FO-DRE-12'!BK71","v":""},{"$f":"'FO-DRE-12'!BL71","v":""},{"$f":"'FO-DRE-12'!BM71","v":""},{"$f":"'FO-DRE-12'!BN71","v":""},{"$f":"'FO-DRE-12'!BO71","v":""},{"$f":"'FO-DRE-12'!BP71","v":""},{"$f":"'FO-DRE-12'!BQ71","v":""},{"$f":"'FO-DRE-12'!BR71","v":""},{"$f":"'FO-DRE-12'!BS71","v":""},{"$f":"'FO-DRE-12'!BT71","v":""},{"$f":"'FO-DRE-12'!BU71","v":""},{"$f":"'FO-DRE-12'!BV71","v":""}]
[{"$f":"'FO-DRE-12'!BD72","v":63},{"$f":"'FO-DRE-12'!BE72","v":""},{"$f":"'FO-DRE-12'!BF72","v":"F/D"},{"$f":"'FO-DRE-12'!BG72","v":"F/D"},{"$f":"'FO-DRE-12'!BH72","v":""},{"$f":"'FO-DRE-12'!BI72","v":""},{"$f":"'FO-DRE-12'!BJ72","v":""},{"$f":"'FO-DRE-12'!BK72","v":""},{"$f":"'FO-DRE-12'!BL72","v":""},{"$f":"'FO-DRE-12'!BM72","v":""},{"$f":"'FO-DRE-12'!BN72","v":""},{"$f":"'FO-DRE-12'!BO72","v":""},{"$f":"'FO-DRE-12'!BP72","v":""},{"$f":"'FO-DRE-12'!BQ72","v":""},{"$f":"'FO-DRE-12'!BR72","v":""},{"$f":"'FO-DRE-12'!BS72","v":""},{"$f":"'FO-DRE-12'!BT72","v":""},{"$f":"'FO-DRE-12'!BU72","v":""},{"$f":"'FO-DRE-12'!BV72","v":""}]
[{"$f":"'FO-DRE-12'!BD73","v":64},{"$f":"'FO-DRE-12'!BE73","v":""},{"$f":"'FO-DRE-12'!BF73","v":"F/D"},{"$f":"'FO-DRE-12'!BG73","v":"F/D"},{"$f":"'FO-DRE-12'!BH73","v":""},{"$f":"'FO-DRE-12'!BI73","v":""},{"$f":"'FO-DRE-12'!BJ73","v":""},{"$f":"'FO-DRE-12'!BK73","v":""},{"$f":"'FO-DRE-12'!BL73","v":""},{"$f":"'FO-DRE-12'!BM73","v":""},{"$f":"'FO-DRE-12'!BN73","v":""},{"$f":"'FO-DRE-12'!BO73","v":""},{"$f":"'FO-DRE-12'!BP73","v":""},{"$f":"'FO-DRE-12'!BQ73","v":""},{"$f":"'FO-DRE-12'!BR73","v":""},{"$f":"'FO-DRE-12'!BS73","v":""},{"$f":"'FO-DRE-12'!BT73","v":""},{"$f":"'FO-DRE-12'!BU73","v":""},{"$f":"'FO-DRE-12'!BV73","v":""}]
[{"$f":"'FO-DRE-12'!BD74","v":65},{"$f":"'FO-DRE-12'!BE74","v":""},{"$f":"'FO-DRE-12'!BF74","v":"F/D"},{"$f":"'FO-DRE-12'!BG74","v":"F/D"},{"$f":"'FO-DRE-12'!BH74","v":""},{"$f":"'FO-DRE-12'!BI74","v":""},{"$f":"'FO-DRE-12'!BJ74","v":""},{"$f":"'FO-DRE-12'!BK74","v":""},{"$f":"'FO-DRE-12'!BL74","v":""},{"$f":"'FO-DRE-12'!BM74","v":""},{"$f":"'FO-DRE-12'!BN74","v":""},{"$f":"'FO-DRE-12'!BO74","v":""},{"$f":"'FO-DRE-12'!BP74","v":""},{"$f":"'FO-DRE-12'!BQ74","v":""},{"$f":"'FO-DRE-12'!BR74","v":""},{"$f":"'FO-DRE-12'!BS74","v":""},{"$f":"'FO-DRE-12'!BT74","v":""},{"$f":"'FO-DRE-12'!BU74","v":""},{"$f":"'FO-DRE-12'!BV74","v":""}]
[{"$f":"'FO-DRE-12'!BD75","v":66},{"$f":"'FO-DRE-12'!BE75","v":""},{"$f":"'FO-DRE-12'!BF75","v":"F/D"},{"$f":"'FO-DRE-12'!BG75","v":"F/D"},{"$f":"'FO-DRE-12'!BH75","v":""},{"$f":"'FO-DRE-12'!BI75","v":""},{"$f":"'FO-DRE-12'!BJ75","v":""},{"$f":"'FO-DRE-12'!BK75","v":""},{"$f":"'FO-DRE-12'!BL75","v":""},{"$f":"'FO-DRE-12'!BM75","v":""},{"$f":"'FO-DRE-12'!BN75","v":""},{"$f":"'FO-DRE-12'!BO75","v":""},{"$f":"'FO-DRE-12'!BP75","v":""},{"$f":"'FO-DRE-12'!BQ75","v":""},{"$f":"'FO-DRE-12'!BR75","v":""},{"$f":"'FO-DRE-12'!BS75","v":""},{"$f":"'FO-DRE-12'!BT75","v":""},{"$f":"'FO-DRE-12'!BU75","v":""},{"$f":"'FO-DRE-12'!BV75","v":""}]
[{"$f":"'FO-DRE-12'!BD76","v":67},{"$f":"'FO-DRE-12'!BE76","v":""},{"$f":"'FO-DRE-12'!BF76","v":"F/D"},{"$f":"'FO-DRE-12'!BG76","v":"F/D"},{"$f":"'FO-DRE-12'!BH76","v":""},{"$f":"'FO-DRE-12'!BI76","v":""},{"$f":"'FO-DRE-12'!BJ76","v":""},{"$f":"'FO-DRE-12'!BK76","v":""},{"$f":"'FO-DRE-12'!BL76","v":""},{"$f":"'FO-DRE-12'!BM76","v":""},{"$f":"'FO-DRE-12'!BN76","v":""},{"$f":"'FO-DRE-12'!BO76","v":""},{"$f":"'FO-DRE-12'!BP76","v":""},{"$f":"'FO-DRE-12'!BQ76","v":""},{"$f":"'FO-DRE-12'!BR76","v":""},{"$f":"'FO-DRE-12'!BS76","v":""},{"$f":"'FO-DRE-12'!BT76","v":""},{"$f":"'FO-DRE-12'!BU76","v":""},{"$f":"'FO-DRE-12'!BV76","v":""}]
[{"$f":"'FO-DRE-12'!BD77","v":68},{"$f":"'FO-DRE-12'!BE77","v":""},{"$f":"'FO-DRE-12'!BF77","v":"F/D"},{"$f":"'FO-DRE-12'!BG77","v":"F/D"},{"$f":"'FO-DRE-12'!BH77","v":""},{"$f":"'FO-DRE-12'!BI77","v":""},{"$f":"'FO-DRE-12'!BJ77","v":""},{"$f":"'FO-DRE-12'!BK77","v":""},{"$f":"'FO-DRE-12'!BL77","v":""},{"$f":"'FO-DRE-12'!BM77","v":""},{"$f":"'FO-DRE-12'!BN77","v":""},{"$f":"'FO-DRE-12'!BO77","v":""},{"$f":"'FO-DRE-12'!BP77","v":""},{"$f":"'FO-DRE-12'!BQ77","v":""},{"$f":"'FO-DRE-12'!BR77","v":""},{"$f":"'FO-DRE-12'!BS77","v":""},{"$f":"'FO-DRE-12'!BT77","v":""},{"$f":"'FO-DRE-12'!BU77","v":""},{"$f":"'FO-DRE-12'!BV77","v":""}]
[{"$f":"'FO-DRE-12'!BD78","v":69},{"$f":"'FO-DRE-12'!BE78","v":""},{"$f":"'FO-DRE-12'!BF78","v":"F/D"},{"$f":"'FO-DRE-12'!BG78","v":"F/D"},{"$f":"'FO-DRE-12'!BH78","v":""},{"$f":"'FO-DRE-12'!BI78","v":""},{"$f":"'FO-DRE-12'!BJ78","v":""},{"$f":"'FO-DRE-12'!BK78","v":""},{"$f":"'FO-DRE-12'!BL78","v":""},{"$f":"'FO-DRE-12'!BM78","v":""},{"$f":"'FO-DRE-12'!BN78","v":""},{"$f":"'FO-DRE-12'!BO78","v":""},{"$f":"'FO-DRE-12'!BP78","v":""},{"$f":"'FO-DRE-12'!BQ78","v":""},{"$f":"'FO-DRE-12'!BR78","v":""},{"$f":"'FO-DRE-12'!BS78","v":""},{"$f":"'FO-DRE-12'!BT78","v":""},{"$f":"'FO-DRE-12'!BU78","v":""},{"$f":"'FO-DRE-12'!BV78","v":""}]
[{"$f":"'FO-DRE-12'!BD79","v":70},{"$f":"'FO-DRE-12'!BE79","v":""},{"$f":"'FO-DRE-12'!BF79","v":"F/D"},{"$f":"'FO-DRE-12'!BG79","v":"F/D"},{"$f":"'FO-DRE-12'!BH79","v":""},{"$f":"'FO-DRE-12'!BI79","v":""},{"$f":"'FO-DRE-12'!BJ79","v":""},{"$f":"'FO-DRE-12'!BK79","v":""},{"$f":"'FO-DRE-12'!BL79","v":""},{"$f":"'FO-DRE-12'!BM79","v":""},{"$f":"'FO-DRE-12'!BN79","v":""},{"$f":"'FO-DRE-12'!BO79","v":""},{"$f":"'FO-DRE-12'!BP79","v":""},{"$f":"'FO-DRE-12'!BQ79","v":""},{"$f":"'FO-DRE-12'!BR79","v":""},{"$f":"'FO-DRE-12'!BS79","v":""},{"$f":"'FO-DRE-12'!BT79","v":""},{"$f":"'FO-DRE-12'!BU79","v":""},{"$f":"'FO-DRE-12'!BV79","v":""}]
[{"$f":"'FO-DRE-12'!BD80","v":71},{"$f":"'FO-DRE-12'!BE80","v":""},{"$f":"'FO-DRE-12'!BF80","v":"F/D"},{"$f":"'FO-DRE-12'!BG80","v":"F/D"},{"$f":"'FO-DRE-12'!BH80","v":""},{"$f":"'FO-DRE-12'!BI80","v":""},{"$f":"'FO-DRE-12'!BJ80","v":""},{"$f":"'FO-DRE-12'!BK80","v":""},{"$f":"'FO-DRE-12'!BL80","v":""},{"$f":"'FO-DRE-12'!BM80","v":""},{"$f":"'FO-DRE-12'!BN80","v":""},{"$f":"'FO-DRE-12'!BO80","v":""},{"$f":"'FO-DRE-12'!BP80","v":""},{"$f":"'FO-DRE-12'!BQ80","v":""},{"$f":"'FO-DRE-12'!BR80","v":""},{"$f":"'FO-DRE-12'!BS80","v":""},{"$f":"'FO-DRE-12'!BT80","v":""},{"$f":"'FO-DRE-12'!BU80","v":""},{"$f":"'FO-DRE-12'!BV80","v":""}]
[{"$f":"'FO-DRE-12'!BD81","v":72},{"$f":"'FO-DRE-12'!BE81","v":""},{"$f":"'FO-DRE-12'!BF81","v":"F/D"},{"$f":"'FO-DRE-12'!BG81","v":"F/D"},{"$f":"'FO-DRE-12'!BH81","v":""},{"$f":"'FO-DRE-12'!BI81","v":""},{"$f":"'FO-DRE-12'!BJ81","v":""},{"$f":"'FO-DRE-12'!BK81","v":""},{"$f":"'FO-DRE-12'!BL81","v":""},{"$f":"'FO-DRE-12'!BM81","v":""},{"$f":"'FO-DRE-12'!BN81","v":""},{"$f":"'FO-DRE-12'!BO81","v":""},{"$f":"'FO-DRE-12'!BP81","v":""},{"$f":"'FO-DRE-12'!BQ81","v":""},{"$f":"'FO-DRE-12'!BR81","v":""},{"$f":"'FO-DRE-12'!BS81","v":""},{"$f":"'FO-DRE-12'!BT81","v":""},{"$f":"'FO-DRE-12'!BU81","v":""},{"$f":"'FO-DRE-12'!BV81","v":""}]
[{"$f":"'FO-DRE-12'!BD82","v":73},{"$f":"'FO-DRE-12'!BE82","v":""},{"$f":"'FO-DRE-12'!BF82","v":"F/D"},{"$f":"'FO-DRE-12'!BG82","v":"F/D"},{"$f":"'FO-DRE-12'!BH82","v":""},{"$f":"'FO-DRE-12'!BI82","v":""},{"$f":"'FO-DRE-12'!BJ82","v":""},{"$f":"'FO-DRE-12'!BK82","v":""},{"$f":"'FO-DRE-12'!BL82","v":""},{"$f":"'FO-DRE-12'!BM82","v":""},{"$f":"'FO-DRE-12'!BN82","v":""},{"$f":"'FO-DRE-12'!BO82","v":""},{"$f":"'FO-DRE-12'!BP82","v":""},{"$f":"'FO-DRE-12'!BQ82","v":""},{"$f":"'FO-DRE-12'!BR82","v":""},{"$f":"'FO-DRE-12'!BS82","v":""},{"$f":"'FO-DRE-12'!BT82","v":""},{"$f":"'FO-DRE-12'!BU82","v":""},{"$f":"'FO-DRE-12'!BV82","v":""}]
[{"$f":"'FO-DRE-12'!BD83","v":74},{"$f":"'FO-DRE-12'!BE83","v":""},{"$f":"'FO-DRE-12'!BF83","v":"F/D"},{"$f":"'FO-DRE-12'!BG83","v":"F/D"},{"$f":"'FO-DRE-12'!BH83","v":""},{"$f":"'FO-DRE-12'!BI83","v":""},{"$f":"'FO-DRE-12'!BJ83","v":""},{"$f":"'FO-DRE-12'!BK83","v":""},{"$f":"'FO-DRE-12'!BL83","v":""},{"$f":"'FO-DRE-12'!BM83","v":""},{"$f":"'FO-DRE-12'!BN83","v":""},{"$f":"'FO-DRE-12'!BO83","v":""},{"$f":"'FO-DRE-12'!BP83","v":""},{"$f":"'FO-DRE-12'!BQ83","v":""},{"$f":"'FO-DRE-12'!BR83","v":""},{"$f":"'FO-DRE-12'!BS83","v":""},{"$f":"'FO-DRE-12'!BT83","v":""},{"$f":"'FO-DRE-12'!BU83","v":""},{"$f":"'FO-DRE-12'!BV83","v":""}]
[{"$f":"'FO-DRE-12'!BD84","v":75},{"$f":"'FO-DRE-12'!BE84","v":""},{"$f":"'FO-DRE-12'!BF84","v":"F/D"},{"$f":"'FO-DRE-12'!BG84","v":"F/D"},{"$f":"'FO-DRE-12'!BH84","v":""},{"$f":"'FO-DRE-12'!BI84","v":""},{"$f":"'FO-DRE-12'!BJ84","v":""},{"$f":"'FO-DRE-12'!BK84","v":""},{"$f":"'FO-DRE-12'!BL84","v":""},{"$f":"'FO-DRE-12'!BM84","v":""},{"$f":"'FO-DRE-12'!BN84","v":""},{"$f":"'FO-DRE-12'!BO84","v":""},{"$f":"'FO-DRE-12'!BP84","v":""},{"$f":"'FO-DRE-12'!BQ84","v":""},{"$f":"'FO-DRE-12'!BR84","v":""},{"$f":"'FO-DRE-12'!BS84","v":""},{"$f":"'FO-DRE-12'!BT84","v":""},{"$f":"'FO-DRE-12'!BU84","v":""},{"$f":"'FO-DRE-12'!BV84","v":""}]
[{"$f":"'FO-DRE-12'!BD85","v":76},{"$f":"'FO-DRE-12'!BE85","v":""},{"$f":"'FO-DRE-12'!BF85","v":"F/D"},{"$f":"'FO-DRE-12'!BG85","v":"F/D"},{"$f":"'FO-DRE-12'!BH85","v":""},{"$f":"'FO-DRE-12'!BI85","v":""},{"$f":"'FO-DRE-12'!BJ85","v":""},{"$f":"'FO-DRE-12'!BK85","v":""},{"$f":"'FO-DRE-12'!BL85","v":""},{"$f":"'FO-DRE-12'!BM85","v":""},{"$f":"'FO-DRE-12'!BN85","v":""},{"$f":"'FO-DRE-12'!BO85","v":""},{"$f":"'FO-DRE-12'!BP85","v":""},{"$f":"'FO-DRE-12'!BQ85","v":""},{"$f":"'FO-DRE-12'!BR85","v":""},{"$f":"'FO-DRE-12'!BS85","v":""},{"$f":"'FO-DRE-12'!BT85","v":""},{"$f":"'FO-DRE-12'!BU85","v":""},{"$f":"'FO-DRE-12'!BV85","v":""}]
[{"$f":"'FO-DRE-12'!BD86","v":77},{"$f":"'FO-DRE-12'!BE86","v":""},{"$f":"'FO-DRE-12'!BF86","v":"F/D"},{"$f":"'FO-DRE-12'!BG86","v":"F/D"},{"$f":"'FO-DRE-12'!BH86","v":""},{"$f":"'FO-DRE-12'!BI86","v":""},{"$f":"'FO-DRE-12'!BJ86","v":""},{"$f":"'FO-DRE-12'!BK86","v":""},{"$f":"'FO-DRE-12'!BL86","v":""},{"$f":"'FO-DRE-12'!BM86","v":""},{"$f":"'FO-DRE-12'!BN86","v":""},{"$f":"'FO-DRE-12'!BO86","v":""},{"$f":"'FO-DRE-12'!BP86","v":""},{"$f":"'FO-DRE-12'!BQ86","v":""},{"$f":"'FO-DRE-12'!BR86","v":""},{"$f":"'FO-DRE-12'!BS86","v":""},{"$f":"'FO-DRE-12'!BT86","v":""},{"$f":"'FO-DRE-12'!BU86","v":""},{"$f":"'FO-DRE-12'!BV86","v":""}]
[{"$f":"'FO-DRE-12'!BD87","v":78},{"$f":"'FO-DRE-12'!BE87","v":""},{"$f":"'FO-DRE-12'!BF87","v":"F/D"},{"$f":"'FO-DRE-12'!BG87","v":"F/D"},{"$f":"'FO-DRE-12'!BH87","v":""},{"$f":"'FO-DRE-12'!BI87","v":""},{"$f":"'FO-DRE-12'!BJ87","v":""},{"$f":"'FO-DRE-12'!BK87","v":""},{"$f":"'FO-DRE-12'!BL87","v":""},{"$f":"'FO-DRE-12'!BM87","v":""},{"$f":"'FO-DRE-12'!BN87","v":""},{"$f":"'FO-DRE-12'!BO87","v":""},{"$f":"'FO-DRE-12'!BP87","v":""},{"$f":"'FO-DRE-12'!BQ87","v":""},{"$f":"'FO-DRE-12'!BR87","v":""},{"$f":"'FO-DRE-12'!BS87","v":""},{"$f":"'FO-DRE-12'!BT87","v":""},{"$f":"'FO-DRE-12'!BU87","v":""},{"$f":"'FO-DRE-12'!BV87","v":""}]
[{"$f":"'FO-DRE-12'!BD88","v":79},{"$f":"'FO-DRE-12'!BE88","v":""},{"$f":"'FO-DRE-12'!BF88","v":"F/D"},{"$f":"'FO-DRE-12'!BG88","v":"F/D"},{"$f":"'FO-DRE-12'!BH88","v":""},{"$f":"'FO-DRE-12'!BI88","v":""},{"$f":"'FO-DRE-12'!BJ88","v":""},{"$f":"'FO-DRE-12'!BK88","v":""},{"$f":"'FO-DRE-12'!BL88","v":""},{"$f":"'FO-DRE-12'!BM88","v":""},{"$f":"'FO-DRE-12'!BN88","v":""},{"$f":"'FO-DRE-12'!BO88","v":""},{"$f":"'FO-DRE-12'!BP88","v":""},{"$f":"'FO-DRE-12'!BQ88","v":""},{"$f":"'FO-DRE-12'!BR88","v":""},{"$f":"'FO-DRE-12'!BS88","v":""},{"$f":"'FO-DRE-12'!BT88","v":""},{"$f":"'FO-DRE-12'!BU88","v":""},{"$f":"'FO-DRE-12'!BV88","v":""}]
[{"$f":"'FO-DRE-12'!BD89","v":80},{"$f":"'FO-DRE-12'!BE89","v":""},{"$f":"'FO-DRE-12'!BF89","v":"F/D"},{"$f":"'FO-DRE-12'!BG89","v":"F/D"},{"$f":"'FO-DRE-12'!BH89","v":""},{"$f":"'FO-DRE-12'!BI89","v":""},{"$f":"'FO-DRE-12'!BJ89","v":""},{"$f":"'FO-DRE-12'!BK89","v":""},{"$f":"'FO-DRE-12'!BL89","v":""},{"$f":"'FO-DRE-12'!BM89","v":""},{"$f":"'FO-DRE-12'!BN89","v":""},{"$f":"'FO-DRE-12'!BO89","v":""},{"$f":"'FO-DRE-12'!BP89","v":""},{"$f":"'FO-DRE-12'!BQ89","v":""},{"$f":"'FO-DRE-12'!BR89","v":""},{"$f":"'FO-DRE-12'!BS89","v":""},{"$f":"'FO-DRE-12'!BT89","v":""},{"$f":"'FO-DRE-12'!BU89","v":""},{"$f":"'FO-DRE-12'!BV89","v":""}]
[{"$f":"'FO-DRE-12'!BD90","v":81},{"$f":"'FO-DRE-12'!BE90","v":""},{"$f":"'FO-DRE-12'!BF90","v":"F/D"},{"$f":"'FO-DRE-12'!BG90","v":"F/D"},{"$f":"'FO-DRE-12'!BH90","v":""},{"$f":"'FO-DRE-12'!BI90","v":""},{"$f":"'FO-DRE-12'!BJ90","v":""},{"$f":"'FO-DRE-12'!BK90","v":""},{"$f":"'FO-DRE-12'!BL90","v":""},{"$f":"'FO-DRE-12'!BM90","v":""},{"$f":"'FO-DRE-12'!BN90","v":""},{"$f":"'FO-DRE-12'!BO90","v":""},{"$f":"'FO-DRE-12'!BP90","v":""},{"$f":"'FO-DRE-12'!BQ90","v":""},{"$f":"'FO-DRE-12'!BR90","v":""},{"$f":"'FO-DRE-12'!BS90","v":""},{"$f":"'FO-DRE-12'!BT90","v":""},{"$f":"'FO-DRE-12'!BU90","v":""},{"$f":"'FO-DRE-12'!BV90","v":""}]
[{"$f":"'FO-DRE-12'!BD91","v":82},{"$f":"'FO-DRE-12'!BE91","v":""},{"$f":"'FO-DRE-12'!BF91","v":"F/D"},{"$f":"'FO-DRE-12'!BG91","v":"F/D"},{"$f":"'FO-DRE-12'!BH91","v":""},{"$f":"'FO-DRE-12'!BI91","v":""},{"$f":"'FO-DRE-12'!BJ91","v":""},{"$f":"'FO-DRE-12'!BK91","v":""},{"$f":"'FO-DRE-12'!BL91","v":""},{"$f":"'FO-DRE-12'!BM91","v":""},{"$f":"'FO-DRE-12'!BN91","v":""},{"$f":"'FO-DRE-12'!BO91","v":""},{"$f":"'FO-DRE-12'!BP91","v":""},{"$f":"'FO-DRE-12'!BQ91","v":""},{"$f":"'FO-DRE-12'!BR91","v":""},{"$f":"'FO-DRE-12'!BS91","v":""},{"$f":"'FO-DRE-12'!BT91","v":""},{"$f":"'FO-DRE-12'!BU91","v":""},{"$f":"'FO-DRE-12'!BV91","v":""}]
[{"$f":"'FO-DRE-12'!BD92","v":83},{"$f":"'FO-DRE-12'!BE92","v":""},{"$f":"'FO-DRE-12'!BF92","v":"F/D"},{"$f":"'FO-DRE-12'!BG92","v":"F/D"},{"$f":"'FO-DRE-12'!BH92","v":""},{"$f":"'FO-DRE-12'!BI92","v":""},{"$f":"'FO-DRE-12'!BJ92","v":""},{"$f":"'FO-DRE-12'!BK92","v":""},{"$f":"'FO-DRE-12'!BL92","v":""},{"$f":"'FO-DRE-12'!BM92","v":""},{"$f":"'FO-DRE-12'!BN92","v":""},{"$f":"'FO-DRE-12'!BO92","v":""},{"$f":"'FO-DRE-12'!BP92","v":""},{"$f":"'FO-DRE-12'!BQ92","v":""},{"$f":"'FO-DRE-12'!BR92","v":""},{"$f":"'FO-DRE-12'!BS92","v":""},{"$f":"'FO-DRE-12'!BT92","v":""},{"$f":"'FO-DRE-12'!BU92","v":""},{"$f":"'FO-DRE-12'!BV92","v":""}]
[{"$f":"'FO-DRE-12'!BD93","v":84},{"$f":"'FO-DRE-12'!BE93","v":""},{"$f":"'FO-DRE-12'!BF93","v":"F/D"},{"$f":"'FO-DRE-12'!BG93","v":"F/D"},{"$f":"'FO-DRE-12'!BH93","v":""},{"$f":"'FO-DRE-12'!BI93","v":""},{"$f":"'FO-DRE-12'!BJ93","v":""},{"$f":"'FO-DRE-12'!BK93","v":""},{"$f":"'FO-DRE-12'!BL93","v":""},{"$f":"'FO-DRE-12'!BM93","v":""},{"$f":"'FO-DRE-12'!BN93","v":""},{"$f":"'FO-DRE-12'!BO93","v":""},{"$f":"'FO-DRE-12'!BP93","v":""},{"$f":"'FO-DRE-12'!BQ93","v":""},{"$f":"'FO-DRE-12'!BR93","v":""},{"$f":"'FO-DRE-12'!BS93","v":""},{"$f":"'FO-DRE-12'!BT93","v":""},{"$f":"'FO-DRE-12'!BU93","v":""},{"$f":"'FO-DRE-12'!BV93","v":""}]
[{"$f":"'FO-DRE-12'!BD94","v":85},{"$f":"'FO-DRE-12'!BE94","v":""},{"$f":"'FO-DRE-12'!BF94","v":"F/D"},{"$f":"'FO-DRE-12'!BG94","v":"F/D"},{"$f":"'FO-DRE-12'!BH94","v":""},{"$f":"'FO-DRE-12'!BI94","v":""},{"$f":"'FO-DRE-12'!BJ94","v":""},{"$f":"'FO-DRE-12'!BK94","v":""},{"$f":"'FO-DRE-12'!BL94","v":""},{"$f":"'FO-DRE-12'!BM94","v":""},{"$f":"'FO-DRE-12'!BN94","v":""},{"$f":"'FO-DRE-12'!BO94","v":""},{"$f":"'FO-DRE-12'!BP94","v":""},{"$f":"'FO-DRE-12'!BQ94","v":""},{"$f":"'FO-DRE-12'!BR94","v":""},{"$f":"'FO-DRE-12'!BS94","v":""},{"$f":"'FO-DRE-12'!BT94","v":""},{"$f":"'FO-DRE-12'!BU94","v":""},{"$f":"'FO-DRE-12'!BV94","v":""}]
[{"$f":"'FO-DRE-12'!BD95","v":86},{"$f":"'FO-DRE-12'!BE95","v":""},{"$f":"'FO-DRE-12'!BF95","v":"F/D"},{"$f":"'FO-DRE-12'!BG95","v":"F/D"},{"$f":"'FO-DRE-12'!BH95","v":""},{"$f":"'FO-DRE-12'!BI95","v":""},{"$f":"'FO-DRE-12'!BJ95","v":""},{"$f":"'FO-DRE-12'!BK95","v":""},{"$f":"'FO-DRE-12'!BL95","v":""},{"$f":"'FO-DRE-12'!BM95","v":""},{"$f":"'FO-DRE-12'!BN95","v":""},{"$f":"'FO-DRE-12'!BO95","v":""},{"$f":"'FO-DRE-12'!BP95","v":""},{"$f":"'FO-DRE-12'!BQ95","v":""},{"$f":"'FO-DRE-12'!BR95","v":""},{"$f":"'FO-DRE-12'!BS95","v":""},{"$f":"'FO-DRE-12'!BT95","v":""},{"$f":"'FO-DRE-12'!BU95","v":""},{"$f":"'FO-DRE-12'!BV95","v":""}]
[{"$f":"'FO-DRE-12'!BD96","v":87},{"$f":"'FO-DRE-12'!BE96","v":""},{"$f":"'FO-DRE-12'!BF96","v":"F/D"},{"$f":"'FO-DRE-12'!BG96","v":"F/D"},{"$f":"'FO-DRE-12'!BH96","v":""},{"$f":"'FO-DRE-12'!BI96","v":""},{"$f":"'FO-DRE-12'!BJ96","v":""},{"$f":"'FO-DRE-12'!BK96","v":""},{"$f":"'FO-DRE-12'!BL96","v":""},{"$f":"'FO-DRE-12'!BM96","v":""},{"$f":"'FO-DRE-12'!BN96","v":""},{"$f":"'FO-DRE-12'!BO96","v":""},{"$f":"'FO-DRE-12'!BP96","v":""},{"$f":"'FO-DRE-12'!BQ96","v":""},{"$f":"'FO-DRE-12'!BR96","v":""},{"$f":"'FO-DRE-12'!BS96","v":""},{"$f":"'FO-DRE-12'!BT96","v":""},{"$f":"'FO-DRE-12'!BU96","v":""},{"$f":"'FO-DRE-12'!BV96","v":""}]
[{"$f":"'FO-DRE-12'!BD97","v":88},{"$f":"'FO-DRE-12'!BE97","v":""},{"$f":"'FO-DRE-12'!BF97","v":"F/D"},{"$f":"'FO-DRE-12'!BG97","v":"F/D"},{"$f":"'FO-DRE-12'!BH97","v":""},{"$f":"'FO-DRE-12'!BI97","v":""},{"$f":"'FO-DRE-12'!BJ97","v":""},{"$f":"'FO-DRE-12'!BK97","v":""},{"$f":"'FO-DRE-12'!BL97","v":""},{"$f":"'FO-DRE-12'!BM97","v":""},{"$f":"'FO-DRE-12'!BN97","v":""},{"$f":"'FO-DRE-12'!BO97","v":""},{"$f":"'FO-DRE-12'!BP97","v":""},{"$f":"'FO-DRE-12'!BQ97","v":""},{"$f":"'FO-DRE-12'!BR97","v":""},{"$f":"'FO-DRE-12'!BS97","v":""},{"$f":"'FO-DRE-12'!BT97","v":""},{"$f":"'FO-DRE-12'!BU97","v":""},{"$f":"'FO-DRE-12'!BV97","v":""}]
[{"$f":"'FO-DRE-12'!BD98","v":89},{"$f":"'FO-DRE-12'!BE98","v":""},{"$f":"'FO-DRE-12'!BF98","v":"F/D"},{"$f":"'FO-DRE-12'!BG98","v":"F/D"},{"$f":"'FO-DRE-12'!BH98","v":""},{"$f":"'FO-DRE-12'!BI98","v":""},{"$f":"'FO-DRE-12'!BJ98","v":""},{"$f":"'FO-DRE-12'!BK98","v":""},{"$f":"'FO-DRE-12'!BL98","v":""},{"$f":"'FO-DRE-12'!BM98","v":""},{"$f":"'FO-DRE-12'!BN98","v":""},{"$f":"'FO-DRE-12'!BO98","v":""},{"$f":"'FO-DRE-12'!BP98","v":""},{"$f":"'FO-DRE-12'!BQ98","v":""},{"$f":"'FO-DRE-12'!BR98","v":""},{"$f":"'FO-DRE-12'!BS98","v":""},{"$f":"'FO-DRE-12'!BT98","v":""},{"$f":"'FO-DRE-12'!BU98","v":""},{"$f":"'FO-DRE-12'!BV98","v":""}]
[{"$f":"'FO-DRE-12'!BD99","v":90},{"$f":"'FO-DRE-12'!BE99","v":""},{"$f":"'FO-DRE-12'!BF99","v":"F/D"},{"$f":"'FO-DRE-12'!BG99","v":"F/D"},{"$f":"'FO-DRE-12'!BH99","v":""},{"$f":"'FO-DRE-12'!BI99","v":""},{"$f":"'FO-DRE-12'!BJ99","v":""},{"$f":"'FO-DRE-12'!BK99","v":""},{"$f":"'FO-DRE-12'!BL99","v":""},{"$f":"'FO-DRE-12'!BM99","v":""},{"$f":"'FO-DRE-12'!BN99","v":""},{"$f":"'FO-DRE-12'!BO99","v":""},{"$f":"'FO-DRE-12'!BP99","v":""},{"$f":"'FO-DRE-12'!BQ99","v":""},{"$f":"'FO-DRE-12'!BR99","v":""},{"$f":"'FO-DRE-12'!BS99","v":""},{"$f":"'FO-DRE-12'!BT99","v":""},{"$f":"'FO-DRE-12'!BU99","v":""},{"$f":"'FO-DRE-12'!BV99","v":""}]
[{"$f":"'FO-DRE-12'!BD100","v":91},{"$f":"'FO-DRE-12'!BE100","v":""},{"$f":"'FO-DRE-12'!BF100","v":"F/D"},{"$f":"'FO-DRE-12'!BG100","v":"F/D"},{"$f":"'FO-DRE-12'!BH100","v":""},{"$f":"'FO-DRE-12'!BI100","v":""},{"$f":"'FO-DRE-12'!BJ100","v":""},{"$f":"'FO-DRE-12'!BK100","v":""},{"$f":"'FO-DRE-12'!BL100","v":""},{"$f":"'FO-DRE-12'!BM100","v":""},{"$f":"'FO-DRE-12'!BN100","v":""},{"$f":"'FO-DRE-12'!BO100","v":""},{"$f":"'FO-DRE-12'!BP100","v":""},{"$f":"'FO-DRE-12'!BQ100","v":""},{"$f":"'FO-DRE-12'!BR100","v":""},{"$f":"'FO-DRE-12'!BS100","v":""},{"$f":"'FO-DRE-12'!BT100","v":""},{"$f":"'FO-DRE-12'!BU100","v":""},{"$f":"'FO-DRE-12'!BV100","v":""}]
[{"$f":"'FO-DRE-12'!BD101","v":92},{"$f":"'FO-DRE-12'!BE101","v":""},{"$f":"'FO-DRE-12'!BF101","v":"F/D"},{"$f":"'FO-DRE-12'!BG101","v":"F/D"},{"$f":"'FO-DRE-12'!BH101","v":""},{"$f":"'FO-DRE-12'!BI101","v":""},{"$f":"'FO-DRE-12'!BJ101","v":""},{"$f":"'FO-DRE-12'!BK101","v":""},{"$f":"'FO-DRE-12'!BL101","v":""},{"$f":"'FO-DRE-12'!BM101","v":""},{"$f":"'FO-DRE-12'!BN101","v":""},{"$f":"'FO-DRE-12'!BO101","v":""},{"$f":"'FO-DRE-12'!BP101","v":""},{"$f":"'FO-DRE-12'!BQ101","v":""},{"$f":"'FO-DRE-12'!BR101","v":""},{"$f":"'FO-DRE-12'!BS101","v":""},{"$f":"'FO-DRE-12'!BT101","v":""},{"$f":"'FO-DRE-12'!BU101","v":""},{"$f":"'FO-DRE-12'!BV101","v":""}]
[{"$f":"'FO-DRE-12'!BD102","v":93},{"$f":"'FO-DRE-12'!BE102","v":""},{"$f":"'FO-DRE-12'!BF102","v":"F/D"},{"$f":"'FO-DRE-12'!BG102","v":"F/D"},{"$f":"'FO-DRE-12'!BH102","v":""},{"$f":"'FO-DRE-12'!BI102","v":""},{"$f":"'FO-DRE-12'!BJ102","v":""},{"$f":"'FO-DRE-12'!BK102","v":""},{"$f":"'FO-DRE-12'!BL102","v":""},{"$f":"'FO-DRE-12'!BM102","v":""},{"$f":"'FO-DRE-12'!BN102","v":""},{"$f":"'FO-DRE-12'!BO102","v":""},{"$f":"'FO-DRE-12'!BP102","v":""},{"$f":"'FO-DRE-12'!BQ102","v":""},{"$f":"'FO-DRE-12'!BR102","v":""},{"$f":"'FO-DRE-12'!BS102","v":""},{"$f":"'FO-DRE-12'!BT102","v":""},{"$f":"'FO-DRE-12'!BU102","v":""},{"$f":"'FO-DRE-12'!BV102","v":""}]
[{"$f":"'FO-DRE-12'!BD103","v":94},{"$f":"'FO-DRE-12'!BE103","v":""},{"$f":"'FO-DRE-12'!BF103","v":"F/D"},{"$f":"'FO-DRE-12'!BG103","v":"F/D"},{"$f":"'FO-DRE-12'!BH103","v":""},{"$f":"'FO-DRE-12'!BI103","v":""},{"$f":"'FO-DRE-12'!BJ103","v":""},{"$f":"'FO-DRE-12'!BK103","v":""},{"$f":"'FO-DRE-12'!BL103","v":""},{"$f":"'FO-DRE-12'!BM103","v":""},{"$f":"'FO-DRE-12'!BN103","v":""},{"$f":"'FO-DRE-12'!BO103","v":""},{"$f":"'FO-DRE-12'!BP103","v":""},{"$f":"'FO-DRE-12'!BQ103","v":""},{"$f":"'FO-DRE-12'!BR103","v":""},{"$f":"'FO-DRE-12'!BS103","v":""},{"$f":"'FO-DRE-12'!BT103","v":""},{"$f":"'FO-DRE-12'!BU103","v":""},{"$f":"'FO-DRE-12'!BV103","v":""}]
[{"$f":"'FO-DRE-12'!BD104","v":95},{"$f":"'FO-DRE-12'!BE104","v":""},{"$f":"'FO-DRE-12'!BF104","v":"F/D"},{"$f":"'FO-DRE-12'!BG104","v":"F/D"},{"$f":"'FO-DRE-12'!BH104","v":""},{"$f":"'FO-DRE-12'!BI104","v":""},{"$f":"'FO-DRE-12'!BJ104","v":""},{"$f":"'FO-DRE-12'!BK104","v":""},{"$f":"'FO-DRE-12'!BL104","v":""},{"$f":"'FO-DRE-12'!BM104","v":""},{"$f":"'FO-DRE-12'!BN104","v":""},{"$f":"'FO-DRE-12'!BO104","v":""},{"$f":"'FO-DRE-12'!BP104","v":""},{"$f":"'FO-DRE-12'!BQ104","v":""},{"$f":"'FO-DRE-12'!BR104","v":""},{"$f":"'FO-DRE-12'!BS104","v":""},{"$f":"'FO-DRE-12'!BT104","v":""},{"$f":"'FO-DRE-12'!BU104","v":""},{"$f":"'FO-DRE-12'!BV104","v":""}]
[{"$f":"'FO-DRE-12'!BD105","v":96},{"$f":"'FO-DRE-12'!BE105","v":""},{"$f":"'FO-DRE-12'!BF105","v":"F/D"},{"$f":"'FO-DRE-12'!BG105","v":"F/D"},{"$f":"'FO-DRE-12'!BH105","v":""},{"$f":"'FO-DRE-12'!BI105","v":""},{"$f":"'FO-DRE-12'!BJ105","v":""},{"$f":"'FO-DRE-12'!BK105","v":""},{"$f":"'FO-DRE-12'!BL105","v":""},{"$f":"'FO-DRE-12'!BM105","v":""},{"$f":"'FO-DRE-12'!BN105","v":""},{"$f":"'FO-DRE-12'!BO105","v":""},{"$f":"'FO-DRE-12'!BP105","v":""},{"$f":"'FO-DRE-12'!BQ105","v":""},{"$f":"'FO-DRE-12'!BR105","v":""},{"$f":"'FO-DRE-12'!BS105","v":""},{"$f":"'FO-DRE-12'!BT105","v":""},{"$f":"'FO-DRE-12'!BU105","v":""},{"$f":"'FO-DRE-12'!BV105","v":""}]
[{"$f":"'FO-DRE-12'!BD106","v":97},{"$f":"'FO-DRE-12'!BE106","v":""},{"$f":"'FO-DRE-12'!BF106","v":"F/D"},{"$f":"'FO-DRE-12'!BG106","v":"F/D"},{"$f":"'FO-DRE-12'!BH106","v":""},{"$f":"'FO-DRE-12'!BI106","v":""},{"$f":"'FO-DRE-12'!BJ106","v":""},{"$f":"'FO-DRE-12'!BK106","v":""},{"$f":"'FO-DRE-12'!BL106","v":""},{"$f":"'FO-DRE-12'!BM106","v":""},{"$f":"'FO-DRE-12'!BN106","v":""},{"$f":"'FO-DRE-12'!BO106","v":""},{"$f":"'FO-DRE-12'!BP106","v":""},{"$f":"'FO-DRE-12'!BQ106","v":""},{"$f":"'FO-DRE-12'!BR106","v":""},{"$f":"'FO-DRE-12'!BS106","v":""},{"$f":"'FO-DRE-12'!BT106","v":""},{"$f":"'FO-DRE-12'!BU106","v":""},{"$f":"'FO-DRE-12'!BV106","v":""}]
[{"$f":"'FO-DRE-12'!BD107","v":98},{"$f":"'FO-DRE-12'!BE107","v":""},{"$f":"'FO-DRE-12'!BF107","v":"F/D"},{"$f":"'FO-DRE-12'!BG107","v":"F/D"},{"$f":"'FO-DRE-12'!BH107","v":""},{"$f":"'FO-DRE-12'!BI107","v":""},{"$f":"'FO-DRE-12'!BJ107","v":""},{"$f":"'FO-DRE-12'!BK107","v":""},{"$f":"'FO-DRE-12'!BL107","v":""},{"$f":"'FO-DRE-12'!BM107","v":""},{"$f":"'FO-DRE-12'!BN107","v":""},{"$f":"'FO-DRE-12'!BO107","v":""},{"$f":"'FO-DRE-12'!BP107","v":""},{"$f":"'FO-DRE-12'!BQ107","v":""},{"$f":"'FO-DRE-12'!BR107","v":""},{"$f":"'FO-DRE-12'!BS107","v":""},{"$f":"'FO-DRE-12'!BT107","v":""},{"$f":"'FO-DRE-12'!BU107","v":""},{"$f":"'FO-DRE-12'!BV107","v":""}]
[{"$f":"'FO-DRE-12'!BD108","v":99},{"$f":"'FO-DRE-12'!BE108","v":""},{"$f":"'FO-DRE-12'!BF108","v":"F/D"},{"$f":"'FO-DRE-12'!BG108","v":"F/D"},{"$f":"'FO-DRE-12'!BH108","v":""},{"$f":"'FO-DRE-12'!BI108","v":""},{"$f":"'FO-DRE-12'!BJ108","v":""},{"$f":"'FO-DRE-12'!BK108","v":""},{"$f":"'FO-DRE-12'!BL108","v":""},{"$f":"'FO-DRE-12'!BM108","v":""},{"$f":"'FO-DRE-12'!BN108","v":""},{"$f":"'FO-DRE-12'!BO108","v":""},{"$f":"'FO-DRE-12'!BP108","v":""},{"$f":"'FO-DRE-12'!BQ108","v":""},{"$f":"'FO-DRE-12'!BR108","v":""},{"$f":"'FO-DRE-12'!BS108","v":""},{"$f":"'FO-DRE-12'!BT108","v":""},{"$f":"'FO-DRE-12'!BU108","v":""},{"$f":"'FO-DRE-12'!BV108","v":""}]
[{"$f":"'FO-DRE-12'!BD109","v":100},{"$f":"'FO-DRE-12'!BE109","v":""},{"$f":"'FO-DRE-12'!BF109","v":"F/D"},{"$f":"'FO-DRE-12'!BG109","v":"F/D"},{"$f":"'FO-DRE-12'!BH109","v":""},{"$f":"'FO-DRE-12'!BI109","v":""},{"$f":"'FO-DRE-12'!BJ109","v":""},{"$f":"'FO-DRE-12'!BK109","v":""},{"$f":"'FO-DRE-12'!BL109","v":""},{"$f":"'FO-DRE-12'!BM109","v":""},{"$f":"'FO-DRE-12'!BN109","v":""},{"$f":"'FO-DRE-12'!BO109","v":""},{"$f":"'FO-DRE-12'!BP109","v":""},{"$f":"'FO-DRE-12'!BQ109","v":""},{"$f":"'FO-DRE-12'!BR109","v":""},{"$f":"'FO-DRE-12'!BS109","v":""},{"$f":"'FO-DRE-12'!BT109","v":""},{"$f":"'FO-DRE-12'!BU109","v":""},{"$f":"'FO-DRE-12'!BV109","v":""}]
[{"$f":"'FO-DRE-12'!BD110","v":101},{"$f":"'FO-DRE-12'!BE110","v":""},{"$f":"'FO-DRE-12'!BF110","v":"F/D"},{"$f":"'FO-DRE-12'!BG110","v":"F/D"},{"$f":"'FO-DRE-12'!BH110","v":""},{"$f":"'FO-DRE-12'!BI110","v":""},{"$f":"'FO-DRE-12'!BJ110","v":""},{"$f":"'FO-DRE-12'!BK110","v":""},{"$f":"'FO-DRE-12'!BL110","v":""},{"$f":"'FO-DRE-12'!BM110","v":""},{"$f":"'FO-DRE-12'!BN110","v":""},{"$f":"'FO-DRE-12'!BO110","v":""},{"$f":"'FO-DRE-12'!BP110","v":""},{"$f":"'FO-DRE-12'!BQ110","v":""},{"$f":"'FO-DRE-12'!BR110","v":""},{"$f":"'FO-DRE-12'!BS110","v":""},{"$f":"'FO-DRE-12'!BT110","v":""},{"$f":"'FO-DRE-12'!BU110","v":""},{"$f":"'FO-DRE-12'!BV110","v":""}]
[{"$f":"'FO-DRE-12'!BD111","v":102},{"$f":"'FO-DRE-12'!BE111","v":""},{"$f":"'FO-DRE-12'!BF111","v":"F/D"},{"$f":"'FO-DRE-12'!BG111","v":"F/D"},{"$f":"'FO-DRE-12'!BH111","v":""},{"$f":"'FO-DRE-12'!BI111","v":""},{"$f":"'FO-DRE-12'!BJ111","v":""},{"$f":"'FO-DRE-12'!BK111","v":""},{"$f":"'FO-DRE-12'!BL111","v":""},{"$f":"'FO-DRE-12'!BM111","v":""},{"$f":"'FO-DRE-12'!BN111","v":""},{"$f":"'FO-DRE-12'!BO111","v":""},{"$f":"'FO-DRE-12'!BP111","v":""},{"$f":"'FO-DRE-12'!BQ111","v":""},{"$f":"'FO-DRE-12'!BR111","v":""},{"$f":"'FO-DRE-12'!BS111","v":""},{"$f":"'FO-DRE-12'!BT111","v":""},{"$f":"'FO-DRE-12'!BU111","v":""},{"$f":"'FO-DRE-12'!BV111","v":""}]
[{"$f":"'FO-DRE-12'!BD112","v":103},{"$f":"'FO-DRE-12'!BE112","v":""},{"$f":"'FO-DRE-12'!BF112","v":"F/D"},{"$f":"'FO-DRE-12'!BG112","v":"F/D"},{"$f":"'FO-DRE-12'!BH112","v":""},{"$f":"'FO-DRE-12'!BI112","v":""},{"$f":"'FO-DRE-12'!BJ112","v":""},{"$f":"'FO-DRE-12'!BK112","v":""},{"$f":"'FO-DRE-12'!BL112","v":""},{"$f":"'FO-DRE-12'!BM112","v":""},{"$f":"'FO-DRE-12'!BN112","v":""},{"$f":"'FO-DRE-12'!BO112","v":""},{"$f":"'FO-DRE-12'!BP112","v":""},{"$f":"'FO-DRE-12'!BQ112","v":""},{"$f":"'FO-DRE-12'!BR112","v":""},{"$f":"'FO-DRE-12'!BS112","v":""},{"$f":"'FO-DRE-12'!BT112","v":""},{"$f":"'FO-DRE-12'!BU112","v":""},{"$f":"'FO-DRE-12'!BV112","v":""}]
[{"$f":"'FO-DRE-12'!BD113","v":104},{"$f":"'FO-DRE-12'!BE113","v":""},{"$f":"'FO-DRE-12'!BF113","v":"F/D"},{"$f":"'FO-DRE-12'!BG113","v":"F/D"},{"$f":"'FO-DRE-12'!BH113","v":""},{"$f":"'FO-DRE-12'!BI113","v":""},{"$f":"'FO-DRE-12'!BJ113","v":""},{"$f":"'FO-DRE-12'!BK113","v":""},{"$f":"'FO-DRE-12'!BL113","v":""},{"$f":"'FO-DRE-12'!BM113","v":""},{"$f":"'FO-DRE-12'!BN113","v":""},{"$f":"'FO-DRE-12'!BO113","v":""},{"$f":"'FO-DRE-12'!BP113","v":""},{"$f":"'FO-DRE-12'!BQ113","v":""},{"$f":"'FO-DRE-12'!BR113","v":""},{"$f":"'FO-DRE-12'!BS113","v":""},{"$f":"'FO-DRE-12'!BT113","v":""},{"$f":"'FO-DRE-12'!BU113","v":""},{"$f":"'FO-DRE-12'!BV113","v":""}]
[{"$f":"'FO-DRE-12'!BD114","v":105},{"$f":"'FO-DRE-12'!BE114","v":""},{"$f":"'FO-DRE-12'!BF114","v":"F/D"},{"$f":"'FO-DRE-12'!BG114","v":"F/D"},{"$f":"'FO-DRE-12'!BH114","v":""},{"$f":"'FO-DRE-12'!BI114","v":""},{"$f":"'FO-DRE-12'!BJ114","v":""},{"$f":"'FO-DRE-12'!BK114","v":""},{"$f":"'FO-DRE-12'!BL114","v":""},{"$f":"'FO-DRE-12'!BM114","v":""},{"$f":"'FO-DRE-12'!BN114","v":""},{"$f":"'FO-DRE-12'!BO114","v":""},{"$f":"'FO-DRE-12'!BP114","v":""},{"$f":"'FO-DRE-12'!BQ114","v":""},{"$f":"'FO-DRE-12'!BR114","v":""},{"$f":"'FO-DRE-12'!BS114","v":""},{"$f":"'FO-DRE-12'!BT114","v":""},{"$f":"'FO-DRE-12'!BU114","v":""},{"$f":"'FO-DRE-12'!BV114","v":""}]
[{"$f":"'FO-DRE-12'!BD115","v":106},{"$f":"'FO-DRE-12'!BE115","v":""},{"$f":"'FO-DRE-12'!BF115","v":"F/D"},{"$f":"'FO-DRE-12'!BG115","v":"F/D"},{"$f":"'FO-DRE-12'!BH115","v":""},{"$f":"'FO-DRE-12'!BI115","v":""},{"$f":"'FO-DRE-12'!BJ115","v":""},{"$f":"'FO-DRE-12'!BK115","v":""},{"$f":"'FO-DRE-12'!BL115","v":""},{"$f":"'FO-DRE-12'!BM115","v":""},{"$f":"'FO-DRE-12'!BN115","v":""},{"$f":"'FO-DRE-12'!BO115","v":""},{"$f":"'FO-DRE-12'!BP115","v":""},{"$f":"'FO-DRE-12'!BQ115","v":""},{"$f":"'FO-DRE-12'!BR115","v":""},{"$f":"'FO-DRE-12'!BS115","v":""},{"$f":"'FO-DRE-12'!BT115","v":""},{"$f":"'FO-DRE-12'!BU115","v":""},{"$f":"'FO-DRE-12'!BV115","v":""}]
[{"$f":"'FO-DRE-12'!BD116","v":107},{"$f":"'FO-DRE-12'!BE116","v":""},{"$f":"'FO-DRE-12'!BF116","v":"F/D"},{"$f":"'FO-DRE-12'!BG116","v":"F/D"},{"$f":"'FO-DRE-12'!BH116","v":""},{"$f":"'FO-DRE-12'!BI116","v":""},{"$f":"'FO-DRE-12'!BJ116","v":""},{"$f":"'FO-DRE-12'!BK116","v":""},{"$f":"'FO-DRE-12'!BL116","v":""},{"$f":"'FO-DRE-12'!BM116","v":""},{"$f":"'FO-DRE-12'!BN116","v":""},{"$f":"'FO-DRE-12'!BO116","v":""},{"$f":"'FO-DRE-12'!BP116","v":""},{"$f":"'FO-DRE-12'!BQ116","v":""},{"$f":"'FO-DRE-12'!BR116","v":""},{"$f":"'FO-DRE-12'!BS116","v":""},{"$f":"'FO-DRE-12'!BT116","v":""},{"$f":"'FO-DRE-12'!BU116","v":""},{"$f":"'FO-DRE-12'!BV116","v":""}]
[{"$f":"'FO-DRE-12'!BD117","v":108},{"$f":"'FO-DRE-12'!BE117","v":""},{"$f":"'FO-DRE-12'!BF117","v":"F/D"},{"$f":"'FO-DRE-12'!BG117","v":"F/D"},{"$f":"'FO-DRE-12'!BH117","v":""},{"$f":"'FO-DRE-12'!BI117","v":""},{"$f":"'FO-DRE-12'!BJ117","v":""},{"$f":"'FO-DRE-12'!BK117","v":""},{"$f":"'FO-DRE-12'!BL117","v":""},{"$f":"'FO-DRE-12'!BM117","v":""},{"$f":"'FO-DRE-12'!BN117","v":""},{"$f":"'FO-DRE-12'!BO117","v":""},{"$f":"'FO-DRE-12'!BP117","v":""},{"$f":"'FO-DRE-12'!BQ117","v":""},{"$f":"'FO-DRE-12'!BR117","v":""},{"$f":"'FO-DRE-12'!BS117","v":""},{"$f":"'FO-DRE-12'!BT117","v":""},{"$f":"'FO-DRE-12'!BU117","v":""},{"$f":"'FO-DRE-12'!BV117","v":""}]
[{"$f":"'FO-DRE-12'!BD118","v":109},{"$f":"'FO-DRE-12'!BE118","v":""},{"$f":"'FO-DRE-12'!BF118","v":"F/D"},{"$f":"'FO-DRE-12'!BG118","v":"F/D"},{"$f":"'FO-DRE-12'!BH118","v":""},{"$f":"'FO-DRE-12'!BI118","v":""},{"$f":"'FO-DRE-12'!BJ118","v":""},{"$f":"'FO-DRE-12'!BK118","v":""},{"$f":"'FO-DRE-12'!BL118","v":""},{"$f":"'FO-DRE-12'!BM118","v":""},{"$f":"'FO-DRE-12'!BN118","v":""},{"$f":"'FO-DRE-12'!BO118","v":""},{"$f":"'FO-DRE-12'!BP118","v":""},{"$f":"'FO-DRE-12'!BQ118","v":""},{"$f":"'FO-DRE-12'!BR118","v":""},{"$f":"'FO-DRE-12'!BS118","v":""},{"$f":"'FO-DRE-12'!BT118","v":""},{"$f":"'FO-DRE-12'!BU118","v":""},{"$f":"'FO-DRE-12'!BV118","v":""}]
[{"$f":"'FO-DRE-12'!BD119","v":110},{"$f":"'FO-DRE-12'!BE119","v":""},{"$f":"'FO-DRE-12'!BF119","v":"F/D"},{"$f":"'FO-DRE-12'!BG119","v":"F/D"},{"$f":"'FO-DRE-12'!BH119","v":""},{"$f":"'FO-DRE-12'!BI119","v":""},{"$f":"'FO-DRE-12'!BJ119","v":""},{"$f":"'FO-DRE-12'!BK119","v":""},{"$f":"'FO-DRE-12'!BL119","v":""},{"$f":"'FO-DRE-12'!BM119","v":""},{"$f":"'FO-DRE-12'!BN119","v":""},{"$f":"'FO-DRE-12'!BO119","v":""},{"$f":"'FO-DRE-12'!BP119","v":""},{"$f":"'FO-DRE-12'!BQ119","v":""},{"$f":"'FO-DRE-12'!BR119","v":""},{"$f":"'FO-DRE-12'!BS119","v":""},{"$f":"'FO-DRE-12'!BT119","v":""},{"$f":"'FO-DRE-12'!BU119","v":""},{"$f":"'FO-DRE-12'!BV119","v":""}]
[{"$f":"'FO-DRE-12'!BD120","v":111},{"$f":"'FO-DRE-12'!BE120","v":""},{"$f":"'FO-DRE-12'!BF120","v":"F/D"},{"$f":"'FO-DRE-12'!BG120","v":"F/D"},{"$f":"'FO-DRE-12'!BH120","v":""},{"$f":"'FO-DRE-12'!BI120","v":""},{"$f":"'FO-DRE-12'!BJ120","v":""},{"$f":"'FO-DRE-12'!BK120","v":""},{"$f":"'FO-DRE-12'!BL120","v":""},{"$f":"'FO-DRE-12'!BM120","v":""},{"$f":"'FO-DRE-12'!BN120","v":""},{"$f":"'FO-DRE-12'!BO120","v":""},{"$f":"'FO-DRE-12'!BP120","v":""},{"$f":"'FO-DRE-12'!BQ120","v":""},{"$f":"'FO-DRE-12'!BR120","v":""},{"$f":"'FO-DRE-12'!BS120","v":""},{"$f":"'FO-DRE-12'!BT120","v":""},{"$f":"'FO-DRE-12'!BU120","v":""},{"$f":"'FO-DRE-12'!BV120","v":""}]
[{"$f":"'FO-DRE-12'!BD121","v":112},{"$f":"'FO-DRE-12'!BE121","v":""},{"$f":"'FO-DRE-12'!BF121","v":"F/D"},{"$f":"'FO-DRE-12'!BG121","v":"F/D"},{"$f":"'FO-DRE-12'!BH121","v":""},{"$f":"'FO-DRE-12'!BI121","v":""},{"$f":"'FO-DRE-12'!BJ121","v":""},{"$f":"'FO-DRE-12'!BK121","v":""},{"$f":"'FO-DRE-12'!BL121","v":""},{"$f":"'FO-DRE-12'!BM121","v":""},{"$f":"'FO-DRE-12'!BN121","v":""},{"$f":"'FO-DRE-12'!BO121","v":""},{"$f":"'FO-DRE-12'!BP121","v":""},{"$f":"'FO-DRE-12'!BQ121","v":""},{"$f":"'FO-DRE-12'!BR121","v":""},{"$f":"'FO-DRE-12'!BS121","v":""},{"$f":"'FO-DRE-12'!BT121","v":""},{"$f":"'FO-DRE-12'!BU121","v":""},{"$f":"'FO-DRE-12'!BV121","v":""}]
[{"$f":"'FO-DRE-12'!BD122","v":113},{"$f":"'FO-DRE-12'!BE122","v":""},{"$f":"'FO-DRE-12'!BF122","v":"F/D"},{"$f":"'FO-DRE-12'!BG122","v":"F/D"},{"$f":"'FO-DRE-12'!BH122","v":""},{"$f":"'FO-DRE-12'!BI122","v":""},{"$f":"'FO-DRE-12'!BJ122","v":""},{"$f":"'FO-DRE-12'!BK122","v":""},{"$f":"'FO-DRE-12'!BL122","v":""},{"$f":"'FO-DRE-12'!BM122","v":""},{"$f":"'FO-DRE-12'!BN122","v":""},{"$f":"'FO-DRE-12'!BO122","v":""},{"$f":"'FO-DRE-12'!BP122","v":""},{"$f":"'FO-DRE-12'!BQ122","v":""},{"$f":"'FO-DRE-12'!BR122","v":""},{"$f":"'FO-DRE-12'!BS122","v":""},{"$f":"'FO-DRE-12'!BT122","v":""},{"$f":"'FO-DRE-12'!BU122","v":""},{"$f":"'FO-DRE-12'!BV122","v":""}]
[{"$f":"'FO-DRE-12'!BD123","v":114},{"$f":"'FO-DRE-12'!BE123","v":""},{"$f":"'FO-DRE-12'!BF123","v":"F/D"},{"$f":"'FO-DRE-12'!BG123","v":"F/D"},{"$f":"'FO-DRE-12'!BH123","v":""},{"$f":"'FO-DRE-12'!BI123","v":""},{"$f":"'FO-DRE-12'!BJ123","v":""},{"$f":"'FO-DRE-12'!BK123","v":""},{"$f":"'FO-DRE-12'!BL123","v":""},{"$f":"'FO-DRE-12'!BM123","v":""},{"$f":"'FO-DRE-12'!BN123","v":""},{"$f":"'FO-DRE-12'!BO123","v":""},{"$f":"'FO-DRE-12'!BP123","v":""},{"$f":"'FO-DRE-12'!BQ123","v":""},{"$f":"'FO-DRE-12'!BR123","v":""},{"$f":"'FO-DRE-12'!BS123","v":""},{"$f":"'FO-DRE-12'!BT123","v":""},{"$f":"'FO-DRE-12'!BU123","v":""},{"$f":"'FO-DRE-12'!BV123","v":""}]
[{"$f":"'FO-DRE-12'!BD124","v":115},{"$f":"'FO-DRE-12'!BE124","v":""},{"$f":"'FO-DRE-12'!BF124","v":"F/D"},{"$f":"'FO-DRE-12'!BG124","v":"F/D"},{"$f":"'FO-DRE-12'!BH124","v":""},{"$f":"'FO-DRE-12'!BI124","v":""},{"$f":"'FO-DRE-12'!BJ124","v":""},{"$f":"'FO-DRE-12'!BK124","v":""},{"$f":"'FO-DRE-12'!BL124","v":""},{"$f":"'FO-DRE-12'!BM124","v":""},{"$f":"'FO-DRE-12'!BN124","v":""},{"$f":"'FO-DRE-12'!BO124","v":""},{"$f":"'FO-DRE-12'!BP124","v":""},{"$f":"'FO-DRE-12'!BQ124","v":""},{"$f":"'FO-DRE-12'!BR124","v":""},{"$f":"'FO-DRE-12'!BS124","v":""},{"$f":"'FO-DRE-12'!BT124","v":""},{"$f":"'FO-DRE-12'!BU124","v":""},{"$f":"'FO-DRE-12'!BV124","v":""}]
[{"$f":"'FO-DRE-12'!BD125","v":116},{"$f":"'FO-DRE-12'!BE125","v":""},{"$f":"'FO-DRE-12'!BF125","v":"F/D"},{"$f":"'FO-DRE-12'!BG125","v":"F/D"},{"$f":"'FO-DRE-12'!BH125","v":""},{"$f":"'FO-DRE-12'!BI125","v":""},{"$f":"'FO-DRE-12'!BJ125","v":""},{"$f":"'FO-DRE-12'!BK125","v":""},{"$f":"'FO-DRE-12'!BL125","v":""},{"$f":"'FO-DRE-12'!BM125","v":""},{"$f":"'FO-DRE-12'!BN125","v":""},{"$f":"'FO-DRE-12'!BO125","v":""},{"$f":"'FO-DRE-12'!BP125","v":""},{"$f":"'FO-DRE-12'!BQ125","v":""},{"$f":"'FO-DRE-12'!BR125","v":""},{"$f":"'FO-DRE-12'!BS125","v":""},{"$f":"'FO-DRE-12'!BT125","v":""},{"$f":"'FO-DRE-12'!BU125","v":""},{"$f":"'FO-DRE-12'!BV125","v":""}]
[{"$f":"'FO-DRE-12'!BD126","v":117},{"$f":"'FO-DRE-12'!BE126","v":""},{"$f":"'FO-DRE-12'!BF126","v":"F/D"},{"$f":"'FO-DRE-12'!BG126","v":"F/D"},{"$f":"'FO-DRE-12'!BH126","v":""},{"$f":"'FO-DRE-12'!BI126","v":""},{"$f":"'FO-DRE-12'!BJ126","v":""},{"$f":"'FO-DRE-12'!BK126","v":""},{"$f":"'FO-DRE-12'!BL126","v":""},{"$f":"'FO-DRE-12'!BM126","v":""},{"$f":"'FO-DRE-12'!BN126","v":""},{"$f":"'FO-DRE-12'!BO126","v":""},{"$f":"'FO-DRE-12'!BP126","v":""},{"$f":"'FO-DRE-12'!BQ126","v":""},{"$f":"'FO-DRE-12'!BR126","v":""},{"$f":"'FO-DRE-12'!BS126","v":""},{"$f":"'FO-DRE-12'!BT126","v":""},{"$f":"'FO-DRE-12'!BU126","v":""},{"$f":"'FO-DRE-12'!BV126","v":""}]
[{"$f":"'FO-DRE-12'!BD127","v":118},{"$f":"'FO-DRE-12'!BE127","v":""},{"$f":"'FO-DRE-12'!BF127","v":"F/D"},{"$f":"'FO-DRE-12'!BG127","v":"F/D"},{"$f":"'FO-DRE-12'!BH127","v":""},{"$f":"'FO-DRE-12'!BI127","v":""},{"$f":"'FO-DRE-12'!BJ127","v":""},{"$f":"'FO-DRE-12'!BK127","v":""},{"$f":"'FO-DRE-12'!BL127","v":""},{"$f":"'FO-DRE-12'!BM127","v":""},{"$f":"'FO-DRE-12'!BN127","v":""},{"$f":"'FO-DRE-12'!BO127","v":""},{"$f":"'FO-DRE-12'!BP127","v":""},{"$f":"'FO-DRE-12'!BQ127","v":""},{"$f":"'FO-DRE-12'!BR127","v":""},{"$f":"'FO-DRE-12'!BS127","v":""},{"$f":"'FO-DRE-12'!BT127","v":""},{"$f":"'FO-DRE-12'!BU127","v":""},{"$f":"'FO-DRE-12'!BV127","v":""}]
[{"$f":"'FO-DRE-12'!BD128","v":119},{"$f":"'FO-DRE-12'!BE128","v":""},{"$f":"'FO-DRE-12'!BF128","v":"F/D"},{"$f":"'FO-DRE-12'!BG128","v":"F/D"},{"$f":"'FO-DRE-12'!BH128","v":""},{"$f":"'FO-DRE-12'!BI128","v":""},{"$f":"'FO-DRE-12'!BJ128","v":""},{"$f":"'FO-DRE-12'!BK128","v":""},{"$f":"'FO-DRE-12'!BL128","v":""},{"$f":"'FO-DRE-12'!BM128","v":""},{"$f":"'FO-DRE-12'!BN128","v":""},{"$f":"'FO-DRE-12'!BO128","v":""},{"$f":"'FO-DRE-12'!BP128","v":""},{"$f":"'FO-DRE-12'!BQ128","v":""},{"$f":"'FO-DRE-12'!BR128","v":""},{"$f":"'FO-DRE-12'!BS128","v":""},{"$f":"'FO-DRE-12'!BT128","v":""},{"$f":"'FO-DRE-12'!BU128","v":""},{"$f":"'FO-DRE-12'!BV128","v":""}]
[{"$f":"'FO-DRE-12'!BD129","v":120},{"$f":"'FO-DRE-12'!BE129","v":""},{"$f":"'FO-DRE-12'!BF129","v":"F/D"},{"$f":"'FO-DRE-12'!BG129","v":"F/D"},{"$f":"'FO-DRE-12'!BH129","v":""},{"$f":"'FO-DRE-12'!BI129","v":""},{"$f":"'FO-DRE-12'!BJ129","v":""},{"$f":"'FO-DRE-12'!BK129","v":""},{"$f":"'FO-DRE-12'!BL129","v":""},{"$f":"'FO-DRE-12'!BM129","v":""},{"$f":"'FO-DRE-12'!BN129","v":""},{"$f":"'FO-DRE-12'!BO129","v":""},{"$f":"'FO-DRE-12'!BP129","v":""},{"$f":"'FO-DRE-12'!BQ129","v":""},{"$f":"'FO-DRE-12'!BR129","v":""},{"$f":"'FO-DRE-12'!BS129","v":""},{"$f":"'FO-DRE-12'!BT129","v":""},{"$f":"'FO-DRE-12'!BU129","v":""},{"$f":"'FO-DRE-12'!BV129","v":""}]
[{"$f":"'FO-DRE-12'!BD130","v":121},{"$f":"'FO-DRE-12'!BE130","v":""},{"$f":"'FO-DRE-12'!BF130","v":"F/D"},{"$f":"'FO-DRE-12'!BG130","v":"F/D"},{"$f":"'FO-DRE-12'!BH130","v":""},{"$f":"'FO-DRE-12'!BI130","v":""},{"$f":"'FO-DRE-12'!BJ130","v":""},{"$f":"'FO-DRE-12'!BK130","v":""},{"$f":"'FO-DRE-12'!BL130","v":""},{"$f":"'FO-DRE-12'!BM130","v":""},{"$f":"'FO-DRE-12'!BN130","v":""},{"$f":"'FO-DRE-12'!BO130","v":""},{"$f":"'FO-DRE-12'!BP130","v":""},{"$f":"'FO-DRE-12'!BQ130","v":""},{"$f":"'FO-DRE-12'!BR130","v":""},{"$f":"'FO-DRE-12'!BS130","v":""},{"$f":"'FO-DRE-12'!BT130","v":""},{"$f":"'FO-DRE-12'!BU130","v":""},{"$f":"'FO-DRE-12'!BV130","v":""}]
[{"$f":"'FO-DRE-12'!BD131","v":122},{"$f":"'FO-DRE-12'!BE131","v":""},{"$f":"'FO-DRE-12'!BF131","v":"F/D"},{"$f":"'FO-DRE-12'!BG131","v":"F/D"},{"$f":"'FO-DRE-12'!BH131","v":""},{"$f":"'FO-DRE-12'!BI131","v":""},{"$f":"'FO-DRE-12'!BJ131","v":""},{"$f":"'FO-DRE-12'!BK131","v":""},{"$f":"'FO-DRE-12'!BL131","v":""},{"$f":"'FO-DRE-12'!BM131","v":""},{"$f":"'FO-DRE-12'!BN131","v":""},{"$f":"'FO-DRE-12'!BO131","v":""},{"$f":"'FO-DRE-12'!BP131","v":""},{"$f":"'FO-DRE-12'!BQ131","v":""},{"$f":"'FO-DRE-12'!BR131","v":""},{"$f":"'FO-DRE-12'!BS131","v":""},{"$f":"'FO-DRE-12'!BT131","v":""},{"$f":"'FO-DRE-12'!BU131","v":""},{"$f":"'FO-DRE-12'!BV131","v":""}]
[{"$f":"'FO-DRE-12'!BD132","v":123},{"$f":"'FO-DRE-12'!BE132","v":""},{"$f":"'FO-DRE-12'!BF132","v":"F/D"},{"$f":"'FO-DRE-12'!BG132","v":"F/D"},{"$f":"'FO-DRE-12'!BH132","v":""},{"$f":"'FO-DRE-12'!BI132","v":""},{"$f":"'FO-DRE-12'!BJ132","v":""},{"$f":"'FO-DRE-12'!BK132","v":""},{"$f":"'FO-DRE-12'!BL132","v":""},{"$f":"'FO-DRE-12'!BM132","v":""},{"$f":"'FO-DRE-12'!BN132","v":""},{"$f":"'FO-DRE-12'!BO132","v":""},{"$f":"'FO-DRE-12'!BP132","v":""},{"$f":"'FO-DRE-12'!BQ132","v":""},{"$f":"'FO-DRE-12'!BR132","v":""},{"$f":"'FO-DRE-12'!BS132","v":""},{"$f":"'FO-DRE-12'!BT132","v":""},{"$f":"'FO-DRE-12'!BU132","v":""},{"$f":"'FO-DRE-12'!BV132","v":""}]
[{"$f":"'FO-DRE-12'!BD133","v":124},{"$f":"'FO-DRE-12'!BE133","v":""},{"$f":"'FO-DRE-12'!BF133","v":"F/D"},{"$f":"'FO-DRE-12'!BG133","v":"F/D"},{"$f":"'FO-DRE-12'!BH133","v":""},{"$f":"'FO-DRE-12'!BI133","v":""},{"$f":"'FO-DRE-12'!BJ133","v":""},{"$f":"'FO-DRE-12'!BK133","v":""},{"$f":"'FO-DRE-12'!BL133","v":""},{"$f":"'FO-DRE-12'!BM133","v":""},{"$f":"'FO-DRE-12'!BN133","v":""},{"$f":"'FO-DRE-12'!BO133","v":""},{"$f":"'FO-DRE-12'!BP133","v":""},{"$f":"'FO-DRE-12'!BQ133","v":""},{"$f":"'FO-DRE-12'!BR133","v":""},{"$f":"'FO-DRE-12'!BS133","v":""},{"$f":"'FO-DRE-12'!BT133","v":""},{"$f":"'FO-DRE-12'!BU133","v":""},{"$f":"'FO-DRE-12'!BV133","v":""}]
[{"$f":"'FO-DRE-12'!BD134","v":125},{"$f":"'FO-DRE-12'!BE134","v":""},{"$f":"'FO-DRE-12'!BF134","v":"F/D"},{"$f":"'FO-DRE-12'!BG134","v":"F/D"},{"$f":"'FO-DRE-12'!BH134","v":""},{"$f":"'FO-DRE-12'!BI134","v":""},{"$f":"'FO-DRE-12'!BJ134","v":""},{"$f":"'FO-DRE-12'!BK134","v":""},{"$f":"'FO-DRE-12'!BL134","v":""},{"$f":"'FO-DRE-12'!BM134","v":""},{"$f":"'FO-DRE-12'!BN134","v":""},{"$f":"'FO-DRE-12'!BO134","v":""},{"$f":"'FO-DRE-12'!BP134","v":""},{"$f":"'FO-DRE-12'!BQ134","v":""},{"$f":"'FO-DRE-12'!BR134","v":""},{"$f":"'FO-DRE-12'!BS134","v":""},{"$f":"'FO-DRE-12'!BT134","v":""},{"$f":"'FO-DRE-12'!BU134","v":""},{"$f":"'FO-DRE-12'!BV134","v":""}]
[{"$f":"'FO-DRE-12'!BD135","v":126},{"$f":"'FO-DRE-12'!BE135","v":""},{"$f":"'FO-DRE-12'!BF135","v":"F/D"},{"$f":"'FO-DRE-12'!BG135","v":"F/D"},{"$f":"'FO-DRE-12'!BH135","v":""},{"$f":"'FO-DRE-12'!BI135","v":""},{"$f":"'FO-DRE-12'!BJ135","v":""},{"$f":"'FO-DRE-12'!BK135","v":""},{"$f":"'FO-DRE-12'!BL135","v":""},{"$f":"'FO-DRE-12'!BM135","v":""},{"$f":"'FO-DRE-12'!BN135","v":""},{"$f":"'FO-DRE-12'!BO135","v":""},{"$f":"'FO-DRE-12'!BP135","v":""},{"$f":"'FO-DRE-12'!BQ135","v":""},{"$f":"'FO-DRE-12'!BR135","v":""},{"$f":"'FO-DRE-12'!BS135","v":""},{"$f":"'FO-DRE-12'!BT135","v":""},{"$f":"'FO-DRE-12'!BU135","v":""},{"$f":"'FO-DRE-12'!BV135","v":""}]
[{"$f":"'FO-DRE-12'!BD136","v":127},{"$f":"'FO-DRE-12'!BE136","v":""},{"$f":"'FO-DRE-12'!BF136","v":"F/D"},{"$f":"'FO-DRE-12'!BG136","v":"F/D"},{"$f":"'FO-DRE-12'!BH136","v":""},{"$f":"'FO-DRE-12'!BI136","v":""},{"$f":"'FO-DRE-12'!BJ136","v":""},{"$f":"'FO-DRE-12'!BK136","v":""},{"$f":"'FO-DRE-12'!BL136","v":""},{"$f":"'FO-DRE-12'!BM136","v":""},{"$f":"'FO-DRE-12'!BN136","v":""},{"$f":"'FO-DRE-12'!BO136","v":""},{"$f":"'FO-DRE-12'!BP136","v":""},{"$f":"'FO-DRE-12'!BQ136","v":""},{"$f":"'FO-DRE-12'!BR136","v":""},{"$f":"'FO-DRE-12'!BS136","v":""},{"$f":"'FO-DRE-12'!BT136","v":""},{"$f":"'FO-DRE-12'!BU136","v":""},{"$f":"'FO-DRE-12'!BV136","v":""}]
[{"$f":"'FO-DRE-12'!BD137","v":128},{"$f":"'FO-DRE-12'!BE137","v":""},{"$f":"'FO-DRE-12'!BF137","v":"F/D"},{"$f":"'FO-DRE-12'!BG137","v":"F/D"},{"$f":"'FO-DRE-12'!BH137","v":""},{"$f":"'FO-DRE-12'!BI137","v":""},{"$f":"'FO-DRE-12'!BJ137","v":""},{"$f":"'FO-DRE-12'!BK137","v":""},{"$f":"'FO-DRE-12'!BL137","v":""},{"$f":"'FO-DRE-12'!BM137","v":""},{"$f":"'FO-DRE-12'!BN137","v":""},{"$f":"'FO-DRE-12'!BO137","v":""},{"$f":"'FO-DRE-12'!BP137","v":""},{"$f":"'FO-DRE-12'!BQ137","v":""},{"$f":"'FO-DRE-12'!BR137","v":""},{"$f":"'FO-DRE-12'!BS137","v":""},{"$f":"'FO-DRE-12'!BT137","v":""},{"$f":"'FO-DRE-12'!BU137","v":""},{"$f":"'FO-DRE-12'!BV137","v":""}]
[{"$f":"'FO-DRE-12'!BD138","v":129},{"$f":"'FO-DRE-12'!BE138","v":""},{"$f":"'FO-DRE-12'!BF138","v":"F/D"},{"$f":"'FO-DRE-12'!BG138","v":"F/D"},{"$f":"'FO-DRE-12'!BH138","v":""},{"$f":"'FO-DRE-12'!BI138","v":""},{"$f":"'FO-DRE-12'!BJ138","v":""},{"$f":"'FO-DRE-12'!BK138","v":""},{"$f":"'FO-DRE-12'!BL138","v":""},{"$f":"'FO-DRE-12'!BM138","v":""},{"$f":"'FO-DRE-12'!BN138","v":""},{"$f":"'FO-DRE-12'!BO138","v":""},{"$f":"'FO-DRE-12'!BP138","v":""},{"$f":"'FO-DRE-12'!BQ138","v":""},{"$f":"'FO-DRE-12'!BR138","v":""},{"$f":"'FO-DRE-12'!BS138","v":""},{"$f":"'FO-DRE-12'!BT138","v":""},{"$f":"'FO-DRE-12'!BU138","v":""},{"$f":"'FO-DRE-12'!BV138","v":""}]
[{"$f":"'FO-DRE-12'!BD139","v":130},{"$f":"'FO-DRE-12'!BE139","v":""},{"$f":"'FO-DRE-12'!BF139","v":"F/D"},{"$f":"'FO-DRE-12'!BG139","v":"F/D"},{"$f":"'FO-DRE-12'!BH139","v":""},{"$f":"'FO-DRE-12'!BI139","v":""},{"$f":"'FO-DRE-12'!BJ139","v":""},{"$f":"'FO-DRE-12'!BK139","v":""},{"$f":"'FO-DRE-12'!BL139","v":""},{"$f":"'FO-DRE-12'!BM139","v":""},{"$f":"'FO-DRE-12'!BN139","v":""},{"$f":"'FO-DRE-12'!BO139","v":""},{"$f":"'FO-DRE-12'!BP139","v":""},{"$f":"'FO-DRE-12'!BQ139","v":""},{"$f":"'FO-DRE-12'!BR139","v":""},{"$f":"'FO-DRE-12'!BS139","v":""},{"$f":"'FO-DRE-12'!BT139","v":""},{"$f":"'FO-DRE-12'!BU139","v":""},{"$f":"'FO-DRE-12'!BV139","v":""}]
[{"$f":"'FO-DRE-12'!BD140","v":131},{"$f":"'FO-DRE-12'!BE140","v":""},{"$f":"'FO-DRE-12'!BF140","v":"F/D"},{"$f":"'FO-DRE-12'!BG140","v":"F/D"},{"$f":"'FO-DRE-12'!BH140","v":""},{"$f":"'FO-DRE-12'!BI140","v":""},{"$f":"'FO-DRE-12'!BJ140","v":""},{"$f":"'FO-DRE-12'!BK140","v":""},{"$f":"'FO-DRE-12'!BL140","v":""},{"$f":"'FO-DRE-12'!BM140","v":""},{"$f":"'FO-DRE-12'!BN140","v":""},{"$f":"'FO-DRE-12'!BO140","v":""},{"$f":"'FO-DRE-12'!BP140","v":""},{"$f":"'FO-DRE-12'!BQ140","v":""},{"$f":"'FO-DRE-12'!BR140","v":""},{"$f":"'FO-DRE-12'!BS140","v":""},{"$f":"'FO-DRE-12'!BT140","v":""},{"$f":"'FO-DRE-12'!BU140","v":""},{"$f":"'FO-DRE-12'!BV140","v":""}]
[{"$f":"'FO-DRE-12'!BD141","v":132},{"$f":"'FO-DRE-12'!BE141","v":""},{"$f":"'FO-DRE-12'!BF141","v":"F/D"},{"$f":"'FO-DRE-12'!BG141","v":"F/D"},{"$f":"'FO-DRE-12'!BH141","v":""},{"$f":"'FO-DRE-12'!BI141","v":""},{"$f":"'FO-DRE-12'!BJ141","v":""},{"$f":"'FO-DRE-12'!BK141","v":""},{"$f":"'FO-DRE-12'!BL141","v":""},{"$f":"'FO-DRE-12'!BM141","v":""},{"$f":"'FO-DRE-12'!BN141","v":""},{"$f":"'FO-DRE-12'!BO141","v":""},{"$f":"'FO-DRE-12'!BP141","v":""},{"$f":"'FO-DRE-12'!BQ141","v":""},{"$f":"'FO-DRE-12'!BR141","v":""},{"$f":"'FO-DRE-12'!BS141","v":""},{"$f":"'FO-DRE-12'!BT141","v":""},{"$f":"'FO-DRE-12'!BU141","v":""},{"$f":"'FO-DRE-12'!BV141","v":""}]
[{"$f":"'FO-DRE-12'!BD142","v":133},{"$f":"'FO-DRE-12'!BE142","v":""},{"$f":"'FO-DRE-12'!BF142","v":"F/D"},{"$f":"'FO-DRE-12'!BG142","v":"F/D"},{"$f":"'FO-DRE-12'!BH142","v":""},{"$f":"'FO-DRE-12'!BI142","v":""},{"$f":"'FO-DRE-12'!BJ142","v":""},{"$f":"'FO-DRE-12'!BK142","v":""},{"$f":"'FO-DRE-12'!BL142","v":""},{"$f":"'FO-DRE-12'!BM142","v":""},{"$f":"'FO-DRE-12'!BN142","v":""},{"$f":"'FO-DRE-12'!BO142","v":""},{"$f":"'FO-DRE-12'!BP142","v":""},{"$f":"'FO-DRE-12'!BQ142","v":""},{"$f":"'FO-DRE-12'!BR142","v":""},{"$f":"'FO-DRE-12'!BS142","v":""},{"$f":"'FO-DRE-12'!BT142","v":""},{"$f":"'FO-DRE-12'!BU142","v":""},{"$f":"'FO-DRE-12'!BV142","v":""}]
[{"$f":"'FO-DRE-12'!BD143","v":134},{"$f":"'FO-DRE-12'!BE143","v":""},{"$f":"'FO-DRE-12'!BF143","v":"F/D"},{"$f":"'FO-DRE-12'!BG143","v":"F/D"},{"$f":"'FO-DRE-12'!BH143","v":""},{"$f":"'FO-DRE-12'!BI143","v":""},{"$f":"'FO-DRE-12'!BJ143","v":""},{"$f":"'FO-DRE-12'!BK143","v":""},{"$f":"'FO-DRE-12'!BL143","v":""},{"$f":"'FO-DRE-12'!BM143","v":""},{"$f":"'FO-DRE-12'!BN143","v":""},{"$f":"'FO-DRE-12'!BO143","v":""},{"$f":"'FO-DRE-12'!BP143","v":""},{"$f":"'FO-DRE-12'!BQ143","v":""},{"$f":"'FO-DRE-12'!BR143","v":""},{"$f":"'FO-DRE-12'!BS143","v":""},{"$f":"'FO-DRE-12'!BT143","v":""},{"$f":"'FO-DRE-12'!BU143","v":""},{"$f":"'FO-DRE-12'!BV143","v":""}]
[{"$f":"'FO-DRE-12'!BD144","v":135},{"$f":"'FO-DRE-12'!BE144","v":""},{"$f":"'FO-DRE-12'!BF144","v":"F/D"},{"$f":"'FO-DRE-12'!BG144","v":"F/D"},{"$f":"'FO-DRE-12'!BH144","v":""},{"$f":"'FO-DRE-12'!BI144","v":""},{"$f":"'FO-DRE-12'!BJ144","v":""},{"$f":"'FO-DRE-12'!BK144","v":""},{"$f":"'FO-DRE-12'!BL144","v":""},{"$f":"'FO-DRE-12'!BM144","v":""},{"$f":"'FO-DRE-12'!BN144","v":""},{"$f":"'FO-DRE-12'!BO144","v":""},{"$f":"'FO-DRE-12'!BP144","v":""},{"$f":"'FO-DRE-12'!BQ144","v":""},{"$f":"'FO-DRE-12'!BR144","v":""},{"$f":"'FO-DRE-12'!BS144","v":""},{"$f":"'FO-DRE-12'!BT144","v":""},{"$f":"'FO-DRE-12'!BU144","v":""},{"$f":"'FO-DRE-12'!BV144","v":""}]
[{"$f":"'FO-DRE-12'!BD145","v":136},{"$f":"'FO-DRE-12'!BE145","v":""},{"$f":"'FO-DRE-12'!BF145","v":"F/D"},{"$f":"'FO-DRE-12'!BG145","v":"F/D"},{"$f":"'FO-DRE-12'!BH145","v":""},{"$f":"'FO-DRE-12'!BI145","v":""},{"$f":"'FO-DRE-12'!BJ145","v":""},{"$f":"'FO-DRE-12'!BK145","v":""},{"$f":"'FO-DRE-12'!BL145","v":""},{"$f":"'FO-DRE-12'!BM145","v":""},{"$f":"'FO-DRE-12'!BN145","v":""},{"$f":"'FO-DRE-12'!BO145","v":""},{"$f":"'FO-DRE-12'!BP145","v":""},{"$f":"'FO-DRE-12'!BQ145","v":""},{"$f":"'FO-DRE-12'!BR145","v":""},{"$f":"'FO-DRE-12'!BS145","v":""},{"$f":"'FO-DRE-12'!BT145","v":""},{"$f":"'FO-DRE-12'!BU145","v":""},{"$f":"'FO-DRE-12'!BV145","v":""}]
[{"$f":"'FO-DRE-12'!BD146","v":137},{"$f":"'FO-DRE-12'!BE146","v":""},{"$f":"'FO-DRE-12'!BF146","v":"F/D"},{"$f":"'FO-DRE-12'!BG146","v":"F/D"},{"$f":"'FO-DRE-12'!BH146","v":""},{"$f":"'FO-DRE-12'!BI146","v":""},{"$f":"'FO-DRE-12'!BJ146","v":""},{"$f":"'FO-DRE-12'!BK146","v":""},{"$f":"'FO-DRE-12'!BL146","v":""},{"$f":"'FO-DRE-12'!BM146","v":""},{"$f":"'FO-DRE-12'!BN146","v":""},{"$f":"'FO-DRE-12'!BO146","v":""},{"$f":"'FO-DRE-12'!BP146","v":""},{"$f":"'FO-DRE-12'!BQ146","v":""},{"$f":"'FO-DRE-12'!BR146","v":""},{"$f":"'FO-DRE-12'!BS146","v":""},{"$f":"'FO-DRE-12'!BT146","v":""},{"$f":"'FO-DRE-12'!BU146","v":""},{"$f":"'FO-DRE-12'!BV146","v":""}]
[{"$f":"'FO-DRE-12'!BD147","v":138},{"$f":"'FO-DRE-12'!BE147","v":""},{"$f":"'FO-DRE-12'!BF147","v":"F/D"},{"$f":"'FO-DRE-12'!BG147","v":"F/D"},{"$f":"'FO-DRE-12'!BH147","v":""},{"$f":"'FO-DRE-12'!BI147","v":""},{"$f":"'FO-DRE-12'!BJ147","v":""},{"$f":"'FO-DRE-12'!BK147","v":""},{"$f":"'FO-DRE-12'!BL147","v":""},{"$f":"'FO-DRE-12'!BM147","v":""},{"$f":"'FO-DRE-12'!BN147","v":""},{"$f":"'FO-DRE-12'!BO147","v":""},{"$f":"'FO-DRE-12'!BP147","v":""},{"$f":"'FO-DRE-12'!BQ147","v":""},{"$f":"'FO-DRE-12'!BR147","v":""},{"$f":"'FO-DRE-12'!BS147","v":""},{"$f":"'FO-DRE-12'!BT147","v":""},{"$f":"'FO-DRE-12'!BU147","v":""},{"$f":"'FO-DRE-12'!BV147","v":""}]
[{"$f":"'FO-DRE-12'!BD148","v":139},{"$f":"'FO-DRE-12'!BE148","v":""},{"$f":"'FO-DRE-12'!BF148","v":"F/D"},{"$f":"'FO-DRE-12'!BG148","v":"F/D"},{"$f":"'FO-DRE-12'!BH148","v":""},{"$f":"'FO-DRE-12'!BI148","v":""},{"$f":"'FO-DRE-12'!BJ148","v":""},{"$f":"'FO-DRE-12'!BK148","v":""},{"$f":"'FO-DRE-12'!BL148","v":""},{"$f":"'FO-DRE-12'!BM148","v":""},{"$f":"'FO-DRE-12'!BN148","v":""},{"$f":"'FO-DRE-12'!BO148","v":""},{"$f":"'FO-DRE-12'!BP148","v":""},{"$f":"'FO-DRE-12'!BQ148","v":""},{"$f":"'FO-DRE-12'!BR148","v":""},{"$f":"'FO-DRE-12'!BS148","v":""},{"$f":"'FO-DRE-12'!BT148","v":""},{"$f":"'FO-DRE-12'!BU148","v":""},{"$f":"'FO-DRE-12'!BV148","v":""}]
[{"$f":"'FO-DRE-12'!BD149","v":140},{"$f":"'FO-DRE-12'!BE149","v":""},{"$f":"'FO-DRE-12'!BF149","v":"F/D"},{"$f":"'FO-DRE-12'!BG149","v":"F/D"},{"$f":"'FO-DRE-12'!BH149","v":""},{"$f":"'FO-DRE-12'!BI149","v":""},{"$f":"'FO-DRE-12'!BJ149","v":""},{"$f":"'FO-DRE-12'!BK149","v":""},{"$f":"'FO-DRE-12'!BL149","v":""},{"$f":"'FO-DRE-12'!BM149","v":""},{"$f":"'FO-DRE-12'!BN149","v":""},{"$f":"'FO-DRE-12'!BO149","v":""},{"$f":"'FO-DRE-12'!BP149","v":""},{"$f":"'FO-DRE-12'!BQ149","v":""},{"$f":"'FO-DRE-12'!BR149","v":""},{"$f":"'FO-DRE-12'!BS149","v":""},{"$f":"'FO-DRE-12'!BT149","v":""},{"$f":"'FO-DRE-12'!BU149","v":""},{"$f":"'FO-DRE-12'!BV149","v":""}]
[{"$f":"'FO-DRE-12'!BD150","v":141},{"$f":"'FO-DRE-12'!BE150","v":""},{"$f":"'FO-DRE-12'!BF150","v":"F/D"},{"$f":"'FO-DRE-12'!BG150","v":"F/D"},{"$f":"'FO-DRE-12'!BH150","v":""},{"$f":"'FO-DRE-12'!BI150","v":""},{"$f":"'FO-DRE-12'!BJ150","v":""},{"$f":"'FO-DRE-12'!BK150","v":""},{"$f":"'FO-DRE-12'!BL150","v":""},{"$f":"'FO-DRE-12'!BM150","v":""},{"$f":"'FO-DRE-12'!BN150","v":""},{"$f":"'FO-DRE-12'!BO150","v":""},{"$f":"'FO-DRE-12'!BP150","v":""},{"$f":"'FO-DRE-12'!BQ150","v":""},{"$f":"'FO-DRE-12'!BR150","v":""},{"$f":"'FO-DRE-12'!BS150","v":""},{"$f":"'FO-DRE-12'!BT150","v":""},{"$f":"'FO-DRE-12'!BU150","v":""},{"$f":"'FO-DRE-12'!BV150","v":""}]
[{"$f":"'FO-DRE-12'!BD151","v":142},{"$f":"'FO-DRE-12'!BE151","v":""},{"$f":"'FO-DRE-12'!BF151","v":"F/D"},{"$f":"'FO-DRE-12'!BG151","v":"F/D"},{"$f":"'FO-DRE-12'!BH151","v":""},{"$f":"'FO-DRE-12'!BI151","v":""},{"$f":"'FO-DRE-12'!BJ151","v":""},{"$f":"'FO-DRE-12'!BK151","v":""},{"$f":"'FO-DRE-12'!BL151","v":""},{"$f":"'FO-DRE-12'!BM151","v":""},{"$f":"'FO-DRE-12'!BN151","v":""},{"$f":"'FO-DRE-12'!BO151","v":""},{"$f":"'FO-DRE-12'!BP151","v":""},{"$f":"'FO-DRE-12'!BQ151","v":""},{"$f":"'FO-DRE-12'!BR151","v":""},{"$f":"'FO-DRE-12'!BS151","v":""},{"$f":"'FO-DRE-12'!BT151","v":""},{"$f":"'FO-DRE-12'!BU151","v":""},{"$f":"'FO-DRE-12'!BV151","v":""}]
[{"$f":"'FO-DRE-12'!BD152","v":143},{"$f":"'FO-DRE-12'!BE152","v":""},{"$f":"'FO-DRE-12'!BF152","v":"F/D"},{"$f":"'FO-DRE-12'!BG152","v":"F/D"},{"$f":"'FO-DRE-12'!BH152","v":""},{"$f":"'FO-DRE-12'!BI152","v":""},{"$f":"'FO-DRE-12'!BJ152","v":""},{"$f":"'FO-DRE-12'!BK152","v":""},{"$f":"'FO-DRE-12'!BL152","v":""},{"$f":"'FO-DRE-12'!BM152","v":""},{"$f":"'FO-DRE-12'!BN152","v":""},{"$f":"'FO-DRE-12'!BO152","v":""},{"$f":"'FO-DRE-12'!BP152","v":""},{"$f":"'FO-DRE-12'!BQ152","v":""},{"$f":"'FO-DRE-12'!BR152","v":""},{"$f":"'FO-DRE-12'!BS152","v":""},{"$f":"'FO-DRE-12'!BT152","v":""},{"$f":"'FO-DRE-12'!BU152","v":""},{"$f":"'FO-DRE-12'!BV152","v":""}]
[{"$f":"'FO-DRE-12'!BD153","v":144},{"$f":"'FO-DRE-12'!BE153","v":""},{"$f":"'FO-DRE-12'!BF153","v":"F/D"},{"$f":"'FO-DRE-12'!BG153","v":"F/D"},{"$f":"'FO-DRE-12'!BH153","v":""},{"$f":"'FO-DRE-12'!BI153","v":""},{"$f":"'FO-DRE-12'!BJ153","v":""},{"$f":"'FO-DRE-12'!BK153","v":""},{"$f":"'FO-DRE-12'!BL153","v":""},{"$f":"'FO-DRE-12'!BM153","v":""},{"$f":"'FO-DRE-12'!BN153","v":""},{"$f":"'FO-DRE-12'!BO153","v":""},{"$f":"'FO-DRE-12'!BP153","v":""},{"$f":"'FO-DRE-12'!BQ153","v":""},{"$f":"'FO-DRE-12'!BR153","v":""},{"$f":"'FO-DRE-12'!BS153","v":""},{"$f":"'FO-DRE-12'!BT153","v":""},{"$f":"'FO-DRE-12'!BU153","v":""},{"$f":"'FO-DRE-12'!BV153","v":""}]
[{"$f":"'FO-DRE-12'!BD154","v":145},{"$f":"'FO-DRE-12'!BE154","v":""},{"$f":"'FO-DRE-12'!BF154","v":"F/D"},{"$f":"'FO-DRE-12'!BG154","v":"F/D"},{"$f":"'FO-DRE-12'!BH154","v":""},{"$f":"'FO-DRE-12'!BI154","v":""},{"$f":"'FO-DRE-12'!BJ154","v":""},{"$f":"'FO-DRE-12'!BK154","v":""},{"$f":"'FO-DRE-12'!BL154","v":""},{"$f":"'FO-DRE-12'!BM154","v":""},{"$f":"'FO-DRE-12'!BN154","v":""},{"$f":"'FO-DRE-12'!BO154","v":""},{"$f":"'FO-DRE-12'!BP154","v":""},{"$f":"'FO-DRE-12'!BQ154","v":""},{"$f":"'FO-DRE-12'!BR154","v":""},{"$f":"'FO-DRE-12'!BS154","v":""},{"$f":"'FO-DRE-12'!BT154","v":""},{"$f":"'FO-DRE-12'!BU154","v":""},{"$f":"'FO-DRE-12'!BV154","v":""}]
[{"$f":"'FO-DRE-12'!BD155","v":146},{"$f":"'FO-DRE-12'!BE155","v":""},{"$f":"'FO-DRE-12'!BF155","v":"F/D"},{"$f":"'FO-DRE-12'!BG155","v":"F/D"},{"$f":"'FO-DRE-12'!BH155","v":""},{"$f":"'FO-DRE-12'!BI155","v":""},{"$f":"'FO-DRE-12'!BJ155","v":""},{"$f":"'FO-DRE-12'!BK155","v":""},{"$f":"'FO-DRE-12'!BL155","v":""},{"$f":"'FO-DRE-12'!BM155","v":""},{"$f":"'FO-DRE-12'!BN155","v":""},{"$f":"'FO-DRE-12'!BO155","v":""},{"$f":"'FO-DRE-12'!BP155","v":""},{"$f":"'FO-DRE-12'!BQ155","v":""},{"$f":"'FO-DRE-12'!BR155","v":""},{"$f":"'FO-DRE-12'!BS155","v":""},{"$f":"'FO-DRE-12'!BT155","v":""},{"$f":"'FO-DRE-12'!BU155","v":""},{"$f":"'FO-DRE-12'!BV155","v":""}]
[{"$f":"'FO-DRE-12'!BD156","v":147},{"$f":"'FO-DRE-12'!BE156","v":""},{"$f":"'FO-DRE-12'!BF156","v":"F/D"},{"$f":"'FO-DRE-12'!BG156","v":"F/D"},{"$f":"'FO-DRE-12'!BH156","v":""},{"$f":"'FO-DRE-12'!BI156","v":""},{"$f":"'FO-DRE-12'!BJ156","v":""},{"$f":"'FO-DRE-12'!BK156","v":""},{"$f":"'FO-DRE-12'!BL156","v":""},{"$f":"'FO-DRE-12'!BM156","v":""},{"$f":"'FO-DRE-12'!BN156","v":""},{"$f":"'FO-DRE-12'!BO156","v":""},{"$f":"'FO-DRE-12'!BP156","v":""},{"$f":"'FO-DRE-12'!BQ156","v":""},{"$f":"'FO-DRE-12'!BR156","v":""},{"$f":"'FO-DRE-12'!BS156","v":""},{"$f":"'FO-DRE-12'!BT156","v":""},{"$f":"'FO-DRE-12'!BU156","v":""},{"$f":"'FO-DRE-12'!BV156","v":""}]
[{"$f":"'FO-DRE-12'!BD157","v":148},{"$f":"'FO-DRE-12'!BE157","v":""},{"$f":"'FO-DRE-12'!BF157","v":"F/D"},{"$f":"'FO-DRE-12'!BG157","v":"F/D"},{"$f":"'FO-DRE-12'!BH157","v":""},{"$f":"'FO-DRE-12'!BI157","v":""},{"$f":"'FO-DRE-12'!BJ157","v":""},{"$f":"'FO-DRE-12'!BK157","v":""},{"$f":"'FO-DRE-12'!BL157","v":""},{"$f":"'FO-DRE-12'!BM157","v":""},{"$f":"'FO-DRE-12'!BN157","v":""},{"$f":"'FO-DRE-12'!BO157","v":""},{"$f":"'FO-DRE-12'!BP157","v":""},{"$f":"'FO-DRE-12'!BQ157","v":""},{"$f":"'FO-DRE-12'!BR157","v":""},{"$f":"'FO-DRE-12'!BS157","v":""},{"$f":"'FO-DRE-12'!BT157","v":""},{"$f":"'FO-DRE-12'!BU157","v":""},{"$f":"'FO-DRE-12'!BV157","v":""}]
[{"$f":"'FO-DRE-12'!BD158","v":149},{"$f":"'FO-DRE-12'!BE158","v":""},{"$f":"'FO-DRE-12'!BF158","v":"F/D"},{"$f":"'FO-DRE-12'!BG158","v":"F/D"},{"$f":"'FO-DRE-12'!BH158","v":""},{"$f":"'FO-DRE-12'!BI158","v":""},{"$f":"'FO-DRE-12'!BJ158","v":""},{"$f":"'FO-DRE-12'!BK158","v":""},{"$f":"'FO-DRE-12'!BL158","v":""},{"$f":"'FO-DRE-12'!BM158","v":""},{"$f":"'FO-DRE-12'!BN158","v":""},{"$f":"'FO-DRE-12'!BO158","v":""},{"$f":"'FO-DRE-12'!BP158","v":""},{"$f":"'FO-DRE-12'!BQ158","v":""},{"$f":"'FO-DRE-12'!BR158","v":""},{"$f":"'FO-DRE-12'!BS158","v":""},{"$f":"'FO-DRE-12'!BT158","v":""},{"$f":"'FO-DRE-12'!BU158","v":""},{"$f":"'FO-DRE-12'!BV158","v":""}]
[{"$f":"'FO-DRE-12'!BD159","v":150},{"$f":"'FO-DRE-12'!BE159","v":""},{"$f":"'FO-DRE-12'!BF159","v":"F/D"},{"$f":"'FO-DRE-12'!BG159","v":"F/D"},{"$f":"'FO-DRE-12'!BH159","v":""},{"$f":"'FO-DRE-12'!BI159","v":""},{"$f":"'FO-DRE-12'!BJ159","v":""},{"$f":"'FO-DRE-12'!BK159","v":""},{"$f":"'FO-DRE-12'!BL159","v":""},{"$f":"'FO-DRE-12'!BM159","v":""},{"$f":"'FO-DRE-12'!BN159","v":""},{"$f":"'FO-DRE-12'!BO159","v":""},{"$f":"'FO-DRE-12'!BP159","v":""},{"$f":"'FO-DRE-12'!BQ159","v":""},{"$f":"'FO-DRE-12'!BR159","v":""},{"$f":"'FO-DRE-12'!BS159","v":""},{"$f":"'FO-DRE-12'!BT159","v":""},{"$f":"'FO-DRE-12'!BU159","v":""},{"$f":"'FO-DRE-12'!BV159","v":""}]
[{"$f":"'FO-DRE-12'!BD160","v":151},{"$f":"'FO-DRE-12'!BE160","v":""},{"$f":"'FO-DRE-12'!BF160","v":"F/D"},{"$f":"'FO-DRE-12'!BG160","v":"F/D"},{"$f":"'FO-DRE-12'!BH160","v":""},{"$f":"'FO-DRE-12'!BI160","v":""},{"$f":"'FO-DRE-12'!BJ160","v":""},{"$f":"'FO-DRE-12'!BK160","v":""},{"$f":"'FO-DRE-12'!BL160","v":""},{"$f":"'FO-DRE-12'!BM160","v":""},{"$f":"'FO-DRE-12'!BN160","v":""},{"$f":"'FO-DRE-12'!BO160","v":""},{"$f":"'FO-DRE-12'!BP160","v":""},{"$f":"'FO-DRE-12'!BQ160","v":""},{"$f":"'FO-DRE-12'!BR160","v":""},{"$f":"'FO-DRE-12'!BS160","v":""},{"$f":"'FO-DRE-12'!BT160","v":""},{"$f":"'FO-DRE-12'!BU160","v":""},{"$f":"'FO-DRE-12'!BV160","v":""}]
[{"$f":"'FO-DRE-12'!BD161","v":152},{"$f":"'FO-DRE-12'!BE161","v":""},{"$f":"'FO-DRE-12'!BF161","v":"F/D"},{"$f":"'FO-DRE-12'!BG161","v":"F/D"},{"$f":"'FO-DRE-12'!BH161","v":""},{"$f":"'FO-DRE-12'!BI161","v":""},{"$f":"'FO-DRE-12'!BJ161","v":""},{"$f":"'FO-DRE-12'!BK161","v":""},{"$f":"'FO-DRE-12'!BL161","v":""},{"$f":"'FO-DRE-12'!BM161","v":""},{"$f":"'FO-DRE-12'!BN161","v":""},{"$f":"'FO-DRE-12'!BO161","v":""},{"$f":"'FO-DRE-12'!BP161","v":""},{"$f":"'FO-DRE-12'!BQ161","v":""},{"$f":"'FO-DRE-12'!BR161","v":""},{"$f":"'FO-DRE-12'!BS161","v":""},{"$f":"'FO-DRE-12'!BT161","v":""},{"$f":"'FO-DRE-12'!BU161","v":""},{"$f":"'FO-DRE-12'!BV161","v":""}]
[{"$f":"'FO-DRE-12'!BD162","v":153},{"$f":"'FO-DRE-12'!BE162","v":""},{"$f":"'FO-DRE-12'!BF162","v":"F/D"},{"$f":"'FO-DRE-12'!BG162","v":"F/D"},{"$f":"'FO-DRE-12'!BH162","v":""},{"$f":"'FO-DRE-12'!BI162","v":""},{"$f":"'FO-DRE-12'!BJ162","v":""},{"$f":"'FO-DRE-12'!BK162","v":""},{"$f":"'FO-DRE-12'!BL162","v":""},{"$f":"'FO-DRE-12'!BM162","v":""},{"$f":"'FO-DRE-12'!BN162","v":""},{"$f":"'FO-DRE-12'!BO162","v":""},{"$f":"'FO-DRE-12'!BP162","v":""},{"$f":"'FO-DRE-12'!BQ162","v":""},{"$f":"'FO-DRE-12'!BR162","v":""},{"$f":"'FO-DRE-12'!BS162","v":""},{"$f":"'FO-DRE-12'!BT162","v":""},{"$f":"'FO-DRE-12'!BU162","v":""},{"$f":"'FO-DRE-12'!BV162","v":""}]
[{"$f":"'FO-DRE-12'!BD163","v":154},{"$f":"'FO-DRE-12'!BE163","v":""},{"$f":"'FO-DRE-12'!BF163","v":"F/D"},{"$f":"'FO-DRE-12'!BG163","v":"F/D"},{"$f":"'FO-DRE-12'!BH163","v":""},{"$f":"'FO-DRE-12'!BI163","v":""},{"$f":"'FO-DRE-12'!BJ163","v":""},{"$f":"'FO-DRE-12'!BK163","v":""},{"$f":"'FO-DRE-12'!BL163","v":""},{"$f":"'FO-DRE-12'!BM163","v":""},{"$f":"'FO-DRE-12'!BN163","v":""},{"$f":"'FO-DRE-12'!BO163","v":""},{"$f":"'FO-DRE-12'!BP163","v":""},{"$f":"'FO-DRE-12'!BQ163","v":""},{"$f":"'FO-DRE-12'!BR163","v":""},{"$f":"'FO-DRE-12'!BS163","v":""},{"$f":"'FO-DRE-12'!BT163","v":""},{"$f":"'FO-DRE-12'!BU163","v":""},{"$f":"'FO-DRE-12'!BV163","v":""}]
[{"$f":"'FO-DRE-12'!BD164","v":155},{"$f":"'FO-DRE-12'!BE164","v":""},{"$f":"'FO-DRE-12'!BF164","v":"F/D"},{"$f":"'FO-DRE-12'!BG164","v":"F/D"},{"$f":"'FO-DRE-12'!BH164","v":""},{"$f":"'FO-DRE-12'!BI164","v":""},{"$f":"'FO-DRE-12'!BJ164","v":""},{"$f":"'FO-DRE-12'!BK164","v":""},{"$f":"'FO-DRE-12'!BL164","v":""},{"$f":"'FO-DRE-12'!BM164","v":""},{"$f":"'FO-DRE-12'!BN164","v":""},{"$f":"'FO-DRE-12'!BO164","v":""},{"$f":"'FO-DRE-12'!BP164","v":""},{"$f":"'FO-DRE-12'!BQ164","v":""},{"$f":"'FO-DRE-12'!BR164","v":""},{"$f":"'FO-DRE-12'!BS164","v":""},{"$f":"'FO-DRE-12'!BT164","v":""},{"$f":"'FO-DRE-12'!BU164","v":""},{"$f":"'FO-DRE-12'!BV164","v":""}]
[{"$f":"'FO-DRE-12'!BD165","v":156},{"$f":"'FO-DRE-12'!BE165","v":""},{"$f":"'FO-DRE-12'!BF165","v":"F/D"},{"$f":"'FO-DRE-12'!BG165","v":"F/D"},{"$f":"'FO-DRE-12'!BH165","v":""},{"$f":"'FO-DRE-12'!BI165","v":""},{"$f":"'FO-DRE-12'!BJ165","v":""},{"$f":"'FO-DRE-12'!BK165","v":""},{"$f":"'FO-DRE-12'!BL165","v":""},{"$f":"'FO-DRE-12'!BM165","v":""},{"$f":"'FO-DRE-12'!BN165","v":""},{"$f":"'FO-DRE-12'!BO165","v":""},{"$f":"'FO-DRE-12'!BP165","v":""},{"$f":"'FO-DRE-12'!BQ165","v":""},{"$f":"'FO-DRE-12'!BR165","v":""},{"$f":"'FO-DRE-12'!BS165","v":""},{"$f":"'FO-DRE-12'!BT165","v":""},{"$f":"'FO-DRE-12'!BU165","v":""},{"$f":"'FO-DRE-12'!BV165","v":""}]
[{"$f":"'FO-DRE-12'!BD166","v":157},{"$f":"'FO-DRE-12'!BE166","v":""},{"$f":"'FO-DRE-12'!BF166","v":"F/D"},{"$f":"'FO-DRE-12'!BG166","v":"F/D"},{"$f":"'FO-DRE-12'!BH166","v":""},{"$f":"'FO-DRE-12'!BI166","v":""},{"$f":"'FO-DRE-12'!BJ166","v":""},{"$f":"'FO-DRE-12'!BK166","v":""},{"$f":"'FO-DRE-12'!BL166","v":""},{"$f":"'FO-DRE-12'!BM166","v":""},{"$f":"'FO-DRE-12'!BN166","v":""},{"$f":"'FO-DRE-12'!BO166","v":""},{"$f":"'FO-DRE-12'!BP166","v":""},{"$f":"'FO-DRE-12'!BQ166","v":""},{"$f":"'FO-DRE-12'!BR166","v":""},{"$f":"'FO-DRE-12'!BS166","v":""},{"$f":"'FO-DRE-12'!BT166","v":""},{"$f":"'FO-DRE-12'!BU166","v":""},{"$f":"'FO-DRE-12'!BV166","v":""}]
[{"$f":"'FO-DRE-12'!BD167","v":158},{"$f":"'FO-DRE-12'!BE167","v":""},{"$f":"'FO-DRE-12'!BF167","v":"F/D"},{"$f":"'FO-DRE-12'!BG167","v":"F/D"},{"$f":"'FO-DRE-12'!BH167","v":""},{"$f":"'FO-DRE-12'!BI167","v":""},{"$f":"'FO-DRE-12'!BJ167","v":""},{"$f":"'FO-DRE-12'!BK167","v":""},{"$f":"'FO-DRE-12'!BL167","v":""},{"$f":"'FO-DRE-12'!BM167","v":""},{"$f":"'FO-DRE-12'!BN167","v":""},{"$f":"'FO-DRE-12'!BO167","v":""},{"$f":"'FO-DRE-12'!BP167","v":""},{"$f":"'FO-DRE-12'!BQ167","v":""},{"$f":"'FO-DRE-12'!BR167","v":""},{"$f":"'FO-DRE-12'!BS167","v":""},{"$f":"'FO-DRE-12'!BT167","v":""},{"$f":"'FO-DRE-12'!BU167","v":""},{"$f":"'FO-DRE-12'!BV167","v":""}]
[{"$f":"'FO-DRE-12'!BD168","v":159},{"$f":"'FO-DRE-12'!BE168","v":""},{"$f":"'FO-DRE-12'!BF168","v":"F/D"},{"$f":"'FO-DRE-12'!BG168","v":"F/D"},{"$f":"'FO-DRE-12'!BH168","v":""},{"$f":"'FO-DRE-12'!BI168","v":""},{"$f":"'FO-DRE-12'!BJ168","v":""},{"$f":"'FO-DRE-12'!BK168","v":""},{"$f":"'FO-DRE-12'!BL168","v":""},{"$f":"'FO-DRE-12'!BM168","v":""},{"$f":"'FO-DRE-12'!BN168","v":""},{"$f":"'FO-DRE-12'!BO168","v":""},{"$f":"'FO-DRE-12'!BP168","v":""},{"$f":"'FO-DRE-12'!BQ168","v":""},{"$f":"'FO-DRE-12'!BR168","v":""},{"$f":"'FO-DRE-12'!BS168","v":""},{"$f":"'FO-DRE-12'!BT168","v":""},{"$f":"'FO-DRE-12'!BU168","v":""},{"$f":"'FO-DRE-12'!BV168","v":""}]
[{"$f":"'FO-DRE-12'!BD169","v":160},{"$f":"'FO-DRE-12'!BE169","v":""},{"$f":"'FO-DRE-12'!BF169","v":"F/D"},{"$f":"'FO-DRE-12'!BG169","v":"F/D"},{"$f":"'FO-DRE-12'!BH169","v":""},{"$f":"'FO-DRE-12'!BI169","v":""},{"$f":"'FO-DRE-12'!BJ169","v":""},{"$f":"'FO-DRE-12'!BK169","v":""},{"$f":"'FO-DRE-12'!BL169","v":""},{"$f":"'FO-DRE-12'!BM169","v":""},{"$f":"'FO-DRE-12'!BN169","v":""},{"$f":"'FO-DRE-12'!BO169","v":""},{"$f":"'FO-DRE-12'!BP169","v":""},{"$f":"'FO-DRE-12'!BQ169","v":""},{"$f":"'FO-DRE-12'!BR169","v":""},{"$f":"'FO-DRE-12'!BS169","v":""},{"$f":"'FO-DRE-12'!BT169","v":""},{"$f":"'FO-DRE-12'!BU169","v":""},{"$f":"'FO-DRE-12'!BV169","v":""}]
[{"$f":"'FO-DRE-12'!BD170","v":161},{"$f":"'FO-DRE-12'!BE170","v":""},{"$f":"'FO-DRE-12'!BF170","v":"F/D"},{"$f":"'FO-DRE-12'!BG170","v":"F/D"},{"$f":"'FO-DRE-12'!BH170","v":""},{"$f":"'FO-DRE-12'!BI170","v":""},{"$f":"'FO-DRE-12'!BJ170","v":""},{"$f":"'FO-DRE-12'!BK170","v":""},{"$f":"'FO-DRE-12'!BL170","v":""},{"$f":"'FO-DRE-12'!BM170","v":""},{"$f":"'FO-DRE-12'!BN170","v":""},{"$f":"'FO-DRE-12'!BO170","v":""},{"$f":"'FO-DRE-12'!BP170","v":""},{"$f":"'FO-DRE-12'!BQ170","v":""},{"$f":"'FO-DRE-12'!BR170","v":""},{"$f":"'FO-DRE-12'!BS170","v":""},{"$f":"'FO-DRE-12'!BT170","v":""},{"$f":"'FO-DRE-12'!BU170","v":""},{"$f":"'FO-DRE-12'!BV170","v":""}]
[{"$f":"'FO-DRE-12'!BD171","v":162},{"$f":"'FO-DRE-12'!BE171","v":""},{"$f":"'FO-DRE-12'!BF171","v":"F/D"},{"$f":"'FO-DRE-12'!BG171","v":"F/D"},{"$f":"'FO-DRE-12'!BH171","v":""},{"$f":"'FO-DRE-12'!BI171","v":""},{"$f":"'FO-DRE-12'!BJ171","v":""},{"$f":"'FO-DRE-12'!BK171","v":""},{"$f":"'FO-DRE-12'!BL171","v":""},{"$f":"'FO-DRE-12'!BM171","v":""},{"$f":"'FO-DRE-12'!BN171","v":""},{"$f":"'FO-DRE-12'!BO171","v":""},{"$f":"'FO-DRE-12'!BP171","v":""},{"$f":"'FO-DRE-12'!BQ171","v":""},{"$f":"'FO-DRE-12'!BR171","v":""},{"$f":"'FO-DRE-12'!BS171","v":""},{"$f":"'FO-DRE-12'!BT171","v":""},{"$f":"'FO-DRE-12'!BU171","v":""},{"$f":"'FO-DRE-12'!BV171","v":""}]
[{"$f":"'FO-DRE-12'!BD172","v":163},{"$f":"'FO-DRE-12'!BE172","v":""},{"$f":"'FO-DRE-12'!BF172","v":"F/D"},{"$f":"'FO-DRE-12'!BG172","v":"F/D"},{"$f":"'FO-DRE-12'!BH172","v":""},{"$f":"'FO-DRE-12'!BI172","v":""},{"$f":"'FO-DRE-12'!BJ172","v":""},{"$f":"'FO-DRE-12'!BK172","v":""},{"$f":"'FO-DRE-12'!BL172","v":""},{"$f":"'FO-DRE-12'!BM172","v":""},{"$f":"'FO-DRE-12'!BN172","v":""},{"$f":"'FO-DRE-12'!BO172","v":""},{"$f":"'FO-DRE-12'!BP172","v":""},{"$f":"'FO-DRE-12'!BQ172","v":""},{"$f":"'FO-DRE-12'!BR172","v":""},{"$f":"'FO-DRE-12'!BS172","v":""},{"$f":"'FO-DRE-12'!BT172","v":""},{"$f":"'FO-DRE-12'!BU172","v":""},{"$f":"'FO-DRE-12'!BV172","v":""}]
[{"$f":"'FO-DRE-12'!BD173","v":164},{"$f":"'FO-DRE-12'!BE173","v":""},{"$f":"'FO-DRE-12'!BF173","v":"F/D"},{"$f":"'FO-DRE-12'!BG173","v":"F/D"},{"$f":"'FO-DRE-12'!BH173","v":""},{"$f":"'FO-DRE-12'!BI173","v":""},{"$f":"'FO-DRE-12'!BJ173","v":""},{"$f":"'FO-DRE-12'!BK173","v":""},{"$f":"'FO-DRE-12'!BL173","v":""},{"$f":"'FO-DRE-12'!BM173","v":""},{"$f":"'FO-DRE-12'!BN173","v":""},{"$f":"'FO-DRE-12'!BO173","v":""},{"$f":"'FO-DRE-12'!BP173","v":""},{"$f":"'FO-DRE-12'!BQ173","v":""},{"$f":"'FO-DRE-12'!BR173","v":""},{"$f":"'FO-DRE-12'!BS173","v":""},{"$f":"'FO-DRE-12'!BT173","v":""},{"$f":"'FO-DRE-12'!BU173","v":""},{"$f":"'FO-DRE-12'!BV173","v":""}]
[{"$f":"'FO-DRE-12'!BD174","v":165},{"$f":"'FO-DRE-12'!BE174","v":""},{"$f":"'FO-DRE-12'!BF174","v":"F/D"},{"$f":"'FO-DRE-12'!BG174","v":"F/D"},{"$f":"'FO-DRE-12'!BH174","v":""},{"$f":"'FO-DRE-12'!BI174","v":""},{"$f":"'FO-DRE-12'!BJ174","v":""},{"$f":"'FO-DRE-12'!BK174","v":""},{"$f":"'FO-DRE-12'!BL174","v":""},{"$f":"'FO-DRE-12'!BM174","v":""},{"$f":"'FO-DRE-12'!BN174","v":""},{"$f":"'FO-DRE-12'!BO174","v":""},{"$f":"'FO-DRE-12'!BP174","v":""},{"$f":"'FO-DRE-12'!BQ174","v":""},{"$f":"'FO-DRE-12'!BR174","v":""},{"$f":"'FO-DRE-12'!BS174","v":""},{"$f":"'FO-DRE-12'!BT174","v":""},{"$f":"'FO-DRE-12'!BU174","v":""},{"$f":"'FO-DRE-12'!BV174","v":""}]
[{"$f":"'FO-DRE-12'!BD175","v":166},{"$f":"'FO-DRE-12'!BE175","v":""},{"$f":"'FO-DRE-12'!BF175","v":"F/D"},{"$f":"'FO-DRE-12'!BG175","v":"F/D"},{"$f":"'FO-DRE-12'!BH175","v":""},{"$f":"'FO-DRE-12'!BI175","v":""},{"$f":"'FO-DRE-12'!BJ175","v":""},{"$f":"'FO-DRE-12'!BK175","v":""},{"$f":"'FO-DRE-12'!BL175","v":""},{"$f":"'FO-DRE-12'!BM175","v":""},{"$f":"'FO-DRE-12'!BN175","v":""},{"$f":"'FO-DRE-12'!BO175","v":""},{"$f":"'FO-DRE-12'!BP175","v":""},{"$f":"'FO-DRE-12'!BQ175","v":""},{"$f":"'FO-DRE-12'!BR175","v":""},{"$f":"'FO-DRE-12'!BS175","v":""},{"$f":"'FO-DRE-12'!BT175","v":""},{"$f":"'FO-DRE-12'!BU175","v":""},{"$f":"'FO-DRE-12'!BV175","v":""}]
[{"$f":"'FO-DRE-12'!BD176","v":167},{"$f":"'FO-DRE-12'!BE176","v":""},{"$f":"'FO-DRE-12'!BF176","v":"F/D"},{"$f":"'FO-DRE-12'!BG176","v":"F/D"},{"$f":"'FO-DRE-12'!BH176","v":""},{"$f":"'FO-DRE-12'!BI176","v":""},{"$f":"'FO-DRE-12'!BJ176","v":""},{"$f":"'FO-DRE-12'!BK176","v":""},{"$f":"'FO-DRE-12'!BL176","v":""},{"$f":"'FO-DRE-12'!BM176","v":""},{"$f":"'FO-DRE-12'!BN176","v":""},{"$f":"'FO-DRE-12'!BO176","v":""},{"$f":"'FO-DRE-12'!BP176","v":""},{"$f":"'FO-DRE-12'!BQ176","v":""},{"$f":"'FO-DRE-12'!BR176","v":""},{"$f":"'FO-DRE-12'!BS176","v":""},{"$f":"'FO-DRE-12'!BT176","v":""},{"$f":"'FO-DRE-12'!BU176","v":""},{"$f":"'FO-DRE-12'!BV176","v":""}]
[{"$f":"'FO-DRE-12'!BD177","v":168},{"$f":"'FO-DRE-12'!BE177","v":""},{"$f":"'FO-DRE-12'!BF177","v":"F/D"},{"$f":"'FO-DRE-12'!BG177","v":"F/D"},{"$f":"'FO-DRE-12'!BH177","v":""},{"$f":"'FO-DRE-12'!BI177","v":""},{"$f":"'FO-DRE-12'!BJ177","v":""},{"$f":"'FO-DRE-12'!BK177","v":""},{"$f":"'FO-DRE-12'!BL177","v":""},{"$f":"'FO-DRE-12'!BM177","v":""},{"$f":"'FO-DRE-12'!BN177","v":""},{"$f":"'FO-DRE-12'!BO177","v":""},{"$f":"'FO-DRE-12'!BP177","v":""},{"$f":"'FO-DRE-12'!BQ177","v":""},{"$f":"'FO-DRE-12'!BR177","v":""},{"$f":"'FO-DRE-12'!BS177","v":""},{"$f":"'FO-DRE-12'!BT177","v":""},{"$f":"'FO-DRE-12'!BU177","v":""},{"$f":"'FO-DRE-12'!BV177","v":""}]
[{"$f":"'FO-DRE-12'!BD178","v":169},{"$f":"'FO-DRE-12'!BE178","v":""},{"$f":"'FO-DRE-12'!BF178","v":"F/D"},{"$f":"'FO-DRE-12'!BG178","v":"F/D"},{"$f":"'FO-DRE-12'!BH178","v":""},{"$f":"'FO-DRE-12'!BI178","v":""},{"$f":"'FO-DRE-12'!BJ178","v":""},{"$f":"'FO-DRE-12'!BK178","v":""},{"$f":"'FO-DRE-12'!BL178","v":""},{"$f":"'FO-DRE-12'!BM178","v":""},{"$f":"'FO-DRE-12'!BN178","v":""},{"$f":"'FO-DRE-12'!BO178","v":""},{"$f":"'FO-DRE-12'!BP178","v":""},{"$f":"'FO-DRE-12'!BQ178","v":""},{"$f":"'FO-DRE-12'!BR178","v":""},{"$f":"'FO-DRE-12'!BS178","v":""},{"$f":"'FO-DRE-12'!BT178","v":""},{"$f":"'FO-DRE-12'!BU178","v":""},{"$f":"'FO-DRE-12'!BV178","v":""}]
[{"$f":"'FO-DRE-12'!BD179","v":170},{"$f":"'FO-DRE-12'!BE179","v":""},{"$f":"'FO-DRE-12'!BF179","v":"F/D"},{"$f":"'FO-DRE-12'!BG179","v":"F/D"},{"$f":"'FO-DRE-12'!BH179","v":""},{"$f":"'FO-DRE-12'!BI179","v":""},{"$f":"'FO-DRE-12'!BJ179","v":""},{"$f":"'FO-DRE-12'!BK179","v":""},{"$f":"'FO-DRE-12'!BL179","v":""},{"$f":"'FO-DRE-12'!BM179","v":""},{"$f":"'FO-DRE-12'!BN179","v":""},{"$f":"'FO-DRE-12'!BO179","v":""},{"$f":"'FO-DRE-12'!BP179","v":""},{"$f":"'FO-DRE-12'!BQ179","v":""},{"$f":"'FO-DRE-12'!BR179","v":""},{"$f":"'FO-DRE-12'!BS179","v":""},{"$f":"'FO-DRE-12'!BT179","v":""},{"$f":"'FO-DRE-12'!BU179","v":""},{"$f":"'FO-DRE-12'!BV179","v":""}]
[{"$f":"'FO-DRE-12'!BD180","v":171},{"$f":"'FO-DRE-12'!BE180","v":""},{"$f":"'FO-DRE-12'!BF180","v":"F/D"},{"$f":"'FO-DRE-12'!BG180","v":"F/D"},{"$f":"'FO-DRE-12'!BH180","v":""},{"$f":"'FO-DRE-12'!BI180","v":""},{"$f":"'FO-DRE-12'!BJ180","v":""},{"$f":"'FO-DRE-12'!BK180","v":""},{"$f":"'FO-DRE-12'!BL180","v":""},{"$f":"'FO-DRE-12'!BM180","v":""},{"$f":"'FO-DRE-12'!BN180","v":""},{"$f":"'FO-DRE-12'!BO180","v":""},{"$f":"'FO-DRE-12'!BP180","v":""},{"$f":"'FO-DRE-12'!BQ180","v":""},{"$f":"'FO-DRE-12'!BR180","v":""},{"$f":"'FO-DRE-12'!BS180","v":""},{"$f":"'FO-DRE-12'!BT180","v":""},{"$f":"'FO-DRE-12'!BU180","v":""},{"$f":"'FO-DRE-12'!BV180","v":""}]
[{"$f":"'FO-DRE-12'!BD181","v":172},{"$f":"'FO-DRE-12'!BE181","v":""},{"$f":"'FO-DRE-12'!BF181","v":"F/D"},{"$f":"'FO-DRE-12'!BG181","v":"F/D"},{"$f":"'FO-DRE-12'!BH181","v":""},{"$f":"'FO-DRE-12'!BI181","v":""},{"$f":"'FO-DRE-12'!BJ181","v":""},{"$f":"'FO-DRE-12'!BK181","v":""},{"$f":"'FO-DRE-12'!BL181","v":""},{"$f":"'FO-DRE-12'!BM181","v":""},{"$f":"'FO-DRE-12'!BN181","v":""},{"$f":"'FO-DRE-12'!BO181","v":""},{"$f":"'FO-DRE-12'!BP181","v":""},{"$f":"'FO-DRE-12'!BQ181","v":""},{"$f":"'FO-DRE-12'!BR181","v":""},{"$f":"'FO-DRE-12'!BS181","v":""},{"$f":"'FO-DRE-12'!BT181","v":""},{"$f":"'FO-DRE-12'!BU181","v":""},{"$f":"'FO-DRE-12'!BV181","v":""}]
[{"$f":"'FO-DRE-12'!BD182","v":173},{"$f":"'FO-DRE-12'!BE182","v":""},{"$f":"'FO-DRE-12'!BF182","v":"F/D"},{"$f":"'FO-DRE-12'!BG182","v":"F/D"},{"$f":"'FO-DRE-12'!BH182","v":""},{"$f":"'FO-DRE-12'!BI182","v":""},{"$f":"'FO-DRE-12'!BJ182","v":""},{"$f":"'FO-DRE-12'!BK182","v":""},{"$f":"'FO-DRE-12'!BL182","v":""},{"$f":"'FO-DRE-12'!BM182","v":""},{"$f":"'FO-DRE-12'!BN182","v":""},{"$f":"'FO-DRE-12'!BO182","v":""},{"$f":"'FO-DRE-12'!BP182","v":""},{"$f":"'FO-DRE-12'!BQ182","v":""},{"$f":"'FO-DRE-12'!BR182","v":""},{"$f":"'FO-DRE-12'!BS182","v":""},{"$f":"'FO-DRE-12'!BT182","v":""},{"$f":"'FO-DRE-12'!BU182","v":""},{"$f":"'FO-DRE-12'!BV182","v":""}]
[{"$f":"'FO-DRE-12'!BD183","v":174},{"$f":"'FO-DRE-12'!BE183","v":""},{"$f":"'FO-DRE-12'!BF183","v":"F/D"},{"$f":"'FO-DRE-12'!BG183","v":"F/D"},{"$f":"'FO-DRE-12'!BH183","v":""},{"$f":"'FO-DRE-12'!BI183","v":""},{"$f":"'FO-DRE-12'!BJ183","v":""},{"$f":"'FO-DRE-12'!BK183","v":""},{"$f":"'FO-DRE-12'!BL183","v":""},{"$f":"'FO-DRE-12'!BM183","v":""},{"$f":"'FO-DRE-12'!BN183","v":""},{"$f":"'FO-DRE-12'!BO183","v":""},{"$f":"'FO-DRE-12'!BP183","v":""},{"$f":"'FO-DRE-12'!BQ183","v":""},{"$f":"'FO-DRE-12'!BR183","v":""},{"$f":"'FO-DRE-12'!BS183","v":""},{"$f":"'FO-DRE-12'!BT183","v":""},{"$f":"'FO-DRE-12'!BU183","v":""},{"$f":"'FO-DRE-12'!BV183","v":""}]
[{"$f":"'FO-DRE-12'!BD184","v":175},{"$f":"'FO-DRE-12'!BE184","v":""},{"$f":"'FO-DRE-12'!BF184","v":"F/D"},{"$f":"'FO-DRE-12'!BG184","v":"F/D"},{"$f":"'FO-DRE-12'!BH184","v":""},{"$f":"'FO-DRE-12'!BI184","v":""},{"$f":"'FO-DRE-12'!BJ184","v":""},{"$f":"'FO-DRE-12'!BK184","v":""},{"$f":"'FO-DRE-12'!BL184","v":""},{"$f":"'FO-DRE-12'!BM184","v":""},{"$f":"'FO-DRE-12'!BN184","v":""},{"$f":"'FO-DRE-12'!BO184","v":""},{"$f":"'FO-DRE-12'!BP184","v":""},{"$f":"'FO-DRE-12'!BQ184","v":""},{"$f":"'FO-DRE-12'!BR184","v":""},{"$f":"'FO-DRE-12'!BS184","v":""},{"$f":"'FO-DRE-12'!BT184","v":""},{"$f":"'FO-DRE-12'!BU184","v":""},{"$f":"'FO-DRE-12'!BV184","v":""}]
[{"$f":"'FO-DRE-12'!BD185","v":176},{"$f":"'FO-DRE-12'!BE185","v":""},{"$f":"'FO-DRE-12'!BF185","v":"F/D"},{"$f":"'FO-DRE-12'!BG185","v":"F/D"},{"$f":"'FO-DRE-12'!BH185","v":""},{"$f":"'FO-DRE-12'!BI185","v":""},{"$f":"'FO-DRE-12'!BJ185","v":""},{"$f":"'FO-DRE-12'!BK185","v":""},{"$f":"'FO-DRE-12'!BL185","v":""},{"$f":"'FO-DRE-12'!BM185","v":""},{"$f":"'FO-DRE-12'!BN185","v":""},{"$f":"'FO-DRE-12'!BO185","v":""},{"$f":"'FO-DRE-12'!BP185","v":""},{"$f":"'FO-DRE-12'!BQ185","v":""},{"$f":"'FO-DRE-12'!BR185","v":""},{"$f":"'FO-DRE-12'!BS185","v":""},{"$f":"'FO-DRE-12'!BT185","v":""},{"$f":"'FO-DRE-12'!BU185","v":""},{"$f":"'FO-DRE-12'!BV185","v":""}]
[{"$f":"'FO-DRE-12'!BD186","v":177},{"$f":"'FO-DRE-12'!BE186","v":""},{"$f":"'FO-DRE-12'!BF186","v":"F/D"},{"$f":"'FO-DRE-12'!BG186","v":"F/D"},{"$f":"'FO-DRE-12'!BH186","v":""},{"$f":"'FO-DRE-12'!BI186","v":""},{"$f":"'FO-DRE-12'!BJ186","v":""},{"$f":"'FO-DRE-12'!BK186","v":""},{"$f":"'FO-DRE-12'!BL186","v":""},{"$f":"'FO-DRE-12'!BM186","v":""},{"$f":"'FO-DRE-12'!BN186","v":""},{"$f":"'FO-DRE-12'!BO186","v":""},{"$f":"'FO-DRE-12'!BP186","v":""},{"$f":"'FO-DRE-12'!BQ186","v":""},{"$f":"'FO-DRE-12'!BR186","v":""},{"$f":"'FO-DRE-12'!BS186","v":""},{"$f":"'FO-DRE-12'!BT186","v":""},{"$f":"'FO-DRE-12'!BU186","v":""},{"$f":"'FO-DRE-12'!BV186","v":""}]
[{"$f":"'FO-DRE-12'!BD187","v":178},{"$f":"'FO-DRE-12'!BE187","v":""},{"$f":"'FO-DRE-12'!BF187","v":"F/D"},{"$f":"'FO-DRE-12'!BG187","v":"F/D"},{"$f":"'FO-DRE-12'!BH187","v":""},{"$f":"'FO-DRE-12'!BI187","v":""},{"$f":"'FO-DRE-12'!BJ187","v":""},{"$f":"'FO-DRE-12'!BK187","v":""},{"$f":"'FO-DRE-12'!BL187","v":""},{"$f":"'FO-DRE-12'!BM187","v":""},{"$f":"'FO-DRE-12'!BN187","v":""},{"$f":"'FO-DRE-12'!BO187","v":""},{"$f":"'FO-DRE-12'!BP187","v":""},{"$f":"'FO-DRE-12'!BQ187","v":""},{"$f":"'FO-DRE-12'!BR187","v":""},{"$f":"'FO-DRE-12'!BS187","v":""},{"$f":"'FO-DRE-12'!BT187","v":""},{"$f":"'FO-DRE-12'!BU187","v":""},{"$f":"'FO-DRE-12'!BV187","v":""}]
[{"$f":"'FO-DRE-12'!BD188","v":179},{"$f":"'FO-DRE-12'!BE188","v":""},{"$f":"'FO-DRE-12'!BF188","v":"F/D"},{"$f":"'FO-DRE-12'!BG188","v":"F/D"},{"$f":"'FO-DRE-12'!BH188","v":""},{"$f":"'FO-DRE-12'!BI188","v":""},{"$f":"'FO-DRE-12'!BJ188","v":""},{"$f":"'FO-DRE-12'!BK188","v":""},{"$f":"'FO-DRE-12'!BL188","v":""},{"$f":"'FO-DRE-12'!BM188","v":""},{"$f":"'FO-DRE-12'!BN188","v":""},{"$f":"'FO-DRE-12'!BO188","v":""},{"$f":"'FO-DRE-12'!BP188","v":""},{"$f":"'FO-DRE-12'!BQ188","v":""},{"$f":"'FO-DRE-12'!BR188","v":""},{"$f":"'FO-DRE-12'!BS188","v":""},{"$f":"'FO-DRE-12'!BT188","v":""},{"$f":"'FO-DRE-12'!BU188","v":""},{"$f":"'FO-DRE-12'!BV188","v":""}]
[{"$f":"'FO-DRE-12'!BD189","v":180},{"$f":"'FO-DRE-12'!BE189","v":""},{"$f":"'FO-DRE-12'!BF189","v":"F/D"},{"$f":"'FO-DRE-12'!BG189","v":"F/D"},{"$f":"'FO-DRE-12'!BH189","v":""},{"$f":"'FO-DRE-12'!BI189","v":""},{"$f":"'FO-DRE-12'!BJ189","v":""},{"$f":"'FO-DRE-12'!BK189","v":""},{"$f":"'FO-DRE-12'!BL189","v":""},{"$f":"'FO-DRE-12'!BM189","v":""},{"$f":"'FO-DRE-12'!BN189","v":""},{"$f":"'FO-DRE-12'!BO189","v":""},{"$f":"'FO-DRE-12'!BP189","v":""},{"$f":"'FO-DRE-12'!BQ189","v":""},{"$f":"'FO-DRE-12'!BR189","v":""},{"$f":"'FO-DRE-12'!BS189","v":""},{"$f":"'FO-DRE-12'!BT189","v":""},{"$f":"'FO-DRE-12'!BU189","v":""},{"$f":"'FO-DRE-12'!BV189","v":""}]
[{"$f":"'FO-DRE-12'!BD190","v":181},{"$f":"'FO-DRE-12'!BE190","v":""},{"$f":"'FO-DRE-12'!BF190","v":"F/D"},{"$f":"'FO-DRE-12'!BG190","v":"F/D"},{"$f":"'FO-DRE-12'!BH190","v":""},{"$f":"'FO-DRE-12'!BI190","v":""},{"$f":"'FO-DRE-12'!BJ190","v":""},{"$f":"'FO-DRE-12'!BK190","v":""},{"$f":"'FO-DRE-12'!BL190","v":""},{"$f":"'FO-DRE-12'!BM190","v":""},{"$f":"'FO-DRE-12'!BN190","v":""},{"$f":"'FO-DRE-12'!BO190","v":""},{"$f":"'FO-DRE-12'!BP190","v":""},{"$f":"'FO-DRE-12'!BQ190","v":""},{"$f":"'FO-DRE-12'!BR190","v":""},{"$f":"'FO-DRE-12'!BS190","v":""},{"$f":"'FO-DRE-12'!BT190","v":""},{"$f":"'FO-DRE-12'!BU190","v":""},{"$f":"'FO-DRE-12'!BV190","v":""}]
[{"$f":"'FO-DRE-12'!BD191","v":182},{"$f":"'FO-DRE-12'!BE191","v":""},{"$f":"'FO-DRE-12'!BF191","v":"F/D"},{"$f":"'FO-DRE-12'!BG191","v":"F/D"},{"$f":"'FO-DRE-12'!BH191","v":""},{"$f":"'FO-DRE-12'!BI191","v":""},{"$f":"'FO-DRE-12'!BJ191","v":""},{"$f":"'FO-DRE-12'!BK191","v":""},{"$f":"'FO-DRE-12'!BL191","v":""},{"$f":"'FO-DRE-12'!BM191","v":""},{"$f":"'FO-DRE-12'!BN191","v":""},{"$f":"'FO-DRE-12'!BO191","v":""},{"$f":"'FO-DRE-12'!BP191","v":""},{"$f":"'FO-DRE-12'!BQ191","v":""},{"$f":"'FO-DRE-12'!BR191","v":""},{"$f":"'FO-DRE-12'!BS191","v":""},{"$f":"'FO-DRE-12'!BT191","v":""},{"$f":"'FO-DRE-12'!BU191","v":""},{"$f":"'FO-DRE-12'!BV191","v":""}]
[{"$f":"'FO-DRE-12'!BD192","v":183},{"$f":"'FO-DRE-12'!BE192","v":""},{"$f":"'FO-DRE-12'!BF192","v":"F/D"},{"$f":"'FO-DRE-12'!BG192","v":"F/D"},{"$f":"'FO-DRE-12'!BH192","v":""},{"$f":"'FO-DRE-12'!BI192","v":""},{"$f":"'FO-DRE-12'!BJ192","v":""},{"$f":"'FO-DRE-12'!BK192","v":""},{"$f":"'FO-DRE-12'!BL192","v":""},{"$f":"'FO-DRE-12'!BM192","v":""},{"$f":"'FO-DRE-12'!BN192","v":""},{"$f":"'FO-DRE-12'!BO192","v":""},{"$f":"'FO-DRE-12'!BP192","v":""},{"$f":"'FO-DRE-12'!BQ192","v":""},{"$f":"'FO-DRE-12'!BR192","v":""},{"$f":"'FO-DRE-12'!BS192","v":""},{"$f":"'FO-DRE-12'!BT192","v":""},{"$f":"'FO-DRE-12'!BU192","v":""},{"$f":"'FO-DRE-12'!BV192","v":""}]
[{"$f":"'FO-DRE-12'!BD193","v":184},{"$f":"'FO-DRE-12'!BE193","v":""},{"$f":"'FO-DRE-12'!BF193","v":"F/D"},{"$f":"'FO-DRE-12'!BG193","v":"F/D"},{"$f":"'FO-DRE-12'!BH193","v":""},{"$f":"'FO-DRE-12'!BI193","v":""},{"$f":"'FO-DRE-12'!BJ193","v":""},{"$f":"'FO-DRE-12'!BK193","v":""},{"$f":"'FO-DRE-12'!BL193","v":""},{"$f":"'FO-DRE-12'!BM193","v":""},{"$f":"'FO-DRE-12'!BN193","v":""},{"$f":"'FO-DRE-12'!BO193","v":""},{"$f":"'FO-DRE-12'!BP193","v":""},{"$f":"'FO-DRE-12'!BQ193","v":""},{"$f":"'FO-DRE-12'!BR193","v":""},{"$f":"'FO-DRE-12'!BS193","v":""},{"$f":"'FO-DRE-12'!BT193","v":""},{"$f":"'FO-DRE-12'!BU193","v":""},{"$f":"'FO-DRE-12'!BV193","v":""}]
[{"$f":"'FO-DRE-12'!BD194","v":185},{"$f":"'FO-DRE-12'!BE194","v":""},{"$f":"'FO-DRE-12'!BF194","v":"F/D"},{"$f":"'FO-DRE-12'!BG194","v":"F/D"},{"$f":"'FO-DRE-12'!BH194","v":""},{"$f":"'FO-DRE-12'!BI194","v":""},{"$f":"'FO-DRE-12'!BJ194","v":""},{"$f":"'FO-DRE-12'!BK194","v":""},{"$f":"'FO-DRE-12'!BL194","v":""},{"$f":"'FO-DRE-12'!BM194","v":""},{"$f":"'FO-DRE-12'!BN194","v":""},{"$f":"'FO-DRE-12'!BO194","v":""},{"$f":"'FO-DRE-12'!BP194","v":""},{"$f":"'FO-DRE-12'!BQ194","v":""},{"$f":"'FO-DRE-12'!BR194","v":""},{"$f":"'FO-DRE-12'!BS194","v":""},{"$f":"'FO-DRE-12'!BT194","v":""},{"$f":"'FO-DRE-12'!BU194","v":""},{"$f":"'FO-DRE-12'!BV194","v":""}]
[{"$f":"'FO-DRE-12'!BD195","v":186},{"$f":"'FO-DRE-12'!BE195","v":""},{"$f":"'FO-DRE-12'!BF195","v":"F/D"},{"$f":"'FO-DRE-12'!BG195","v":"F/D"},{"$f":"'FO-DRE-12'!BH195","v":""},{"$f":"'FO-DRE-12'!BI195","v":""},{"$f":"'FO-DRE-12'!BJ195","v":""},{"$f":"'FO-DRE-12'!BK195","v":""},{"$f":"'FO-DRE-12'!BL195","v":""},{"$f":"'FO-DRE-12'!BM195","v":""},{"$f":"'FO-DRE-12'!BN195","v":""},{"$f":"'FO-DRE-12'!BO195","v":""},{"$f":"'FO-DRE-12'!BP195","v":""},{"$f":"'FO-DRE-12'!BQ195","v":""},{"$f":"'FO-DRE-12'!BR195","v":""},{"$f":"'FO-DRE-12'!BS195","v":""},{"$f":"'FO-DRE-12'!BT195","v":""},{"$f":"'FO-DRE-12'!BU195","v":""},{"$f":"'FO-DRE-12'!BV195","v":""}]
[{"$f":"'FO-DRE-12'!BD196","v":187},{"$f":"'FO-DRE-12'!BE196","v":""},{"$f":"'FO-DRE-12'!BF196","v":"F/D"},{"$f":"'FO-DRE-12'!BG196","v":"F/D"},{"$f":"'FO-DRE-12'!BH196","v":""},{"$f":"'FO-DRE-12'!BI196","v":""},{"$f":"'FO-DRE-12'!BJ196","v":""},{"$f":"'FO-DRE-12'!BK196","v":""},{"$f":"'FO-DRE-12'!BL196","v":""},{"$f":"'FO-DRE-12'!BM196","v":""},{"$f":"'FO-DRE-12'!BN196","v":""},{"$f":"'FO-DRE-12'!BO196","v":""},{"$f":"'FO-DRE-12'!BP196","v":""},{"$f":"'FO-DRE-12'!BQ196","v":""},{"$f":"'FO-DRE-12'!BR196","v":""},{"$f":"'FO-DRE-12'!BS196","v":""},{"$f":"'FO-DRE-12'!BT196","v":""},{"$f":"'FO-DRE-12'!BU196","v":""},{"$f":"'FO-DRE-12'!BV196","v":""}]
[{"$f":"'FO-DRE-12'!BD197","v":188},{"$f":"'FO-DRE-12'!BE197","v":""},{"$f":"'FO-DRE-12'!BF197","v":"F/D"},{"$f":"'FO-DRE-12'!BG197","v":"F/D"},{"$f":"'FO-DRE-12'!BH197","v":""},{"$f":"'FO-DRE-12'!BI197","v":""},{"$f":"'FO-DRE-12'!BJ197","v":""},{"$f":"'FO-DRE-12'!BK197","v":""},{"$f":"'FO-DRE-12'!BL197","v":""},{"$f":"'FO-DRE-12'!BM197","v":""},{"$f":"'FO-DRE-12'!BN197","v":""},{"$f":"'FO-DRE-12'!BO197","v":""},{"$f":"'FO-DRE-12'!BP197","v":""},{"$f":"'FO-DRE-12'!BQ197","v":""},{"$f":"'FO-DRE-12'!BR197","v":""},{"$f":"'FO-DRE-12'!BS197","v":""},{"$f":"'FO-DRE-12'!BT197","v":""},{"$f":"'FO-DRE-12'!BU197","v":""},{"$f":"'FO-DRE-12'!BV197","v":""}]
[{"$f":"'FO-DRE-12'!BD198","v":189},{"$f":"'FO-DRE-12'!BE198","v":""},{"$f":"'FO-DRE-12'!BF198","v":"F/D"},{"$f":"'FO-DRE-12'!BG198","v":"F/D"},{"$f":"'FO-DRE-12'!BH198","v":""},{"$f":"'FO-DRE-12'!BI198","v":""},{"$f":"'FO-DRE-12'!BJ198","v":""},{"$f":"'FO-DRE-12'!BK198","v":""},{"$f":"'FO-DRE-12'!BL198","v":""},{"$f":"'FO-DRE-12'!BM198","v":""},{"$f":"'FO-DRE-12'!BN198","v":""},{"$f":"'FO-DRE-12'!BO198","v":""},{"$f":"'FO-DRE-12'!BP198","v":""},{"$f":"'FO-DRE-12'!BQ198","v":""},{"$f":"'FO-DRE-12'!BR198","v":""},{"$f":"'FO-DRE-12'!BS198","v":""},{"$f":"'FO-DRE-12'!BT198","v":""},{"$f":"'FO-DRE-12'!BU198","v":""},{"$f":"'FO-DRE-12'!BV198","v":""}]
[{"$f":"'FO-DRE-12'!BD199","v":190},{"$f":"'FO-DRE-12'!BE199","v":""},{"$f":"'FO-DRE-12'!BF199","v":"F/D"},{"$f":"'FO-DRE-12'!BG199","v":"F/D"},{"$f":"'FO-DRE-12'!BH199","v":""},{"$f":"'FO-DRE-12'!BI199","v":""},{"$f":"'FO-DRE-12'!BJ199","v":""},{"$f":"'FO-DRE-12'!BK199","v":""},{"$f":"'FO-DRE-12'!BL199","v":""},{"$f":"'FO-DRE-12'!BM199","v":""},{"$f":"'FO-DRE-12'!BN199","v":""},{"$f":"'FO-DRE-12'!BO199","v":""},{"$f":"'FO-DRE-12'!BP199","v":""},{"$f":"'FO-DRE-12'!BQ199","v":""},{"$f":"'FO-DRE-12'!BR199","v":""},{"$f":"'FO-DRE-12'!BS199","v":""},{"$f":"'FO-DRE-12'!BT199","v":""},{"$f":"'FO-DRE-12'!BU199","v":""},{"$f":"'FO-DRE-12'!BV199","v":""}]
[{"$f":"'FO-DRE-12'!BD200","v":191},{"$f":"'FO-DRE-12'!BE200","v":""},{"$f":"'FO-DRE-12'!BF200","v":"F/D"},{"$f":"'FO-DRE-12'!BG200","v":"F/D"},{"$f":"'FO-DRE-12'!BH200","v":""},{"$f":"'FO-DRE-12'!BI200","v":""},{"$f":"'FO-DRE-12'!BJ200","v":""},{"$f":"'FO-DRE-12'!BK200","v":""},{"$f":"'FO-DRE-12'!BL200","v":""},{"$f":"'FO-DRE-12'!BM200","v":""},{"$f":"'FO-DRE-12'!BN200","v":""},{"$f":"'FO-DRE-12'!BO200","v":""},{"$f":"'FO-DRE-12'!BP200","v":""},{"$f":"'FO-DRE-12'!BQ200","v":""},{"$f":"'FO-DRE-12'!BR200","v":""},{"$f":"'FO-DRE-12'!BS200","v":""},{"$f":"'FO-DRE-12'!BT200","v":""},{"$f":"'FO-DRE-12'!BU200","v":""},{"$f":"'FO-DRE-12'!BV200","v":""}]
[{"$f":"'FO-DRE-12'!BD201","v":192},{"$f":"'FO-DRE-12'!BE201","v":""},{"$f":"'FO-DRE-12'!BF201","v":"F/D"},{"$f":"'FO-DRE-12'!BG201","v":"F/D"},{"$f":"'FO-DRE-12'!BH201","v":""},{"$f":"'FO-DRE-12'!BI201","v":""},{"$f":"'FO-DRE-12'!BJ201","v":""},{"$f":"'FO-DRE-12'!BK201","v":""},{"$f":"'FO-DRE-12'!BL201","v":""},{"$f":"'FO-DRE-12'!BM201","v":""},{"$f":"'FO-DRE-12'!BN201","v":""},{"$f":"'FO-DRE-12'!BO201","v":""},{"$f":"'FO-DRE-12'!BP201","v":""},{"$f":"'FO-DRE-12'!BQ201","v":""},{"$f":"'FO-DRE-12'!BR201","v":""},{"$f":"'FO-DRE-12'!BS201","v":""},{"$f":"'FO-DRE-12'!BT201","v":""},{"$f":"'FO-DRE-12'!BU201","v":""},{"$f":"'FO-DRE-12'!BV201","v":""}]
[{"$f":"'FO-DRE-12'!BD202","v":193},{"$f":"'FO-DRE-12'!BE202","v":""},{"$f":"'FO-DRE-12'!BF202","v":"F/D"},{"$f":"'FO-DRE-12'!BG202","v":"F/D"},{"$f":"'FO-DRE-12'!BH202","v":""},{"$f":"'FO-DRE-12'!BI202","v":""},{"$f":"'FO-DRE-12'!BJ202","v":""},{"$f":"'FO-DRE-12'!BK202","v":""},{"$f":"'FO-DRE-12'!BL202","v":""},{"$f":"'FO-DRE-12'!BM202","v":""},{"$f":"'FO-DRE-12'!BN202","v":""},{"$f":"'FO-DRE-12'!BO202","v":""},{"$f":"'FO-DRE-12'!BP202","v":""},{"$f":"'FO-DRE-12'!BQ202","v":""},{"$f":"'FO-DRE-12'!BR202","v":""},{"$f":"'FO-DRE-12'!BS202","v":""},{"$f":"'FO-DRE-12'!BT202","v":""},{"$f":"'FO-DRE-12'!BU202","v":""},{"$f":"'FO-DRE-12'!BV202","v":""}]
[{"$f":"'FO-DRE-12'!BD203","v":194},{"$f":"'FO-DRE-12'!BE203","v":""},{"$f":"'FO-DRE-12'!BF203","v":"F/D"},{"$f":"'FO-DRE-12'!BG203","v":"F/D"},{"$f":"'FO-DRE-12'!BH203","v":""},{"$f":"'FO-DRE-12'!BI203","v":""},{"$f":"'FO-DRE-12'!BJ203","v":""},{"$f":"'FO-DRE-12'!BK203","v":""},{"$f":"'FO-DRE-12'!BL203","v":""},{"$f":"'FO-DRE-12'!BM203","v":""},{"$f":"'FO-DRE-12'!BN203","v":""},{"$f":"'FO-DRE-12'!BO203","v":""},{"$f":"'FO-DRE-12'!BP203","v":""},{"$f":"'FO-DRE-12'!BQ203","v":""},{"$f":"'FO-DRE-12'!BR203","v":""},{"$f":"'FO-DRE-12'!BS203","v":""},{"$f":"'FO-DRE-12'!BT203","v":""},{"$f":"'FO-DRE-12'!BU203","v":""},{"$f":"'FO-DRE-12'!BV203","v":""}]
[{"$f":"'FO-DRE-12'!BD204","v":195},{"$f":"'FO-DRE-12'!BE204","v":""},{"$f":"'FO-DRE-12'!BF204","v":"F/D"},{"$f":"'FO-DRE-12'!BG204","v":"F/D"},{"$f":"'FO-DRE-12'!BH204","v":""},{"$f":"'FO-DRE-12'!BI204","v":""},{"$f":"'FO-DRE-12'!BJ204","v":""},{"$f":"'FO-DRE-12'!BK204","v":""},{"$f":"'FO-DRE-12'!BL204","v":""},{"$f":"'FO-DRE-12'!BM204","v":""},{"$f":"'FO-DRE-12'!BN204","v":""},{"$f":"'FO-DRE-12'!BO204","v":""},{"$f":"'FO-DRE-12'!BP204","v":""},{"$f":"'FO-DRE-12'!BQ204","v":""},{"$f":"'FO-DRE-12'!BR204","v":""},{"$f":"'FO-DRE-12'!BS204","v":""},{"$f":"'FO-DRE-12'!BT204","v":""},{"$f":"'FO-DRE-12'!BU204","v":""},{"$f":"'FO-DRE-12'!BV204","v":""}]
[{"$f":"'FO-DRE-12'!BD205","v":196},{"$f":"'FO-DRE-12'!BE205","v":""},{"$f":"'FO-DRE-12'!BF205","v":"F/D"},{"$f":"'FO-DRE-12'!BG205","v":"F/D"},{"$f":"'FO-DRE-12'!BH205","v":""},{"$f":"'FO-DRE-12'!BI205","v":""},{"$f":"'FO-DRE-12'!BJ205","v":""},{"$f":"'FO-DRE-12'!BK205","v":""},{"$f":"'FO-DRE-12'!BL205","v":""},{"$f":"'FO-DRE-12'!BM205","v":""},{"$f":"'FO-DRE-12'!BN205","v":""},{"$f":"'FO-DRE-12'!BO205","v":""},{"$f":"'FO-DRE-12'!BP205","v":""},{"$f":"'FO-DRE-12'!BQ205","v":""},{"$f":"'FO-DRE-12'!BR205","v":""},{"$f":"'FO-DRE-12'!BS205","v":""},{"$f":"'FO-DRE-12'!BT205","v":""},{"$f":"'FO-DRE-12'!BU205","v":""},{"$f":"'FO-DRE-12'!BV205","v":""}]
[{"$f":"'FO-DRE-12'!BD206","v":197},{"$f":"'FO-DRE-12'!BE206","v":""},{"$f":"'FO-DRE-12'!BF206","v":"F/D"},{"$f":"'FO-DRE-12'!BG206","v":"F/D"},{"$f":"'FO-DRE-12'!BH206","v":""},{"$f":"'FO-DRE-12'!BI206","v":""},{"$f":"'FO-DRE-12'!BJ206","v":""},{"$f":"'FO-DRE-12'!BK206","v":""},{"$f":"'FO-DRE-12'!BL206","v":""},{"$f":"'FO-DRE-12'!BM206","v":""},{"$f":"'FO-DRE-12'!BN206","v":""},{"$f":"'FO-DRE-12'!BO206","v":""},{"$f":"'FO-DRE-12'!BP206","v":""},{"$f":"'FO-DRE-12'!BQ206","v":""},{"$f":"'FO-DRE-12'!BR206","v":""},{"$f":"'FO-DRE-12'!BS206","v":""},{"$f":"'FO-DRE-12'!BT206","v":""},{"$f":"'FO-DRE-12'!BU206","v":""},{"$f":"'FO-DRE-12'!BV206","v":""}]
[{"$f":"'FO-DRE-12'!BD207","v":198},{"$f":"'FO-DRE-12'!BE207","v":""},{"$f":"'FO-DRE-12'!BF207","v":"F/D"},{"$f":"'FO-DRE-12'!BG207","v":"F/D"},{"$f":"'FO-DRE-12'!BH207","v":""},{"$f":"'FO-DRE-12'!BI207","v":""},{"$f":"'FO-DRE-12'!BJ207","v":""},{"$f":"'FO-DRE-12'!BK207","v":""},{"$f":"'FO-DRE-12'!BL207","v":""},{"$f":"'FO-DRE-12'!BM207","v":""},{"$f":"'FO-DRE-12'!BN207","v":""},{"$f":"'FO-DRE-12'!BO207","v":""},{"$f":"'FO-DRE-12'!BP207","v":""},{"$f":"'FO-DRE-12'!BQ207","v":""},{"$f":"'FO-DRE-12'!BR207","v":""},{"$f":"'FO-DRE-12'!BS207","v":""},{"$f":"'FO-DRE-12'!BT207","v":""},{"$f":"'FO-DRE-12'!BU207","v":""},{"$f":"'FO-DRE-12'!BV207","v":""}]
[{"$f":"'FO-DRE-12'!BD208","v":199},{"$f":"'FO-DRE-12'!BE208","v":""},{"$f":"'FO-DRE-12'!BF208","v":"F/D"},{"$f":"'FO-DRE-12'!BG208","v":"F/D"},{"$f":"'FO-DRE-12'!BH208","v":""},{"$f":"'FO-DRE-12'!BI208","v":""},{"$f":"'FO-DRE-12'!BJ208","v":""},{"$f":"'FO-DRE-12'!BK208","v":""},{"$f":"'FO-DRE-12'!BL208","v":""},{"$f":"'FO-DRE-12'!BM208","v":""},{"$f":"'FO-DRE-12'!BN208","v":""},{"$f":"'FO-DRE-12'!BO208","v":""},{"$f":"'FO-DRE-12'!BP208","v":""},{"$f":"'FO-DRE-12'!BQ208","v":""},{"$f":"'FO-DRE-12'!BR208","v":""},{"$f":"'FO-DRE-12'!BS208","v":""},{"$f":"'FO-DRE-12'!BT208","v":""},{"$f":"'FO-DRE-12'!BU208","v":""},{"$f":"'FO-DRE-12'!BV208","v":""}]
[{"$f":"'FO-DRE-12'!BD209","v":200},{"$f":"'FO-DRE-12'!BE209","v":""},{"$f":"'FO-DRE-12'!BF209","v":"F/D"},{"$f":"'FO-DRE-12'!BG209","v":"F/D"},{"$f":"'FO-DRE-12'!BH209","v":""},{"$f":"'FO-DRE-12'!BI209","v":""},{"$f":"'FO-DRE-12'!BJ209","v":""},{"$f":"'FO-DRE-12'!BK209","v":""},{"$f":"'FO-DRE-12'!BL209","v":""},{"$f":"'FO-DRE-12'!BM209","v":""},{"$f":"'FO-DRE-12'!BN209","v":""},{"$f":"'FO-DRE-12'!BO209","v":""},{"$f":"'FO-DRE-12'!BP209","v":""},{"$f":"'FO-DRE-12'!BQ209","v":""},{"$f":"'FO-DRE-12'!BR209","v":""},{"$f":"'FO-DRE-12'!BS209","v":""},{"$f":"'FO-DRE-12'!BT209","v":""},{"$f":"'FO-DRE-12'!BU209","v":""},{"$f":"'FO-DRE-12'!BV209","v":""}]
[{"$f":"'FO-DRE-12'!BD210","v":201},{"$f":"'FO-DRE-12'!BE210","v":""},{"$f":"'FO-DRE-12'!BF210","v":"F/D"},{"$f":"'FO-DRE-12'!BG210","v":"F/D"},{"$f":"'FO-DRE-12'!BH210","v":""},{"$f":"'FO-DRE-12'!BI210","v":""},{"$f":"'FO-DRE-12'!BJ210","v":""},{"$f":"'FO-DRE-12'!BK210","v":""},{"$f":"'FO-DRE-12'!BL210","v":""},{"$f":"'FO-DRE-12'!BM210","v":""},{"$f":"'FO-DRE-12'!BN210","v":""},{"$f":"'FO-DRE-12'!BO210","v":""},{"$f":"'FO-DRE-12'!BP210","v":""},{"$f":"'FO-DRE-12'!BQ210","v":""},{"$f":"'FO-DRE-12'!BR210","v":""},{"$f":"'FO-DRE-12'!BS210","v":""},{"$f":"'FO-DRE-12'!BT210","v":""},{"$f":"'FO-DRE-12'!BU210","v":""},{"$f":"'FO-DRE-12'!BV210","v":""}]
[{"$f":"'FO-DRE-12'!BD211","v":202},{"$f":"'FO-DRE-12'!BE211","v":""},{"$f":"'FO-DRE-12'!BF211","v":"F/D"},{"$f":"'FO-DRE-12'!BG211","v":"F/D"},{"$f":"'FO-DRE-12'!BH211","v":""},{"$f":"'FO-DRE-12'!BI211","v":""},{"$f":"'FO-DRE-12'!BJ211","v":""},{"$f":"'FO-DRE-12'!BK211","v":""},{"$f":"'FO-DRE-12'!BL211","v":""},{"$f":"'FO-DRE-12'!BM211","v":""},{"$f":"'FO-DRE-12'!BN211","v":""},{"$f":"'FO-DRE-12'!BO211","v":""},{"$f":"'FO-DRE-12'!BP211","v":""},{"$f":"'FO-DRE-12'!BQ211","v":""},{"$f":"'FO-DRE-12'!BR211","v":""},{"$f":"'FO-DRE-12'!BS211","v":""},{"$f":"'FO-DRE-12'!BT211","v":""},{"$f":"'FO-DRE-12'!BU211","v":""},{"$f":"'FO-DRE-12'!BV211","v":""}]
[{"$f":"'FO-DRE-12'!BD212","v":203},{"$f":"'FO-DRE-12'!BE212","v":""},{"$f":"'FO-DRE-12'!BF212","v":"F/D"},{"$f":"'FO-DRE-12'!BG212","v":"F/D"},{"$f":"'FO-DRE-12'!BH212","v":""},{"$f":"'FO-DRE-12'!BI212","v":""},{"$f":"'FO-DRE-12'!BJ212","v":""},{"$f":"'FO-DRE-12'!BK212","v":""},{"$f":"'FO-DRE-12'!BL212","v":""},{"$f":"'FO-DRE-12'!BM212","v":""},{"$f":"'FO-DRE-12'!BN212","v":""},{"$f":"'FO-DRE-12'!BO212","v":""},{"$f":"'FO-DRE-12'!BP212","v":""},{"$f":"'FO-DRE-12'!BQ212","v":""},{"$f":"'FO-DRE-12'!BR212","v":""},{"$f":"'FO-DRE-12'!BS212","v":""},{"$f":"'FO-DRE-12'!BT212","v":""},{"$f":"'FO-DRE-12'!BU212","v":""},{"$f":"'FO-DRE-12'!BV212","v":""}]
[{"$f":"'FO-DRE-12'!BD213","v":204},{"$f":"'FO-DRE-12'!BE213","v":""},{"$f":"'FO-DRE-12'!BF213","v":"F/D"},{"$f":"'FO-DRE-12'!BG213","v":"F/D"},{"$f":"'FO-DRE-12'!BH213","v":""},{"$f":"'FO-DRE-12'!BI213","v":""},{"$f":"'FO-DRE-12'!BJ213","v":""},{"$f":"'FO-DRE-12'!BK213","v":""},{"$f":"'FO-DRE-12'!BL213","v":""},{"$f":"'FO-DRE-12'!BM213","v":""},{"$f":"'FO-DRE-12'!BN213","v":""},{"$f":"'FO-DRE-12'!BO213","v":""},{"$f":"'FO-DRE-12'!BP213","v":""},{"$f":"'FO-DRE-12'!BQ213","v":""},{"$f":"'FO-DRE-12'!BR213","v":""},{"$f":"'FO-DRE-12'!BS213","v":""},{"$f":"'FO-DRE-12'!BT213","v":""},{"$f":"'FO-DRE-12'!BU213","v":""},{"$f":"'FO-DRE-12'!BV213","v":""}]
[{"$f":"'FO-DRE-12'!BD214","v":205},{"$f":"'FO-DRE-12'!BE214","v":""},{"$f":"'FO-DRE-12'!BF214","v":"F/D"},{"$f":"'FO-DRE-12'!BG214","v":"F/D"},{"$f":"'FO-DRE-12'!BH214","v":""},{"$f":"'FO-DRE-12'!BI214","v":""},{"$f":"'FO-DRE-12'!BJ214","v":""},{"$f":"'FO-DRE-12'!BK214","v":""},{"$f":"'FO-DRE-12'!BL214","v":""},{"$f":"'FO-DRE-12'!BM214","v":""},{"$f":"'FO-DRE-12'!BN214","v":""},{"$f":"'FO-DRE-12'!BO214","v":""},{"$f":"'FO-DRE-12'!BP214","v":""},{"$f":"'FO-DRE-12'!BQ214","v":""},{"$f":"'FO-DRE-12'!BR214","v":""},{"$f":"'FO-DRE-12'!BS214","v":""},{"$f":"'FO-DRE-12'!BT214","v":""},{"$f":"'FO-DRE-12'!BU214","v":""},{"$f":"'FO-DRE-12'!BV214","v":""}]
[{"$f":"'FO-DRE-12'!BD215","v":206},{"$f":"'FO-DRE-12'!BE215","v":""},{"$f":"'FO-DRE-12'!BF215","v":"F/D"},{"$f":"'FO-DRE-12'!BG215","v":"F/D"},{"$f":"'FO-DRE-12'!BH215","v":""},{"$f":"'FO-DRE-12'!BI215","v":""},{"$f":"'FO-DRE-12'!BJ215","v":""},{"$f":"'FO-DRE-12'!BK215","v":""},{"$f":"'FO-DRE-12'!BL215","v":""},{"$f":"'FO-DRE-12'!BM215","v":""},{"$f":"'FO-DRE-12'!BN215","v":""},{"$f":"'FO-DRE-12'!BO215","v":""},{"$f":"'FO-DRE-12'!BP215","v":""},{"$f":"'FO-DRE-12'!BQ215","v":""},{"$f":"'FO-DRE-12'!BR215","v":""},{"$f":"'FO-DRE-12'!BS215","v":""},{"$f":"'FO-DRE-12'!BT215","v":""},{"$f":"'FO-DRE-12'!BU215","v":""},{"$f":"'FO-DRE-12'!BV215","v":""}]
[{"$f":"'FO-DRE-12'!BD216","v":207},{"$f":"'FO-DRE-12'!BE216","v":""},{"$f":"'FO-DRE-12'!BF216","v":"F/D"},{"$f":"'FO-DRE-12'!BG216","v":"F/D"},{"$f":"'FO-DRE-12'!BH216","v":""},{"$f":"'FO-DRE-12'!BI216","v":""},{"$f":"'FO-DRE-12'!BJ216","v":""},{"$f":"'FO-DRE-12'!BK216","v":""},{"$f":"'FO-DRE-12'!BL216","v":""},{"$f":"'FO-DRE-12'!BM216","v":""},{"$f":"'FO-DRE-12'!BN216","v":""},{"$f":"'FO-DRE-12'!BO216","v":""},{"$f":"'FO-DRE-12'!BP216","v":""},{"$f":"'FO-DRE-12'!BQ216","v":""},{"$f":"'FO-DRE-12'!BR216","v":""},{"$f":"'FO-DRE-12'!BS216","v":""},{"$f":"'FO-DRE-12'!BT216","v":""},{"$f":"'FO-DRE-12'!BU216","v":""},{"$f":"'FO-DRE-12'!BV216","v":""}]
[{"$f":"'FO-DRE-12'!BD217","v":208},{"$f":"'FO-DRE-12'!BE217","v":""},{"$f":"'FO-DRE-12'!BF217","v":"F/D"},{"$f":"'FO-DRE-12'!BG217","v":"F/D"},{"$f":"'FO-DRE-12'!BH217","v":""},{"$f":"'FO-DRE-12'!BI217","v":""},{"$f":"'FO-DRE-12'!BJ217","v":""},{"$f":"'FO-DRE-12'!BK217","v":""},{"$f":"'FO-DRE-12'!BL217","v":""},{"$f":"'FO-DRE-12'!BM217","v":""},{"$f":"'FO-DRE-12'!BN217","v":""},{"$f":"'FO-DRE-12'!BO217","v":""},{"$f":"'FO-DRE-12'!BP217","v":""},{"$f":"'FO-DRE-12'!BQ217","v":""},{"$f":"'FO-DRE-12'!BR217","v":""},{"$f":"'FO-DRE-12'!BS217","v":""},{"$f":"'FO-DRE-12'!BT217","v":""},{"$f":"'FO-DRE-12'!BU217","v":""},{"$f":"'FO-DRE-12'!BV217","v":""}]
[{"$f":"'FO-DRE-12'!BD218","v":209},{"$f":"'FO-DRE-12'!BE218","v":""},{"$f":"'FO-DRE-12'!BF218","v":"F/D"},{"$f":"'FO-DRE-12'!BG218","v":"F/D"},{"$f":"'FO-DRE-12'!BH218","v":""},{"$f":"'FO-DRE-12'!BI218","v":""},{"$f":"'FO-DRE-12'!BJ218","v":""},{"$f":"'FO-DRE-12'!BK218","v":""},{"$f":"'FO-DRE-12'!BL218","v":""},{"$f":"'FO-DRE-12'!BM218","v":""},{"$f":"'FO-DRE-12'!BN218","v":""},{"$f":"'FO-DRE-12'!BO218","v":""},{"$f":"'FO-DRE-12'!BP218","v":""},{"$f":"'FO-DRE-12'!BQ218","v":""},{"$f":"'FO-DRE-12'!BR218","v":""},{"$f":"'FO-DRE-12'!BS218","v":""},{"$f":"'FO-DRE-12'!BT218","v":""},{"$f":"'FO-DRE-12'!BU218","v":""},{"$f":"'FO-DRE-12'!BV218","v":""}]
[{"$f":"'FO-DRE-12'!BD219","v":210},{"$f":"'FO-DRE-12'!BE219","v":""},{"$f":"'FO-DRE-12'!BF219","v":"F/D"},{"$f":"'FO-DRE-12'!BG219","v":"F/D"},{"$f":"'FO-DRE-12'!BH219","v":""},{"$f":"'FO-DRE-12'!BI219","v":""},{"$f":"'FO-DRE-12'!BJ219","v":""},{"$f":"'FO-DRE-12'!BK219","v":""},{"$f":"'FO-DRE-12'!BL219","v":""},{"$f":"'FO-DRE-12'!BM219","v":""},{"$f":"'FO-DRE-12'!BN219","v":""},{"$f":"'FO-DRE-12'!BO219","v":""},{"$f":"'FO-DRE-12'!BP219","v":""},{"$f":"'FO-DRE-12'!BQ219","v":""},{"$f":"'FO-DRE-12'!BR219","v":""},{"$f":"'FO-DRE-12'!BS219","v":""},{"$f":"'FO-DRE-12'!BT219","v":""},{"$f":"'FO-DRE-12'!BU219","v":""},{"$f":"'FO-DRE-12'!BV219","v":""}]
[{"$f":"'FO-DRE-12'!BD220","v":211},{"$f":"'FO-DRE-12'!BE220","v":""},{"$f":"'FO-DRE-12'!BF220","v":"F/D"},{"$f":"'FO-DRE-12'!BG220","v":"F/D"},{"$f":"'FO-DRE-12'!BH220","v":""},{"$f":"'FO-DRE-12'!BI220","v":""},{"$f":"'FO-DRE-12'!BJ220","v":""},{"$f":"'FO-DRE-12'!BK220","v":""},{"$f":"'FO-DRE-12'!BL220","v":""},{"$f":"'FO-DRE-12'!BM220","v":""},{"$f":"'FO-DRE-12'!BN220","v":""},{"$f":"'FO-DRE-12'!BO220","v":""},{"$f":"'FO-DRE-12'!BP220","v":""},{"$f":"'FO-DRE-12'!BQ220","v":""},{"$f":"'FO-DRE-12'!BR220","v":""},{"$f":"'FO-DRE-12'!BS220","v":""},{"$f":"'FO-DRE-12'!BT220","v":""},{"$f":"'FO-DRE-12'!BU220","v":""},{"$f":"'FO-DRE-12'!BV220","v":""}]
[{"$f":"'FO-DRE-12'!BD221","v":212},{"$f":"'FO-DRE-12'!BE221","v":""},{"$f":"'FO-DRE-12'!BF221","v":"F/D"},{"$f":"'FO-DRE-12'!BG221","v":"F/D"},{"$f":"'FO-DRE-12'!BH221","v":""},{"$f":"'FO-DRE-12'!BI221","v":""},{"$f":"'FO-DRE-12'!BJ221","v":""},{"$f":"'FO-DRE-12'!BK221","v":""},{"$f":"'FO-DRE-12'!BL221","v":""},{"$f":"'FO-DRE-12'!BM221","v":""},{"$f":"'FO-DRE-12'!BN221","v":""},{"$f":"'FO-DRE-12'!BO221","v":""},{"$f":"'FO-DRE-12'!BP221","v":""},{"$f":"'FO-DRE-12'!BQ221","v":""},{"$f":"'FO-DRE-12'!BR221","v":""},{"$f":"'FO-DRE-12'!BS221","v":""},{"$f":"'FO-DRE-12'!BT221","v":""},{"$f":"'FO-DRE-12'!BU221","v":""},{"$f":"'FO-DRE-12'!BV221","v":""}]
[{"$f":"'FO-DRE-12'!BD222","v":213},{"$f":"'FO-DRE-12'!BE222","v":""},{"$f":"'FO-DRE-12'!BF222","v":"F/D"},{"$f":"'FO-DRE-12'!BG222","v":"F/D"},{"$f":"'FO-DRE-12'!BH222","v":""},{"$f":"'FO-DRE-12'!BI222","v":""},{"$f":"'FO-DRE-12'!BJ222","v":""},{"$f":"'FO-DRE-12'!BK222","v":""},{"$f":"'FO-DRE-12'!BL222","v":""},{"$f":"'FO-DRE-12'!BM222","v":""},{"$f":"'FO-DRE-12'!BN222","v":""},{"$f":"'FO-DRE-12'!BO222","v":""},{"$f":"'FO-DRE-12'!BP222","v":""},{"$f":"'FO-DRE-12'!BQ222","v":""},{"$f":"'FO-DRE-12'!BR222","v":""},{"$f":"'FO-DRE-12'!BS222","v":""},{"$f":"'FO-DRE-12'!BT222","v":""},{"$f":"'FO-DRE-12'!BU222","v":""},{"$f":"'FO-DRE-12'!BV222","v":""}]
[{"$f":"'FO-DRE-12'!BD223","v":214},{"$f":"'FO-DRE-12'!BE223","v":""},{"$f":"'FO-DRE-12'!BF223","v":"F/D"},{"$f":"'FO-DRE-12'!BG223","v":"F/D"},{"$f":"'FO-DRE-12'!BH223","v":""},{"$f":"'FO-DRE-12'!BI223","v":""},{"$f":"'FO-DRE-12'!BJ223","v":""},{"$f":"'FO-DRE-12'!BK223","v":""},{"$f":"'FO-DRE-12'!BL223","v":""},{"$f":"'FO-DRE-12'!BM223","v":""},{"$f":"'FO-DRE-12'!BN223","v":""},{"$f":"'FO-DRE-12'!BO223","v":""},{"$f":"'FO-DRE-12'!BP223","v":""},{"$f":"'FO-DRE-12'!BQ223","v":""},{"$f":"'FO-DRE-12'!BR223","v":""},{"$f":"'FO-DRE-12'!BS223","v":""},{"$f":"'FO-DRE-12'!BT223","v":""},{"$f":"'FO-DRE-12'!BU223","v":""},{"$f":"'FO-DRE-12'!BV223","v":""}]
[{"$f":"'FO-DRE-12'!BD224","v":215},{"$f":"'FO-DRE-12'!BE224","v":""},{"$f":"'FO-DRE-12'!BF224","v":"F/D"},{"$f":"'FO-DRE-12'!BG224","v":"F/D"},{"$f":"'FO-DRE-12'!BH224","v":""},{"$f":"'FO-DRE-12'!BI224","v":""},{"$f":"'FO-DRE-12'!BJ224","v":""},{"$f":"'FO-DRE-12'!BK224","v":""},{"$f":"'FO-DRE-12'!BL224","v":""},{"$f":"'FO-DRE-12'!BM224","v":""},{"$f":"'FO-DRE-12'!BN224","v":""},{"$f":"'FO-DRE-12'!BO224","v":""},{"$f":"'FO-DRE-12'!BP224","v":""},{"$f":"'FO-DRE-12'!BQ224","v":""},{"$f":"'FO-DRE-12'!BR224","v":""},{"$f":"'FO-DRE-12'!BS224","v":""},{"$f":"'FO-DRE-12'!BT224","v":""},{"$f":"'FO-DRE-12'!BU224","v":""},{"$f":"'FO-DRE-12'!BV224","v":""}]
[{"$f":"'FO-DRE-12'!BD225","v":216},{"$f":"'FO-DRE-12'!BE225","v":""},{"$f":"'FO-DRE-12'!BF225","v":"F/D"},{"$f":"'FO-DRE-12'!BG225","v":"F/D"},{"$f":"'FO-DRE-12'!BH225","v":""},{"$f":"'FO-DRE-12'!BI225","v":""},{"$f":"'FO-DRE-12'!BJ225","v":""},{"$f":"'FO-DRE-12'!BK225","v":""},{"$f":"'FO-DRE-12'!BL225","v":""},{"$f":"'FO-DRE-12'!BM225","v":""},{"$f":"'FO-DRE-12'!BN225","v":""},{"$f":"'FO-DRE-12'!BO225","v":""},{"$f":"'FO-DRE-12'!BP225","v":""},{"$f":"'FO-DRE-12'!BQ225","v":""},{"$f":"'FO-DRE-12'!BR225","v":""},{"$f":"'FO-DRE-12'!BS225","v":""},{"$f":"'FO-DRE-12'!BT225","v":""},{"$f":"'FO-DRE-12'!BU225","v":""},{"$f":"'FO-DRE-12'!BV225","v":""}]
[{"$f":"'FO-DRE-12'!BD226","v":217},{"$f":"'FO-DRE-12'!BE226","v":""},{"$f":"'FO-DRE-12'!BF226","v":"F/D"},{"$f":"'FO-DRE-12'!BG226","v":"F/D"},{"$f":"'FO-DRE-12'!BH226","v":""},{"$f":"'FO-DRE-12'!BI226","v":""},{"$f":"'FO-DRE-12'!BJ226","v":""},{"$f":"'FO-DRE-12'!BK226","v":""},{"$f":"'FO-DRE-12'!BL226","v":""},{"$f":"'FO-DRE-12'!BM226","v":""},{"$f":"'FO-DRE-12'!BN226","v":""},{"$f":"'FO-DRE-12'!BO226","v":""},{"$f":"'FO-DRE-12'!BP226","v":""},{"$f":"'FO-DRE-12'!BQ226","v":""},{"$f":"'FO-DRE-12'!BR226","v":""},{"$f":"'FO-DRE-12'!BS226","v":""},{"$f":"'FO-DRE-12'!BT226","v":""},{"$f":"'FO-DRE-12'!BU226","v":""},{"$f":"'FO-DRE-12'!BV226","v":""}]
[{"$f":"'FO-DRE-12'!BD227","v":218},{"$f":"'FO-DRE-12'!BE227","v":""},{"$f":"'FO-DRE-12'!BF227","v":"F/D"},{"$f":"'FO-DRE-12'!BG227","v":"F/D"},{"$f":"'FO-DRE-12'!BH227","v":""},{"$f":"'FO-DRE-12'!BI227","v":""},{"$f":"'FO-DRE-12'!BJ227","v":""},{"$f":"'FO-DRE-12'!BK227","v":""},{"$f":"'FO-DRE-12'!BL227","v":""},{"$f":"'FO-DRE-12'!BM227","v":""},{"$f":"'FO-DRE-12'!BN227","v":""},{"$f":"'FO-DRE-12'!BO227","v":""},{"$f":"'FO-DRE-12'!BP227","v":""},{"$f":"'FO-DRE-12'!BQ227","v":""},{"$f":"'FO-DRE-12'!BR227","v":""},{"$f":"'FO-DRE-12'!BS227","v":""},{"$f":"'FO-DRE-12'!BT227","v":""},{"$f":"'FO-DRE-12'!BU227","v":""},{"$f":"'FO-DRE-12'!BV227","v":""}]
[{"$f":"'FO-DRE-12'!BD228","v":219},{"$f":"'FO-DRE-12'!BE228","v":""},{"$f":"'FO-DRE-12'!BF228","v":"F/D"},{"$f":"'FO-DRE-12'!BG228","v":"F/D"},{"$f":"'FO-DRE-12'!BH228","v":""},{"$f":"'FO-DRE-12'!BI228","v":""},{"$f":"'FO-DRE-12'!BJ228","v":""},{"$f":"'FO-DRE-12'!BK228","v":""},{"$f":"'FO-DRE-12'!BL228","v":""},{"$f":"'FO-DRE-12'!BM228","v":""},{"$f":"'FO-DRE-12'!BN228","v":""},{"$f":"'FO-DRE-12'!BO228","v":""},{"$f":"'FO-DRE-12'!BP228","v":""},{"$f":"'FO-DRE-12'!BQ228","v":""},{"$f":"'FO-DRE-12'!BR228","v":""},{"$f":"'FO-DRE-12'!BS228","v":""},{"$f":"'FO-DRE-12'!BT228","v":""},{"$f":"'FO-DRE-12'!BU228","v":""},{"$f":"'FO-DRE-12'!BV228","v":""}]
[{"$f":"'FO-DRE-12'!BD229","v":220},{"$f":"'FO-DRE-12'!BE229","v":""},{"$f":"'FO-DRE-12'!BF229","v":"F/D"},{"$f":"'FO-DRE-12'!BG229","v":"F/D"},{"$f":"'FO-DRE-12'!BH229","v":""},{"$f":"'FO-DRE-12'!BI229","v":""},{"$f":"'FO-DRE-12'!BJ229","v":""},{"$f":"'FO-DRE-12'!BK229","v":""},{"$f":"'FO-DRE-12'!BL229","v":""},{"$f":"'FO-DRE-12'!BM229","v":""},{"$f":"'FO-DRE-12'!BN229","v":""},{"$f":"'FO-DRE-12'!BO229","v":""},{"$f":"'FO-DRE-12'!BP229","v":""},{"$f":"'FO-DRE-12'!BQ229","v":""},{"$f":"'FO-DRE-12'!BR229","v":""},{"$f":"'FO-DRE-12'!BS229","v":""},{"$f":"'FO-DRE-12'!BT229","v":""},{"$f":"'FO-DRE-12'!BU229","v":""},{"$f":"'FO-DRE-12'!BV229","v":""}]
[{"$f":"'FO-DRE-12'!BD230","v":221},{"$f":"'FO-DRE-12'!BE230","v":""},{"$f":"'FO-DRE-12'!BF230","v":"F/D"},{"$f":"'FO-DRE-12'!BG230","v":"F/D"},{"$f":"'FO-DRE-12'!BH230","v":""},{"$f":"'FO-DRE-12'!BI230","v":""},{"$f":"'FO-DRE-12'!BJ230","v":""},{"$f":"'FO-DRE-12'!BK230","v":""},{"$f":"'FO-DRE-12'!BL230","v":""},{"$f":"'FO-DRE-12'!BM230","v":""},{"$f":"'FO-DRE-12'!BN230","v":""},{"$f":"'FO-DRE-12'!BO230","v":""},{"$f":"'FO-DRE-12'!BP230","v":""},{"$f":"'FO-DRE-12'!BQ230","v":""},{"$f":"'FO-DRE-12'!BR230","v":""},{"$f":"'FO-DRE-12'!BS230","v":""},{"$f":"'FO-DRE-12'!BT230","v":""},{"$f":"'FO-DRE-12'!BU230","v":""},{"$f":"'FO-DRE-12'!BV230","v":""}]
[{"$f":"'FO-DRE-12'!BD231","v":222},{"$f":"'FO-DRE-12'!BE231","v":""},{"$f":"'FO-DRE-12'!BF231","v":"F/D"},{"$f":"'FO-DRE-12'!BG231","v":"F/D"},{"$f":"'FO-DRE-12'!BH231","v":""},{"$f":"'FO-DRE-12'!BI231","v":""},{"$f":"'FO-DRE-12'!BJ231","v":""},{"$f":"'FO-DRE-12'!BK231","v":""},{"$f":"'FO-DRE-12'!BL231","v":""},{"$f":"'FO-DRE-12'!BM231","v":""},{"$f":"'FO-DRE-12'!BN231","v":""},{"$f":"'FO-DRE-12'!BO231","v":""},{"$f":"'FO-DRE-12'!BP231","v":""},{"$f":"'FO-DRE-12'!BQ231","v":""},{"$f":"'FO-DRE-12'!BR231","v":""},{"$f":"'FO-DRE-12'!BS231","v":""},{"$f":"'FO-DRE-12'!BT231","v":""},{"$f":"'FO-DRE-12'!BU231","v":""},{"$f":"'FO-DRE-12'!BV231","v":""}]
[{"$f":"'FO-DRE-12'!BD232","v":223},{"$f":"'FO-DRE-12'!BE232","v":""},{"$f":"'FO-DRE-12'!BF232","v":"F/D"},{"$f":"'FO-DRE-12'!BG232","v":"F/D"},{"$f":"'FO-DRE-12'!BH232","v":""},{"$f":"'FO-DRE-12'!BI232","v":""},{"$f":"'FO-DRE-12'!BJ232","v":""},{"$f":"'FO-DRE-12'!BK232","v":""},{"$f":"'FO-DRE-12'!BL232","v":""},{"$f":"'FO-DRE-12'!BM232","v":""},{"$f":"'FO-DRE-12'!BN232","v":""},{"$f":"'FO-DRE-12'!BO232","v":""},{"$f":"'FO-DRE-12'!BP232","v":""},{"$f":"'FO-DRE-12'!BQ232","v":""},{"$f":"'FO-DRE-12'!BR232","v":""},{"$f":"'FO-DRE-12'!BS232","v":""},{"$f":"'FO-DRE-12'!BT232","v":""},{"$f":"'FO-DRE-12'!BU232","v":""},{"$f":"'FO-DRE-12'!BV232","v":""}]
[{"$f":"'FO-DRE-12'!BD233","v":224},{"$f":"'FO-DRE-12'!BE233","v":""},{"$f":"'FO-DRE-12'!BF233","v":"F/D"},{"$f":"'FO-DRE-12'!BG233","v":"F/D"},{"$f":"'FO-DRE-12'!BH233","v":""},{"$f":"'FO-DRE-12'!BI233","v":""},{"$f":"'FO-DRE-12'!BJ233","v":""},{"$f":"'FO-DRE-12'!BK233","v":""},{"$f":"'FO-DRE-12'!BL233","v":""},{"$f":"'FO-DRE-12'!BM233","v":""},{"$f":"'FO-DRE-12'!BN233","v":""},{"$f":"'FO-DRE-12'!BO233","v":""},{"$f":"'FO-DRE-12'!BP233","v":""},{"$f":"'FO-DRE-12'!BQ233","v":""},{"$f":"'FO-DRE-12'!BR233","v":""},{"$f":"'FO-DRE-12'!BS233","v":""},{"$f":"'FO-DRE-12'!BT233","v":""},{"$f":"'FO-DRE-12'!BU233","v":""},{"$f":"'FO-DRE-12'!BV233","v":""}]
[{"$f":"'FO-DRE-12'!BD234","v":225},{"$f":"'FO-DRE-12'!BE234","v":""},{"$f":"'FO-DRE-12'!BF234","v":"F/D"},{"$f":"'FO-DRE-12'!BG234","v":"F/D"},{"$f":"'FO-DRE-12'!BH234","v":""},{"$f":"'FO-DRE-12'!BI234","v":""},{"$f":"'FO-DRE-12'!BJ234","v":""},{"$f":"'FO-DRE-12'!BK234","v":""},{"$f":"'FO-DRE-12'!BL234","v":""},{"$f":"'FO-DRE-12'!BM234","v":""},{"$f":"'FO-DRE-12'!BN234","v":""},{"$f":"'FO-DRE-12'!BO234","v":""},{"$f":"'FO-DRE-12'!BP234","v":""},{"$f":"'FO-DRE-12'!BQ234","v":""},{"$f":"'FO-DRE-12'!BR234","v":""},{"$f":"'FO-DRE-12'!BS234","v":""},{"$f":"'FO-DRE-12'!BT234","v":""},{"$f":"'FO-DRE-12'!BU234","v":""},{"$f":"'FO-DRE-12'!BV234","v":""}]
[{"$f":"'FO-DRE-12'!BD235","v":226},{"$f":"'FO-DRE-12'!BE235","v":""},{"$f":"'FO-DRE-12'!BF235","v":"F/D"},{"$f":"'FO-DRE-12'!BG235","v":"F/D"},{"$f":"'FO-DRE-12'!BH235","v":""},{"$f":"'FO-DRE-12'!BI235","v":""},{"$f":"'FO-DRE-12'!BJ235","v":""},{"$f":"'FO-DRE-12'!BK235","v":""},{"$f":"'FO-DRE-12'!BL235","v":""},{"$f":"'FO-DRE-12'!BM235","v":""},{"$f":"'FO-DRE-12'!BN235","v":""},{"$f":"'FO-DRE-12'!BO235","v":""},{"$f":"'FO-DRE-12'!BP235","v":""},{"$f":"'FO-DRE-12'!BQ235","v":""},{"$f":"'FO-DRE-12'!BR235","v":""},{"$f":"'FO-DRE-12'!BS235","v":""},{"$f":"'FO-DRE-12'!BT235","v":""},{"$f":"'FO-DRE-12'!BU235","v":""},{"$f":"'FO-DRE-12'!BV235","v":""}]
[{"$f":"'FO-DRE-12'!BD236","v":227},{"$f":"'FO-DRE-12'!BE236","v":""},{"$f":"'FO-DRE-12'!BF236","v":"F/D"},{"$f":"'FO-DRE-12'!BG236","v":"F/D"},{"$f":"'FO-DRE-12'!BH236","v":""},{"$f":"'FO-DRE-12'!BI236","v":""},{"$f":"'FO-DRE-12'!BJ236","v":""},{"$f":"'FO-DRE-12'!BK236","v":""},{"$f":"'FO-DRE-12'!BL236","v":""},{"$f":"'FO-DRE-12'!BM236","v":""},{"$f":"'FO-DRE-12'!BN236","v":""},{"$f":"'FO-DRE-12'!BO236","v":""},{"$f":"'FO-DRE-12'!BP236","v":""},{"$f":"'FO-DRE-12'!BQ236","v":""},{"$f":"'FO-DRE-12'!BR236","v":""},{"$f":"'FO-DRE-12'!BS236","v":""},{"$f":"'FO-DRE-12'!BT236","v":""},{"$f":"'FO-DRE-12'!BU236","v":""},{"$f":"'FO-DRE-12'!BV236","v":""}]
[{"$f":"'FO-DRE-12'!BD237","v":228},{"$f":"'FO-DRE-12'!BE237","v":""},{"$f":"'FO-DRE-12'!BF237","v":"F/D"},{"$f":"'FO-DRE-12'!BG237","v":"F/D"},{"$f":"'FO-DRE-12'!BH237","v":""},{"$f":"'FO-DRE-12'!BI237","v":""},{"$f":"'FO-DRE-12'!BJ237","v":""},{"$f":"'FO-DRE-12'!BK237","v":""},{"$f":"'FO-DRE-12'!BL237","v":""},{"$f":"'FO-DRE-12'!BM237","v":""},{"$f":"'FO-DRE-12'!BN237","v":""},{"$f":"'FO-DRE-12'!BO237","v":""},{"$f":"'FO-DRE-12'!BP237","v":""},{"$f":"'FO-DRE-12'!BQ237","v":""},{"$f":"'FO-DRE-12'!BR237","v":""},{"$f":"'FO-DRE-12'!BS237","v":""},{"$f":"'FO-DRE-12'!BT237","v":""},{"$f":"'FO-DRE-12'!BU237","v":""},{"$f":"'FO-DRE-12'!BV237","v":""}]
[{"$f":"'FO-DRE-12'!BD238","v":229},{"$f":"'FO-DRE-12'!BE238","v":""},{"$f":"'FO-DRE-12'!BF238","v":"F/D"},{"$f":"'FO-DRE-12'!BG238","v":"F/D"},{"$f":"'FO-DRE-12'!BH238","v":""},{"$f":"'FO-DRE-12'!BI238","v":""},{"$f":"'FO-DRE-12'!BJ238","v":""},{"$f":"'FO-DRE-12'!BK238","v":""},{"$f":"'FO-DRE-12'!BL238","v":""},{"$f":"'FO-DRE-12'!BM238","v":""},{"$f":"'FO-DRE-12'!BN238","v":""},{"$f":"'FO-DRE-12'!BO238","v":""},{"$f":"'FO-DRE-12'!BP238","v":""},{"$f":"'FO-DRE-12'!BQ238","v":""},{"$f":"'FO-DRE-12'!BR238","v":""},{"$f":"'FO-DRE-12'!BS238","v":""},{"$f":"'FO-DRE-12'!BT238","v":""},{"$f":"'FO-DRE-12'!BU238","v":""},{"$f":"'FO-DRE-12'!BV238","v":""}]
[{"$f":"'FO-DRE-12'!BD239","v":230},{"$f":"'FO-DRE-12'!BE239","v":""},{"$f":"'FO-DRE-12'!BF239","v":"F/D"},{"$f":"'FO-DRE-12'!BG239","v":"F/D"},{"$f":"'FO-DRE-12'!BH239","v":""},{"$f":"'FO-DRE-12'!BI239","v":""},{"$f":"'FO-DRE-12'!BJ239","v":""},{"$f":"'FO-DRE-12'!BK239","v":""},{"$f":"'FO-DRE-12'!BL239","v":""},{"$f":"'FO-DRE-12'!BM239","v":""},{"$f":"'FO-DRE-12'!BN239","v":""},{"$f":"'FO-DRE-12'!BO239","v":""},{"$f":"'FO-DRE-12'!BP239","v":""},{"$f":"'FO-DRE-12'!BQ239","v":""},{"$f":"'FO-DRE-12'!BR239","v":""},{"$f":"'FO-DRE-12'!BS239","v":""},{"$f":"'FO-DRE-12'!BT239","v":""},{"$f":"'FO-DRE-12'!BU239","v":""},{"$f":"'FO-DRE-12'!BV239","v":""}]
[{"$f":"'FO-DRE-12'!BD240","v":231},{"$f":"'FO-DRE-12'!BE240","v":""},{"$f":"'FO-DRE-12'!BF240","v":"F/D"},{"$f":"'FO-DRE-12'!BG240","v":"F/D"},{"$f":"'FO-DRE-12'!BH240","v":""},{"$f":"'FO-DRE-12'!BI240","v":""},{"$f":"'FO-DRE-12'!BJ240","v":""},{"$f":"'FO-DRE-12'!BK240","v":""},{"$f":"'FO-DRE-12'!BL240","v":""},{"$f":"'FO-DRE-12'!BM240","v":""},{"$f":"'FO-DRE-12'!BN240","v":""},{"$f":"'FO-DRE-12'!BO240","v":""},{"$f":"'FO-DRE-12'!BP240","v":""},{"$f":"'FO-DRE-12'!BQ240","v":""},{"$f":"'FO-DRE-12'!BR240","v":""},{"$f":"'FO-DRE-12'!BS240","v":""},{"$f":"'FO-DRE-12'!BT240","v":""},{"$f":"'FO-DRE-12'!BU240","v":""},{"$f":"'FO-DRE-12'!BV240","v":""}]
[{"$f":"'FO-DRE-12'!BD241","v":232},{"$f":"'FO-DRE-12'!BE241","v":""},{"$f":"'FO-DRE-12'!BF241","v":"F/D"},{"$f":"'FO-DRE-12'!BG241","v":"F/D"},{"$f":"'FO-DRE-12'!BH241","v":""},{"$f":"'FO-DRE-12'!BI241","v":""},{"$f":"'FO-DRE-12'!BJ241","v":""},{"$f":"'FO-DRE-12'!BK241","v":""},{"$f":"'FO-DRE-12'!BL241","v":""},{"$f":"'FO-DRE-12'!BM241","v":""},{"$f":"'FO-DRE-12'!BN241","v":""},{"$f":"'FO-DRE-12'!BO241","v":""},{"$f":"'FO-DRE-12'!BP241","v":""},{"$f":"'FO-DRE-12'!BQ241","v":""},{"$f":"'FO-DRE-12'!BR241","v":""},{"$f":"'FO-DRE-12'!BS241","v":""},{"$f":"'FO-DRE-12'!BT241","v":""},{"$f":"'FO-DRE-12'!BU241","v":""},{"$f":"'FO-DRE-12'!BV241","v":""}]
[{"$f":"'FO-DRE-12'!BD242","v":233},{"$f":"'FO-DRE-12'!BE242","v":""},{"$f":"'FO-DRE-12'!BF242","v":"F/D"},{"$f":"'FO-DRE-12'!BG242","v":"F/D"},{"$f":"'FO-DRE-12'!BH242","v":""},{"$f":"'FO-DRE-12'!BI242","v":""},{"$f":"'FO-DRE-12'!BJ242","v":""},{"$f":"'FO-DRE-12'!BK242","v":""},{"$f":"'FO-DRE-12'!BL242","v":""},{"$f":"'FO-DRE-12'!BM242","v":""},{"$f":"'FO-DRE-12'!BN242","v":""},{"$f":"'FO-DRE-12'!BO242","v":""},{"$f":"'FO-DRE-12'!BP242","v":""},{"$f":"'FO-DRE-12'!BQ242","v":""},{"$f":"'FO-DRE-12'!BR242","v":""},{"$f":"'FO-DRE-12'!BS242","v":""},{"$f":"'FO-DRE-12'!BT242","v":""},{"$f":"'FO-DRE-12'!BU242","v":""},{"$f":"'FO-DRE-12'!BV242","v":""}]
[{"$f":"'FO-DRE-12'!BD243","v":234},{"$f":"'FO-DRE-12'!BE243","v":""},{"$f":"'FO-DRE-12'!BF243","v":"F/D"},{"$f":"'FO-DRE-12'!BG243","v":"F/D"},{"$f":"'FO-DRE-12'!BH243","v":""},{"$f":"'FO-DRE-12'!BI243","v":""},{"$f":"'FO-DRE-12'!BJ243","v":""},{"$f":"'FO-DRE-12'!BK243","v":""},{"$f":"'FO-DRE-12'!BL243","v":""},{"$f":"'FO-DRE-12'!BM243","v":""},{"$f":"'FO-DRE-12'!BN243","v":""},{"$f":"'FO-DRE-12'!BO243","v":""},{"$f":"'FO-DRE-12'!BP243","v":""},{"$f":"'FO-DRE-12'!BQ243","v":""},{"$f":"'FO-DRE-12'!BR243","v":""},{"$f":"'FO-DRE-12'!BS243","v":""},{"$f":"'FO-DRE-12'!BT243","v":""},{"$f":"'FO-DRE-12'!BU243","v":""},{"$f":"'FO-DRE-12'!BV243","v":""}]
[{"$f":"'FO-DRE-12'!BD244","v":235},{"$f":"'FO-DRE-12'!BE244","v":""},{"$f":"'FO-DRE-12'!BF244","v":"F/D"},{"$f":"'FO-DRE-12'!BG244","v":"F/D"},{"$f":"'FO-DRE-12'!BH244","v":""},{"$f":"'FO-DRE-12'!BI244","v":""},{"$f":"'FO-DRE-12'!BJ244","v":""},{"$f":"'FO-DRE-12'!BK244","v":""},{"$f":"'FO-DRE-12'!BL244","v":""},{"$f":"'FO-DRE-12'!BM244","v":""},{"$f":"'FO-DRE-12'!BN244","v":""},{"$f":"'FO-DRE-12'!BO244","v":""},{"$f":"'FO-DRE-12'!BP244","v":""},{"$f":"'FO-DRE-12'!BQ244","v":""},{"$f":"'FO-DRE-12'!BR244","v":""},{"$f":"'FO-DRE-12'!BS244","v":""},{"$f":"'FO-DRE-12'!BT244","v":""},{"$f":"'FO-DRE-12'!BU244","v":""},{"$f":"'FO-DRE-12'!BV244","v":""}]
[{"$f":"'FO-DRE-12'!BD245","v":236},{"$f":"'FO-DRE-12'!BE245","v":""},{"$f":"'FO-DRE-12'!BF245","v":"F/D"},{"$f":"'FO-DRE-12'!BG245","v":"F/D"},{"$f":"'FO-DRE-12'!BH245","v":""},{"$f":"'FO-DRE-12'!BI245","v":""},{"$f":"'FO-DRE-12'!BJ245","v":""},{"$f":"'FO-DRE-12'!BK245","v":""},{"$f":"'FO-DRE-12'!BL245","v":""},{"$f":"'FO-DRE-12'!BM245","v":""},{"$f":"'FO-DRE-12'!BN245","v":""},{"$f":"'FO-DRE-12'!BO245","v":""},{"$f":"'FO-DRE-12'!BP245","v":""},{"$f":"'FO-DRE-12'!BQ245","v":""},{"$f":"'FO-DRE-12'!BR245","v":""},{"$f":"'FO-DRE-12'!BS245","v":""},{"$f":"'FO-DRE-12'!BT245","v":""},{"$f":"'FO-DRE-12'!BU245","v":""},{"$f":"'FO-DRE-12'!BV245","v":""}]
[{"$f":"'FO-DRE-12'!BD246","v":237},{"$f":"'FO-DRE-12'!BE246","v":""},{"$f":"'FO-DRE-12'!BF246","v":"F/D"},{"$f":"'FO-DRE-12'!BG246","v":"F/D"},{"$f":"'FO-DRE-12'!BH246","v":""},{"$f":"'FO-DRE-12'!BI246","v":""},{"$f":"'FO-DRE-12'!BJ246","v":""},{"$f":"'FO-DRE-12'!BK246","v":""},{"$f":"'FO-DRE-12'!BL246","v":""},{"$f":"'FO-DRE-12'!BM246","v":""},{"$f":"'FO-DRE-12'!BN246","v":""},{"$f":"'FO-DRE-12'!BO246","v":""},{"$f":"'FO-DRE-12'!BP246","v":""},{"$f":"'FO-DRE-12'!BQ246","v":""},{"$f":"'FO-DRE-12'!BR246","v":""},{"$f":"'FO-DRE-12'!BS246","v":""},{"$f":"'FO-DRE-12'!BT246","v":""},{"$f":"'FO-DRE-12'!BU246","v":""},{"$f":"'FO-DRE-12'!BV246","v":""}]
[{"$f":"'FO-DRE-12'!BD247","v":238},{"$f":"'FO-DRE-12'!BE247","v":""},{"$f":"'FO-DRE-12'!BF247","v":"F/D"},{"$f":"'FO-DRE-12'!BG247","v":"F/D"},{"$f":"'FO-DRE-12'!BH247","v":""},{"$f":"'FO-DRE-12'!BI247","v":""},{"$f":"'FO-DRE-12'!BJ247","v":""},{"$f":"'FO-DRE-12'!BK247","v":""},{"$f":"'FO-DRE-12'!BL247","v":""},{"$f":"'FO-DRE-12'!BM247","v":""},{"$f":"'FO-DRE-12'!BN247","v":""},{"$f":"'FO-DRE-12'!BO247","v":""},{"$f":"'FO-DRE-12'!BP247","v":""},{"$f":"'FO-DRE-12'!BQ247","v":""},{"$f":"'FO-DRE-12'!BR247","v":""},{"$f":"'FO-DRE-12'!BS247","v":""},{"$f":"'FO-DRE-12'!BT247","v":""},{"$f":"'FO-DRE-12'!BU247","v":""},{"$f":"'FO-DRE-12'!BV247","v":""}]
[{"$f":"'FO-DRE-12'!BD248","v":239},{"$f":"'FO-DRE-12'!BE248","v":""},{"$f":"'FO-DRE-12'!BF248","v":"F/D"},{"$f":"'FO-DRE-12'!BG248","v":"F/D"},{"$f":"'FO-DRE-12'!BH248","v":""},{"$f":"'FO-DRE-12'!BI248","v":""},{"$f":"'FO-DRE-12'!BJ248","v":""},{"$f":"'FO-DRE-12'!BK248","v":""},{"$f":"'FO-DRE-12'!BL248","v":""},{"$f":"'FO-DRE-12'!BM248","v":""},{"$f":"'FO-DRE-12'!BN248","v":""},{"$f":"'FO-DRE-12'!BO248","v":""},{"$f":"'FO-DRE-12'!BP248","v":""},{"$f":"'FO-DRE-12'!BQ248","v":""},{"$f":"'FO-DRE-12'!BR248","v":""},{"$f":"'FO-DRE-12'!BS248","v":""},{"$f":"'FO-DRE-12'!BT248","v":""},{"$f":"'FO-DRE-12'!BU248","v":""},{"$f":"'FO-DRE-12'!BV248","v":""}]
[{"$f":"'FO-DRE-12'!BD249","v":240},{"$f":"'FO-DRE-12'!BE249","v":""},{"$f":"'FO-DRE-12'!BF249","v":"F/D"},{"$f":"'FO-DRE-12'!BG249","v":"F/D"},{"$f":"'FO-DRE-12'!BH249","v":""},{"$f":"'FO-DRE-12'!BI249","v":""},{"$f":"'FO-DRE-12'!BJ249","v":""},{"$f":"'FO-DRE-12'!BK249","v":""},{"$f":"'FO-DRE-12'!BL249","v":""},{"$f":"'FO-DRE-12'!BM249","v":""},{"$f":"'FO-DRE-12'!BN249","v":""},{"$f":"'FO-DRE-12'!BO249","v":""},{"$f":"'FO-DRE-12'!BP249","v":""},{"$f":"'FO-DRE-12'!BQ249","v":""},{"$f":"'FO-DRE-12'!BR249","v":""},{"$f":"'FO-DRE-12'!BS249","v":""},{"$f":"'FO-DRE-12'!BT249","v":""},{"$f":"'FO-DRE-12'!BU249","v":""},{"$f":"'FO-DRE-12'!BV249","v":""}]
[{"$f":"'FO-DRE-12'!BD250","v":241},{"$f":"'FO-DRE-12'!BE250","v":""},{"$f":"'FO-DRE-12'!BF250","v":"F/D"},{"$f":"'FO-DRE-12'!BG250","v":"F/D"},{"$f":"'FO-DRE-12'!BH250","v":""},{"$f":"'FO-DRE-12'!BI250","v":""},{"$f":"'FO-DRE-12'!BJ250","v":""},{"$f":"'FO-DRE-12'!BK250","v":""},{"$f":"'FO-DRE-12'!BL250","v":""},{"$f":"'FO-DRE-12'!BM250","v":""},{"$f":"'FO-DRE-12'!BN250","v":""},{"$f":"'FO-DRE-12'!BO250","v":""},{"$f":"'FO-DRE-12'!BP250","v":""},{"$f":"'FO-DRE-12'!BQ250","v":""},{"$f":"'FO-DRE-12'!BR250","v":""},{"$f":"'FO-DRE-12'!BS250","v":""},{"$f":"'FO-DRE-12'!BT250","v":""},{"$f":"'FO-DRE-12'!BU250","v":""},{"$f":"'FO-DRE-12'!BV250","v":""}]
[{"$f":"'FO-DRE-12'!BD251","v":242},{"$f":"'FO-DRE-12'!BE251","v":""},{"$f":"'FO-DRE-12'!BF251","v":"F/D"},{"$f":"'FO-DRE-12'!BG251","v":"F/D"},{"$f":"'FO-DRE-12'!BH251","v":""},{"$f":"'FO-DRE-12'!BI251","v":""},{"$f":"'FO-DRE-12'!BJ251","v":""},{"$f":"'FO-DRE-12'!BK251","v":""},{"$f":"'FO-DRE-12'!BL251","v":""},{"$f":"'FO-DRE-12'!BM251","v":""},{"$f":"'FO-DRE-12'!BN251","v":""},{"$f":"'FO-DRE-12'!BO251","v":""},{"$f":"'FO-DRE-12'!BP251","v":""},{"$f":"'FO-DRE-12'!BQ251","v":""},{"$f":"'FO-DRE-12'!BR251","v":""},{"$f":"'FO-DRE-12'!BS251","v":""},{"$f":"'FO-DRE-12'!BT251","v":""},{"$f":"'FO-DRE-12'!BU251","v":""},{"$f":"'FO-DRE-12'!BV251","v":""}]
[{"$f":"'FO-DRE-12'!BD252","v":243},{"$f":"'FO-DRE-12'!BE252","v":""},{"$f":"'FO-DRE-12'!BF252","v":"F/D"},{"$f":"'FO-DRE-12'!BG252","v":"F/D"},{"$f":"'FO-DRE-12'!BH252","v":""},{"$f":"'FO-DRE-12'!BI252","v":""},{"$f":"'FO-DRE-12'!BJ252","v":""},{"$f":"'FO-DRE-12'!BK252","v":""},{"$f":"'FO-DRE-12'!BL252","v":""},{"$f":"'FO-DRE-12'!BM252","v":""},{"$f":"'FO-DRE-12'!BN252","v":""},{"$f":"'FO-DRE-12'!BO252","v":""},{"$f":"'FO-DRE-12'!BP252","v":""},{"$f":"'FO-DRE-12'!BQ252","v":""},{"$f":"'FO-DRE-12'!BR252","v":""},{"$f":"'FO-DRE-12'!BS252","v":""},{"$f":"'FO-DRE-12'!BT252","v":""},{"$f":"'FO-DRE-12'!BU252","v":""},{"$f":"'FO-DRE-12'!BV252","v":""}]
[{"$f":"'FO-DRE-12'!BD253","v":244},{"$f":"'FO-DRE-12'!BE253","v":""},{"$f":"'FO-DRE-12'!BF253","v":"F/D"},{"$f":"'FO-DRE-12'!BG253","v":"F/D"},{"$f":"'FO-DRE-12'!BH253","v":""},{"$f":"'FO-DRE-12'!BI253","v":""},{"$f":"'FO-DRE-12'!BJ253","v":""},{"$f":"'FO-DRE-12'!BK253","v":""},{"$f":"'FO-DRE-12'!BL253","v":""},{"$f":"'FO-DRE-12'!BM253","v":""},{"$f":"'FO-DRE-12'!BN253","v":""},{"$f":"'FO-DRE-12'!BO253","v":""},{"$f":"'FO-DRE-12'!BP253","v":""},{"$f":"'FO-DRE-12'!BQ253","v":""},{"$f":"'FO-DRE-12'!BR253","v":""},{"$f":"'FO-DRE-12'!BS253","v":""},{"$f":"'FO-DRE-12'!BT253","v":""},{"$f":"'FO-DRE-12'!BU253","v":""},{"$f":"'FO-DRE-12'!BV253","v":""}]
[{"$f":"'FO-DRE-12'!BD254","v":245},{"$f":"'FO-DRE-12'!BE254","v":""},{"$f":"'FO-DRE-12'!BF254","v":"F/D"},{"$f":"'FO-DRE-12'!BG254","v":"F/D"},{"$f":"'FO-DRE-12'!BH254","v":""},{"$f":"'FO-DRE-12'!BI254","v":""},{"$f":"'FO-DRE-12'!BJ254","v":""},{"$f":"'FO-DRE-12'!BK254","v":""},{"$f":"'FO-DRE-12'!BL254","v":""},{"$f":"'FO-DRE-12'!BM254","v":""},{"$f":"'FO-DRE-12'!BN254","v":""},{"$f":"'FO-DRE-12'!BO254","v":""},{"$f":"'FO-DRE-12'!BP254","v":""},{"$f":"'FO-DRE-12'!BQ254","v":""},{"$f":"'FO-DRE-12'!BR254","v":""},{"$f":"'FO-DRE-12'!BS254","v":""},{"$f":"'FO-DRE-12'!BT254","v":""},{"$f":"'FO-DRE-12'!BU254","v":""},{"$f":"'FO-DRE-12'!BV254","v":""}]
[{"$f":"'FO-DRE-12'!BD255","v":246},{"$f":"'FO-DRE-12'!BE255","v":""},{"$f":"'FO-DRE-12'!BF255","v":"F/D"},{"$f":"'FO-DRE-12'!BG255","v":"F/D"},{"$f":"'FO-DRE-12'!BH255","v":""},{"$f":"'FO-DRE-12'!BI255","v":""},{"$f":"'FO-DRE-12'!BJ255","v":""},{"$f":"'FO-DRE-12'!BK255","v":""},{"$f":"'FO-DRE-12'!BL255","v":""},{"$f":"'FO-DRE-12'!BM255","v":""},{"$f":"'FO-DRE-12'!BN255","v":""},{"$f":"'FO-DRE-12'!BO255","v":""},{"$f":"'FO-DRE-12'!BP255","v":""},{"$f":"'FO-DRE-12'!BQ255","v":""},{"$f":"'FO-DRE-12'!BR255","v":""},{"$f":"'FO-DRE-12'!BS255","v":""},{"$f":"'FO-DRE-12'!BT255","v":""},{"$f":"'FO-DRE-12'!BU255","v":""},{"$f":"'FO-DRE-12'!BV255","v":""}]
[{"$f":"'FO-DRE-12'!BD256","v":247},{"$f":"'FO-DRE-12'!BE256","v":""},{"$f":"'FO-DRE-12'!BF256","v":"F/D"},{"$f":"'FO-DRE-12'!BG256","v":"F/D"},{"$f":"'FO-DRE-12'!BH256","v":""},{"$f":"'FO-DRE-12'!BI256","v":""},{"$f":"'FO-DRE-12'!BJ256","v":""},{"$f":"'FO-DRE-12'!BK256","v":""},{"$f":"'FO-DRE-12'!BL256","v":""},{"$f":"'FO-DRE-12'!BM256","v":""},{"$f":"'FO-DRE-12'!BN256","v":""},{"$f":"'FO-DRE-12'!BO256","v":""},{"$f":"'FO-DRE-12'!BP256","v":""},{"$f":"'FO-DRE-12'!BQ256","v":""},{"$f":"'FO-DRE-12'!BR256","v":""},{"$f":"'FO-DRE-12'!BS256","v":""},{"$f":"'FO-DRE-12'!BT256","v":""},{"$f":"'FO-DRE-12'!BU256","v":""},{"$f":"'FO-DRE-12'!BV256","v":""}]
[{"$f":"'FO-DRE-12'!BD257","v":248},{"$f":"'FO-DRE-12'!BE257","v":""},{"$f":"'FO-DRE-12'!BF257","v":"F/D"},{"$f":"'FO-DRE-12'!BG257","v":"F/D"},{"$f":"'FO-DRE-12'!BH257","v":""},{"$f":"'FO-DRE-12'!BI257","v":""},{"$f":"'FO-DRE-12'!BJ257","v":""},{"$f":"'FO-DRE-12'!BK257","v":""},{"$f":"'FO-DRE-12'!BL257","v":""},{"$f":"'FO-DRE-12'!BM257","v":""},{"$f":"'FO-DRE-12'!BN257","v":""},{"$f":"'FO-DRE-12'!BO257","v":""},{"$f":"'FO-DRE-12'!BP257","v":""},{"$f":"'FO-DRE-12'!BQ257","v":""},{"$f":"'FO-DRE-12'!BR257","v":""},{"$f":"'FO-DRE-12'!BS257","v":""},{"$f":"'FO-DRE-12'!BT257","v":""},{"$f":"'FO-DRE-12'!BU257","v":""},{"$f":"'FO-DRE-12'!BV257","v":""}]
[{"$f":"'FO-DRE-12'!BD258","v":249},{"$f":"'FO-DRE-12'!BE258","v":""},{"$f":"'FO-DRE-12'!BF258","v":"F/D"},{"$f":"'FO-DRE-12'!BG258","v":"F/D"},{"$f":"'FO-DRE-12'!BH258","v":""},{"$f":"'FO-DRE-12'!BI258","v":""},{"$f":"'FO-DRE-12'!BJ258","v":""},{"$f":"'FO-DRE-12'!BK258","v":""},{"$f":"'FO-DRE-12'!BL258","v":""},{"$f":"'FO-DRE-12'!BM258","v":""},{"$f":"'FO-DRE-12'!BN258","v":""},{"$f":"'FO-DRE-12'!BO258","v":""},{"$f":"'FO-DRE-12'!BP258","v":""},{"$f":"'FO-DRE-12'!BQ258","v":""},{"$f":"'FO-DRE-12'!BR258","v":""},{"$f":"'FO-DRE-12'!BS258","v":""},{"$f":"'FO-DRE-12'!BT258","v":""},{"$f":"'FO-DRE-12'!BU258","v":""},{"$f":"'FO-DRE-12'!BV258","v":""}]
[{"$f":"'FO-DRE-12'!BD259","v":250},{"$f":"'FO-DRE-12'!BE259","v":""},{"$f":"'FO-DRE-12'!BF259","v":"F/D"},{"$f":"'FO-DRE-12'!BG259","v":"F/D"},{"$f":"'FO-DRE-12'!BH259","v":""},{"$f":"'FO-DRE-12'!BI259","v":""},{"$f":"'FO-DRE-12'!BJ259","v":""},{"$f":"'FO-DRE-12'!BK259","v":""},{"$f":"'FO-DRE-12'!BL259","v":""},{"$f":"'FO-DRE-12'!BM259","v":""},{"$f":"'FO-DRE-12'!BN259","v":""},{"$f":"'FO-DRE-12'!BO259","v":""},{"$f":"'FO-DRE-12'!BP259","v":""},{"$f":"'FO-DRE-12'!BQ259","v":""},{"$f":"'FO-DRE-12'!BR259","v":""},{"$f":"'FO-DRE-12'!BS259","v":""},{"$f":"'FO-DRE-12'!BT259","v":""},{"$f":"'FO-DRE-12'!BU259","v":""},{"$f":"'FO-DRE-12'!BV259","v":""}]
[{"$f":"'FO-DRE-12'!BD260","v":251},{"$f":"'FO-DRE-12'!BE260","v":""},{"$f":"'FO-DRE-12'!BF260","v":"F/D"},{"$f":"'FO-DRE-12'!BG260","v":"F/D"},{"$f":"'FO-DRE-12'!BH260","v":""},{"$f":"'FO-DRE-12'!BI260","v":""},{"$f":"'FO-DRE-12'!BJ260","v":""},{"$f":"'FO-DRE-12'!BK260","v":""},{"$f":"'FO-DRE-12'!BL260","v":""},{"$f":"'FO-DRE-12'!BM260","v":""},{"$f":"'FO-DRE-12'!BN260","v":""},{"$f":"'FO-DRE-12'!BO260","v":""},{"$f":"'FO-DRE-12'!BP260","v":""},{"$f":"'FO-DRE-12'!BQ260","v":""},{"$f":"'FO-DRE-12'!BR260","v":""},{"$f":"'FO-DRE-12'!BS260","v":""},{"$f":"'FO-DRE-12'!BT260","v":""},{"$f":"'FO-DRE-12'!BU260","v":""},{"$f":"'FO-DRE-12'!BV260","v":""}]
[{"$f":"'FO-DRE-12'!BD261","v":252},{"$f":"'FO-DRE-12'!BE261","v":""},{"$f":"'FO-DRE-12'!BF261","v":"F/D"},{"$f":"'FO-DRE-12'!BG261","v":"F/D"},{"$f":"'FO-DRE-12'!BH261","v":""},{"$f":"'FO-DRE-12'!BI261","v":""},{"$f":"'FO-DRE-12'!BJ261","v":""},{"$f":"'FO-DRE-12'!BK261","v":""},{"$f":"'FO-DRE-12'!BL261","v":""},{"$f":"'FO-DRE-12'!BM261","v":""},{"$f":"'FO-DRE-12'!BN261","v":""},{"$f":"'FO-DRE-12'!BO261","v":""},{"$f":"'FO-DRE-12'!BP261","v":""},{"$f":"'FO-DRE-12'!BQ261","v":""},{"$f":"'FO-DRE-12'!BR261","v":""},{"$f":"'FO-DRE-12'!BS261","v":""},{"$f":"'FO-DRE-12'!BT261","v":""},{"$f":"'FO-DRE-12'!BU261","v":""},{"$f":"'FO-DRE-12'!BV261","v":""}]
[{"$f":"'FO-DRE-12'!BD262","v":253},{"$f":"'FO-DRE-12'!BE262","v":""},{"$f":"'FO-DRE-12'!BF262","v":"F/D"},{"$f":"'FO-DRE-12'!BG262","v":"F/D"},{"$f":"'FO-DRE-12'!BH262","v":""},{"$f":"'FO-DRE-12'!BI262","v":""},{"$f":"'FO-DRE-12'!BJ262","v":""},{"$f":"'FO-DRE-12'!BK262","v":""},{"$f":"'FO-DRE-12'!BL262","v":""},{"$f":"'FO-DRE-12'!BM262","v":""},{"$f":"'FO-DRE-12'!BN262","v":""},{"$f":"'FO-DRE-12'!BO262","v":""},{"$f":"'FO-DRE-12'!BP262","v":""},{"$f":"'FO-DRE-12'!BQ262","v":""},{"$f":"'FO-DRE-12'!BR262","v":""},{"$f":"'FO-DRE-12'!BS262","v":""},{"$f":"'FO-DRE-12'!BT262","v":""},{"$f":"'FO-DRE-12'!BU262","v":""},{"$f":"'FO-DRE-12'!BV262","v":""}]
[{"$f":"'FO-DRE-12'!BD263","v":254},{"$f":"'FO-DRE-12'!BE263","v":""},{"$f":"'FO-DRE-12'!BF263","v":"F/D"},{"$f":"'FO-DRE-12'!BG263","v":"F/D"},{"$f":"'FO-DRE-12'!BH263","v":""},{"$f":"'FO-DRE-12'!BI263","v":""},{"$f":"'FO-DRE-12'!BJ263","v":""},{"$f":"'FO-DRE-12'!BK263","v":""},{"$f":"'FO-DRE-12'!BL263","v":""},{"$f":"'FO-DRE-12'!BM263","v":""},{"$f":"'FO-DRE-12'!BN263","v":""},{"$f":"'FO-DRE-12'!BO263","v":""},{"$f":"'FO-DRE-12'!BP263","v":""},{"$f":"'FO-DRE-12'!BQ263","v":""},{"$f":"'FO-DRE-12'!BR263","v":""},{"$f":"'FO-DRE-12'!BS263","v":""},{"$f":"'FO-DRE-12'!BT263","v":""},{"$f":"'FO-DRE-12'!BU263","v":""},{"$f":"'FO-DRE-12'!BV263","v":""}]
[{"$f":"'FO-DRE-12'!BD264","v":255},{"$f":"'FO-DRE-12'!BE264","v":""},{"$f":"'FO-DRE-12'!BF264","v":"F/D"},{"$f":"'FO-DRE-12'!BG264","v":"F/D"},{"$f":"'FO-DRE-12'!BH264","v":""},{"$f":"'FO-DRE-12'!BI264","v":""},{"$f":"'FO-DRE-12'!BJ264","v":""},{"$f":"'FO-DRE-12'!BK264","v":""},{"$f":"'FO-DRE-12'!BL264","v":""},{"$f":"'FO-DRE-12'!BM264","v":""},{"$f":"'FO-DRE-12'!BN264","v":""},{"$f":"'FO-DRE-12'!BO264","v":""},{"$f":"'FO-DRE-12'!BP264","v":""},{"$f":"'FO-DRE-12'!BQ264","v":""},{"$f":"'FO-DRE-12'!BR264","v":""},{"$f":"'FO-DRE-12'!BS264","v":""},{"$f":"'FO-DRE-12'!BT264","v":""},{"$f":"'FO-DRE-12'!BU264","v":""},{"$f":"'FO-DRE-12'!BV264","v":""}]
[{"$f":"'FO-DRE-12'!BD265","v":256},{"$f":"'FO-DRE-12'!BE265","v":""},{"$f":"'FO-DRE-12'!BF265","v":"F/D"},{"$f":"'FO-DRE-12'!BG265","v":"F/D"},{"$f":"'FO-DRE-12'!BH265","v":""},{"$f":"'FO-DRE-12'!BI265","v":""},{"$f":"'FO-DRE-12'!BJ265","v":""},{"$f":"'FO-DRE-12'!BK265","v":""},{"$f":"'FO-DRE-12'!BL265","v":""},{"$f":"'FO-DRE-12'!BM265","v":""},{"$f":"'FO-DRE-12'!BN265","v":""},{"$f":"'FO-DRE-12'!BO265","v":""},{"$f":"'FO-DRE-12'!BP265","v":""},{"$f":"'FO-DRE-12'!BQ265","v":""},{"$f":"'FO-DRE-12'!BR265","v":""},{"$f":"'FO-DRE-12'!BS265","v":""},{"$f":"'FO-DRE-12'!BT265","v":""},{"$f":"'FO-DRE-12'!BU265","v":""},{"$f":"'FO-DRE-12'!BV265","v":""}]
[{"$f":"'FO-DRE-12'!BD266","v":257},{"$f":"'FO-DRE-12'!BE266","v":""},{"$f":"'FO-DRE-12'!BF266","v":"F/D"},{"$f":"'FO-DRE-12'!BG266","v":"F/D"},{"$f":"'FO-DRE-12'!BH266","v":""},{"$f":"'FO-DRE-12'!BI266","v":""},{"$f":"'FO-DRE-12'!BJ266","v":""},{"$f":"'FO-DRE-12'!BK266","v":""},{"$f":"'FO-DRE-12'!BL266","v":""},{"$f":"'FO-DRE-12'!BM266","v":""},{"$f":"'FO-DRE-12'!BN266","v":""},{"$f":"'FO-DRE-12'!BO266","v":""},{"$f":"'FO-DRE-12'!BP266","v":""},{"$f":"'FO-DRE-12'!BQ266","v":""},{"$f":"'FO-DRE-12'!BR266","v":""},{"$f":"'FO-DRE-12'!BS266","v":""},{"$f":"'FO-DRE-12'!BT266","v":""},{"$f":"'FO-DRE-12'!BU266","v":""},{"$f":"'FO-DRE-12'!BV266","v":""}]
[{"$f":"'FO-DRE-12'!BD267","v":258},{"$f":"'FO-DRE-12'!BE267","v":""},{"$f":"'FO-DRE-12'!BF267","v":"F/D"},{"$f":"'FO-DRE-12'!BG267","v":"F/D"},{"$f":"'FO-DRE-12'!BH267","v":""},{"$f":"'FO-DRE-12'!BI267","v":""},{"$f":"'FO-DRE-12'!BJ267","v":""},{"$f":"'FO-DRE-12'!BK267","v":""},{"$f":"'FO-DRE-12'!BL267","v":""},{"$f":"'FO-DRE-12'!BM267","v":""},{"$f":"'FO-DRE-12'!BN267","v":""},{"$f":"'FO-DRE-12'!BO267","v":""},{"$f":"'FO-DRE-12'!BP267","v":""},{"$f":"'FO-DRE-12'!BQ267","v":""},{"$f":"'FO-DRE-12'!BR267","v":""},{"$f":"'FO-DRE-12'!BS267","v":""},{"$f":"'FO-DRE-12'!BT267","v":""},{"$f":"'FO-DRE-12'!BU267","v":""},{"$f":"'FO-DRE-12'!BV267","v":""}]
[{"$f":"'FO-DRE-12'!BD268","v":259},{"$f":"'FO-DRE-12'!BE268","v":""},{"$f":"'FO-DRE-12'!BF268","v":"F/D"},{"$f":"'FO-DRE-12'!BG268","v":"F/D"},{"$f":"'FO-DRE-12'!BH268","v":""},{"$f":"'FO-DRE-12'!BI268","v":""},{"$f":"'FO-DRE-12'!BJ268","v":""},{"$f":"'FO-DRE-12'!BK268","v":""},{"$f":"'FO-DRE-12'!BL268","v":""},{"$f":"'FO-DRE-12'!BM268","v":""},{"$f":"'FO-DRE-12'!BN268","v":""},{"$f":"'FO-DRE-12'!BO268","v":""},{"$f":"'FO-DRE-12'!BP268","v":""},{"$f":"'FO-DRE-12'!BQ268","v":""},{"$f":"'FO-DRE-12'!BR268","v":""},{"$f":"'FO-DRE-12'!BS268","v":""},{"$f":"'FO-DRE-12'!BT268","v":""},{"$f":"'FO-DRE-12'!BU268","v":""},{"$f":"'FO-DRE-12'!BV268","v":""}]
[{"$f":"'FO-DRE-12'!BD269","v":260},{"$f":"'FO-DRE-12'!BE269","v":""},{"$f":"'FO-DRE-12'!BF269","v":"F/D"},{"$f":"'FO-DRE-12'!BG269","v":"F/D"},{"$f":"'FO-DRE-12'!BH269","v":""},{"$f":"'FO-DRE-12'!BI269","v":""},{"$f":"'FO-DRE-12'!BJ269","v":""},{"$f":"'FO-DRE-12'!BK269","v":""},{"$f":"'FO-DRE-12'!BL269","v":""},{"$f":"'FO-DRE-12'!BM269","v":""},{"$f":"'FO-DRE-12'!BN269","v":""},{"$f":"'FO-DRE-12'!BO269","v":""},{"$f":"'FO-DRE-12'!BP269","v":""},{"$f":"'FO-DRE-12'!BQ269","v":""},{"$f":"'FO-DRE-12'!BR269","v":""},{"$f":"'FO-DRE-12'!BS269","v":""},{"$f":"'FO-DRE-12'!BT269","v":""},{"$f":"'FO-DRE-12'!BU269","v":""},{"$f":"'FO-DRE-12'!BV269","v":""}]
[{"$f":"'FO-DRE-12'!BD270","v":261},{"$f":"'FO-DRE-12'!BE270","v":""},{"$f":"'FO-DRE-12'!BF270","v":"F/D"},{"$f":"'FO-DRE-12'!BG270","v":"F/D"},{"$f":"'FO-DRE-12'!BH270","v":""},{"$f":"'FO-DRE-12'!BI270","v":""},{"$f":"'FO-DRE-12'!BJ270","v":""},{"$f":"'FO-DRE-12'!BK270","v":""},{"$f":"'FO-DRE-12'!BL270","v":""},{"$f":"'FO-DRE-12'!BM270","v":""},{"$f":"'FO-DRE-12'!BN270","v":""},{"$f":"'FO-DRE-12'!BO270","v":""},{"$f":"'FO-DRE-12'!BP270","v":""},{"$f":"'FO-DRE-12'!BQ270","v":""},{"$f":"'FO-DRE-12'!BR270","v":""},{"$f":"'FO-DRE-12'!BS270","v":""},{"$f":"'FO-DRE-12'!BT270","v":""},{"$f":"'FO-DRE-12'!BU270","v":""},{"$f":"'FO-DRE-12'!BV270","v":""}]
[{"$f":"'FO-DRE-12'!BD271","v":262},{"$f":"'FO-DRE-12'!BE271","v":""},{"$f":"'FO-DRE-12'!BF271","v":"F/D"},{"$f":"'FO-DRE-12'!BG271","v":"F/D"},{"$f":"'FO-DRE-12'!BH271","v":""},{"$f":"'FO-DRE-12'!BI271","v":""},{"$f":"'FO-DRE-12'!BJ271","v":""},{"$f":"'FO-DRE-12'!BK271","v":""},{"$f":"'FO-DRE-12'!BL271","v":""},{"$f":"'FO-DRE-12'!BM271","v":""},{"$f":"'FO-DRE-12'!BN271","v":""},{"$f":"'FO-DRE-12'!BO271","v":""},{"$f":"'FO-DRE-12'!BP271","v":""},{"$f":"'FO-DRE-12'!BQ271","v":""},{"$f":"'FO-DRE-12'!BR271","v":""},{"$f":"'FO-DRE-12'!BS271","v":""},{"$f":"'FO-DRE-12'!BT271","v":""},{"$f":"'FO-DRE-12'!BU271","v":""},{"$f":"'FO-DRE-12'!BV271","v":""}]
[{"$f":"'FO-DRE-12'!BD272","v":263},{"$f":"'FO-DRE-12'!BE272","v":""},{"$f":"'FO-DRE-12'!BF272","v":"F/D"},{"$f":"'FO-DRE-12'!BG272","v":"F/D"},{"$f":"'FO-DRE-12'!BH272","v":""},{"$f":"'FO-DRE-12'!BI272","v":""},{"$f":"'FO-DRE-12'!BJ272","v":""},{"$f":"'FO-DRE-12'!BK272","v":""},{"$f":"'FO-DRE-12'!BL272","v":""},{"$f":"'FO-DRE-12'!BM272","v":""},{"$f":"'FO-DRE-12'!BN272","v":""},{"$f":"'FO-DRE-12'!BO272","v":""},{"$f":"'FO-DRE-12'!BP272","v":""},{"$f":"'FO-DRE-12'!BQ272","v":""},{"$f":"'FO-DRE-12'!BR272","v":""},{"$f":"'FO-DRE-12'!BS272","v":""},{"$f":"'FO-DRE-12'!BT272","v":""},{"$f":"'FO-DRE-12'!BU272","v":""},{"$f":"'FO-DRE-12'!BV272","v":""}]
[{"$f":"'FO-DRE-12'!BD273","v":264},{"$f":"'FO-DRE-12'!BE273","v":""},{"$f":"'FO-DRE-12'!BF273","v":"F/D"},{"$f":"'FO-DRE-12'!BG273","v":"F/D"},{"$f":"'FO-DRE-12'!BH273","v":""},{"$f":"'FO-DRE-12'!BI273","v":""},{"$f":"'FO-DRE-12'!BJ273","v":""},{"$f":"'FO-DRE-12'!BK273","v":""},{"$f":"'FO-DRE-12'!BL273","v":""},{"$f":"'FO-DRE-12'!BM273","v":""},{"$f":"'FO-DRE-12'!BN273","v":""},{"$f":"'FO-DRE-12'!BO273","v":""},{"$f":"'FO-DRE-12'!BP273","v":""},{"$f":"'FO-DRE-12'!BQ273","v":""},{"$f":"'FO-DRE-12'!BR273","v":""},{"$f":"'FO-DRE-12'!BS273","v":""},{"$f":"'FO-DRE-12'!BT273","v":""},{"$f":"'FO-DRE-12'!BU273","v":""},{"$f":"'FO-DRE-12'!BV273","v":""}]
[{"$f":"'FO-DRE-12'!BD274","v":265},{"$f":"'FO-DRE-12'!BE274","v":""},{"$f":"'FO-DRE-12'!BF274","v":"F/D"},{"$f":"'FO-DRE-12'!BG274","v":"F/D"},{"$f":"'FO-DRE-12'!BH274","v":""},{"$f":"'FO-DRE-12'!BI274","v":""},{"$f":"'FO-DRE-12'!BJ274","v":""},{"$f":"'FO-DRE-12'!BK274","v":""},{"$f":"'FO-DRE-12'!BL274","v":""},{"$f":"'FO-DRE-12'!BM274","v":""},{"$f":"'FO-DRE-12'!BN274","v":""},{"$f":"'FO-DRE-12'!BO274","v":""},{"$f":"'FO-DRE-12'!BP274","v":""},{"$f":"'FO-DRE-12'!BQ274","v":""},{"$f":"'FO-DRE-12'!BR274","v":""},{"$f":"'FO-DRE-12'!BS274","v":""},{"$f":"'FO-DRE-12'!BT274","v":""},{"$f":"'FO-DRE-12'!BU274","v":""},{"$f":"'FO-DRE-12'!BV274","v":""}]
[{"$f":"'FO-DRE-12'!BD275","v":266},{"$f":"'FO-DRE-12'!BE275","v":""},{"$f":"'FO-DRE-12'!BF275","v":"F/D"},{"$f":"'FO-DRE-12'!BG275","v":"F/D"},{"$f":"'FO-DRE-12'!BH275","v":""},{"$f":"'FO-DRE-12'!BI275","v":""},{"$f":"'FO-DRE-12'!BJ275","v":""},{"$f":"'FO-DRE-12'!BK275","v":""},{"$f":"'FO-DRE-12'!BL275","v":""},{"$f":"'FO-DRE-12'!BM275","v":""},{"$f":"'FO-DRE-12'!BN275","v":""},{"$f":"'FO-DRE-12'!BO275","v":""},{"$f":"'FO-DRE-12'!BP275","v":""},{"$f":"'FO-DRE-12'!BQ275","v":""},{"$f":"'FO-DRE-12'!BR275","v":""},{"$f":"'FO-DRE-12'!BS275","v":""},{"$f":"'FO-DRE-12'!BT275","v":""},{"$f":"'FO-DRE-12'!BU275","v":""},{"$f":"'FO-DRE-12'!BV275","v":""}]
[{"$f":"'FO-DRE-12'!BD276","v":267},{"$f":"'FO-DRE-12'!BE276","v":""},{"$f":"'FO-DRE-12'!BF276","v":"F/D"},{"$f":"'FO-DRE-12'!BG276","v":"F/D"},{"$f":"'FO-DRE-12'!BH276","v":""},{"$f":"'FO-DRE-12'!BI276","v":""},{"$f":"'FO-DRE-12'!BJ276","v":""},{"$f":"'FO-DRE-12'!BK276","v":""},{"$f":"'FO-DRE-12'!BL276","v":""},{"$f":"'FO-DRE-12'!BM276","v":""},{"$f":"'FO-DRE-12'!BN276","v":""},{"$f":"'FO-DRE-12'!BO276","v":""},{"$f":"'FO-DRE-12'!BP276","v":""},{"$f":"'FO-DRE-12'!BQ276","v":""},{"$f":"'FO-DRE-12'!BR276","v":""},{"$f":"'FO-DRE-12'!BS276","v":""},{"$f":"'FO-DRE-12'!BT276","v":""},{"$f":"'FO-DRE-12'!BU276","v":""},{"$f":"'FO-DRE-12'!BV276","v":""}]
[{"$f":"'FO-DRE-12'!BD277","v":268},{"$f":"'FO-DRE-12'!BE277","v":""},{"$f":"'FO-DRE-12'!BF277","v":"F/D"},{"$f":"'FO-DRE-12'!BG277","v":"F/D"},{"$f":"'FO-DRE-12'!BH277","v":""},{"$f":"'FO-DRE-12'!BI277","v":""},{"$f":"'FO-DRE-12'!BJ277","v":""},{"$f":"'FO-DRE-12'!BK277","v":""},{"$f":"'FO-DRE-12'!BL277","v":""},{"$f":"'FO-DRE-12'!BM277","v":""},{"$f":"'FO-DRE-12'!BN277","v":""},{"$f":"'FO-DRE-12'!BO277","v":""},{"$f":"'FO-DRE-12'!BP277","v":""},{"$f":"'FO-DRE-12'!BQ277","v":""},{"$f":"'FO-DRE-12'!BR277","v":""},{"$f":"'FO-DRE-12'!BS277","v":""},{"$f":"'FO-DRE-12'!BT277","v":""},{"$f":"'FO-DRE-12'!BU277","v":""},{"$f":"'FO-DRE-12'!BV277","v":""}]
[{"$f":"'FO-DRE-12'!BD278","v":269},{"$f":"'FO-DRE-12'!BE278","v":""},{"$f":"'FO-DRE-12'!BF278","v":"F/D"},{"$f":"'FO-DRE-12'!BG278","v":"F/D"},{"$f":"'FO-DRE-12'!BH278","v":""},{"$f":"'FO-DRE-12'!BI278","v":""},{"$f":"'FO-DRE-12'!BJ278","v":""},{"$f":"'FO-DRE-12'!BK278","v":""},{"$f":"'FO-DRE-12'!BL278","v":""},{"$f":"'FO-DRE-12'!BM278","v":""},{"$f":"'FO-DRE-12'!BN278","v":""},{"$f":"'FO-DRE-12'!BO278","v":""},{"$f":"'FO-DRE-12'!BP278","v":""},{"$f":"'FO-DRE-12'!BQ278","v":""},{"$f":"'FO-DRE-12'!BR278","v":""},{"$f":"'FO-DRE-12'!BS278","v":""},{"$f":"'FO-DRE-12'!BT278","v":""},{"$f":"'FO-DRE-12'!BU278","v":""},{"$f":"'FO-DRE-12'!BV278","v":""}]
[{"$f":"'FO-DRE-12'!BD279","v":270},{"$f":"'FO-DRE-12'!BE279","v":""},{"$f":"'FO-DRE-12'!BF279","v":"F/D"},{"$f":"'FO-DRE-12'!BG279","v":"F/D"},{"$f":"'FO-DRE-12'!BH279","v":""},{"$f":"'FO-DRE-12'!BI279","v":""},{"$f":"'FO-DRE-12'!BJ279","v":""},{"$f":"'FO-DRE-12'!BK279","v":""},{"$f":"'FO-DRE-12'!BL279","v":""},{"$f":"'FO-DRE-12'!BM279","v":""},{"$f":"'FO-DRE-12'!BN279","v":""},{"$f":"'FO-DRE-12'!BO279","v":""},{"$f":"'FO-DRE-12'!BP279","v":""},{"$f":"'FO-DRE-12'!BQ279","v":""},{"$f":"'FO-DRE-12'!BR279","v":""},{"$f":"'FO-DRE-12'!BS279","v":""},{"$f":"'FO-DRE-12'!BT279","v":""},{"$f":"'FO-DRE-12'!BU279","v":""},{"$f":"'FO-DRE-12'!BV279","v":""}]
[{"$f":"'FO-DRE-12'!BD280","v":271},{"$f":"'FO-DRE-12'!BE280","v":""},{"$f":"'FO-DRE-12'!BF280","v":"F/D"},{"$f":"'FO-DRE-12'!BG280","v":"F/D"},{"$f":"'FO-DRE-12'!BH280","v":""},{"$f":"'FO-DRE-12'!BI280","v":""},{"$f":"'FO-DRE-12'!BJ280","v":""},{"$f":"'FO-DRE-12'!BK280","v":""},{"$f":"'FO-DRE-12'!BL280","v":""},{"$f":"'FO-DRE-12'!BM280","v":""},{"$f":"'FO-DRE-12'!BN280","v":""},{"$f":"'FO-DRE-12'!BO280","v":""},{"$f":"'FO-DRE-12'!BP280","v":""},{"$f":"'FO-DRE-12'!BQ280","v":""},{"$f":"'FO-DRE-12'!BR280","v":""},{"$f":"'FO-DRE-12'!BS280","v":""},{"$f":"'FO-DRE-12'!BT280","v":""},{"$f":"'FO-DRE-12'!BU280","v":""},{"$f":"'FO-DRE-12'!BV280","v":""}]
[{"$f":"'FO-DRE-12'!BD281","v":272},{"$f":"'FO-DRE-12'!BE281","v":""},{"$f":"'FO-DRE-12'!BF281","v":"F/D"},{"$f":"'FO-DRE-12'!BG281","v":"F/D"},{"$f":"'FO-DRE-12'!BH281","v":""},{"$f":"'FO-DRE-12'!BI281","v":""},{"$f":"'FO-DRE-12'!BJ281","v":""},{"$f":"'FO-DRE-12'!BK281","v":""},{"$f":"'FO-DRE-12'!BL281","v":""},{"$f":"'FO-DRE-12'!BM281","v":""},{"$f":"'FO-DRE-12'!BN281","v":""},{"$f":"'FO-DRE-12'!BO281","v":""},{"$f":"'FO-DRE-12'!BP281","v":""},{"$f":"'FO-DRE-12'!BQ281","v":""},{"$f":"'FO-DRE-12'!BR281","v":""},{"$f":"'FO-DRE-12'!BS281","v":""},{"$f":"'FO-DRE-12'!BT281","v":""},{"$f":"'FO-DRE-12'!BU281","v":""},{"$f":"'FO-DRE-12'!BV281","v":""}]
[{"$f":"'FO-DRE-12'!BD282","v":273},{"$f":"'FO-DRE-12'!BE282","v":""},{"$f":"'FO-DRE-12'!BF282","v":"F/D"},{"$f":"'FO-DRE-12'!BG282","v":"F/D"},{"$f":"'FO-DRE-12'!BH282","v":""},{"$f":"'FO-DRE-12'!BI282","v":""},{"$f":"'FO-DRE-12'!BJ282","v":""},{"$f":"'FO-DRE-12'!BK282","v":""},{"$f":"'FO-DRE-12'!BL282","v":""},{"$f":"'FO-DRE-12'!BM282","v":""},{"$f":"'FO-DRE-12'!BN282","v":""},{"$f":"'FO-DRE-12'!BO282","v":""},{"$f":"'FO-DRE-12'!BP282","v":""},{"$f":"'FO-DRE-12'!BQ282","v":""},{"$f":"'FO-DRE-12'!BR282","v":""},{"$f":"'FO-DRE-12'!BS282","v":""},{"$f":"'FO-DRE-12'!BT282","v":""},{"$f":"'FO-DRE-12'!BU282","v":""},{"$f":"'FO-DRE-12'!BV282","v":""}]
[{"$f":"'FO-DRE-12'!BD283","v":274},{"$f":"'FO-DRE-12'!BE283","v":""},{"$f":"'FO-DRE-12'!BF283","v":"F/D"},{"$f":"'FO-DRE-12'!BG283","v":"F/D"},{"$f":"'FO-DRE-12'!BH283","v":""},{"$f":"'FO-DRE-12'!BI283","v":""},{"$f":"'FO-DRE-12'!BJ283","v":""},{"$f":"'FO-DRE-12'!BK283","v":""},{"$f":"'FO-DRE-12'!BL283","v":""},{"$f":"'FO-DRE-12'!BM283","v":""},{"$f":"'FO-DRE-12'!BN283","v":""},{"$f":"'FO-DRE-12'!BO283","v":""},{"$f":"'FO-DRE-12'!BP283","v":""},{"$f":"'FO-DRE-12'!BQ283","v":""},{"$f":"'FO-DRE-12'!BR283","v":""},{"$f":"'FO-DRE-12'!BS283","v":""},{"$f":"'FO-DRE-12'!BT283","v":""},{"$f":"'FO-DRE-12'!BU283","v":""},{"$f":"'FO-DRE-12'!BV283","v":""}]
[{"$f":"'FO-DRE-12'!BD284","v":275},{"$f":"'FO-DRE-12'!BE284","v":""},{"$f":"'FO-DRE-12'!BF284","v":"F/D"},{"$f":"'FO-DRE-12'!BG284","v":"F/D"},{"$f":"'FO-DRE-12'!BH284","v":""},{"$f":"'FO-DRE-12'!BI284","v":""},{"$f":"'FO-DRE-12'!BJ284","v":""},{"$f":"'FO-DRE-12'!BK284","v":""},{"$f":"'FO-DRE-12'!BL284","v":""},{"$f":"'FO-DRE-12'!BM284","v":""},{"$f":"'FO-DRE-12'!BN284","v":""},{"$f":"'FO-DRE-12'!BO284","v":""},{"$f":"'FO-DRE-12'!BP284","v":""},{"$f":"'FO-DRE-12'!BQ284","v":""},{"$f":"'FO-DRE-12'!BR284","v":""},{"$f":"'FO-DRE-12'!BS284","v":""},{"$f":"'FO-DRE-12'!BT284","v":""},{"$f":"'FO-DRE-12'!BU284","v":""},{"$f":"'FO-DRE-12'!BV284","v":""}]
[{"$f":"'FO-DRE-12'!BD285","v":276},{"$f":"'FO-DRE-12'!BE285","v":""},{"$f":"'FO-DRE-12'!BF285","v":"F/D"},{"$f":"'FO-DRE-12'!BG285","v":"F/D"},{"$f":"'FO-DRE-12'!BH285","v":""},{"$f":"'FO-DRE-12'!BI285","v":""},{"$f":"'FO-DRE-12'!BJ285","v":""},{"$f":"'FO-DRE-12'!BK285","v":""},{"$f":"'FO-DRE-12'!BL285","v":""},{"$f":"'FO-DRE-12'!BM285","v":""},{"$f":"'FO-DRE-12'!BN285","v":""},{"$f":"'FO-DRE-12'!BO285","v":""},{"$f":"'FO-DRE-12'!BP285","v":""},{"$f":"'FO-DRE-12'!BQ285","v":""},{"$f":"'FO-DRE-12'!BR285","v":""},{"$f":"'FO-DRE-12'!BS285","v":""},{"$f":"'FO-DRE-12'!BT285","v":""},{"$f":"'FO-DRE-12'!BU285","v":""},{"$f":"'FO-DRE-12'!BV285","v":""}]
[{"$f":"'FO-DRE-12'!BD286","v":277},{"$f":"'FO-DRE-12'!BE286","v":""},{"$f":"'FO-DRE-12'!BF286","v":"F/D"},{"$f":"'FO-DRE-12'!BG286","v":"F/D"},{"$f":"'FO-DRE-12'!BH286","v":""},{"$f":"'FO-DRE-12'!BI286","v":""},{"$f":"'FO-DRE-12'!BJ286","v":""},{"$f":"'FO-DRE-12'!BK286","v":""},{"$f":"'FO-DRE-12'!BL286","v":""},{"$f":"'FO-DRE-12'!BM286","v":""},{"$f":"'FO-DRE-12'!BN286","v":""},{"$f":"'FO-DRE-12'!BO286","v":""},{"$f":"'FO-DRE-12'!BP286","v":""},{"$f":"'FO-DRE-12'!BQ286","v":""},{"$f":"'FO-DRE-12'!BR286","v":""},{"$f":"'FO-DRE-12'!BS286","v":""},{"$f":"'FO-DRE-12'!BT286","v":""},{"$f":"'FO-DRE-12'!BU286","v":""},{"$f":"'FO-DRE-12'!BV286","v":""}]
[{"$f":"'FO-DRE-12'!BD287","v":278},{"$f":"'FO-DRE-12'!BE287","v":""},{"$f":"'FO-DRE-12'!BF287","v":"F/D"},{"$f":"'FO-DRE-12'!BG287","v":"F/D"},{"$f":"'FO-DRE-12'!BH287","v":""},{"$f":"'FO-DRE-12'!BI287","v":""},{"$f":"'FO-DRE-12'!BJ287","v":""},{"$f":"'FO-DRE-12'!BK287","v":""},{"$f":"'FO-DRE-12'!BL287","v":""},{"$f":"'FO-DRE-12'!BM287","v":""},{"$f":"'FO-DRE-12'!BN287","v":""},{"$f":"'FO-DRE-12'!BO287","v":""},{"$f":"'FO-DRE-12'!BP287","v":""},{"$f":"'FO-DRE-12'!BQ287","v":""},{"$f":"'FO-DRE-12'!BR287","v":""},{"$f":"'FO-DRE-12'!BS287","v":""},{"$f":"'FO-DRE-12'!BT287","v":""},{"$f":"'FO-DRE-12'!BU287","v":""},{"$f":"'FO-DRE-12'!BV287","v":""}]
[{"$f":"'FO-DRE-12'!BD288","v":279},{"$f":"'FO-DRE-12'!BE288","v":""},{"$f":"'FO-DRE-12'!BF288","v":"F/D"},{"$f":"'FO-DRE-12'!BG288","v":"F/D"},{"$f":"'FO-DRE-12'!BH288","v":""},{"$f":"'FO-DRE-12'!BI288","v":""},{"$f":"'FO-DRE-12'!BJ288","v":""},{"$f":"'FO-DRE-12'!BK288","v":""},{"$f":"'FO-DRE-12'!BL288","v":""},{"$f":"'FO-DRE-12'!BM288","v":""},{"$f":"'FO-DRE-12'!BN288","v":""},{"$f":"'FO-DRE-12'!BO288","v":""},{"$f":"'FO-DRE-12'!BP288","v":""},{"$f":"'FO-DRE-12'!BQ288","v":""},{"$f":"'FO-DRE-12'!BR288","v":""},{"$f":"'FO-DRE-12'!BS288","v":""},{"$f":"'FO-DRE-12'!BT288","v":""},{"$f":"'FO-DRE-12'!BU288","v":""},{"$f":"'FO-DRE-12'!BV288","v":""}]
[{"$f":"'FO-DRE-12'!BD289","v":280},{"$f":"'FO-DRE-12'!BE289","v":""},{"$f":"'FO-DRE-12'!BF289","v":"F/D"},{"$f":"'FO-DRE-12'!BG289","v":"F/D"},{"$f":"'FO-DRE-12'!BH289","v":""},{"$f":"'FO-DRE-12'!BI289","v":""},{"$f":"'FO-DRE-12'!BJ289","v":""},{"$f":"'FO-DRE-12'!BK289","v":""},{"$f":"'FO-DRE-12'!BL289","v":""},{"$f":"'FO-DRE-12'!BM289","v":""},{"$f":"'FO-DRE-12'!BN289","v":""},{"$f":"'FO-DRE-12'!BO289","v":""},{"$f":"'FO-DRE-12'!BP289","v":""},{"$f":"'FO-DRE-12'!BQ289","v":""},{"$f":"'FO-DRE-12'!BR289","v":""},{"$f":"'FO-DRE-12'!BS289","v":""},{"$f":"'FO-DRE-12'!BT289","v":""},{"$f":"'FO-DRE-12'!BU289","v":""},{"$f":"'FO-DRE-12'!BV289","v":""}]
[{"$f":"'FO-DRE-12'!BD290","v":281},{"$f":"'FO-DRE-12'!BE290","v":""},{"$f":"'FO-DRE-12'!BF290","v":"F/D"},{"$f":"'FO-DRE-12'!BG290","v":"F/D"},{"$f":"'FO-DRE-12'!BH290","v":""},{"$f":"'FO-DRE-12'!BI290","v":""},{"$f":"'FO-DRE-12'!BJ290","v":""},{"$f":"'FO-DRE-12'!BK290","v":""},{"$f":"'FO-DRE-12'!BL290","v":""},{"$f":"'FO-DRE-12'!BM290","v":""},{"$f":"'FO-DRE-12'!BN290","v":""},{"$f":"'FO-DRE-12'!BO290","v":""},{"$f":"'FO-DRE-12'!BP290","v":""},{"$f":"'FO-DRE-12'!BQ290","v":""},{"$f":"'FO-DRE-12'!BR290","v":""},{"$f":"'FO-DRE-12'!BS290","v":""},{"$f":"'FO-DRE-12'!BT290","v":""},{"$f":"'FO-DRE-12'!BU290","v":""},{"$f":"'FO-DRE-12'!BV290","v":""}]
[{"$f":"'FO-DRE-12'!BD291","v":282},{"$f":"'FO-DRE-12'!BE291","v":""},{"$f":"'FO-DRE-12'!BF291","v":"F/D"},{"$f":"'FO-DRE-12'!BG291","v":"F/D"},{"$f":"'FO-DRE-12'!BH291","v":""},{"$f":"'FO-DRE-12'!BI291","v":""},{"$f":"'FO-DRE-12'!BJ291","v":""},{"$f":"'FO-DRE-12'!BK291","v":""},{"$f":"'FO-DRE-12'!BL291","v":""},{"$f":"'FO-DRE-12'!BM291","v":""},{"$f":"'FO-DRE-12'!BN291","v":""},{"$f":"'FO-DRE-12'!BO291","v":""},{"$f":"'FO-DRE-12'!BP291","v":""},{"$f":"'FO-DRE-12'!BQ291","v":""},{"$f":"'FO-DRE-12'!BR291","v":""},{"$f":"'FO-DRE-12'!BS291","v":""},{"$f":"'FO-DRE-12'!BT291","v":""},{"$f":"'FO-DRE-12'!BU291","v":""},{"$f":"'FO-DRE-12'!BV291","v":""}]
[{"$f":"'FO-DRE-12'!BD292","v":283},{"$f":"'FO-DRE-12'!BE292","v":""},{"$f":"'FO-DRE-12'!BF292","v":"F/D"},{"$f":"'FO-DRE-12'!BG292","v":"F/D"},{"$f":"'FO-DRE-12'!BH292","v":""},{"$f":"'FO-DRE-12'!BI292","v":""},{"$f":"'FO-DRE-12'!BJ292","v":""},{"$f":"'FO-DRE-12'!BK292","v":""},{"$f":"'FO-DRE-12'!BL292","v":""},{"$f":"'FO-DRE-12'!BM292","v":""},{"$f":"'FO-DRE-12'!BN292","v":""},{"$f":"'FO-DRE-12'!BO292","v":""},{"$f":"'FO-DRE-12'!BP292","v":""},{"$f":"'FO-DRE-12'!BQ292","v":""},{"$f":"'FO-DRE-12'!BR292","v":""},{"$f":"'FO-DRE-12'!BS292","v":""},{"$f":"'FO-DRE-12'!BT292","v":""},{"$f":"'FO-DRE-12'!BU292","v":""},{"$f":"'FO-DRE-12'!BV292","v":""}]
[{"$f":"'FO-DRE-12'!BD293","v":284},{"$f":"'FO-DRE-12'!BE293","v":""},{"$f":"'FO-DRE-12'!BF293","v":"F/D"},{"$f":"'FO-DRE-12'!BG293","v":"F/D"},{"$f":"'FO-DRE-12'!BH293","v":""},{"$f":"'FO-DRE-12'!BI293","v":""},{"$f":"'FO-DRE-12'!BJ293","v":""},{"$f":"'FO-DRE-12'!BK293","v":""},{"$f":"'FO-DRE-12'!BL293","v":""},{"$f":"'FO-DRE-12'!BM293","v":""},{"$f":"'FO-DRE-12'!BN293","v":""},{"$f":"'FO-DRE-12'!BO293","v":""},{"$f":"'FO-DRE-12'!BP293","v":""},{"$f":"'FO-DRE-12'!BQ293","v":""},{"$f":"'FO-DRE-12'!BR293","v":""},{"$f":"'FO-DRE-12'!BS293","v":""},{"$f":"'FO-DRE-12'!BT293","v":""},{"$f":"'FO-DRE-12'!BU293","v":""},{"$f":"'FO-DRE-12'!BV293","v":""}]
[{"$f":"'FO-DRE-12'!BD294","v":285},{"$f":"'FO-DRE-12'!BE294","v":""},{"$f":"'FO-DRE-12'!BF294","v":"F/D"},{"$f":"'FO-DRE-12'!BG294","v":"F/D"},{"$f":"'FO-DRE-12'!BH294","v":""},{"$f":"'FO-DRE-12'!BI294","v":""},{"$f":"'FO-DRE-12'!BJ294","v":""},{"$f":"'FO-DRE-12'!BK294","v":""},{"$f":"'FO-DRE-12'!BL294","v":""},{"$f":"'FO-DRE-12'!BM294","v":""},{"$f":"'FO-DRE-12'!BN294","v":""},{"$f":"'FO-DRE-12'!BO294","v":""},{"$f":"'FO-DRE-12'!BP294","v":""},{"$f":"'FO-DRE-12'!BQ294","v":""},{"$f":"'FO-DRE-12'!BR294","v":""},{"$f":"'FO-DRE-12'!BS294","v":""},{"$f":"'FO-DRE-12'!BT294","v":""},{"$f":"'FO-DRE-12'!BU294","v":""},{"$f":"'FO-DRE-12'!BV294","v":""}]
[{"$f":"'FO-DRE-12'!BD295","v":286},{"$f":"'FO-DRE-12'!BE295","v":""},{"$f":"'FO-DRE-12'!BF295","v":"F/D"},{"$f":"'FO-DRE-12'!BG295","v":"F/D"},{"$f":"'FO-DRE-12'!BH295","v":""},{"$f":"'FO-DRE-12'!BI295","v":""},{"$f":"'FO-DRE-12'!BJ295","v":""},{"$f":"'FO-DRE-12'!BK295","v":""},{"$f":"'FO-DRE-12'!BL295","v":""},{"$f":"'FO-DRE-12'!BM295","v":""},{"$f":"'FO-DRE-12'!BN295","v":""},{"$f":"'FO-DRE-12'!BO295","v":""},{"$f":"'FO-DRE-12'!BP295","v":""},{"$f":"'FO-DRE-12'!BQ295","v":""},{"$f":"'FO-DRE-12'!BR295","v":""},{"$f":"'FO-DRE-12'!BS295","v":""},{"$f":"'FO-DRE-12'!BT295","v":""},{"$f":"'FO-DRE-12'!BU295","v":""},{"$f":"'FO-DRE-12'!BV295","v":""}]
[{"$f":"'FO-DRE-12'!BD296","v":287},{"$f":"'FO-DRE-12'!BE296","v":""},{"$f":"'FO-DRE-12'!BF296","v":"F/D"},{"$f":"'FO-DRE-12'!BG296","v":"F/D"},{"$f":"'FO-DRE-12'!BH296","v":""},{"$f":"'FO-DRE-12'!BI296","v":""},{"$f":"'FO-DRE-12'!BJ296","v":""},{"$f":"'FO-DRE-12'!BK296","v":""},{"$f":"'FO-DRE-12'!BL296","v":""},{"$f":"'FO-DRE-12'!BM296","v":""},{"$f":"'FO-DRE-12'!BN296","v":""},{"$f":"'FO-DRE-12'!BO296","v":""},{"$f":"'FO-DRE-12'!BP296","v":""},{"$f":"'FO-DRE-12'!BQ296","v":""},{"$f":"'FO-DRE-12'!BR296","v":""},{"$f":"'FO-DRE-12'!BS296","v":""},{"$f":"'FO-DRE-12'!BT296","v":""},{"$f":"'FO-DRE-12'!BU296","v":""},{"$f":"'FO-DRE-12'!BV296","v":""}]
[{"$f":"'FO-DRE-12'!BD297","v":288},{"$f":"'FO-DRE-12'!BE297","v":""},{"$f":"'FO-DRE-12'!BF297","v":"F/D"},{"$f":"'FO-DRE-12'!BG297","v":"F/D"},{"$f":"'FO-DRE-12'!BH297","v":""},{"$f":"'FO-DRE-12'!BI297","v":""},{"$f":"'FO-DRE-12'!BJ297","v":""},{"$f":"'FO-DRE-12'!BK297","v":""},{"$f":"'FO-DRE-12'!BL297","v":""},{"$f":"'FO-DRE-12'!BM297","v":""},{"$f":"'FO-DRE-12'!BN297","v":""},{"$f":"'FO-DRE-12'!BO297","v":""},{"$f":"'FO-DRE-12'!BP297","v":""},{"$f":"'FO-DRE-12'!BQ297","v":""},{"$f":"'FO-DRE-12'!BR297","v":""},{"$f":"'FO-DRE-12'!BS297","v":""},{"$f":"'FO-DRE-12'!BT297","v":""},{"$f":"'FO-DRE-12'!BU297","v":""},{"$f":"'FO-DRE-12'!BV297","v":""}]
[{"$f":"'FO-DRE-12'!BD298","v":289},{"$f":"'FO-DRE-12'!BE298","v":""},{"$f":"'FO-DRE-12'!BF298","v":"F/D"},{"$f":"'FO-DRE-12'!BG298","v":"F/D"},{"$f":"'FO-DRE-12'!BH298","v":""},{"$f":"'FO-DRE-12'!BI298","v":""},{"$f":"'FO-DRE-12'!BJ298","v":""},{"$f":"'FO-DRE-12'!BK298","v":""},{"$f":"'FO-DRE-12'!BL298","v":""},{"$f":"'FO-DRE-12'!BM298","v":""},{"$f":"'FO-DRE-12'!BN298","v":""},{"$f":"'FO-DRE-12'!BO298","v":""},{"$f":"'FO-DRE-12'!BP298","v":""},{"$f":"'FO-DRE-12'!BQ298","v":""},{"$f":"'FO-DRE-12'!BR298","v":""},{"$f":"'FO-DRE-12'!BS298","v":""},{"$f":"'FO-DRE-12'!BT298","v":""},{"$f":"'FO-DRE-12'!BU298","v":""},{"$f":"'FO-DRE-12'!BV298","v":""}]
[{"$f":"'FO-DRE-12'!BD299","v":290},{"$f":"'FO-DRE-12'!BE299","v":""},{"$f":"'FO-DRE-12'!BF299","v":"F/D"},{"$f":"'FO-DRE-12'!BG299","v":"F/D"},{"$f":"'FO-DRE-12'!BH299","v":""},{"$f":"'FO-DRE-12'!BI299","v":""},{"$f":"'FO-DRE-12'!BJ299","v":""},{"$f":"'FO-DRE-12'!BK299","v":""},{"$f":"'FO-DRE-12'!BL299","v":""},{"$f":"'FO-DRE-12'!BM299","v":""},{"$f":"'FO-DRE-12'!BN299","v":""},{"$f":"'FO-DRE-12'!BO299","v":""},{"$f":"'FO-DRE-12'!BP299","v":""},{"$f":"'FO-DRE-12'!BQ299","v":""},{"$f":"'FO-DRE-12'!BR299","v":""},{"$f":"'FO-DRE-12'!BS299","v":""},{"$f":"'FO-DRE-12'!BT299","v":""},{"$f":"'FO-DRE-12'!BU299","v":""},{"$f":"'FO-DRE-12'!BV299","v":""}]
[{"$f":"'FO-DRE-12'!BD300","v":291},{"$f":"'FO-DRE-12'!BE300","v":""},{"$f":"'FO-DRE-12'!BF300","v":"F/D"},{"$f":"'FO-DRE-12'!BG300","v":"F/D"},{"$f":"'FO-DRE-12'!BH300","v":""},{"$f":"'FO-DRE-12'!BI300","v":""},{"$f":"'FO-DRE-12'!BJ300","v":""},{"$f":"'FO-DRE-12'!BK300","v":""},{"$f":"'FO-DRE-12'!BL300","v":""},{"$f":"'FO-DRE-12'!BM300","v":""},{"$f":"'FO-DRE-12'!BN300","v":""},{"$f":"'FO-DRE-12'!BO300","v":""},{"$f":"'FO-DRE-12'!BP300","v":""},{"$f":"'FO-DRE-12'!BQ300","v":""},{"$f":"'FO-DRE-12'!BR300","v":""},{"$f":"'FO-DRE-12'!BS300","v":""},{"$f":"'FO-DRE-12'!BT300","v":""},{"$f":"'FO-DRE-12'!BU300","v":""},{"$f":"'FO-DRE-12'!BV300","v":""}]
[{"$f":"'FO-DRE-12'!BD301","v":292},{"$f":"'FO-DRE-12'!BE301","v":""},{"$f":"'FO-DRE-12'!BF301","v":"F/D"},{"$f":"'FO-DRE-12'!BG301","v":"F/D"},{"$f":"'FO-DRE-12'!BH301","v":""},{"$f":"'FO-DRE-12'!BI301","v":""},{"$f":"'FO-DRE-12'!BJ301","v":""},{"$f":"'FO-DRE-12'!BK301","v":""},{"$f":"'FO-DRE-12'!BL301","v":""},{"$f":"'FO-DRE-12'!BM301","v":""},{"$f":"'FO-DRE-12'!BN301","v":""},{"$f":"'FO-DRE-12'!BO301","v":""},{"$f":"'FO-DRE-12'!BP301","v":""},{"$f":"'FO-DRE-12'!BQ301","v":""},{"$f":"'FO-DRE-12'!BR301","v":""},{"$f":"'FO-DRE-12'!BS301","v":""},{"$f":"'FO-DRE-12'!BT301","v":""},{"$f":"'FO-DRE-12'!BU301","v":""},{"$f":"'FO-DRE-12'!BV301","v":""}]
[{"$f":"'FO-DRE-12'!BD302","v":293},{"$f":"'FO-DRE-12'!BE302","v":""},{"$f":"'FO-DRE-12'!BF302","v":"F/D"},{"$f":"'FO-DRE-12'!BG302","v":"F/D"},{"$f":"'FO-DRE-12'!BH302","v":""},{"$f":"'FO-DRE-12'!BI302","v":""},{"$f":"'FO-DRE-12'!BJ302","v":""},{"$f":"'FO-DRE-12'!BK302","v":""},{"$f":"'FO-DRE-12'!BL302","v":""},{"$f":"'FO-DRE-12'!BM302","v":""},{"$f":"'FO-DRE-12'!BN302","v":""},{"$f":"'FO-DRE-12'!BO302","v":""},{"$f":"'FO-DRE-12'!BP302","v":""},{"$f":"'FO-DRE-12'!BQ302","v":""},{"$f":"'FO-DRE-12'!BR302","v":""},{"$f":"'FO-DRE-12'!BS302","v":""},{"$f":"'FO-DRE-12'!BT302","v":""},{"$f":"'FO-DRE-12'!BU302","v":""},{"$f":"'FO-DRE-12'!BV302","v":""}]
[{"$f":"'FO-DRE-12'!BD303","v":294},{"$f":"'FO-DRE-12'!BE303","v":""},{"$f":"'FO-DRE-12'!BF303","v":"F/D"},{"$f":"'FO-DRE-12'!BG303","v":"F/D"},{"$f":"'FO-DRE-12'!BH303","v":""},{"$f":"'FO-DRE-12'!BI303","v":""},{"$f":"'FO-DRE-12'!BJ303","v":""},{"$f":"'FO-DRE-12'!BK303","v":""},{"$f":"'FO-DRE-12'!BL303","v":""},{"$f":"'FO-DRE-12'!BM303","v":""},{"$f":"'FO-DRE-12'!BN303","v":""},{"$f":"'FO-DRE-12'!BO303","v":""},{"$f":"'FO-DRE-12'!BP303","v":""},{"$f":"'FO-DRE-12'!BQ303","v":""},{"$f":"'FO-DRE-12'!BR303","v":""},{"$f":"'FO-DRE-12'!BS303","v":""},{"$f":"'FO-DRE-12'!BT303","v":""},{"$f":"'FO-DRE-12'!BU303","v":""},{"$f":"'FO-DRE-12'!BV303","v":""}]
[{"$f":"'FO-DRE-12'!BD304","v":295},{"$f":"'FO-DRE-12'!BE304","v":""},{"$f":"'FO-DRE-12'!BF304","v":"F/D"},{"$f":"'FO-DRE-12'!BG304","v":"F/D"},{"$f":"'FO-DRE-12'!BH304","v":""},{"$f":"'FO-DRE-12'!BI304","v":""},{"$f":"'FO-DRE-12'!BJ304","v":""},{"$f":"'FO-DRE-12'!BK304","v":""},{"$f":"'FO-DRE-12'!BL304","v":""},{"$f":"'FO-DRE-12'!BM304","v":""},{"$f":"'FO-DRE-12'!BN304","v":""},{"$f":"'FO-DRE-12'!BO304","v":""},{"$f":"'FO-DRE-12'!BP304","v":""},{"$f":"'FO-DRE-12'!BQ304","v":""},{"$f":"'FO-DRE-12'!BR304","v":""},{"$f":"'FO-DRE-12'!BS304","v":""},{"$f":"'FO-DRE-12'!BT304","v":""},{"$f":"'FO-DRE-12'!BU304","v":""},{"$f":"'FO-DRE-12'!BV304","v":""}]
[{"$f":"'FO-DRE-12'!BD305","v":296},{"$f":"'FO-DRE-12'!BE305","v":""},{"$f":"'FO-DRE-12'!BF305","v":"F/D"},{"$f":"'FO-DRE-12'!BG305","v":"F/D"},{"$f":"'FO-DRE-12'!BH305","v":""},{"$f":"'FO-DRE-12'!BI305","v":""},{"$f":"'FO-DRE-12'!BJ305","v":""},{"$f":"'FO-DRE-12'!BK305","v":""},{"$f":"'FO-DRE-12'!BL305","v":""},{"$f":"'FO-DRE-12'!BM305","v":""},{"$f":"'FO-DRE-12'!BN305","v":""},{"$f":"'FO-DRE-12'!BO305","v":""},{"$f":"'FO-DRE-12'!BP305","v":""},{"$f":"'FO-DRE-12'!BQ305","v":""},{"$f":"'FO-DRE-12'!BR305","v":""},{"$f":"'FO-DRE-12'!BS305","v":""},{"$f":"'FO-DRE-12'!BT305","v":""},{"$f":"'FO-DRE-12'!BU305","v":""},{"$f":"'FO-DRE-12'!BV305","v":""}]
[{"$f":"'FO-DRE-12'!BD306","v":297},{"$f":"'FO-DRE-12'!BE306","v":""},{"$f":"'FO-DRE-12'!BF306","v":"F/D"},{"$f":"'FO-DRE-12'!BG306","v":"F/D"},{"$f":"'FO-DRE-12'!BH306","v":""},{"$f":"'FO-DRE-12'!BI306","v":""},{"$f":"'FO-DRE-12'!BJ306","v":""},{"$f":"'FO-DRE-12'!BK306","v":""},{"$f":"'FO-DRE-12'!BL306","v":""},{"$f":"'FO-DRE-12'!BM306","v":""},{"$f":"'FO-DRE-12'!BN306","v":""},{"$f":"'FO-DRE-12'!BO306","v":""},{"$f":"'FO-DRE-12'!BP306","v":""},{"$f":"'FO-DRE-12'!BQ306","v":""},{"$f":"'FO-DRE-12'!BR306","v":""},{"$f":"'FO-DRE-12'!BS306","v":""},{"$f":"'FO-DRE-12'!BT306","v":""},{"$f":"'FO-DRE-12'!BU306","v":""},{"$f":"'FO-DRE-12'!BV306","v":""}]
[{"$f":"'FO-DRE-12'!BD307","v":298},{"$f":"'FO-DRE-12'!BE307","v":""},{"$f":"'FO-DRE-12'!BF307","v":"F/D"},{"$f":"'FO-DRE-12'!BG307","v":"F/D"},{"$f":"'FO-DRE-12'!BH307","v":""},{"$f":"'FO-DRE-12'!BI307","v":""},{"$f":"'FO-DRE-12'!BJ307","v":""},{"$f":"'FO-DRE-12'!BK307","v":""},{"$f":"'FO-DRE-12'!BL307","v":""},{"$f":"'FO-DRE-12'!BM307","v":""},{"$f":"'FO-DRE-12'!BN307","v":""},{"$f":"'FO-DRE-12'!BO307","v":""},{"$f":"'FO-DRE-12'!BP307","v":""},{"$f":"'FO-DRE-12'!BQ307","v":""},{"$f":"'FO-DRE-12'!BR307","v":""},{"$f":"'FO-DRE-12'!BS307","v":""},{"$f":"'FO-DRE-12'!BT307","v":""},{"$f":"'FO-DRE-12'!BU307","v":""},{"$f":"'FO-DRE-12'!BV307","v":""}]
[{"$f":"'FO-DRE-12'!BD308","v":299},{"$f":"'FO-DRE-12'!BE308","v":""},{"$f":"'FO-DRE-12'!BF308","v":"F/D"},{"$f":"'FO-DRE-12'!BG308","v":"F/D"},{"$f":"'FO-DRE-12'!BH308","v":""},{"$f":"'FO-DRE-12'!BI308","v":""},{"$f":"'FO-DRE-12'!BJ308","v":""},{"$f":"'FO-DRE-12'!BK308","v":""},{"$f":"'FO-DRE-12'!BL308","v":""},{"$f":"'FO-DRE-12'!BM308","v":""},{"$f":"'FO-DRE-12'!BN308","v":""},{"$f":"'FO-DRE-12'!BO308","v":""},{"$f":"'FO-DRE-12'!BP308","v":""},{"$f":"'FO-DRE-12'!BQ308","v":""},{"$f":"'FO-DRE-12'!BR308","v":""},{"$f":"'FO-DRE-12'!BS308","v":""},{"$f":"'FO-DRE-12'!BT308","v":""},{"$f":"'FO-DRE-12'!BU308","v":""},{"$f":"'FO-DRE-12'!BV308","v":""}]
[{"$f":"'FO-DRE-12'!BD309","v":300},{"$f":"'FO-DRE-12'!BE309","v":""},{"$f":"'FO-DRE-12'!BF309","v":"F/D"},{"$f":"'FO-DRE-12'!BG309","v":"F/D"},{"$f":"'FO-DRE-12'!BH309","v":""},{"$f":"'FO-DRE-12'!BI309","v":""},{"$f":"'FO-DRE-12'!BJ309","v":""},{"$f":"'FO-DRE-12'!BK309","v":""},{"$f":"'FO-DRE-12'!BL309","v":""},{"$f":"'FO-DRE-12'!BM309","v":""},{"$f":"'FO-DRE-12'!BN309","v":""},{"$f":"'FO-DRE-12'!BO309","v":""},{"$f":"'FO-DRE-12'!BP309","v":""},{"$f":"'FO-DRE-12'!BQ309","v":""},{"$f":"'FO-DRE-12'!BR309","v":""},{"$f":"'FO-DRE-12'!BS309","v":""},{"$f":"'FO-DRE-12'!BT309","v":""},{"$f":"'FO-DRE-12'!BU309","v":""},{"$f":"'FO-DRE-12'!BV309","v":""}]
[{"$f":"'FO-DRE-12'!BD310","v":301},{"$f":"'FO-DRE-12'!BE310","v":""},{"$f":"'FO-DRE-12'!BF310","v":"F/D"},{"$f":"'FO-DRE-12'!BG310","v":"F/D"},{"$f":"'FO-DRE-12'!BH310","v":""},{"$f":"'FO-DRE-12'!BI310","v":""},{"$f":"'FO-DRE-12'!BJ310","v":""},{"$f":"'FO-DRE-12'!BK310","v":""},{"$f":"'FO-DRE-12'!BL310","v":""},{"$f":"'FO-DRE-12'!BM310","v":""},{"$f":"'FO-DRE-12'!BN310","v":""},{"$f":"'FO-DRE-12'!BO310","v":""},{"$f":"'FO-DRE-12'!BP310","v":""},{"$f":"'FO-DRE-12'!BQ310","v":""},{"$f":"'FO-DRE-12'!BR310","v":""},{"$f":"'FO-DRE-12'!BS310","v":""},{"$f":"'FO-DRE-12'!BT310","v":""},{"$f":"'FO-DRE-12'!BU310","v":""},{"$f":"'FO-DRE-12'!BV310","v":""}]
[{"$f":"'FO-DRE-12'!BD311","v":302},{"$f":"'FO-DRE-12'!BE311","v":""},{"$f":"'FO-DRE-12'!BF311","v":"F/D"},{"$f":"'FO-DRE-12'!BG311","v":"F/D"},{"$f":"'FO-DRE-12'!BH311","v":""},{"$f":"'FO-DRE-12'!BI311","v":""},{"$f":"'FO-DRE-12'!BJ311","v":""},{"$f":"'FO-DRE-12'!BK311","v":""},{"$f":"'FO-DRE-12'!BL311","v":""},{"$f":"'FO-DRE-12'!BM311","v":""},{"$f":"'FO-DRE-12'!BN311","v":""},{"$f":"'FO-DRE-12'!BO311","v":""},{"$f":"'FO-DRE-12'!BP311","v":""},{"$f":"'FO-DRE-12'!BQ311","v":""},{"$f":"'FO-DRE-12'!BR311","v":""},{"$f":"'FO-DRE-12'!BS311","v":""},{"$f":"'FO-DRE-12'!BT311","v":""},{"$f":"'FO-DRE-12'!BU311","v":""},{"$f":"'FO-DRE-12'!BV311","v":""}]
[{"$f":"'FO-DRE-12'!BD312","v":303},{"$f":"'FO-DRE-12'!BE312","v":""},{"$f":"'FO-DRE-12'!BF312","v":"F/D"},{"$f":"'FO-DRE-12'!BG312","v":"F/D"},{"$f":"'FO-DRE-12'!BH312","v":""},{"$f":"'FO-DRE-12'!BI312","v":""},{"$f":"'FO-DRE-12'!BJ312","v":""},{"$f":"'FO-DRE-12'!BK312","v":""},{"$f":"'FO-DRE-12'!BL312","v":""},{"$f":"'FO-DRE-12'!BM312","v":""},{"$f":"'FO-DRE-12'!BN312","v":""},{"$f":"'FO-DRE-12'!BO312","v":""},{"$f":"'FO-DRE-12'!BP312","v":""},{"$f":"'FO-DRE-12'!BQ312","v":""},{"$f":"'FO-DRE-12'!BR312","v":""},{"$f":"'FO-DRE-12'!BS312","v":""},{"$f":"'FO-DRE-12'!BT312","v":""},{"$f":"'FO-DRE-12'!BU312","v":""},{"$f":"'FO-DRE-12'!BV312","v":""}]
[{"$f":"'FO-DRE-12'!BD313","v":304},{"$f":"'FO-DRE-12'!BE313","v":""},{"$f":"'FO-DRE-12'!BF313","v":"F/D"},{"$f":"'FO-DRE-12'!BG313","v":"F/D"},{"$f":"'FO-DRE-12'!BH313","v":""},{"$f":"'FO-DRE-12'!BI313","v":""},{"$f":"'FO-DRE-12'!BJ313","v":""},{"$f":"'FO-DRE-12'!BK313","v":""},{"$f":"'FO-DRE-12'!BL313","v":""},{"$f":"'FO-DRE-12'!BM313","v":""},{"$f":"'FO-DRE-12'!BN313","v":""},{"$f":"'FO-DRE-12'!BO313","v":""},{"$f":"'FO-DRE-12'!BP313","v":""},{"$f":"'FO-DRE-12'!BQ313","v":""},{"$f":"'FO-DRE-12'!BR313","v":""},{"$f":"'FO-DRE-12'!BS313","v":""},{"$f":"'FO-DRE-12'!BT313","v":""},{"$f":"'FO-DRE-12'!BU313","v":""},{"$f":"'FO-DRE-12'!BV313","v":""}]
[{"$f":"'FO-DRE-12'!BD314","v":305},{"$f":"'FO-DRE-12'!BE314","v":""},{"$f":"'FO-DRE-12'!BF314","v":"F/D"},{"$f":"'FO-DRE-12'!BG314","v":"F/D"},{"$f":"'FO-DRE-12'!BH314","v":""},{"$f":"'FO-DRE-12'!BI314","v":""},{"$f":"'FO-DRE-12'!BJ314","v":""},{"$f":"'FO-DRE-12'!BK314","v":""},{"$f":"'FO-DRE-12'!BL314","v":""},{"$f":"'FO-DRE-12'!BM314","v":""},{"$f":"'FO-DRE-12'!BN314","v":""},{"$f":"'FO-DRE-12'!BO314","v":""},{"$f":"'FO-DRE-12'!BP314","v":""},{"$f":"'FO-DRE-12'!BQ314","v":""},{"$f":"'FO-DRE-12'!BR314","v":""},{"$f":"'FO-DRE-12'!BS314","v":""},{"$f":"'FO-DRE-12'!BT314","v":""},{"$f":"'FO-DRE-12'!BU314","v":""},{"$f":"'FO-DRE-12'!BV314","v":""}]
[{"$f":"'FO-DRE-12'!BD315","v":306},{"$f":"'FO-DRE-12'!BE315","v":""},{"$f":"'FO-DRE-12'!BF315","v":"F/D"},{"$f":"'FO-DRE-12'!BG315","v":"F/D"},{"$f":"'FO-DRE-12'!BH315","v":""},{"$f":"'FO-DRE-12'!BI315","v":""},{"$f":"'FO-DRE-12'!BJ315","v":""},{"$f":"'FO-DRE-12'!BK315","v":""},{"$f":"'FO-DRE-12'!BL315","v":""},{"$f":"'FO-DRE-12'!BM315","v":""},{"$f":"'FO-DRE-12'!BN315","v":""},{"$f":"'FO-DRE-12'!BO315","v":""},{"$f":"'FO-DRE-12'!BP315","v":""},{"$f":"'FO-DRE-12'!BQ315","v":""},{"$f":"'FO-DRE-12'!BR315","v":""},{"$f":"'FO-DRE-12'!BS315","v":""},{"$f":"'FO-DRE-12'!BT315","v":""},{"$f":"'FO-DRE-12'!BU315","v":""},{"$f":"'FO-DRE-12'!BV315","v":""}]
[{"$f":"'FO-DRE-12'!BD316","v":307},{"$f":"'FO-DRE-12'!BE316","v":""},{"$f":"'FO-DRE-12'!BF316","v":"F/D"},{"$f":"'FO-DRE-12'!BG316","v":"F/D"},{"$f":"'FO-DRE-12'!BH316","v":""},{"$f":"'FO-DRE-12'!BI316","v":""},{"$f":"'FO-DRE-12'!BJ316","v":""},{"$f":"'FO-DRE-12'!BK316","v":""},{"$f":"'FO-DRE-12'!BL316","v":""},{"$f":"'FO-DRE-12'!BM316","v":""},{"$f":"'FO-DRE-12'!BN316","v":""},{"$f":"'FO-DRE-12'!BO316","v":""},{"$f":"'FO-DRE-12'!BP316","v":""},{"$f":"'FO-DRE-12'!BQ316","v":""},{"$f":"'FO-DRE-12'!BR316","v":""},{"$f":"'FO-DRE-12'!BS316","v":""},{"$f":"'FO-DRE-12'!BT316","v":""},{"$f":"'FO-DRE-12'!BU316","v":""},{"$f":"'FO-DRE-12'!BV316","v":""}]
[{"$f":"'FO-DRE-12'!BD317","v":308},{"$f":"'FO-DRE-12'!BE317","v":""},{"$f":"'FO-DRE-12'!BF317","v":"F/D"},{"$f":"'FO-DRE-12'!BG317","v":"F/D"},{"$f":"'FO-DRE-12'!BH317","v":""},{"$f":"'FO-DRE-12'!BI317","v":""},{"$f":"'FO-DRE-12'!BJ317","v":""},{"$f":"'FO-DRE-12'!BK317","v":""},{"$f":"'FO-DRE-12'!BL317","v":""},{"$f":"'FO-DRE-12'!BM317","v":""},{"$f":"'FO-DRE-12'!BN317","v":""},{"$f":"'FO-DRE-12'!BO317","v":""},{"$f":"'FO-DRE-12'!BP317","v":""},{"$f":"'FO-DRE-12'!BQ317","v":""},{"$f":"'FO-DRE-12'!BR317","v":""},{"$f":"'FO-DRE-12'!BS317","v":""},{"$f":"'FO-DRE-12'!BT317","v":""},{"$f":"'FO-DRE-12'!BU317","v":""},{"$f":"'FO-DRE-12'!BV317","v":""}]
[{"$f":"'FO-DRE-12'!BD318","v":309},{"$f":"'FO-DRE-12'!BE318","v":""},{"$f":"'FO-DRE-12'!BF318","v":"F/D"},{"$f":"'FO-DRE-12'!BG318","v":"F/D"},{"$f":"'FO-DRE-12'!BH318","v":""},{"$f":"'FO-DRE-12'!BI318","v":""},{"$f":"'FO-DRE-12'!BJ318","v":""},{"$f":"'FO-DRE-12'!BK318","v":""},{"$f":"'FO-DRE-12'!BL318","v":""},{"$f":"'FO-DRE-12'!BM318","v":""},{"$f":"'FO-DRE-12'!BN318","v":""},{"$f":"'FO-DRE-12'!BO318","v":""},{"$f":"'FO-DRE-12'!BP318","v":""},{"$f":"'FO-DRE-12'!BQ318","v":""},{"$f":"'FO-DRE-12'!BR318","v":""},{"$f":"'FO-DRE-12'!BS318","v":""},{"$f":"'FO-DRE-12'!BT318","v":""},{"$f":"'FO-DRE-12'!BU318","v":""},{"$f":"'FO-DRE-12'!BV318","v":""}]
[{"$f":"'FO-DRE-12'!BD319","v":310},{"$f":"'FO-DRE-12'!BE319","v":""},{"$f":"'FO-DRE-12'!BF319","v":"F/D"},{"$f":"'FO-DRE-12'!BG319","v":"F/D"},{"$f":"'FO-DRE-12'!BH319","v":""},{"$f":"'FO-DRE-12'!BI319","v":""},{"$f":"'FO-DRE-12'!BJ319","v":""},{"$f":"'FO-DRE-12'!BK319","v":""},{"$f":"'FO-DRE-12'!BL319","v":""},{"$f":"'FO-DRE-12'!BM319","v":""},{"$f":"'FO-DRE-12'!BN319","v":""},{"$f":"'FO-DRE-12'!BO319","v":""},{"$f":"'FO-DRE-12'!BP319","v":""},{"$f":"'FO-DRE-12'!BQ319","v":""},{"$f":"'FO-DRE-12'!BR319","v":""},{"$f":"'FO-DRE-12'!BS319","v":""},{"$f":"'FO-DRE-12'!BT319","v":""},{"$f":"'FO-DRE-12'!BU319","v":""},{"$f":"'FO-DRE-12'!BV319","v":""}]
[{"$f":"'FO-DRE-12'!BD320","v":311},{"$f":"'FO-DRE-12'!BE320","v":""},{"$f":"'FO-DRE-12'!BF320","v":"F/D"},{"$f":"'FO-DRE-12'!BG320","v":"F/D"},{"$f":"'FO-DRE-12'!BH320","v":""},{"$f":"'FO-DRE-12'!BI320","v":""},{"$f":"'FO-DRE-12'!BJ320","v":""},{"$f":"'FO-DRE-12'!BK320","v":""},{"$f":"'FO-DRE-12'!BL320","v":""},{"$f":"'FO-DRE-12'!BM320","v":""},{"$f":"'FO-DRE-12'!BN320","v":""},{"$f":"'FO-DRE-12'!BO320","v":""},{"$f":"'FO-DRE-12'!BP320","v":""},{"$f":"'FO-DRE-12'!BQ320","v":""},{"$f":"'FO-DRE-12'!BR320","v":""},{"$f":"'FO-DRE-12'!BS320","v":""},{"$f":"'FO-DRE-12'!BT320","v":""},{"$f":"'FO-DRE-12'!BU320","v":""},{"$f":"'FO-DRE-12'!BV320","v":""}]
[{"$f":"'FO-DRE-12'!BD321","v":312},{"$f":"'FO-DRE-12'!BE321","v":""},{"$f":"'FO-DRE-12'!BF321","v":"F/D"},{"$f":"'FO-DRE-12'!BG321","v":"F/D"},{"$f":"'FO-DRE-12'!BH321","v":""},{"$f":"'FO-DRE-12'!BI321","v":""},{"$f":"'FO-DRE-12'!BJ321","v":""},{"$f":"'FO-DRE-12'!BK321","v":""},{"$f":"'FO-DRE-12'!BL321","v":""},{"$f":"'FO-DRE-12'!BM321","v":""},{"$f":"'FO-DRE-12'!BN321","v":""},{"$f":"'FO-DRE-12'!BO321","v":""},{"$f":"'FO-DRE-12'!BP321","v":""},{"$f":"'FO-DRE-12'!BQ321","v":""},{"$f":"'FO-DRE-12'!BR321","v":""},{"$f":"'FO-DRE-12'!BS321","v":""},{"$f":"'FO-DRE-12'!BT321","v":""},{"$f":"'FO-DRE-12'!BU321","v":""},{"$f":"'FO-DRE-12'!BV321","v":""}]
[{"$f":"'FO-DRE-12'!BD322","v":313},{"$f":"'FO-DRE-12'!BE322","v":""},{"$f":"'FO-DRE-12'!BF322","v":"F/D"},{"$f":"'FO-DRE-12'!BG322","v":"F/D"},{"$f":"'FO-DRE-12'!BH322","v":""},{"$f":"'FO-DRE-12'!BI322","v":""},{"$f":"'FO-DRE-12'!BJ322","v":""},{"$f":"'FO-DRE-12'!BK322","v":""},{"$f":"'FO-DRE-12'!BL322","v":""},{"$f":"'FO-DRE-12'!BM322","v":""},{"$f":"'FO-DRE-12'!BN322","v":""},{"$f":"'FO-DRE-12'!BO322","v":""},{"$f":"'FO-DRE-12'!BP322","v":""},{"$f":"'FO-DRE-12'!BQ322","v":""},{"$f":"'FO-DRE-12'!BR322","v":""},{"$f":"'FO-DRE-12'!BS322","v":""},{"$f":"'FO-DRE-12'!BT322","v":""},{"$f":"'FO-DRE-12'!BU322","v":""},{"$f":"'FO-DRE-12'!BV322","v":""}]
[{"$f":"'FO-DRE-12'!BD323","v":314},{"$f":"'FO-DRE-12'!BE323","v":""},{"$f":"'FO-DRE-12'!BF323","v":"F/D"},{"$f":"'FO-DRE-12'!BG323","v":"F/D"},{"$f":"'FO-DRE-12'!BH323","v":""},{"$f":"'FO-DRE-12'!BI323","v":""},{"$f":"'FO-DRE-12'!BJ323","v":""},{"$f":"'FO-DRE-12'!BK323","v":""},{"$f":"'FO-DRE-12'!BL323","v":""},{"$f":"'FO-DRE-12'!BM323","v":""},{"$f":"'FO-DRE-12'!BN323","v":""},{"$f":"'FO-DRE-12'!BO323","v":""},{"$f":"'FO-DRE-12'!BP323","v":""},{"$f":"'FO-DRE-12'!BQ323","v":""},{"$f":"'FO-DRE-12'!BR323","v":""},{"$f":"'FO-DRE-12'!BS323","v":""},{"$f":"'FO-DRE-12'!BT323","v":""},{"$f":"'FO-DRE-12'!BU323","v":""},{"$f":"'FO-DRE-12'!BV323","v":""}]
[{"$f":"'FO-DRE-12'!BD324","v":315},{"$f":"'FO-DRE-12'!BE324","v":""},{"$f":"'FO-DRE-12'!BF324","v":"F/D"},{"$f":"'FO-DRE-12'!BG324","v":"F/D"},{"$f":"'FO-DRE-12'!BH324","v":""},{"$f":"'FO-DRE-12'!BI324","v":""},{"$f":"'FO-DRE-12'!BJ324","v":""},{"$f":"'FO-DRE-12'!BK324","v":""},{"$f":"'FO-DRE-12'!BL324","v":""},{"$f":"'FO-DRE-12'!BM324","v":""},{"$f":"'FO-DRE-12'!BN324","v":""},{"$f":"'FO-DRE-12'!BO324","v":""},{"$f":"'FO-DRE-12'!BP324","v":""},{"$f":"'FO-DRE-12'!BQ324","v":""},{"$f":"'FO-DRE-12'!BR324","v":""},{"$f":"'FO-DRE-12'!BS324","v":""},{"$f":"'FO-DRE-12'!BT324","v":""},{"$f":"'FO-DRE-12'!BU324","v":""},{"$f":"'FO-DRE-12'!BV324","v":""}]
[{"$f":"'FO-DRE-12'!BD325","v":316},{"$f":"'FO-DRE-12'!BE325","v":""},{"$f":"'FO-DRE-12'!BF325","v":"F/D"},{"$f":"'FO-DRE-12'!BG325","v":"F/D"},{"$f":"'FO-DRE-12'!BH325","v":""},{"$f":"'FO-DRE-12'!BI325","v":""},{"$f":"'FO-DRE-12'!BJ325","v":""},{"$f":"'FO-DRE-12'!BK325","v":""},{"$f":"'FO-DRE-12'!BL325","v":""},{"$f":"'FO-DRE-12'!BM325","v":""},{"$f":"'FO-DRE-12'!BN325","v":""},{"$f":"'FO-DRE-12'!BO325","v":""},{"$f":"'FO-DRE-12'!BP325","v":""},{"$f":"'FO-DRE-12'!BQ325","v":""},{"$f":"'FO-DRE-12'!BR325","v":""},{"$f":"'FO-DRE-12'!BS325","v":""},{"$f":"'FO-DRE-12'!BT325","v":""},{"$f":"'FO-DRE-12'!BU325","v":""},{"$f":"'FO-DRE-12'!BV325","v":""}]
[{"$f":"'FO-DRE-12'!BD326","v":317},{"$f":"'FO-DRE-12'!BE326","v":""},{"$f":"'FO-DRE-12'!BF326","v":"F/D"},{"$f":"'FO-DRE-12'!BG326","v":"F/D"},{"$f":"'FO-DRE-12'!BH326","v":""},{"$f":"'FO-DRE-12'!BI326","v":""},{"$f":"'FO-DRE-12'!BJ326","v":""},{"$f":"'FO-DRE-12'!BK326","v":""},{"$f":"'FO-DRE-12'!BL326","v":""},{"$f":"'FO-DRE-12'!BM326","v":""},{"$f":"'FO-DRE-12'!BN326","v":""},{"$f":"'FO-DRE-12'!BO326","v":""},{"$f":"'FO-DRE-12'!BP326","v":""},{"$f":"'FO-DRE-12'!BQ326","v":""},{"$f":"'FO-DRE-12'!BR326","v":""},{"$f":"'FO-DRE-12'!BS326","v":""},{"$f":"'FO-DRE-12'!BT326","v":""},{"$f":"'FO-DRE-12'!BU326","v":""},{"$f":"'FO-DRE-12'!BV326","v":""}]
[{"$f":"'FO-DRE-12'!BD327","v":318},{"$f":"'FO-DRE-12'!BE327","v":""},{"$f":"'FO-DRE-12'!BF327","v":"F/D"},{"$f":"'FO-DRE-12'!BG327","v":"F/D"},{"$f":"'FO-DRE-12'!BH327","v":""},{"$f":"'FO-DRE-12'!BI327","v":""},{"$f":"'FO-DRE-12'!BJ327","v":""},{"$f":"'FO-DRE-12'!BK327","v":""},{"$f":"'FO-DRE-12'!BL327","v":""},{"$f":"'FO-DRE-12'!BM327","v":""},{"$f":"'FO-DRE-12'!BN327","v":""},{"$f":"'FO-DRE-12'!BO327","v":""},{"$f":"'FO-DRE-12'!BP327","v":""},{"$f":"'FO-DRE-12'!BQ327","v":""},{"$f":"'FO-DRE-12'!BR327","v":""},{"$f":"'FO-DRE-12'!BS327","v":""},{"$f":"'FO-DRE-12'!BT327","v":""},{"$f":"'FO-DRE-12'!BU327","v":""},{"$f":"'FO-DRE-12'!BV327","v":""}]
[{"$f":"'FO-DRE-12'!BD328","v":319},{"$f":"'FO-DRE-12'!BE328","v":""},{"$f":"'FO-DRE-12'!BF328","v":"F/D"},{"$f":"'FO-DRE-12'!BG328","v":"F/D"},{"$f":"'FO-DRE-12'!BH328","v":""},{"$f":"'FO-DRE-12'!BI328","v":""},{"$f":"'FO-DRE-12'!BJ328","v":""},{"$f":"'FO-DRE-12'!BK328","v":""},{"$f":"'FO-DRE-12'!BL328","v":""},{"$f":"'FO-DRE-12'!BM328","v":""},{"$f":"'FO-DRE-12'!BN328","v":""},{"$f":"'FO-DRE-12'!BO328","v":""},{"$f":"'FO-DRE-12'!BP328","v":""},{"$f":"'FO-DRE-12'!BQ328","v":""},{"$f":"'FO-DRE-12'!BR328","v":""},{"$f":"'FO-DRE-12'!BS328","v":""},{"$f":"'FO-DRE-12'!BT328","v":""},{"$f":"'FO-DRE-12'!BU328","v":""},{"$f":"'FO-DRE-12'!BV328","v":""}]
[{"$f":"'FO-DRE-12'!BD329","v":320},{"$f":"'FO-DRE-12'!BE329","v":""},{"$f":"'FO-DRE-12'!BF329","v":"F/D"},{"$f":"'FO-DRE-12'!BG329","v":"F/D"},{"$f":"'FO-DRE-12'!BH329","v":""},{"$f":"'FO-DRE-12'!BI329","v":""},{"$f":"'FO-DRE-12'!BJ329","v":""},{"$f":"'FO-DRE-12'!BK329","v":""},{"$f":"'FO-DRE-12'!BL329","v":""},{"$f":"'FO-DRE-12'!BM329","v":""},{"$f":"'FO-DRE-12'!BN329","v":""},{"$f":"'FO-DRE-12'!BO329","v":""},{"$f":"'FO-DRE-12'!BP329","v":""},{"$f":"'FO-DRE-12'!BQ329","v":""},{"$f":"'FO-DRE-12'!BR329","v":""},{"$f":"'FO-DRE-12'!BS329","v":""},{"$f":"'FO-DRE-12'!BT329","v":""},{"$f":"'FO-DRE-12'!BU329","v":""},{"$f":"'FO-DRE-12'!BV329","v":""}]
[{"$f":"'FO-DRE-12'!BD330","v":321},{"$f":"'FO-DRE-12'!BE330","v":""},{"$f":"'FO-DRE-12'!BF330","v":"F/D"},{"$f":"'FO-DRE-12'!BG330","v":"F/D"},{"$f":"'FO-DRE-12'!BH330","v":""},{"$f":"'FO-DRE-12'!BI330","v":""},{"$f":"'FO-DRE-12'!BJ330","v":""},{"$f":"'FO-DRE-12'!BK330","v":""},{"$f":"'FO-DRE-12'!BL330","v":""},{"$f":"'FO-DRE-12'!BM330","v":""},{"$f":"'FO-DRE-12'!BN330","v":""},{"$f":"'FO-DRE-12'!BO330","v":""},{"$f":"'FO-DRE-12'!BP330","v":""},{"$f":"'FO-DRE-12'!BQ330","v":""},{"$f":"'FO-DRE-12'!BR330","v":""},{"$f":"'FO-DRE-12'!BS330","v":""},{"$f":"'FO-DRE-12'!BT330","v":""},{"$f":"'FO-DRE-12'!BU330","v":""},{"$f":"'FO-DRE-12'!BV330","v":""}]
[{"$f":"'FO-DRE-12'!BD331","v":322},{"$f":"'FO-DRE-12'!BE331","v":""},{"$f":"'FO-DRE-12'!BF331","v":"F/D"},{"$f":"'FO-DRE-12'!BG331","v":"F/D"},{"$f":"'FO-DRE-12'!BH331","v":""},{"$f":"'FO-DRE-12'!BI331","v":""},{"$f":"'FO-DRE-12'!BJ331","v":""},{"$f":"'FO-DRE-12'!BK331","v":""},{"$f":"'FO-DRE-12'!BL331","v":""},{"$f":"'FO-DRE-12'!BM331","v":""},{"$f":"'FO-DRE-12'!BN331","v":""},{"$f":"'FO-DRE-12'!BO331","v":""},{"$f":"'FO-DRE-12'!BP331","v":""},{"$f":"'FO-DRE-12'!BQ331","v":""},{"$f":"'FO-DRE-12'!BR331","v":""},{"$f":"'FO-DRE-12'!BS331","v":""},{"$f":"'FO-DRE-12'!BT331","v":""},{"$f":"'FO-DRE-12'!BU331","v":""},{"$f":"'FO-DRE-12'!BV331","v":""}]
[{"$f":"'FO-DRE-12'!BD332","v":323},{"$f":"'FO-DRE-12'!BE332","v":""},{"$f":"'FO-DRE-12'!BF332","v":"F/D"},{"$f":"'FO-DRE-12'!BG332","v":"F/D"},{"$f":"'FO-DRE-12'!BH332","v":""},{"$f":"'FO-DRE-12'!BI332","v":""},{"$f":"'FO-DRE-12'!BJ332","v":""},{"$f":"'FO-DRE-12'!BK332","v":""},{"$f":"'FO-DRE-12'!BL332","v":""},{"$f":"'FO-DRE-12'!BM332","v":""},{"$f":"'FO-DRE-12'!BN332","v":""},{"$f":"'FO-DRE-12'!BO332","v":""},{"$f":"'FO-DRE-12'!BP332","v":""},{"$f":"'FO-DRE-12'!BQ332","v":""},{"$f":"'FO-DRE-12'!BR332","v":""},{"$f":"'FO-DRE-12'!BS332","v":""},{"$f":"'FO-DRE-12'!BT332","v":""},{"$f":"'FO-DRE-12'!BU332","v":""},{"$f":"'FO-DRE-12'!BV332","v":""}]
[{"$f":"'FO-DRE-12'!BD333","v":324},{"$f":"'FO-DRE-12'!BE333","v":""},{"$f":"'FO-DRE-12'!BF333","v":"F/D"},{"$f":"'FO-DRE-12'!BG333","v":"F/D"},{"$f":"'FO-DRE-12'!BH333","v":""},{"$f":"'FO-DRE-12'!BI333","v":""},{"$f":"'FO-DRE-12'!BJ333","v":""},{"$f":"'FO-DRE-12'!BK333","v":""},{"$f":"'FO-DRE-12'!BL333","v":""},{"$f":"'FO-DRE-12'!BM333","v":""},{"$f":"'FO-DRE-12'!BN333","v":""},{"$f":"'FO-DRE-12'!BO333","v":""},{"$f":"'FO-DRE-12'!BP333","v":""},{"$f":"'FO-DRE-12'!BQ333","v":""},{"$f":"'FO-DRE-12'!BR333","v":""},{"$f":"'FO-DRE-12'!BS333","v":""},{"$f":"'FO-DRE-12'!BT333","v":""},{"$f":"'FO-DRE-12'!BU333","v":""},{"$f":"'FO-DRE-12'!BV333","v":""}]
[{"$f":"'FO-DRE-12'!BD334","v":325},{"$f":"'FO-DRE-12'!BE334","v":""},{"$f":"'FO-DRE-12'!BF334","v":"F/D"},{"$f":"'FO-DRE-12'!BG334","v":"F/D"},{"$f":"'FO-DRE-12'!BH334","v":""},{"$f":"'FO-DRE-12'!BI334","v":""},{"$f":"'FO-DRE-12'!BJ334","v":""},{"$f":"'FO-DRE-12'!BK334","v":""},{"$f":"'FO-DRE-12'!BL334","v":""},{"$f":"'FO-DRE-12'!BM334","v":""},{"$f":"'FO-DRE-12'!BN334","v":""},{"$f":"'FO-DRE-12'!BO334","v":""},{"$f":"'FO-DRE-12'!BP334","v":""},{"$f":"'FO-DRE-12'!BQ334","v":""},{"$f":"'FO-DRE-12'!BR334","v":""},{"$f":"'FO-DRE-12'!BS334","v":""},{"$f":"'FO-DRE-12'!BT334","v":""},{"$f":"'FO-DRE-12'!BU334","v":""},{"$f":"'FO-DRE-12'!BV334","v":""}]
[{"$f":"'FO-DRE-12'!BD335","v":326},{"$f":"'FO-DRE-12'!BE335","v":""},{"$f":"'FO-DRE-12'!BF335","v":"F/D"},{"$f":"'FO-DRE-12'!BG335","v":"F/D"},{"$f":"'FO-DRE-12'!BH335","v":""},{"$f":"'FO-DRE-12'!BI335","v":""},{"$f":"'FO-DRE-12'!BJ335","v":""},{"$f":"'FO-DRE-12'!BK335","v":""},{"$f":"'FO-DRE-12'!BL335","v":""},{"$f":"'FO-DRE-12'!BM335","v":""},{"$f":"'FO-DRE-12'!BN335","v":""},{"$f":"'FO-DRE-12'!BO335","v":""},{"$f":"'FO-DRE-12'!BP335","v":""},{"$f":"'FO-DRE-12'!BQ335","v":""},{"$f":"'FO-DRE-12'!BR335","v":""},{"$f":"'FO-DRE-12'!BS335","v":""},{"$f":"'FO-DRE-12'!BT335","v":""},{"$f":"'FO-DRE-12'!BU335","v":""},{"$f":"'FO-DRE-12'!BV335","v":""}]
[{"$f":"'FO-DRE-12'!BD336","v":327},{"$f":"'FO-DRE-12'!BE336","v":""},{"$f":"'FO-DRE-12'!BF336","v":"F/D"},{"$f":"'FO-DRE-12'!BG336","v":"F/D"},{"$f":"'FO-DRE-12'!BH336","v":""},{"$f":"'FO-DRE-12'!BI336","v":""},{"$f":"'FO-DRE-12'!BJ336","v":""},{"$f":"'FO-DRE-12'!BK336","v":""},{"$f":"'FO-DRE-12'!BL336","v":""},{"$f":"'FO-DRE-12'!BM336","v":""},{"$f":"'FO-DRE-12'!BN336","v":""},{"$f":"'FO-DRE-12'!BO336","v":""},{"$f":"'FO-DRE-12'!BP336","v":""},{"$f":"'FO-DRE-12'!BQ336","v":""},{"$f":"'FO-DRE-12'!BR336","v":""},{"$f":"'FO-DRE-12'!BS336","v":""},{"$f":"'FO-DRE-12'!BT336","v":""},{"$f":"'FO-DRE-12'!BU336","v":""},{"$f":"'FO-DRE-12'!BV336","v":""}]
[{"$f":"'FO-DRE-12'!BD337","v":328},{"$f":"'FO-DRE-12'!BE337","v":""},{"$f":"'FO-DRE-12'!BF337","v":"F/D"},{"$f":"'FO-DRE-12'!BG337","v":"F/D"},{"$f":"'FO-DRE-12'!BH337","v":""},{"$f":"'FO-DRE-12'!BI337","v":""},{"$f":"'FO-DRE-12'!BJ337","v":""},{"$f":"'FO-DRE-12'!BK337","v":""},{"$f":"'FO-DRE-12'!BL337","v":""},{"$f":"'FO-DRE-12'!BM337","v":""},{"$f":"'FO-DRE-12'!BN337","v":""},{"$f":"'FO-DRE-12'!BO337","v":""},{"$f":"'FO-DRE-12'!BP337","v":""},{"$f":"'FO-DRE-12'!BQ337","v":""},{"$f":"'FO-DRE-12'!BR337","v":""},{"$f":"'FO-DRE-12'!BS337","v":""},{"$f":"'FO-DRE-12'!BT337","v":""},{"$f":"'FO-DRE-12'!BU337","v":""},{"$f":"'FO-DRE-12'!BV337","v":""}]
[{"$f":"'FO-DRE-12'!BD338","v":329},{"$f":"'FO-DRE-12'!BE338","v":""},{"$f":"'FO-DRE-12'!BF338","v":"F/D"},{"$f":"'FO-DRE-12'!BG338","v":"F/D"},{"$f":"'FO-DRE-12'!BH338","v":""},{"$f":"'FO-DRE-12'!BI338","v":""},{"$f":"'FO-DRE-12'!BJ338","v":""},{"$f":"'FO-DRE-12'!BK338","v":""},{"$f":"'FO-DRE-12'!BL338","v":""},{"$f":"'FO-DRE-12'!BM338","v":""},{"$f":"'FO-DRE-12'!BN338","v":""},{"$f":"'FO-DRE-12'!BO338","v":""},{"$f":"'FO-DRE-12'!BP338","v":""},{"$f":"'FO-DRE-12'!BQ338","v":""},{"$f":"'FO-DRE-12'!BR338","v":""},{"$f":"'FO-DRE-12'!BS338","v":""},{"$f":"'FO-DRE-12'!BT338","v":""},{"$f":"'FO-DRE-12'!BU338","v":""},{"$f":"'FO-DRE-12'!BV338","v":""}]
[{"$f":"'FO-DRE-12'!BD339","v":330},{"$f":"'FO-DRE-12'!BE339","v":""},{"$f":"'FO-DRE-12'!BF339","v":"F/D"},{"$f":"'FO-DRE-12'!BG339","v":"F/D"},{"$f":"'FO-DRE-12'!BH339","v":""},{"$f":"'FO-DRE-12'!BI339","v":""},{"$f":"'FO-DRE-12'!BJ339","v":""},{"$f":"'FO-DRE-12'!BK339","v":""},{"$f":"'FO-DRE-12'!BL339","v":""},{"$f":"'FO-DRE-12'!BM339","v":""},{"$f":"'FO-DRE-12'!BN339","v":""},{"$f":"'FO-DRE-12'!BO339","v":""},{"$f":"'FO-DRE-12'!BP339","v":""},{"$f":"'FO-DRE-12'!BQ339","v":""},{"$f":"'FO-DRE-12'!BR339","v":""},{"$f":"'FO-DRE-12'!BS339","v":""},{"$f":"'FO-DRE-12'!BT339","v":""},{"$f":"'FO-DRE-12'!BU339","v":""},{"$f":"'FO-DRE-12'!BV339","v":""}]
[{"$f":"'FO-DRE-12'!BD340","v":331},{"$f":"'FO-DRE-12'!BE340","v":""},{"$f":"'FO-DRE-12'!BF340","v":"F/D"},{"$f":"'FO-DRE-12'!BG340","v":"F/D"},{"$f":"'FO-DRE-12'!BH340","v":""},{"$f":"'FO-DRE-12'!BI340","v":""},{"$f":"'FO-DRE-12'!BJ340","v":""},{"$f":"'FO-DRE-12'!BK340","v":""},{"$f":"'FO-DRE-12'!BL340","v":""},{"$f":"'FO-DRE-12'!BM340","v":""},{"$f":"'FO-DRE-12'!BN340","v":""},{"$f":"'FO-DRE-12'!BO340","v":""},{"$f":"'FO-DRE-12'!BP340","v":""},{"$f":"'FO-DRE-12'!BQ340","v":""},{"$f":"'FO-DRE-12'!BR340","v":""},{"$f":"'FO-DRE-12'!BS340","v":""},{"$f":"'FO-DRE-12'!BT340","v":""},{"$f":"'FO-DRE-12'!BU340","v":""},{"$f":"'FO-DRE-12'!BV340","v":""}]
[{"$f":"'FO-DRE-12'!BD341","v":332},{"$f":"'FO-DRE-12'!BE341","v":""},{"$f":"'FO-DRE-12'!BF341","v":"F/D"},{"$f":"'FO-DRE-12'!BG341","v":"F/D"},{"$f":"'FO-DRE-12'!BH341","v":""},{"$f":"'FO-DRE-12'!BI341","v":""},{"$f":"'FO-DRE-12'!BJ341","v":""},{"$f":"'FO-DRE-12'!BK341","v":""},{"$f":"'FO-DRE-12'!BL341","v":""},{"$f":"'FO-DRE-12'!BM341","v":""},{"$f":"'FO-DRE-12'!BN341","v":""},{"$f":"'FO-DRE-12'!BO341","v":""},{"$f":"'FO-DRE-12'!BP341","v":""},{"$f":"'FO-DRE-12'!BQ341","v":""},{"$f":"'FO-DRE-12'!BR341","v":""},{"$f":"'FO-DRE-12'!BS341","v":""},{"$f":"'FO-DRE-12'!BT341","v":""},{"$f":"'FO-DRE-12'!BU341","v":""},{"$f":"'FO-DRE-12'!BV341","v":""}]
[{"$f":"'FO-DRE-12'!BD342","v":333},{"$f":"'FO-DRE-12'!BE342","v":""},{"$f":"'FO-DRE-12'!BF342","v":"F/D"},{"$f":"'FO-DRE-12'!BG342","v":"F/D"},{"$f":"'FO-DRE-12'!BH342","v":""},{"$f":"'FO-DRE-12'!BI342","v":""},{"$f":"'FO-DRE-12'!BJ342","v":""},{"$f":"'FO-DRE-12'!BK342","v":""},{"$f":"'FO-DRE-12'!BL342","v":""},{"$f":"'FO-DRE-12'!BM342","v":""},{"$f":"'FO-DRE-12'!BN342","v":""},{"$f":"'FO-DRE-12'!BO342","v":""},{"$f":"'FO-DRE-12'!BP342","v":""},{"$f":"'FO-DRE-12'!BQ342","v":""},{"$f":"'FO-DRE-12'!BR342","v":""},{"$f":"'FO-DRE-12'!BS342","v":""},{"$f":"'FO-DRE-12'!BT342","v":""},{"$f":"'FO-DRE-12'!BU342","v":""},{"$f":"'FO-DRE-12'!BV342","v":""}]
[{"$f":"'FO-DRE-12'!BD343","v":334},{"$f":"'FO-DRE-12'!BE343","v":""},{"$f":"'FO-DRE-12'!BF343","v":"F/D"},{"$f":"'FO-DRE-12'!BG343","v":"F/D"},{"$f":"'FO-DRE-12'!BH343","v":""},{"$f":"'FO-DRE-12'!BI343","v":""},{"$f":"'FO-DRE-12'!BJ343","v":""},{"$f":"'FO-DRE-12'!BK343","v":""},{"$f":"'FO-DRE-12'!BL343","v":""},{"$f":"'FO-DRE-12'!BM343","v":""},{"$f":"'FO-DRE-12'!BN343","v":""},{"$f":"'FO-DRE-12'!BO343","v":""},{"$f":"'FO-DRE-12'!BP343","v":""},{"$f":"'FO-DRE-12'!BQ343","v":""},{"$f":"'FO-DRE-12'!BR343","v":""},{"$f":"'FO-DRE-12'!BS343","v":""},{"$f":"'FO-DRE-12'!BT343","v":""},{"$f":"'FO-DRE-12'!BU343","v":""},{"$f":"'FO-DRE-12'!BV343","v":""}]
[{"$f":"'FO-DRE-12'!BD344","v":335},{"$f":"'FO-DRE-12'!BE344","v":""},{"$f":"'FO-DRE-12'!BF344","v":"F/D"},{"$f":"'FO-DRE-12'!BG344","v":"F/D"},{"$f":"'FO-DRE-12'!BH344","v":""},{"$f":"'FO-DRE-12'!BI344","v":""},{"$f":"'FO-DRE-12'!BJ344","v":""},{"$f":"'FO-DRE-12'!BK344","v":""},{"$f":"'FO-DRE-12'!BL344","v":""},{"$f":"'FO-DRE-12'!BM344","v":""},{"$f":"'FO-DRE-12'!BN344","v":""},{"$f":"'FO-DRE-12'!BO344","v":""},{"$f":"'FO-DRE-12'!BP344","v":""},{"$f":"'FO-DRE-12'!BQ344","v":""},{"$f":"'FO-DRE-12'!BR344","v":""},{"$f":"'FO-DRE-12'!BS344","v":""},{"$f":"'FO-DRE-12'!BT344","v":""},{"$f":"'FO-DRE-12'!BU344","v":""},{"$f":"'FO-DRE-12'!BV344","v":""}]
[{"$f":"'FO-DRE-12'!BD345","v":336},{"$f":"'FO-DRE-12'!BE345","v":""},{"$f":"'FO-DRE-12'!BF345","v":"F/D"},{"$f":"'FO-DRE-12'!BG345","v":"F/D"},{"$f":"'FO-DRE-12'!BH345","v":""},{"$f":"'FO-DRE-12'!BI345","v":""},{"$f":"'FO-DRE-12'!BJ345","v":""},{"$f":"'FO-DRE-12'!BK345","v":""},{"$f":"'FO-DRE-12'!BL345","v":""},{"$f":"'FO-DRE-12'!BM345","v":""},{"$f":"'FO-DRE-12'!BN345","v":""},{"$f":"'FO-DRE-12'!BO345","v":""},{"$f":"'FO-DRE-12'!BP345","v":""},{"$f":"'FO-DRE-12'!BQ345","v":""},{"$f":"'FO-DRE-12'!BR345","v":""},{"$f":"'FO-DRE-12'!BS345","v":""},{"$f":"'FO-DRE-12'!BT345","v":""},{"$f":"'FO-DRE-12'!BU345","v":""},{"$f":"'FO-DRE-12'!BV345","v":""}]
[{"$f":"'FO-DRE-12'!BD346","v":337},{"$f":"'FO-DRE-12'!BE346","v":""},{"$f":"'FO-DRE-12'!BF346","v":"F/D"},{"$f":"'FO-DRE-12'!BG346","v":"F/D"},{"$f":"'FO-DRE-12'!BH346","v":""},{"$f":"'FO-DRE-12'!BI346","v":""},{"$f":"'FO-DRE-12'!BJ346","v":""},{"$f":"'FO-DRE-12'!BK346","v":""},{"$f":"'FO-DRE-12'!BL346","v":""},{"$f":"'FO-DRE-12'!BM346","v":""},{"$f":"'FO-DRE-12'!BN346","v":""},{"$f":"'FO-DRE-12'!BO346","v":""},{"$f":"'FO-DRE-12'!BP346","v":""},{"$f":"'FO-DRE-12'!BQ346","v":""},{"$f":"'FO-DRE-12'!BR346","v":""},{"$f":"'FO-DRE-12'!BS346","v":""},{"$f":"'FO-DRE-12'!BT346","v":""},{"$f":"'FO-DRE-12'!BU346","v":""},{"$f":"'FO-DRE-12'!BV346","v":""}]

{"sheet":"Hoja1","index":9,"n_rows":156,"n_cols":9,"rows_kept":156,"cut":false,"hidden":true,"merged":[[4,6,8,6],[25,6,27,6],[30,6,32,6],[37,6,45,6],[35,6,36,6]]}
["LISTAS DESPLEGABLES"]
[]
["PRIVADO",null,null,null,"CONCESION",null,"TIPO DE SOLICITANTE"]
["EXPLOTACIÓN",null,null,null,"MODIFICACIÓN",null,null,"Empresas de Economía Mixtas"]
[null,null,null,null,"RENOVACIÓN",null,null,"Empresas públicas de propiedad estatal de los países que forman parte de la comunidad internacional"]
["SECUENCIA DIRECTA",null,null,null,null,null,null,"Personas Naturales"]
["TDMA",null,null,null,null,null,null,"Personas Jurídicas "]
["FHSS",null,null,null,"HF",null,null,"Entidades Públicas"]
["HIBRIDO",null,null,null,"VHF",null,null,"Empresas Públicas"]
["OFDM",null,null,null,"UHF"]
["OTRO",null,null,null,"SHF",null,"TIPO DE SOLICITANTE","PERSONA NATURAL O JURÍDICA DE DERECHO PRIVADO","REGISTRO"]
[null,null,null,null,"EHF",null,null,"EMPRESA PÚBLICA O INSTUCIÓN DEL SECTOR PÚBLICO","AUTORIZACIÓN"]
["  °  '  .  '' ","  °  '  .  ''W"]
[null,null,null,null,"ANCHURA DE BANDA",null,null,"SI"]
["S","W",null,null,12.5,null,null,"NO"]
["N",null,null,null,25]
[null,null,null,null,null,null,"OBJETO DE LA SOLICITUD"]
[0,0,null,null,"TIPO DE CONFIGURACIÓN DEL SISTEMA",null,null,"Otorgamiento Título Habilitante"]
[1,1,null,null,"Punto - Punto",null,null,"Modificación Título Habilitante"]
[null,2,null,null,"Punto - Multipunto",null,null,"Renovación Título Habilitante"]
[null,3,null,null,null,null,null,"Temporal de uso de frecuencias"]
[null,4,null,null,null,null,null,"Autorizaciones de uso reservado de frecuencias"]
[]
[null,5,null,null,"Canalización"]
["SI",null,null,null,"VHF - 1 MHz",null,"TIPO DE RED"]
["NO",null,null,null,"VHF - 5 MHz",null,null,"Física "]
[null,null,null,null,"UHF - 5 MHz",null,null,"Inalámbrica"]
["Estructuras:",null,null,null,"UHF - 6 MHz",null,null,"Mixta"]
["TORRE AUTOSOPOTADA",null,null,null,"UHF - 10 MHz"]
["TORRE NO AUTOSOPORTADA"]
["MASTIL",null,null,null,null,null,"ASOCIADA A"]
["EMPOTRADA EN EDIFICACIÓN",null,null,null,null,null,null,"Prestación de Servicio de Telecomunicaciones"]
["OTRAS",null,null,null,null,null,null,"Redes privadas de telecomunicaciones"]
[]
["Antenas:"]
["MONOPOLO",null,null,null,null,null,"USO DE FRECUENCIAS"]
["DIPOLO",null,null,null,null,null,null,"Sistemas de MDBA"]
["4-DIPOLOS",null,null,null,null,null,null,"Móvil Aeronáutico y Radionavegación  "]
["8-DIPOLOS",null,null,null,null,null,null,"Sistemas de radios de dos vías HF, VHF y UHF "]
["16-DIPOLOS",null,null,null,null,null,null,"Sistemas Troncalizados"]
["YAGI",null,null,null,null,null,null,"Enlaces Radioeléctricos"]
["PANEL",null,null,null,null,null,null,"Enlaces Radioeléctricos / Registro Radiobases"]
["OTRO",null,null,null,null,null,null,"Móvil Marítimo / Móvil Marítimo por Satélite"]
[null,null,null,null,null,null,null,"Radiolocalización"]
["POLARIZACION:",null,null,null,null,null,null,"Radionavegación "]
["HORIZONTAL",null,null,null,null,null,null,"Radioaficionados / Banda Ciudadana."]
["VERTICAL"]
["CIRCULAR"]
["ELÍPTICA"]
["CRUZADA"]
["OTRO"]
[]
[]
[]
[]
[]
[]
["PROVINCIAS"]
["AZUAY"]
["BOLÍVAR"]
["CAÑAR"]
["CARCHI"]
["CHIMBORAZO"]
["COTOPAXI"]
["EL ORO"]
["ESMERALDAS"]
["GALÁPAGOS"]
["GUAYAS"]
["IMBABURA"]
["LOJA"]
["LOS RÍOS"]
["MANABÍ"]
["MORONA SANTIAGO"]
["NAPO"]
["ORELLANA"]
["PASTAZA"]
["PICHINCHA"]
["SANTA ELENA"]
["SANTO DOMINGO DE LOS TSÁCHILAS"]
["SUCUMBÍOS"]
["TUNGURAHUA"]
["ZAMORA CHINCHIPE"]
[]
[]
["T. ESTACION"]
["REPETIDOR"]
["FIJA"]
["MOVIL"]
["PORTATIL"]
["RADIOBASE"]
[]
[]
[]
["Estación"]
["Autorización – A","A"]
["Modificación – M  ","M"]
["Incremento – I","I"]
["Eliminación – E","E"]
[]
[]
[]
["MODULACIONES:"]
["AM"]
["FM"]
["FSK"]
["MSK"]
["PSK"]
["BPSK"]
["QPSK"]
["8QAM"]
["16QAM"]
["64QAM"]
["OTRO"]
[]
["Modo de Operación"]
["SIM"]
["SEM"]
["FUL"]
[]
["TRONCALIZADOS"]
[]
["806-811 / 851-856"]
["811-824 / 856-869"]
[]
["ZONA","DESCRIPCION"]
["1a","QUITO Y ALREDEDORES"]
["1b","RESTO DE PICHINCHA-SUCUMBIOS-NAPO-ORELLANA"]
["2a","GUAYAQUIL Y ALREDEDORES"]
["2b","RESTO DE GUAYAS-LOS RIOS -GALAPAGOS"]
["3 ","MANABI"]
["4 ","EL ORO-LOJA"]
["5 ","AZUAY-CAÑAR-ZAMORA CHINCHIPE"]
["6 ","CARCHI-IMBABURA-ESMERALDAS"]
["7 ","TUNGURAHUA-COTOPAXI-PASTAZA"]
["8 ","BOLIVAR-CHIMBORAZO-MORONA SANTIAGO"]
[]
["RADIOAFICIONADOS"]
["REGISTRO"]
["RENOVACION"]
[]
["CATEGORIA"]
["TECNICO"]
["GENERAL"]
["TRANSITO"]
["INTERNACIONAL"]
[]
["ZONA","DESCRIPCION"]
["1 ","CARCHI-IMBABURA-PICHINCHA-SANTO DOMINGO DE LOS TSACHILAS"]
["2 ","RESTO DE PICHINCHA-SUCUMBIOS-NAPO-ORELLANA"]
["3 ","GUAYAS-LOS RIOS-SANTA-ELENA"]
["4 ","EL ORO-LOJA"]
["5 ","MANABI-ESMERALDAS"]
["6 ","CHIMBORAZO-CAÑAR-AZUAY"]
["7 ","COTOPAXI-TUNGURAHUA-BOLIVAR"]
["8 ","GALAPAGOS"]
["9 ","ESTACION MALDONADO ANTARTIDA"]

{"sheet":"GlobalMapper","index":10,"n_rows":0,"n_cols":0,"rows_kept":0,"cut":false,"hidden":true,"merged":[]}

{"sheet":"Hoja2","index":11,"n_rows":0,"n_cols":0,"rows_kept":0,"cut":false,"hidden":true,"merged":[]}

{"sheet":"Hoja3","index":12,"n_rows":487,"n_cols":23,"rows_kept":487,"cut":false,"hidden":true,"merged":[]}
[]
[null,"MODO","SEMIDUPLEX",null,null,"MODO","SEMIDUPLEX",null,null,"MODO","SEMIDUPLEX",null,null,"MODO","SEMIDUPLEX",null,null,"MODO","SEMIDUPLEX",null,null,"MODO","SIMPLEX"]
[null,"UHF",null,null,null,"UHF",null,null,null,"UHF",null,null,null,"UHF",null,null,null,"UHF",null,null,null,"UHF"]
[null,"BANDA",440,null,null,"BANDA",450,null,null,"BANDA",457.5,null,null,"BANDA",488,null,null,"BANDA",500,null,null,"BANDA",482]
[null,"AB",12.5,null,null,"AB",12.5,null,null,"AB",12.5,null,null,"AB",12.5,null,null,"AB",12.5,null,null,"AB",12.5]
[null,"SEPARACIÓN",5,null,null,"SEPARACIÓN",10,null,null,"SEPARACIÓN",10,null,null,"SEPARACIÓN",6,null,null,"SEPARACIÓN",6,null,null,"SEPARACIÓN",0]
[null,"TX","RX",null,null,"TX","RX",null,null,"TX","RX",null,null,"TX","RX",null,null,"TX","RX",null,null,"TX","RX"]
[1,440,445,null,1,450,460,null,1,457.5,460,null,1,488,494,null,1,500,506,null,1,482]
[2,440.01249999999999,445.01249999999999,null,2,450.01249999999999,460.01249999999999,null,2,457.51249999999999,467.51249999999999,null,2,488.01249999999999,494.01249999999999,null,2,500.01249999999999,506.01249999999999,null,2,482.01249999999999]
[3,440.02499999999998,445.02499999999998,null,3,450.02499999999998,460.02499999999998,null,3,457.52499999999998,467.52499999999998,null,3,488.02499999999998,494.02499999999998,null,3,500.02499999999998,506.02499999999998,null,3,482.02499999999998]
[4,440.03750000000002,445.03750000000002,null,4,450.03750000000002,460.03750000000002,null,4,457.53750000000002,472.53750000000002,null,4,488.03750000000002,494.03750000000002,null,4,500.03750000000002,506.03750000000002,null,4,482.03750000000002]
[5,440.05,445.05,null,5,450.05,460.05,null,5,457.55,476.3,null,5,488.05,494.05,null,5,500.05,506.05,null,5,482.05]
[6,440.0625,445.0625,null,6,450.0625,460.0625,null,6,457.5625,480.0625,null,6,488.0625,494.0625,null,6,500.0625,506.0625,null,6,482.0625]
[7,440.07499999999999,445.07499999999999,null,7,450.07499999999999,460.07499999999999,null,7,457.57499999999999,483.82499999999999,null,7,488.07499999999999,494.07499999999999,null,7,500.07499999999999,506.07499999999999,null,7,482.07499999999999]
[8,440.08749999999998,445.08749999999998,null,8,450.08749999999998,460.08749999999998,null,8,457.58749999999998,487.58749999999998,null,8,488.08749999999998,494.08749999999998,null,8,500.08749999999998,506.08749999999998,null,8,482.08749999999998]
[9,440.1,445.1,null,9,450.1,460.1,null,9,457.6,491.35,null,9,488.1,494.1,null,9,500.1,506.1,null,9,482.1]
[10,440.11250000000001,445.11250000000001,null,10,450.11250000000001,460.11250000000001,null,10,457.61250000000001,495.11250000000001,null,10,488.11250000000001,494.11250000000001,null,10,500.11250000000001,506.11250000000001,null,10,482.11250000000001]
[11,440.125,445.125,null,11,450.125,460.125,null,11,457.625,498.875,null,11,488.125,494.125,null,11,500.125,506.125,null,11,482.125]
[12,440.13749999999999,445.13749999999999,null,12,450.13749999999999,460.13749999999999,null,12,457.63749999999999,502.63749999999999,null,12,488.13749999999999,494.13749999999999,null,12,500.13749999999999,506.13749999999999,null,12,482.13749999999999]
[13,440.15,445.15,null,13,450.15,460.15,null,13,457.65,506.4,null,13,488.15,494.15,null,13,500.15,506.15,null,13,482.15]
[14,440.16250000000002,445.16250000000002,null,14,450.16250000000002,460.16250000000002,null,14,457.66250000000002,510.16250000000002,null,14,488.16250000000002,494.16250000000002,null,14,500.16250000000002,506.16250000000002,null,14,482.16250000000002]
[15,440.17500000000001,445.17500000000001,null,15,450.17500000000001,460.17500000000001,null,15,457.67500000000001,513.92499999999995,null,15,488.17500000000001,494.17500000000001,null,15,500.17500000000001,506.17500000000001,null,15,482.17500000000001]
[16,440.1875,445.1875,null,16,450.1875,460.1875,null,16,457.6875,517.6875,null,16,488.1875,494.1875,null,16,500.1875,506.1875,null,16,482.1875]
[17,440.2,445.2,null,17,450.2,460.2,null,17,457.7,521.45000000000005,null,17,488.2,494.2,null,17,500.2,506.2,null,17,482.2]
[18,440.21249999999998,445.21249999999998,null,18,450.21249999999998,460.21249999999998,null,18,457.71249999999998,525.21249999999998,null,18,488.21249999999998,494.21249999999998,null,18,500.21249999999998,506.21249999999998,null,18,482.21249999999998]
[19,440.22500000000002,445.22500000000002,null,19,450.22500000000002,460.22500000000002,null,19,457.72500000000002,528.97500000000002,null,19,488.22500000000002,494.22500000000002,null,19,500.22500000000002,506.22500000000002,null,19,482.22500000000002]
[20,440.23750000000001,445.23750000000001,null,20,450.23750000000001,460.23750000000001,null,20,457.73750000000001,532.73749999999995,null,20,488.23750000000001,494.23750000000001,null,20,500.23750000000001,506.23750000000001,null,20,482.23750000000001]
[21,440.25,445.25,null,21,450.25,460.25,null,21,457.75,536.5,null,21,488.25,494.25,null,21,500.25,506.25,null,21,482.25]
[22,440.26249999999999,445.26249999999999,null,22,450.26249999999999,460.26249999999999,null,22,457.76249999999999,540.26250000000005,null,22,488.26249999999999,494.26249999999999,null,22,500.26249999999999,506.26249999999999,null,22,482.26249999999999]
[23,440.27499999999998,445.27499999999998,null,23,450.27499999999998,460.27499999999998,null,23,457.77499999999998,544.02499999999998,null,23,488.27499999999998,494.27499999999998,null,23,500.27499999999998,506.27499999999998,null,23,482.27499999999998]
[24,440.28750000000002,445.28750000000002,null,24,450.28750000000002,460.28750000000002,null,24,457.78750000000002,547.78750000000002,null,24,488.28750000000002,494.28750000000002,null,24,500.28750000000002,506.28750000000002,null,24,482.28750000000002]
[25,440.3,445.3,null,25,450.3,460.3,null,25,457.8,551.54999999999995,null,25,488.3,494.3,null,25,500.3,506.3,null,25,482.3]
[26,440.3125,445.3125,null,26,450.3125,460.3125,null,26,457.8125,555.3125,null,26,488.3125,494.3125,null,26,500.3125,506.3125,null,26,482.3125]
[27,440.32499999999999,445.32499999999999,null,27,450.32499999999999,460.32499999999999,null,27,457.82499999999999,559.07500000000005,null,27,488.32499999999999,494.32499999999999,null,27,500.32499999999999,506.32499999999999,null,27,482.32499999999999]
[28,440.33749999999998,445.33749999999998,null,28,450.33749999999998,460.33749999999998,null,28,457.83749999999998,562.83749999999998,null,28,488.33749999999998,494.33749999999998,null,28,500.33749999999998,506.33749999999998,null,28,482.33749999999998]
[29,440.35,445.35,null,29,450.35,460.35,null,29,457.85,566.6,null,29,488.35,494.35,null,29,500.35,506.35,null,29,482.35]
[30,440.36250000000001,445.36250000000001,null,30,450.36250000000001,460.36250000000001,null,30,457.86250000000001,570.36249999999995,null,30,488.36250000000001,494.36250000000001,null,30,500.36250000000001,506.36250000000001,null,30,482.36250000000001]
[31,440.375,445.375,null,31,450.375,460.375,null,31,457.875,574.125,null,31,488.375,494.375,null,31,500.375,506.375,null,31,482.375]
[32,440.38749999999999,445.38749999999999,null,32,450.38749999999999,460.38749999999999,null,32,457.88749999999999,577.88750000000005,null,32,488.38749999999999,494.38749999999999,null,32,500.38749999999999,506.38749999999999,null,32,482.38749999999999]
[33,440.4,445.4,null,33,450.4,460.4,null,33,457.9,581.65,null,33,488.4,494.4,null,33,500.4,506.4,null,33,482.4]
[34,440.41250000000002,445.41250000000002,null,34,450.41250000000002,460.41250000000002,null,34,457.91250000000002,585.41250000000002,null,34,488.41250000000002,494.41250000000002,null,34,500.41250000000002,506.41250000000002,null,34,482.41250000000002]
[35,440.42500000000001,445.42500000000001,null,35,450.42500000000001,460.42500000000001,null,35,457.92500000000001,589.17499999999995,null,35,488.42500000000001,494.42500000000001,null,35,500.42500000000001,506.42500000000001,null,35,482.42500000000001]
[36,440.4375,445.4375,null,36,450.4375,460.4375,null,36,457.9375,592.9375,null,36,488.4375,494.4375,null,36,500.4375,506.4375,null,36,482.4375]
[37,440.45,445.45,null,37,450.45,460.45,null,37,457.95,596.70000000000005,null,37,488.45,494.45,null,37,500.45,506.45,null,37,482.45]
[38,440.46249999999998,445.46249999999998,null,38,450.46249999999998,460.46249999999998,null,38,457.96249999999998,600.46249999999998,null,38,488.46249999999998,494.46249999999998,null,38,500.46249999999998,506.46249999999998,null,38,482.46249999999998]
[39,440.47500000000002,445.47500000000002,null,39,450.47500000000002,460.47500000000002,null,39,457.97500000000002,604.22500000000002,null,39,488.47500000000002,494.47500000000002,null,39,500.47500000000002,506.47500000000002,null,39,482.47500000000002]
[40,440.48750000000001,445.48750000000001,null,40,450.48750000000001,460.48750000000001,null,40,457.98750000000001,607.98749999999995,null,40,488.48750000000001,494.48750000000001,null,40,500.48750000000001,506.48750000000001,null,40,482.48750000000001]
[41,440.5,445.5,null,41,450.5,460.5,null,41,458,611.75,null,41,488.5,494.5,null,41,500.5,506.5,null,41,482.5]
[42,440.51249999999999,445.51249999999999,null,42,450.51249999999999,460.51249999999999,null,42,458.01249999999999,615.51250000000005,null,42,488.51249999999999,494.51249999999999,null,42,500.51249999999999,506.51249999999999,null,42,482.51249999999999]
[43,440.52499999999998,445.52499999999998,null,43,450.52499999999998,460.52499999999998,null,43,458.02499999999998,619.27499999999895,null,43,488.52499999999998,494.52499999999998,null,43,500.52499999999998,506.52499999999998,null,43,482.52499999999998]
[44,440.53750000000002,445.53750000000002,null,44,450.53750000000002,460.53750000000002,null,44,458.03750000000002,623.037499999999,null,44,488.53750000000002,494.53750000000002,null,44,500.53750000000002,506.53750000000002,null,44,482.53750000000002]
[45,440.54999999999899,445.54999999999899,null,45,450.54999999999899,460.54999999999899,null,45,458.04999999999899,626.79999999999905,null,45,488.54999999999899,494.54999999999899,null,45,500.54999999999899,506.54999999999899,null,45,482.54999999999899]
[46,440.56249999999898,445.56249999999898,null,46,450.56249999999898,460.56249999999898,null,46,458.06249999999898,630.56249999999898,null,46,488.56249999999898,494.56249999999898,null,46,500.56249999999898,506.56249999999898,null,46,482.56249999999898]
[47,440.57499999999902,445.57499999999902,null,47,450.57499999999902,460.57499999999902,null,47,458.07499999999902,634.32499999999902,null,47,488.57499999999902,494.57499999999902,null,47,500.57499999999902,506.57499999999902,null,47,482.57499999999902]
[48,440.58749999999901,445.58749999999901,null,48,450.58749999999901,460.58749999999901,null,48,458.08749999999901,638.08749999999895,null,48,488.58749999999901,494.58749999999901,null,48,500.58749999999901,506.58749999999901,null,48,482.58749999999901]
[49,440.599999999999,445.599999999999,null,49,450.599999999999,460.599999999999,null,49,458.099999999999,641.849999999999,null,49,488.599999999999,494.599999999999,null,49,500.599999999999,506.599999999999,null,49,482.599999999999]
[50,440.61249999999899,445.61249999999899,null,50,450.61249999999899,460.61249999999899,null,50,458.11249999999899,645.61249999999905,null,50,488.61249999999899,494.61249999999899,null,50,500.61249999999899,506.61249999999899,null,50,482.61249999999899]
[51,440.62499999999898,445.62499999999898,null,51,450.62499999999898,460.62499999999898,null,51,458.12499999999898,649.37499999999898,null,51,488.62499999999898,494.62499999999898,null,51,500.62499999999898,506.62499999999898,null,51,482.62499999999898]
[52,440.63749999999902,445.63749999999902,null,52,450.63749999999902,460.63749999999902,null,52,458.13749999999902,653.13749999999902,null,52,488.63749999999902,494.63749999999902,null,52,500.63749999999902,506.63749999999902,null,52,482.63749999999902]
[53,440.64999999999901,445.64999999999901,null,53,450.64999999999901,460.64999999999901,null,53,458.14999999999901,656.89999999999895,null,53,488.64999999999901,494.64999999999901,null,53,500.64999999999901,506.64999999999901,null,53,482.64999999999901]
[54,440.662499999999,445.662499999999,null,54,450.662499999999,460.662499999999,null,54,458.162499999999,660.662499999999,null,54,488.662499999999,494.662499999999,null,54,500.662499999999,506.662499999999,null,54,482.662499999999]
[55,440.67499999999899,445.67499999999899,null,55,450.67499999999899,460.67499999999899,null,55,458.17499999999899,664.42499999999905,null,55,488.67499999999899,494.67499999999899,null,55,500.67499999999899,506.67499999999899,null,55,482.67499999999899]
[56,440.68749999999898,445.68749999999898,null,56,450.68749999999898,460.68749999999898,null,56,458.18749999999898,668.18749999999898,null,56,488.68749999999898,494.68749999999898,null,56,500.68749999999898,506.68749999999898,null,56,482.68749999999898]
[57,440.69999999999902,445.69999999999902,null,57,450.69999999999902,460.69999999999902,null,57,458.19999999999902,671.94999999999902,null,57,488.69999999999902,494.69999999999902,null,57,500.69999999999902,506.69999999999902,null,57,482.69999999999902]
[58,440.71249999999901,445.71249999999901,null,58,450.71249999999901,460.71249999999901,null,58,458.21249999999901,675.71249999999895,null,58,488.71249999999901,494.71249999999901,null,58,500.71249999999901,506.71249999999901,null,58,482.71249999999901]
[59,440.724999999999,445.724999999999,null,59,450.724999999999,460.724999999999,null,59,458.224999999999,679.474999999999,null,59,488.724999999999,494.724999999999,null,59,500.724999999999,506.724999999999,null,59,482.724999999999]
[60,440.73749999999899,445.73749999999899,null,60,450.73749999999899,460.73749999999899,null,60,458.23749999999899,683.23749999999905,null,60,488.73749999999899,494.73749999999899,null,60,500.73749999999899,506.73749999999899,null,60,482.73749999999899]
[61,440.74999999999898,445.74999999999898,null,61,450.74999999999898,460.74999999999898,null,61,458.24999999999898,686.99999999999898,null,61,488.74999999999898,494.74999999999898,null,61,500.74999999999898,506.74999999999898,null,61,482.74999999999898]
[62,440.76249999999902,445.76249999999902,null,62,450.76249999999902,460.76249999999902,null,62,458.26249999999902,690.76249999999902,null,62,488.76249999999902,494.76249999999902,null,62,500.76249999999902,506.76249999999902,null,62,482.76249999999902]
[63,440.77499999999901,445.77499999999901,null,63,450.77499999999901,460.77499999999901,null,63,458.27499999999901,694.52499999999895,null,63,488.77499999999901,494.77499999999901,null,63,500.77499999999901,506.77499999999901,null,63,482.77499999999901]
[64,440.787499999999,445.787499999999,null,64,450.787499999999,460.787499999999,null,64,458.287499999999,698.287499999999,null,64,488.787499999999,494.787499999999,null,64,500.787499999999,506.787499999999,null,64,482.787499999999]
[65,440.79999999999899,445.79999999999899,null,65,450.79999999999899,460.79999999999899,null,65,458.29999999999899,702.04999999999905,null,65,488.79999999999899,494.79999999999899,null,65,500.79999999999899,506.79999999999899,null,65,482.79999999999899]
[66,440.81249999999898,445.81249999999898,null,66,450.81249999999898,460.81249999999898,null,66,458.31249999999898,705.81249999999898,null,66,488.81249999999898,494.81249999999898,null,66,500.81249999999898,506.81249999999898,null,66,482.81249999999898]
[67,440.82499999999902,445.82499999999902,null,67,450.82499999999902,460.82499999999902,null,67,458.32499999999902,709.57499999999902,null,67,488.82499999999902,494.82499999999902,null,67,500.82499999999902,506.82499999999902,null,67,482.82499999999902]
[68,440.83749999999901,445.83749999999901,null,68,450.83749999999901,460.83749999999901,null,68,458.33749999999901,713.33749999999895,null,68,488.83749999999901,494.83749999999901,null,68,500.83749999999901,506.83749999999901,null,68,482.83749999999901]
[69,440.849999999999,445.849999999999,null,69,450.849999999999,460.849999999999,null,69,458.349999999999,717.099999999999,null,69,488.849999999999,494.849999999999,null,69,500.849999999999,506.849999999999,null,69,482.849999999999]
[70,440.86249999999899,445.86249999999899,null,70,450.86249999999899,460.86249999999899,null,70,458.36249999999899,720.86249999999905,null,70,488.86249999999899,494.86249999999899,null,70,500.86249999999899,506.86249999999899,null,70,482.86249999999899]
[71,440.87499999999898,445.87499999999898,null,71,450.87499999999898,460.87499999999898,null,71,458.37499999999898,724.62499999999898,null,71,488.87499999999898,494.87499999999898,null,71,500.87499999999898,506.87499999999898,null,71,482.87499999999898]
[72,440.88749999999902,445.88749999999902,null,72,450.88749999999902,460.88749999999902,null,72,458.38749999999902,728.38749999999902,null,72,488.88749999999902,494.88749999999902,null,72,500.88749999999902,506.88749999999902,null,72,482.88749999999902]
[73,440.89999999999901,445.89999999999901,null,73,450.89999999999901,460.89999999999901,null,73,458.39999999999901,732.14999999999895,null,73,488.89999999999901,494.89999999999901,null,73,500.89999999999901,506.89999999999901,null,73,482.89999999999901]
[74,440.912499999999,445.912499999999,null,74,450.912499999999,460.912499999999,null,74,458.412499999999,735.912499999999,null,74,488.912499999999,494.912499999999,null,74,500.912499999999,506.912499999999,null,74,482.912499999999]
[75,440.92499999999899,445.92499999999899,null,75,450.92499999999899,460.92499999999899,null,75,458.42499999999899,739.67499999999905,null,75,488.92499999999899,494.92499999999899,null,75,500.92499999999899,506.92499999999899,null,75,482.92499999999899]
[76,440.93749999999898,445.93749999999898,null,76,450.93749999999898,460.93749999999898,null,76,458.43749999999898,743.43749999999898,null,76,488.93749999999898,494.93749999999898,null,76,500.93749999999898,506.93749999999898,null,76,482.93749999999898]
[77,440.94999999999902,445.94999999999902,null,77,450.94999999999902,460.94999999999902,null,77,458.44999999999902,747.19999999999902,null,77,488.94999999999902,494.94999999999902,null,77,500.94999999999902,506.94999999999902,null,77,482.94999999999902]
[78,440.96249999999901,445.96249999999901,null,78,450.96249999999901,460.96249999999901,null,78,458.46249999999901,750.96249999999895,null,78,488.96249999999901,494.96249999999901,null,78,500.96249999999901,506.96249999999901,null,78,482.96249999999901]
[79,440.974999999999,445.974999999999,null,79,450.974999999999,460.974999999999,null,79,458.474999999999,754.724999999999,null,79,488.974999999999,494.974999999999,null,79,500.974999999999,506.974999999999,null,79,482.974999999999]
[80,440.98749999999899,445.98749999999899,null,80,450.98749999999899,460.98749999999899,null,80,458.48749999999899,758.48749999999905,null,80,488.98749999999899,494.98749999999899,null,80,500.98749999999899,506.98749999999899,null,80,482.98749999999899]
[81,440.99999999999898,445.99999999999898,null,81,450.99999999999898,460.99999999999898,null,81,458.49999999999898,762.24999999999898,null,81,488.99999999999898,494.99999999999898,null,81,500.99999999999898,506.99999999999898,null,81,482.99999999999898]
[82,441.01249999999902,446.01249999999902,null,82,451.01249999999902,461.01249999999902,null,82,458.51249999999902,766.01249999999902,null,82,489.01249999999902,495.01249999999902,null,82,501.01249999999902,507.01249999999902,null,82,483.01249999999902]
[83,441.02499999999901,446.02499999999901,null,83,451.02499999999901,461.02499999999901,null,83,458.52499999999901,769.77499999999895,null,83,489.02499999999901,495.02499999999901,null,83,501.02499999999901,507.02499999999901,null,83,483.02499999999901]
[84,441.037499999999,446.037499999999,null,84,451.037499999999,461.037499999999,null,84,458.537499999999,773.537499999999,null,84,489.037499999999,495.037499999999,null,84,501.037499999999,507.037499999999,null,84,483.037499999999]
[85,441.04999999999899,446.04999999999899,null,85,451.04999999999899,461.04999999999899,null,85,458.54999999999899,777.29999999999905,null,85,489.04999999999899,495.04999999999899,null,85,501.04999999999899,507.04999999999899,null,85,483.04999999999899]
[86,441.06249999999898,446.06249999999898,null,86,451.06249999999898,461.06249999999898,null,86,458.56249999999898,781.06249999999898,null,86,489.06249999999898,495.06249999999898,null,86,501.06249999999898,507.06249999999898,null,86,483.06249999999898]
[87,441.07499999999902,446.07499999999902,null,87,451.07499999999902,461.07499999999902,null,87,458.57499999999902,784.82499999999902,null,87,489.07499999999902,495.07499999999902,null,87,501.07499999999902,507.07499999999902,null,87,483.07499999999902]
[88,441.08749999999901,446.08749999999901,null,88,451.08749999999901,461.08749999999901,null,88,458.58749999999901,788.58749999999895,null,88,489.08749999999901,495.08749999999901,null,88,501.08749999999901,507.08749999999901,null,88,483.08749999999901]
[89,441.099999999999,446.099999999999,null,89,451.099999999999,461.099999999999,null,89,458.599999999999,792.349999999999,null,89,489.099999999999,495.099999999999,null,89,501.099999999999,507.099999999999,null,89,483.099999999999]
[90,441.11249999999899,446.11249999999899,null,90,451.11249999999899,461.11249999999899,null,90,458.61249999999899,796.11249999999905,null,90,489.11249999999899,495.11249999999899,null,90,501.11249999999899,507.11249999999899,null,90,483.11249999999899]
[91,441.12499999999898,446.12499999999898,null,91,451.12499999999898,461.12499999999898,null,91,458.62499999999898,799.87499999999898,null,91,489.12499999999898,495.12499999999898,null,91,501.12499999999898,507.12499999999898,null,91,483.12499999999898]
[92,441.13749999999902,446.13749999999902,null,92,451.13749999999902,461.13749999999902,null,92,458.63749999999902,803.63749999999902,null,92,489.13749999999902,495.13749999999902,null,92,501.13749999999902,507.13749999999902,null,92,483.13749999999902]
[93,441.14999999999901,446.14999999999901,null,93,451.14999999999901,461.14999999999901,null,93,458.64999999999901,807.39999999999895,null,93,489.14999999999901,495.14999999999901,null,93,501.14999999999901,507.14999999999901,null,93,483.14999999999901]
[94,441.162499999999,446.162499999999,null,94,451.162499999999,461.162499999999,null,94,458.662499999999,811.162499999999,null,94,489.162499999999,495.162499999999,null,94,501.162499999999,507.162499999999,null,94,483.162499999999]
[95,441.17499999999899,446.17499999999899,null,95,451.17499999999899,461.17499999999899,null,95,458.67499999999899,814.92499999999905,null,95,489.17499999999899,495.17499999999899,null,95,501.17499999999899,507.17499999999899,null,95,483.17499999999899]
[96,441.18749999999898,446.18749999999898,null,96,451.18749999999898,461.18749999999898,null,96,458.68749999999898,818.68749999999898,null,96,489.18749999999898,495.18749999999898,null,96,501.18749999999898,507.18749999999898,null,96,483.18749999999898]
[97,441.19999999999902,446.19999999999902,null,97,451.19999999999902,461.19999999999902,null,97,458.69999999999902,822.44999999999902,null,97,489.19999999999902,495.19999999999902,null,97,501.19999999999902,507.19999999999902,null,97,483.19999999999902]
[98,441.21249999999901,446.21249999999901,null,98,451.21249999999901,461.21249999999901,null,98,458.71249999999901,826.21249999999895,null,98,489.21249999999901,495.21249999999901,null,98,501.21249999999901,507.21249999999901,null,98,483.21249999999901]
[99,441.224999999999,446.224999999999,null,99,451.224999999999,461.224999999999,null,99,458.724999999999,829.974999999999,null,99,489.224999999999,495.224999999999,null,99,501.224999999999,507.224999999999,null,99,483.224999999999]
[100,441.23749999999899,446.23749999999899,null,100,451.23749999999899,461.23749999999899,null,100,458.73749999999899,833.73749999999905,null,100,489.23749999999899,495.23749999999899,null,100,501.23749999999899,507.23749999999899,null,100,483.23749999999899]
[101,441.24999999999898,446.24999999999898,null,101,451.24999999999898,461.24999999999898,null,101,458.74999999999898,837.49999999999898,null,101,489.24999999999898,495.24999999999898,null,101,501.24999999999898,507.24999999999898,null,101,483.24999999999898]
[102,441.26249999999902,446.26249999999902,null,102,451.26249999999902,461.26249999999902,null,102,458.76249999999902,841.26249999999902,null,102,489.26249999999902,495.26249999999902,null,102,501.26249999999902,507.26249999999902,null,102,483.26249999999902]
[103,441.27499999999901,446.27499999999901,null,103,451.27499999999901,461.27499999999901,null,103,458.77499999999901,845.02499999999895,null,103,489.27499999999901,495.27499999999901,null,103,501.27499999999901,507.27499999999901,null,103,483.27499999999901]
[104,441.287499999999,446.287499999999,null,104,451.287499999999,461.287499999999,null,104,458.787499999999,848.787499999999,null,104,489.287499999999,495.287499999999,null,104,501.287499999999,507.287499999999,null,104,483.287499999999]
[105,441.29999999999899,446.29999999999899,null,105,451.29999999999899,461.29999999999899,null,105,458.79999999999899,852.54999999999905,null,105,489.29999999999899,495.29999999999899,null,105,501.29999999999899,507.29999999999899,null,105,483.29999999999899]
[106,441.31249999999898,446.31249999999898,null,106,451.31249999999898,461.31249999999898,null,106,458.81249999999898,856.31249999999898,null,106,489.31249999999898,495.31249999999898,null,106,501.31249999999898,507.31249999999898,null,106,483.31249999999898]
[107,441.32499999999902,446.32499999999902,null,107,451.32499999999902,461.32499999999902,null,107,458.82499999999902,860.07499999999902,null,107,489.32499999999902,495.32499999999902,null,107,501.32499999999902,507.32499999999902,null,107,483.32499999999902]
[108,441.33749999999901,446.33749999999901,null,108,451.33749999999901,461.33749999999901,null,108,458.83749999999901,863.83749999999895,null,108,489.33749999999901,495.33749999999901,null,108,501.33749999999901,507.33749999999901,null,108,483.33749999999901]
[109,441.349999999999,446.349999999999,null,109,451.349999999999,461.349999999999,null,109,458.849999999999,867.599999999999,null,109,489.349999999999,495.349999999999,null,109,501.349999999999,507.349999999999,null,109,483.349999999999]
[110,441.36249999999899,446.36249999999899,null,110,451.36249999999899,461.36249999999899,null,110,458.86249999999899,871.36249999999905,null,110,489.36249999999899,495.36249999999899,null,110,501.36249999999899,507.36249999999899,null,110,483.36249999999899]
[111,441.37499999999898,446.37499999999898,null,111,451.37499999999898,461.37499999999898,null,111,458.87499999999898,875.12499999999898,null,111,489.37499999999898,495.37499999999898,null,111,501.37499999999898,507.37499999999898,null,111,483.37499999999898]
[112,441.38749999999902,446.38749999999902,null,112,451.38749999999902,461.38749999999902,null,112,458.88749999999902,878.88749999999902,null,112,489.38749999999902,495.38749999999902,null,112,501.38749999999902,507.38749999999902,null,112,483.38749999999902]
[113,441.39999999999901,446.39999999999901,null,113,451.39999999999901,461.39999999999901,null,113,458.89999999999901,882.64999999999895,null,113,489.39999999999901,495.39999999999901,null,113,501.39999999999901,507.39999999999901,null,113,483.39999999999901]
[114,441.412499999999,446.412499999999,null,114,451.412499999999,461.412499999999,null,114,458.912499999999,886.412499999999,null,114,489.412499999999,495.412499999999,null,114,501.412499999999,507.412499999999,null,114,483.412499999999]
[115,441.42499999999899,446.42499999999899,null,115,451.42499999999899,461.42499999999899,null,115,458.92499999999899,890.17499999999905,null,115,489.42499999999899,495.42499999999899,null,115,501.42499999999899,507.42499999999899,null,115,483.42499999999899]
[116,441.43749999999898,446.43749999999898,null,116,451.43749999999898,461.43749999999898,null,116,458.93749999999898,893.93749999999898,null,116,489.43749999999898,495.43749999999898,null,116,501.43749999999898,507.43749999999898,null,116,483.43749999999898]
[117,441.44999999999902,446.44999999999902,null,117,451.44999999999902,461.44999999999902,null,117,458.94999999999902,897.69999999999902,null,117,489.44999999999902,495.44999999999902,null,117,501.44999999999902,507.44999999999902,null,117,483.44999999999902]
[118,441.46249999999901,446.46249999999901,null,118,451.46249999999901,461.46249999999901,null,118,458.96249999999901,901.46249999999895,null,118,489.46249999999901,495.46249999999901,null,118,501.46249999999901,507.46249999999901,null,118,483.46249999999901]
[119,441.474999999999,446.474999999999,null,119,451.474999999999,461.474999999999,null,119,458.974999999999,905.224999999999,null,119,489.474999999999,495.474999999999,null,119,501.474999999999,507.474999999999,null,119,483.474999999999]
[120,441.48749999999899,446.48749999999899,null,120,451.48749999999899,461.48749999999899,null,120,458.98749999999899,908.98749999999905,null,120,489.48749999999899,495.48749999999899,null,120,501.48749999999899,507.48749999999899,null,120,483.48749999999899]
[121,441.49999999999898,446.49999999999898,null,121,451.49999999999898,461.49999999999898,null,121,458.99999999999898,912.74999999999898,null,121,489.49999999999898,495.49999999999898,null,121,501.49999999999898,507.49999999999898,null,121,483.49999999999898]
[122,441.51249999999902,446.51249999999902,null,122,451.51249999999902,461.51249999999902,null,122,459.01249999999902,916.51249999999902,null,122,489.51249999999902,495.51249999999902,null,122,501.51249999999902,507.51249999999902,null,122,483.51249999999902]
[123,441.52499999999901,446.52499999999901,null,123,451.52499999999901,461.52499999999901,null,123,459.02499999999901,920.27499999999804,null,123,489.52499999999901,495.52499999999901,null,123,501.52499999999901,507.52499999999901,null,123,483.52499999999901]
[124,441.537499999999,446.537499999999,null,124,451.537499999999,461.537499999999,null,124,459.037499999999,924.03749999999798,null,124,489.537499999999,495.537499999999,null,124,501.537499999999,507.537499999999,null,124,483.537499999999]
[125,441.54999999999899,446.54999999999899,null,125,451.54999999999899,461.54999999999899,null,125,459.04999999999899,927.79999999999802,null,125,489.54999999999899,495.54999999999899,null,125,501.54999999999899,507.54999999999899,null,125,483.54999999999899]
[126,441.56249999999898,446.56249999999898,null,126,451.56249999999898,461.56249999999898,null,126,459.06249999999898,931.56249999999795,null,126,489.56249999999898,495.56249999999898,null,126,501.56249999999898,507.56249999999898,null,126,483.56249999999898]
[127,441.57499999999902,446.57499999999902,null,127,451.57499999999902,461.57499999999902,null,127,459.07499999999902,935.324999999998,null,127,489.57499999999902,495.57499999999902,null,127,501.57499999999902,507.57499999999902,null,127,483.57499999999902]
[128,441.58749999999901,446.58749999999901,null,128,451.58749999999901,461.58749999999901,null,128,459.08749999999901,939.08749999999804,null,128,489.58749999999901,495.58749999999901,null,128,501.58749999999901,507.58749999999901,null,128,483.58749999999901]
[129,441.599999999999,446.599999999999,null,129,451.599999999999,461.599999999999,null,129,459.099999999999,942.84999999999798,null,129,489.599999999999,495.599999999999,null,129,501.599999999999,507.599999999999,null,129,483.599999999999]
[130,441.61249999999899,446.61249999999899,null,130,451.61249999999899,461.61249999999899,null,130,459.11249999999899,946.61249999999802,null,130,489.61249999999899,495.61249999999899,null,130,501.61249999999899,507.61249999999899,null,130,483.61249999999899]
[131,441.62499999999898,446.62499999999898,null,131,451.62499999999898,461.62499999999898,null,131,459.12499999999898,950.37499999999795,null,131,489.62499999999898,495.62499999999898,null,131,501.62499999999898,507.62499999999898,null,131,483.62499999999898]
[132,441.63749999999902,446.63749999999902,null,132,451.63749999999902,461.63749999999902,null,132,459.13749999999902,954.137499999998,null,132,489.63749999999902,495.63749999999902,null,132,501.63749999999902,507.63749999999902,null,132,483.63749999999902]
[133,441.64999999999799,446.64999999999799,null,133,451.64999999999799,461.64999999999799,null,133,459.14999999999799,957.89999999999804,null,133,489.64999999999799,495.64999999999799,null,133,501.64999999999799,507.64999999999799,null,133,483.64999999999799]
[134,441.66249999999798,446.66249999999798,null,134,451.66249999999798,461.66249999999798,null,134,459.16249999999798,961.66249999999798,null,134,489.66249999999798,495.66249999999798,null,134,501.66249999999798,507.66249999999798,null,134,483.66249999999798]
[135,441.67499999999802,446.67499999999802,null,135,451.67499999999802,461.67499999999802,null,135,459.17499999999802,965.42499999999802,null,135,489.67499999999802,495.67499999999802,null,135,501.67499999999802,507.67499999999802,null,135,483.67499999999802]
[136,441.68749999999801,446.68749999999801,null,136,451.68749999999801,461.68749999999801,null,136,459.18749999999801,969.18749999999795,null,136,489.68749999999801,495.68749999999801,null,136,501.68749999999801,507.68749999999801,null,136,483.68749999999801]
[137,441.699999999998,446.699999999998,null,137,451.699999999998,461.699999999998,null,137,459.199999999998,972.949999999998,null,137,489.699999999998,495.699999999998,null,137,501.699999999998,507.699999999998,null,137,483.699999999998]
[138,441.71249999999799,446.71249999999799,null,138,451.71249999999799,461.71249999999799,null,138,459.21249999999799,976.71249999999804,null,138,489.71249999999799,495.71249999999799,null,138,501.71249999999799,507.71249999999799,null,138,483.71249999999799]
[139,441.72499999999798,446.72499999999798,null,139,451.72499999999798,461.72499999999798,null,139,459.22499999999798,980.47499999999798,null,139,489.72499999999798,495.72499999999798,null,139,501.72499999999798,507.72499999999798,null,139,483.72499999999798]
[140,441.73749999999802,446.73749999999802,null,140,451.73749999999802,461.73749999999802,null,140,459.23749999999802,984.23749999999802,null,140,489.73749999999802,495.73749999999802,null,140,501.73749999999802,507.73749999999802,null,140,483.73749999999802]
[141,441.74999999999801,446.74999999999801,null,141,451.74999999999801,461.74999999999801,null,141,459.24999999999801,987.99999999999795,null,141,489.74999999999801,495.74999999999801,null,141,501.74999999999801,507.74999999999801,null,141,483.74999999999801]
[142,441.762499999998,446.762499999998,null,142,451.762499999998,461.762499999998,null,142,459.262499999998,991.762499999998,null,142,489.762499999998,495.762499999998,null,142,501.762499999998,507.762499999998,null,142,483.762499999998]
[143,441.77499999999799,446.77499999999799,null,143,451.77499999999799,461.77499999999799,null,143,459.27499999999799,995.52499999999804,null,143,489.77499999999799,495.77499999999799,null,143,501.77499999999799,507.77499999999799,null,143,483.77499999999799]
[144,441.78749999999798,446.78749999999798,null,144,451.78749999999798,461.78749999999798,null,144,459.28749999999798,999.28749999999798,null,144,489.78749999999798,495.78749999999798,null,144,501.78749999999798,507.78749999999798,null,144,483.78749999999798]
[145,441.79999999999802,446.79999999999802,null,145,451.79999999999802,461.79999999999802,null,145,459.29999999999802,1003.05,null,145,489.79999999999802,495.79999999999802,null,145,501.79999999999802,507.79999999999802,null,145,483.79999999999802]
[146,441.81249999999801,446.81249999999801,null,146,451.81249999999801,461.81249999999801,null,146,459.31249999999801,1006.8125,null,146,489.81249999999801,495.81249999999801,null,146,501.81249999999801,507.81249999999801,null,146,483.81249999999801]
[147,441.824999999998,446.824999999998,null,147,451.824999999998,461.824999999998,null,147,459.324999999998,1010.575,null,147,489.824999999998,495.824999999998,null,147,501.824999999998,507.824999999998,null,147,483.824999999998]
[148,441.83749999999799,446.83749999999799,null,148,451.83749999999799,461.83749999999799,null,148,459.33749999999799,1014.3375,null,148,489.83749999999799,495.83749999999799,null,148,501.83749999999799,507.83749999999799,null,148,483.83749999999799]
[149,441.84999999999798,446.84999999999798,null,149,451.84999999999798,461.84999999999798,null,149,459.34999999999798,1018.1,null,149,489.84999999999798,495.84999999999798,null,149,501.84999999999798,507.84999999999798,null,149,483.84999999999798]
[150,441.86249999999802,446.86249999999802,null,150,451.86249999999802,461.86249999999802,null,150,459.36249999999802,1021.8625,null,150,489.86249999999802,495.86249999999802,null,150,501.86249999999802,507.86249999999802,null,150,483.86249999999802]
[151,441.87499999999801,446.87499999999801,null,151,451.87499999999801,461.87499999999801,null,151,459.37499999999801,1025.625,null,151,489.87499999999801,495.87499999999801,null,151,501.87499999999801,507.87499999999801,null,151,483.87499999999801]
[152,441.887499999998,446.887499999998,null,152,451.887499999998,461.887499999998,null,152,459.387499999998,1029.3875,null,152,489.887499999998,495.887499999998,null,152,501.887499999998,507.887499999998,null,152,483.887499999998]
[153,441.89999999999799,446.89999999999799,null,153,451.89999999999799,461.89999999999799,null,153,459.39999999999799,1033.1500000000001,null,153,489.89999999999799,495.89999999999799,null,153,501.89999999999799,507.89999999999799,null,153,483.89999999999799]
[154,441.91249999999798,446.91249999999798,null,154,451.91249999999798,461.91249999999798,null,154,459.41249999999798,1036.9124999999999,null,154,489.91249999999798,495.91249999999798,null,154,501.91249999999798,507.91249999999798,null,154,483.91249999999798]
[155,441.92499999999802,446.92499999999802,null,155,451.92499999999802,461.92499999999802,null,155,459.42499999999802,1040.675,null,155,489.92499999999802,495.92499999999802,null,155,501.92499999999802,507.92499999999802,null,155,483.92499999999802]
[156,441.93749999999801,446.93749999999801,null,156,451.93749999999801,461.93749999999801,null,156,459.43749999999801,1044.4375,null,156,489.93749999999801,495.93749999999801,null,156,501.93749999999801,507.93749999999801,null,156,483.93749999999801]
[157,441.949999999998,446.949999999998,null,157,451.949999999998,461.949999999998,null,157,459.449999999998,1048.2,null,157,489.949999999998,495.949999999998,null,157,501.949999999998,507.949999999998,null,157,483.949999999998]
[158,441.96249999999799,446.96249999999799,null,158,451.96249999999799,461.96249999999799,null,158,459.46249999999799,1051.9625000000001,null,158,489.96249999999799,495.96249999999799,null,158,501.96249999999799,507.96249999999799,null,158,483.96249999999799]
[159,441.97499999999798,446.97499999999798,null,159,451.97499999999798,461.97499999999798,null,159,459.47499999999798,1055.7249999999999,null,159,489.97499999999798,495.97499999999798,null,159,501.97499999999798,507.97499999999798,null,159,483.97499999999798]
[160,441.98749999999802,446.98749999999802,null,160,451.98749999999802,461.98749999999802,null,160,459.48749999999802,1059.4875,null,160,489.98749999999802,495.98749999999802,null,160,501.98749999999802,507.98749999999802,null,160,483.98749999999802]
[161,441.99999999999801,446.99999999999801,null,161,451.99999999999801,461.99999999999801,null,161,459.49999999999801,1063.25,null,161,489.99999999999801,495.99999999999801,null,161,501.99999999999801,507.99999999999801,null,161,483.99999999999801]
[162,442.012499999998,447.012499999998,null,162,452.012499999998,462.012499999998,null,162,459.512499999998,1067.0125,null,162,490.012499999998,496.012499999998,null,162,502.012499999998,508.012499999998,null,162,484.012499999998]
[163,442.02499999999799,447.02499999999799,null,163,452.02499999999799,462.02499999999799,null,163,459.52499999999799,1070.7750000000001,null,163,490.02499999999799,496.02499999999799,null,163,502.02499999999799,508.02499999999799,null,163,484.02499999999799]
[164,442.03749999999798,447.03749999999798,null,164,452.03749999999798,462.03749999999798,null,164,459.53749999999798,1074.5374999999999,null,164,490.03749999999798,496.03749999999798,null,164,502.03749999999798,508.03749999999798,null,164,484.03749999999798]
[165,442.04999999999802,447.04999999999802,null,165,452.04999999999802,462.04999999999802,null,165,459.54999999999802,1078.3,null,165,490.04999999999802,496.04999999999802,null,165,502.04999999999802,508.04999999999802,null,165,484.04999999999802]
[166,442.06249999999801,447.06249999999801,null,166,452.06249999999801,462.06249999999801,null,166,459.56249999999801,1082.0625,null,166,490.06249999999801,496.06249999999801,null,166,502.06249999999801,508.06249999999801,null,166,484.06249999999801]
[167,442.074999999998,447.074999999998,null,167,452.074999999998,462.074999999998,null,167,459.574999999998,1085.825,null,167,490.074999999998,496.074999999998,null,167,502.074999999998,508.074999999998,null,167,484.074999999998]
[168,442.08749999999799,447.08749999999799,null,168,452.08749999999799,462.08749999999799,null,168,459.58749999999799,1089.5875000000001,null,168,490.08749999999799,496.08749999999799,null,168,502.08749999999799,508.08749999999799,null,168,484.08749999999799]
[169,442.09999999999798,447.09999999999798,null,169,452.09999999999798,462.09999999999798,null,169,459.59999999999798,1093.3499999999999,null,169,490.09999999999798,496.09999999999798,null,169,502.09999999999798,508.09999999999798,null,169,484.09999999999798]
[170,442.11249999999802,447.11249999999802,null,170,452.11249999999802,462.11249999999802,null,170,459.61249999999802,1097.1125,null,170,490.11249999999802,496.11249999999802,null,170,502.11249999999802,508.11249999999802,null,170,484.11249999999802]
[171,442.12499999999801,447.12499999999801,null,171,452.12499999999801,462.12499999999801,null,171,459.62499999999801,1100.875,null,171,490.12499999999801,496.12499999999801,null,171,502.12499999999801,508.12499999999801,null,171,484.12499999999801]
[172,442.137499999998,447.137499999998,null,172,452.137499999998,462.137499999998,null,172,459.637499999998,1104.6375,null,172,490.137499999998,496.137499999998,null,172,502.137499999998,508.137499999998,null,172,484.137499999998]
[173,442.14999999999799,447.14999999999799,null,173,452.14999999999799,462.14999999999799,null,173,459.64999999999799,1108.4000000000001,null,173,490.14999999999799,496.14999999999799,null,173,502.14999999999799,508.14999999999799,null,173,484.14999999999799]
[174,442.16249999999798,447.16249999999798,null,174,452.16249999999798,462.16249999999798,null,174,459.66249999999798,1112.1624999999999,null,174,490.16249999999798,496.16249999999798,null,174,502.16249999999798,508.16249999999798,null,174,484.16249999999798]
[175,442.17499999999802,447.17499999999802,null,175,452.17499999999802,462.17499999999802,null,175,459.67499999999802,1115.925,null,175,490.17499999999802,496.17499999999802,null,175,502.17499999999802,508.17499999999802,null,175,484.17499999999802]
[176,442.18749999999801,447.18749999999801,null,176,452.18749999999801,462.18749999999801,null,176,459.68749999999801,1119.6875,null,176,490.18749999999801,496.18749999999801,null,176,502.18749999999801,508.18749999999801,null,176,484.18749999999801]
[177,442.199999999998,447.199999999998,null,177,452.199999999998,462.199999999998,null,177,459.699999999998,1123.45,null,177,490.199999999998,496.199999999998,null,177,502.199999999998,508.199999999998,null,177,484.199999999998]
[178,442.21249999999799,447.21249999999799,null,178,452.21249999999799,462.21249999999799,null,178,459.71249999999799,1127.2125000000001,null,178,490.21249999999799,496.21249999999799,null,178,502.21249999999799,508.21249999999799,null,178,484.21249999999799]
[179,442.22499999999798,447.22499999999798,null,179,452.22499999999798,462.22499999999798,null,179,459.72499999999798,1130.9749999999999,null,179,490.22499999999798,496.22499999999798,null,179,502.22499999999798,508.22499999999798,null,179,484.22499999999798]
[180,442.23749999999802,447.23749999999802,null,180,452.23749999999802,462.23749999999802,null,180,459.73749999999802,1134.7375,null,180,490.23749999999802,496.23749999999802,null,180,502.23749999999802,508.23749999999802,null,180,484.23749999999802]
[181,442.24999999999801,447.24999999999801,null,181,452.24999999999801,462.24999999999801,null,181,459.74999999999801,1138.5,null,181,490.24999999999801,496.24999999999801,null,181,502.24999999999801,508.24999999999801,null,181,484.24999999999801]
[182,442.262499999998,447.262499999998,null,182,452.262499999998,462.262499999998,null,182,459.762499999998,1142.2625,null,182,490.262499999998,496.262499999998,null,182,502.262499999998,508.262499999998,null,182,484.262499999998]
[183,442.27499999999799,447.27499999999799,null,183,452.27499999999799,462.27499999999799,null,183,459.77499999999799,1146.0250000000001,null,183,490.27499999999799,496.27499999999799,null,183,502.27499999999799,508.27499999999799,null,183,484.27499999999799]
[184,442.28749999999798,447.28749999999798,null,184,452.28749999999798,462.28749999999798,null,184,459.78749999999798,1149.7874999999999,null,184,490.28749999999798,496.28749999999798,null,184,502.28749999999798,508.28749999999798,null,184,484.28749999999798]
[185,442.29999999999802,447.29999999999802,null,185,452.29999999999802,462.29999999999802,null,185,459.79999999999802,1153.55,null,185,490.29999999999802,496.29999999999802,null,185,502.29999999999802,508.29999999999802,null,185,484.29999999999802]
[186,442.31249999999801,447.31249999999801,null,186,452.31249999999801,462.31249999999801,null,186,459.81249999999801,1157.3125,null,186,490.31249999999801,496.31249999999801,null,186,502.31249999999801,508.31249999999801,null,186,484.31249999999801]
[187,442.324999999998,447.324999999998,null,187,452.324999999998,462.324999999998,null,187,459.824999999998,1161.075,null,187,490.324999999998,496.324999999998,null,187,502.324999999998,508.324999999998,null,187,484.324999999998]
[188,442.33749999999799,447.33749999999799,null,188,452.33749999999799,462.33749999999799,null,188,459.83749999999799,1164.8375000000001,null,188,490.33749999999799,496.33749999999799,null,188,502.33749999999799,508.33749999999799,null,188,484.33749999999799]
[189,442.34999999999798,447.34999999999798,null,189,452.34999999999798,462.34999999999798,null,189,459.84999999999798,1168.5999999999999,null,189,490.34999999999798,496.34999999999798,null,189,502.34999999999798,508.34999999999798,null,189,484.34999999999798]
[190,442.36249999999802,447.36249999999802,null,190,452.36249999999802,462.36249999999802,null,190,459.86249999999802,1172.3625,null,190,490.36249999999802,496.36249999999802,null,190,502.36249999999802,508.36249999999802,null,190,484.36249999999802]
[191,442.37499999999801,447.37499999999801,null,191,452.37499999999801,462.37499999999801,null,191,459.87499999999801,1176.125,null,191,490.37499999999801,496.37499999999801,null,191,502.37499999999801,508.37499999999801,null,191,484.37499999999801]
[192,442.387499999998,447.387499999998,null,192,452.387499999998,462.387499999998,null,192,459.887499999998,1179.8875,null,192,490.387499999998,496.387499999998,null,192,502.387499999998,508.387499999998,null,192,484.387499999998]
[193,442.39999999999799,447.39999999999799,null,193,452.39999999999799,462.39999999999799,null,193,459.89999999999799,1183.6500000000001,null,193,490.39999999999799,496.39999999999799,null,193,502.39999999999799,508.39999999999799,null,193,484.39999999999799]
[194,442.41249999999798,447.41249999999798,null,194,452.41249999999798,462.41249999999798,null,194,459.91249999999798,1187.4124999999999,null,194,490.41249999999798,496.41249999999798,null,194,502.41249999999798,508.41249999999798,null,194,484.41249999999798]
[195,442.42499999999802,447.42499999999802,null,195,452.42499999999802,462.42499999999802,null,195,459.92499999999802,1191.175,null,195,490.42499999999802,496.42499999999802,null,195,502.42499999999802,508.42499999999802,null,195,484.42499999999802]
[196,442.43749999999801,447.43749999999801,null,196,452.43749999999801,462.43749999999801,null,196,459.93749999999801,1194.9375,null,196,490.43749999999801,496.43749999999801,null,196,502.43749999999801,508.43749999999801,null,196,484.43749999999801]
[197,442.449999999998,447.449999999998,null,197,452.449999999998,462.449999999998,null,197,459.949999999998,1198.7,null,197,490.449999999998,496.449999999998,null,197,502.449999999998,508.449999999998,null,197,484.449999999998]
[198,442.46249999999799,447.46249999999799,null,198,452.46249999999799,462.46249999999799,null,198,459.96249999999799,1202.4625000000001,null,198,490.46249999999799,496.46249999999799,null,198,502.46249999999799,508.46249999999799,null,198,484.46249999999799]
[199,442.47499999999798,447.47499999999798,null,199,452.47499999999798,462.47499999999798,null,199,459.97499999999798,1206.2249999999999,null,199,490.47499999999798,496.47499999999798,null,199,502.47499999999798,508.47499999999798,null,199,484.47499999999798]
[200,442.48749999999802,447.48749999999802,null,200,452.48749999999802,462.48749999999802,null,200,459.98749999999802,1209.9875,null,200,490.48749999999802,496.48749999999802,null,200,502.48749999999802,508.48749999999802,null,200,484.48749999999802]
[201,442.49999999999801,447.49999999999801,null,201,452.49999999999801,462.49999999999801,null,201,459.99999999999801,1213.75,null,201,490.49999999999801,496.49999999999801,null,201,502.49999999999801,508.49999999999801,null,201,484.49999999999801]
[202,442.512499999998,447.512499999998,null,null,null,null,null,null,null,null,null,202,490.512499999998,496.512499999998,null,202,502.512499999998,508.512499999998,null,202,484.512499999998]
[203,442.52499999999799,447.52499999999799,null,null,null,null,null,null,null,null,null,203,490.52499999999799,496.52499999999799,null,203,502.52499999999799,508.52499999999799,null,203,484.52499999999799]
[204,442.53749999999798,447.53749999999798,null,null,null,null,null,null,null,null,null,204,490.53749999999798,496.53749999999798,null,204,502.53749999999798,508.53749999999798,null,204,484.53749999999798]
[205,442.54999999999802,447.54999999999802,null,null,null,null,null,null,null,null,null,205,490.54999999999802,496.54999999999802,null,205,502.54999999999802,508.54999999999802,null,205,484.54999999999802]
[206,442.56249999999801,447.56249999999801,null,null,null,null,null,null,null,null,null,206,490.56249999999801,496.56249999999801,null,206,502.56249999999801,508.56249999999801,null,206,484.56249999999801]
[207,442.574999999998,447.574999999998,null,null,null,null,null,null,null,null,null,207,490.574999999998,496.574999999998,null,207,502.574999999998,508.574999999998,null,207,484.574999999998]
[208,442.58749999999799,447.58749999999799,null,null,null,null,null,null,null,null,null,208,490.58749999999799,496.58749999999799,null,208,502.58749999999799,508.58749999999799,null,208,484.58749999999799]
[209,442.59999999999798,447.59999999999798,null,null,null,null,null,null,null,null,null,209,490.59999999999798,496.59999999999798,null,209,502.59999999999798,508.59999999999798,null,209,484.59999999999798]
[210,442.61249999999802,447.61249999999802,null,null,null,null,null,null,null,null,null,210,490.61249999999802,496.61249999999802,null,210,502.61249999999802,508.61249999999802,null,210,484.61249999999802]
[211,442.62499999999801,447.62499999999801,null,null,null,null,null,null,null,null,null,211,490.62499999999801,496.62499999999801,null,211,502.62499999999801,508.62499999999801,null,211,484.62499999999801]
[212,442.637499999998,447.637499999998,null,null,null,null,null,null,null,null,null,212,490.637499999998,496.637499999998,null,212,502.637499999998,508.637499999998,null,212,484.637499999998]
[213,442.64999999999799,447.64999999999799,null,null,null,null,null,null,null,null,null,213,490.64999999999799,496.64999999999799,null,213,502.64999999999799,508.64999999999799,null,213,484.64999999999799]
[214,442.66249999999798,447.66249999999798,null,null,null,null,null,null,null,null,null,214,490.66249999999798,496.66249999999798,null,214,502.66249999999798,508.66249999999798,null,214,484.66249999999798]
[215,442.67499999999802,447.67499999999802,null,null,null,null,null,null,null,null,null,215,490.67499999999802,496.67499999999802,null,215,502.67499999999802,508.67499999999802,null,215,484.67499999999802]
[216,442.68749999999801,447.68749999999801,null,null,null,null,null,null,null,null,null,216,490.68749999999801,496.68749999999801,null,216,502.68749999999801,508.68749999999801,null,216,484.68749999999801]
[217,442.699999999998,447.699999999998,null,null,null,null,null,null,null,null,null,217,490.699999999998,496.699999999998,null,217,502.699999999998,508.699999999998,null,217,484.699999999998]
[218,442.71249999999799,447.71249999999799,null,null,null,null,null,null,null,null,null,218,490.71249999999799,496.71249999999799,null,218,502.71249999999799,508.71249999999799,null,218,484.71249999999799]
[219,442.72499999999798,447.72499999999798,null,null,null,null,null,null,null,null,null,219,490.72499999999798,496.72499999999798,null,219,502.72499999999798,508.72499999999798,null,219,484.72499999999798]
[220,442.73749999999802,447.73749999999802,null,null,null,null,null,null,null,null,null,220,490.73749999999802,496.73749999999802,null,220,502.73749999999802,508.73749999999802,null,220,484.73749999999802]
[221,442.74999999999699,447.74999999999699,null,null,null,null,null,null,null,null,null,221,490.74999999999699,496.74999999999699,null,221,502.74999999999699,508.74999999999699,null,221,484.74999999999699]
[222,442.76249999999698,447.76249999999698,null,null,null,null,null,null,null,null,null,222,490.76249999999698,496.76249999999698,null,222,502.76249999999698,508.76249999999698,null,222,484.76249999999698]
[223,442.77499999999702,447.77499999999702,null,null,null,null,null,null,null,null,null,223,490.77499999999702,496.77499999999702,null,223,502.77499999999702,508.77499999999702,null,223,484.77499999999702]
[224,442.78749999999701,447.78749999999701,null,null,null,null,null,null,null,null,null,224,490.78749999999701,496.78749999999701,null,224,502.78749999999701,508.78749999999701,null,224,484.78749999999701]
[225,442.799999999997,447.799999999997,null,null,null,null,null,null,null,null,null,225,490.799999999997,496.799999999997,null,225,502.799999999997,508.799999999997,null,225,484.799999999997]
[226,442.81249999999699,447.81249999999699,null,null,null,null,null,null,null,null,null,226,490.81249999999699,496.81249999999699,null,226,502.81249999999699,508.81249999999699,null,226,484.81249999999699]
[227,442.82499999999698,447.82499999999698,null,null,null,null,null,null,null,null,null,227,490.82499999999698,496.82499999999698,null,227,502.82499999999698,508.82499999999698,null,227,484.82499999999698]
[228,442.83749999999702,447.83749999999702,null,null,null,null,null,null,null,null,null,228,490.83749999999702,496.83749999999702,null,228,502.83749999999702,508.83749999999702,null,228,484.83749999999702]
[229,442.84999999999701,447.84999999999701,null,null,null,null,null,null,null,null,null,229,490.84999999999701,496.84999999999701,null,229,502.84999999999701,508.84999999999701,null,229,484.84999999999701]
[230,442.862499999997,447.862499999997,null,null,null,null,null,null,null,null,null,230,490.862499999997,496.862499999997,null,230,502.862499999997,508.862499999997,null,230,484.862499999997]
[231,442.87499999999699,447.87499999999699,null,null,null,null,null,null,null,null,null,231,490.87499999999699,496.87499999999699,null,231,502.87499999999699,508.87499999999699,null,231,484.87499999999699]
[232,442.88749999999698,447.88749999999698,null,null,null,null,null,null,null,null,null,232,490.88749999999698,496.88749999999698,null,232,502.88749999999698,508.88749999999698,null,232,484.88749999999698]
[233,442.89999999999702,447.89999999999702,null,null,null,null,null,null,null,null,null,233,490.89999999999702,496.89999999999702,null,233,502.89999999999702,508.89999999999702,null,233,484.89999999999702]
[234,442.91249999999701,447.91249999999701,null,null,null,null,null,null,null,null,null,234,490.91249999999701,496.91249999999701,null,234,502.91249999999701,508.91249999999701,null,234,484.91249999999701]
[235,442.924999999997,447.924999999997,null,null,null,null,null,null,null,null,null,235,490.924999999997,496.924999999997,null,235,502.924999999997,508.924999999997,null,235,484.924999999997]
[236,442.93749999999699,447.93749999999699,null,null,null,null,null,null,null,null,null,236,490.93749999999699,496.93749999999699,null,236,502.93749999999699,508.93749999999699,null,236,484.93749999999699]
[237,442.94999999999698,447.94999999999698,null,null,null,null,null,null,null,null,null,237,490.94999999999698,496.94999999999698,null,237,502.94999999999698,508.94999999999698,null,237,484.94999999999698]
[238,442.96249999999702,447.96249999999702,null,null,null,null,null,null,null,null,null,238,490.96249999999702,496.96249999999702,null,238,502.96249999999702,508.96249999999702,null,238,484.96249999999702]
[239,442.97499999999701,447.97499999999701,null,null,null,null,null,null,null,null,null,239,490.97499999999701,496.97499999999701,null,239,502.97499999999701,508.97499999999701,null,239,484.97499999999701]
[240,442.987499999997,447.987499999997,null,null,null,null,null,null,null,null,null,240,490.987499999997,496.987499999997,null,240,502.987499999997,508.987499999997,null,240,484.987499999997]
[241,442.99999999999699,447.99999999999699,null,null,null,null,null,null,null,null,null,241,490.99999999999699,496.99999999999699,null,241,502.99999999999699,508.99999999999699,null,241,484.99999999999699]
[242,443.01249999999698,448.01249999999698,null,null,null,null,null,null,null,null,null,242,491.01249999999698,497.01249999999698,null,242,503.01249999999698,509.01249999999698,null,242,485.01249999999698]
[243,443.02499999999702,448.02499999999702,null,null,null,null,null,null,null,null,null,243,491.02499999999702,497.02499999999702,null,243,503.02499999999702,509.02499999999702,null,243,485.02499999999702]
[244,443.03749999999701,448.03749999999701,null,null,null,null,null,null,null,null,null,244,491.03749999999701,497.03749999999701,null,244,503.03749999999701,509.03749999999701,null,244,485.03749999999701]
[245,443.049999999997,448.049999999997,null,null,null,null,null,null,null,null,null,245,491.049999999997,497.049999999997,null,245,503.049999999997,509.049999999997,null,245,485.049999999997]
[246,443.06249999999699,448.06249999999699,null,null,null,null,null,null,null,null,null,246,491.06249999999699,497.06249999999699,null,246,503.06249999999699,509.06249999999699,null,246,485.06249999999699]
[247,443.07499999999698,448.07499999999698,null,null,null,null,null,null,null,null,null,247,491.07499999999698,497.07499999999698,null,247,503.07499999999698,509.07499999999698,null,247,485.07499999999698]
[248,443.08749999999702,448.08749999999702,null,null,null,null,null,null,null,null,null,248,491.08749999999702,497.08749999999702,null,248,503.08749999999702,509.08749999999702,null,248,485.08749999999702]
[249,443.09999999999701,448.09999999999701,null,null,null,null,null,null,null,null,null,249,491.09999999999701,497.09999999999701,null,249,503.09999999999701,509.09999999999701,null,249,485.09999999999701]
[250,443.112499999997,448.112499999997,null,null,null,null,null,null,null,null,null,250,491.112499999997,497.112499999997,null,250,503.112499999997,509.112499999997,null,250,485.112499999997]
[251,443.12499999999699,448.12499999999699,null,null,null,null,null,null,null,null,null,251,491.12499999999699,497.12499999999699,null,251,503.12499999999699,509.12499999999699,null,251,485.12499999999699]
[252,443.13749999999698,448.13749999999698,null,null,null,null,null,null,null,null,null,252,491.13749999999698,497.13749999999698,null,252,503.13749999999698,509.13749999999698,null,252,485.13749999999698]
[253,443.14999999999702,448.14999999999702,null,null,null,null,null,null,null,null,null,253,491.14999999999702,497.14999999999702,null,253,503.14999999999702,509.14999999999702,null,253,485.14999999999702]
[254,443.16249999999701,448.16249999999701,null,null,null,null,null,null,null,null,null,254,491.16249999999701,497.16249999999701,null,254,503.16249999999701,509.16249999999701,null,254,485.16249999999701]
[255,443.174999999997,448.174999999997,null,null,null,null,null,null,null,null,null,255,491.174999999997,497.174999999997,null,255,503.174999999997,509.174999999997,null,255,485.174999999997]
[256,443.18749999999699,448.18749999999699,null,null,null,null,null,null,null,null,null,256,491.18749999999699,497.18749999999699,null,256,503.18749999999699,509.18749999999699,null,256,485.18749999999699]
[257,443.19999999999698,448.19999999999698,null,null,null,null,null,null,null,null,null,257,491.19999999999698,497.19999999999698,null,257,503.19999999999698,509.19999999999698,null,257,485.19999999999698]
[258,443.21249999999702,448.21249999999702,null,null,null,null,null,null,null,null,null,258,491.21249999999702,497.21249999999702,null,258,503.21249999999702,509.21249999999702,null,258,485.21249999999702]
[259,443.22499999999701,448.22499999999701,null,null,null,null,null,null,null,null,null,259,491.22499999999701,497.22499999999701,null,259,503.22499999999701,509.22499999999701,null,259,485.22499999999701]
[260,443.237499999997,448.237499999997,null,null,null,null,null,null,null,null,null,260,491.237499999997,497.237499999997,null,260,503.237499999997,509.237499999997,null,260,485.237499999997]
[261,443.24999999999699,448.24999999999699,null,null,null,null,null,null,null,null,null,261,491.24999999999699,497.24999999999699,null,261,503.24999999999699,509.24999999999699,null,261,485.24999999999699]
[262,443.26249999999698,448.26249999999698,null,null,null,null,null,null,null,null,null,262,491.26249999999698,497.26249999999698,null,262,503.26249999999698,509.26249999999698,null,262,485.26249999999698]
[263,443.27499999999702,448.27499999999702,null,null,null,null,null,null,null,null,null,263,491.27499999999702,497.27499999999702,null,263,503.27499999999702,509.27499999999702,null,263,485.27499999999702]
[264,443.28749999999701,448.28749999999701,null,null,null,null,null,null,null,null,null,264,491.28749999999701,497.28749999999701,null,264,503.28749999999701,509.28749999999701,null,264,485.28749999999701]
[265,443.299999999997,448.299999999997,null,null,null,null,null,null,null,null,null,265,491.299999999997,497.299999999997,null,265,503.299999999997,509.299999999997,null,265,485.299999999997]
[266,443.31249999999699,448.31249999999699,null,null,null,null,null,null,null,null,null,266,491.31249999999699,497.31249999999699,null,266,503.31249999999699,509.31249999999699,null,266,485.31249999999699]
[267,443.32499999999698,448.32499999999698,null,null,null,null,null,null,null,null,null,267,491.32499999999698,497.32499999999698,null,267,503.32499999999698,509.32499999999698,null,267,485.32499999999698]
[268,443.33749999999702,448.33749999999702,null,null,null,null,null,null,null,null,null,268,491.33749999999702,497.33749999999702,null,268,503.33749999999702,509.33749999999702,null,268,485.33749999999702]
[269,443.34999999999701,448.34999999999701,null,null,null,null,null,null,null,null,null,269,491.34999999999701,497.34999999999701,null,269,503.34999999999701,509.34999999999701,null,269,485.34999999999701]
[270,443.362499999997,448.362499999997,null,null,null,null,null,null,null,null,null,270,491.362499999997,497.362499999997,null,270,503.362499999997,509.362499999997,null,270,485.362499999997]
[271,443.37499999999699,448.37499999999699,null,null,null,null,null,null,null,null,null,271,491.37499999999699,497.37499999999699,null,271,503.37499999999699,509.37499999999699,null,271,485.37499999999699]
[272,443.38749999999698,448.38749999999698,null,null,null,null,null,null,null,null,null,272,491.38749999999698,497.38749999999698,null,272,503.38749999999698,509.38749999999698,null,272,485.38749999999698]
[273,443.39999999999702,448.39999999999702,null,null,null,null,null,null,null,null,null,273,491.39999999999702,497.39999999999702,null,273,503.39999999999702,509.39999999999702,null,273,485.39999999999702]
[274,443.41249999999701,448.41249999999701,null,null,null,null,null,null,null,null,null,274,491.41249999999701,497.41249999999701,null,274,503.41249999999701,509.41249999999701,null,274,485.41249999999701]
[275,443.424999999997,448.424999999997,null,null,null,null,null,null,null,null,null,275,491.424999999997,497.424999999997,null,275,503.424999999997,509.424999999997,null,275,485.424999999997]
[276,443.43749999999699,448.43749999999699,null,null,null,null,null,null,null,null,null,276,491.43749999999699,497.43749999999699,null,276,503.43749999999699,509.43749999999699,null,276,485.43749999999699]
[277,443.44999999999698,448.44999999999698,null,null,null,null,null,null,null,null,null,277,491.44999999999698,497.44999999999698,null,277,503.44999999999698,509.44999999999698,null,277,485.44999999999698]
[278,443.46249999999702,448.46249999999702,null,null,null,null,null,null,null,null,null,278,491.46249999999702,497.46249999999702,null,278,503.46249999999702,509.46249999999702,null,278,485.46249999999702]
[279,443.47499999999701,448.47499999999701,null,null,null,null,null,null,null,null,null,279,491.47499999999701,497.47499999999701,null,279,503.47499999999701,509.47499999999701,null,279,485.47499999999701]
[280,443.487499999997,448.487499999997,null,null,null,null,null,null,null,null,null,280,491.487499999997,497.487499999997,null,280,503.487499999997,509.487499999997,null,280,485.487499999997]
[281,443.49999999999699,448.49999999999699,null,null,null,null,null,null,null,null,null,281,491.49999999999699,497.49999999999699,null,281,503.49999999999699,509.49999999999699,null,281,485.49999999999699]
[282,443.51249999999698,448.51249999999698,null,null,null,null,null,null,null,null,null,282,491.51249999999698,497.51249999999698,null,282,503.51249999999698,509.51249999999698,null,282,485.51249999999698]
[283,443.52499999999702,448.52499999999702,null,null,null,null,null,null,null,null,null,283,491.52499999999702,497.52499999999702,null,283,503.52499999999702,509.52499999999702,null,283,485.52499999999702]
[284,443.53749999999701,448.53749999999701,null,null,null,null,null,null,null,null,null,284,491.53749999999701,497.53749999999701,null,284,503.53749999999701,509.53749999999701,null,284,485.53749999999701]
[285,443.549999999997,448.549999999997,null,null,null,null,null,null,null,null,null,285,491.549999999997,497.549999999997,null,285,503.549999999997,509.549999999997,null,285,485.549999999997]
[286,443.56249999999699,448.56249999999699,null,null,null,null,null,null,null,null,null,286,491.56249999999699,497.56249999999699,null,286,503.56249999999699,509.56249999999699,null,286,485.56249999999699]
[287,443.57499999999698,448.57499999999698,null,null,null,null,null,null,null,null,null,287,491.57499999999698,497.57499999999698,null,287,503.57499999999698,509.57499999999698,null,287,485.57499999999698]
[288,443.58749999999702,448.58749999999702,null,null,null,null,null,null,null,null,null,288,491.58749999999702,497.58749999999702,null,288,503.58749999999702,509.58749999999702,null,288,485.58749999999702]
[289,443.59999999999701,448.59999999999701,null,null,null,null,null,null,null,null,null,289,491.59999999999701,497.59999999999701,null,289,503.59999999999701,509.59999999999701,null,289,485.59999999999701]
[290,443.612499999997,448.612499999997,null,null,null,null,null,null,null,null,null,290,491.612499999997,497.612499999997,null,290,503.612499999997,509.612499999997,null,290,485.612499999997]
[291,443.62499999999699,448.62499999999699,null,null,null,null,null,null,null,null,null,291,491.62499999999699,497.62499999999699,null,291,503.62499999999699,509.62499999999699,null,291,485.62499999999699]
[292,443.63749999999698,448.63749999999698,null,null,null,null,null,null,null,null,null,292,491.63749999999698,497.63749999999698,null,292,503.63749999999698,509.63749999999698,null,292,485.63749999999698]
[293,443.64999999999702,448.64999999999702,null,null,null,null,null,null,null,null,null,293,491.64999999999702,497.64999999999702,null,293,503.64999999999702,509.64999999999702,null,293,485.64999999999702]
[294,443.66249999999701,448.66249999999701,null,null,null,null,null,null,null,null,null,294,491.66249999999701,497.66249999999701,null,294,503.66249999999701,509.66249999999701,null,294,485.66249999999701]
[295,443.674999999997,448.674999999997,null,null,null,null,null,null,null,null,null,295,491.674999999997,497.674999999997,null,295,503.674999999997,509.674999999997,null,295,485.674999999997]
[296,443.68749999999699,448.68749999999699,null,null,null,null,null,null,null,null,null,296,491.68749999999699,497.68749999999699,null,296,503.68749999999699,509.68749999999699,null,296,485.68749999999699]
[297,443.69999999999698,448.69999999999698,null,null,null,null,null,null,null,null,null,297,491.69999999999698,497.69999999999698,null,297,503.69999999999698,509.69999999999698,null,297,485.69999999999698]
[298,443.71249999999702,448.71249999999702,null,null,null,null,null,null,null,null,null,298,491.71249999999702,497.71249999999702,null,298,503.71249999999702,509.71249999999702,null,298,485.71249999999702]
[299,443.72499999999701,448.72499999999701,null,null,null,null,null,null,null,null,null,299,491.72499999999701,497.72499999999701,null,299,503.72499999999701,509.72499999999701,null,299,485.72499999999701]
[300,443.737499999997,448.737499999997,null,null,null,null,null,null,null,null,null,300,491.737499999997,497.737499999997,null,300,503.737499999997,509.737499999997,null,300,485.737499999997]
[301,443.74999999999699,448.74999999999699,null,null,null,null,null,null,null,null,null,301,491.74999999999699,497.74999999999699,null,301,503.74999999999699,509.74999999999699,null,301,485.74999999999699]
[302,443.76249999999698,448.76249999999698,null,null,null,null,null,null,null,null,null,302,491.76249999999698,497.76249999999698,null,302,503.76249999999698,509.76249999999698,null,302,485.76249999999698]
[303,443.77499999999702,448.77499999999702,null,null,null,null,null,null,null,null,null,303,491.77499999999702,497.77499999999702,null,303,503.77499999999702,509.77499999999702,null,303,485.77499999999702]
[304,443.78749999999701,448.78749999999701,null,null,null,null,null,null,null,null,null,304,491.78749999999701,497.78749999999701,null,304,503.78749999999701,509.78749999999701,null,304,485.78749999999701]
[305,443.799999999997,448.799999999997,null,null,null,null,null,null,null,null,null,305,491.799999999997,497.799999999997,null,305,503.799999999997,509.799999999997,null,305,485.799999999997]
[306,443.81249999999699,448.81249999999699,null,null,null,null,null,null,null,null,null,306,491.81249999999699,497.81249999999699,null,306,503.81249999999699,509.81249999999699,null,306,485.81249999999699]
[307,443.82499999999698,448.82499999999698,null,null,null,null,null,null,null,null,null,307,491.82499999999698,497.82499999999698,null,307,503.82499999999698,509.82499999999698,null,307,485.82499999999698]
[308,443.83749999999702,448.83749999999702,null,null,null,null,null,null,null,null,null,308,491.83749999999702,497.83749999999702,null,308,503.83749999999702,509.83749999999702,null,308,485.83749999999702]
[309,443.84999999999599,448.84999999999599,null,null,null,null,null,null,null,null,null,309,491.84999999999599,497.84999999999599,null,309,503.84999999999599,509.84999999999599,null,309,485.84999999999599]
[310,443.86249999999598,448.86249999999598,null,null,null,null,null,null,null,null,null,310,491.86249999999598,497.86249999999598,null,310,503.86249999999598,509.86249999999598,null,310,485.86249999999598]
[311,443.87499999999602,448.87499999999602,null,null,null,null,null,null,null,null,null,311,491.87499999999602,497.87499999999602,null,311,503.87499999999602,509.87499999999602,null,311,485.87499999999602]
[312,443.88749999999601,448.88749999999601,null,null,null,null,null,null,null,null,null,312,491.88749999999601,497.88749999999601,null,312,503.88749999999601,509.88749999999601,null,312,485.88749999999601]
[313,443.899999999996,448.899999999996,null,null,null,null,null,null,null,null,null,313,491.899999999996,497.899999999996,null,313,503.899999999996,509.899999999996,null,313,485.899999999996]
[314,443.91249999999599,448.91249999999599,null,null,null,null,null,null,null,null,null,314,491.91249999999599,497.91249999999599,null,314,503.91249999999599,509.91249999999599,null,314,485.91249999999599]
[315,443.92499999999598,448.92499999999598,null,null,null,null,null,null,null,null,null,315,491.92499999999598,497.92499999999598,null,315,503.92499999999598,509.92499999999598,null,315,485.92499999999598]
[316,443.93749999999602,448.93749999999602,null,null,null,null,null,null,null,null,null,316,491.93749999999602,497.93749999999602,null,316,503.93749999999602,509.93749999999602,null,316,485.93749999999602]
[317,443.94999999999601,448.94999999999601,null,null,null,null,null,null,null,null,null,317,491.94999999999601,497.94999999999601,null,317,503.94999999999601,509.94999999999601,null,317,485.94999999999601]
[318,443.962499999996,448.962499999996,null,null,null,null,null,null,null,null,null,318,491.962499999996,497.962499999996,null,318,503.962499999996,509.962499999996,null,318,485.962499999996]
[319,443.97499999999599,448.97499999999599,null,null,null,null,null,null,null,null,null,319,491.97499999999599,497.97499999999599,null,319,503.97499999999599,509.97499999999599,null,319,485.97499999999599]
[320,443.98749999999598,448.98749999999598,null,null,null,null,null,null,null,null,null,320,491.98749999999598,497.98749999999598,null,320,503.98749999999598,509.98749999999598,null,320,485.98749999999598]
[321,443.99999999999602,448.99999999999602,null,null,null,null,null,null,null,null,null,321,491.99999999999602,497.99999999999602,null,321,503.99999999999602,509.99999999999602,null,321,485.99999999999602]
[322,444.01249999999601,449.01249999999601,null,null,null,null,null,null,null,null,null,322,492.01249999999601,498.01249999999601,null,322,504.01249999999601,510.01249999999601,null,322,486.01249999999601]
[323,444.024999999996,449.024999999996,null,null,null,null,null,null,null,null,null,323,492.024999999996,498.024999999996,null,323,504.024999999996,510.024999999996,null,323,486.024999999996]
[324,444.03749999999599,449.03749999999599,null,null,null,null,null,null,null,null,null,324,492.03749999999599,498.03749999999599,null,324,504.03749999999599,510.03749999999599,null,324,486.03749999999599]
[325,444.04999999999598,449.04999999999598,null,null,null,null,null,null,null,null,null,325,492.04999999999598,498.04999999999598,null,325,504.04999999999598,510.04999999999598,null,325,486.04999999999598]
[326,444.06249999999602,449.06249999999602,null,null,null,null,null,null,null,null,null,326,492.06249999999602,498.06249999999602,null,326,504.06249999999602,510.06249999999602,null,326,486.06249999999602]
[327,444.07499999999601,449.07499999999601,null,null,null,null,null,null,null,null,null,327,492.07499999999601,498.07499999999601,null,327,504.07499999999601,510.07499999999601,null,327,486.07499999999601]
[328,444.087499999996,449.087499999996,null,null,null,null,null,null,null,null,null,328,492.087499999996,498.087499999996,null,328,504.087499999996,510.087499999996,null,328,486.087499999996]
[329,444.09999999999599,449.09999999999599,null,null,null,null,null,null,null,null,null,329,492.09999999999599,498.09999999999599,null,329,504.09999999999599,510.09999999999599,null,329,486.09999999999599]
[330,444.11249999999598,449.11249999999598,null,null,null,null,null,null,null,null,null,330,492.11249999999598,498.11249999999598,null,330,504.11249999999598,510.11249999999598,null,330,486.11249999999598]
[331,444.12499999999602,449.12499999999602,null,null,null,null,null,null,null,null,null,331,492.12499999999602,498.12499999999602,null,331,504.12499999999602,510.12499999999602,null,331,486.12499999999602]
[332,444.13749999999601,449.13749999999601,null,null,null,null,null,null,null,null,null,332,492.13749999999601,498.13749999999601,null,332,504.13749999999601,510.13749999999601,null,332,486.13749999999601]
[333,444.149999999996,449.149999999996,null,null,null,null,null,null,null,null,null,333,492.149999999996,498.149999999996,null,333,504.149999999996,510.149999999996,null,333,486.149999999996]
[334,444.16249999999599,449.16249999999599,null,null,null,null,null,null,null,null,null,334,492.16249999999599,498.16249999999599,null,334,504.16249999999599,510.16249999999599,null,334,486.16249999999599]
[335,444.17499999999598,449.17499999999598,null,null,null,null,null,null,null,null,null,335,492.17499999999598,498.17499999999598,null,335,504.17499999999598,510.17499999999598,null,335,486.17499999999598]
[336,444.18749999999602,449.18749999999602,null,null,null,null,null,null,null,null,null,336,492.18749999999602,498.18749999999602,null,336,504.18749999999602,510.18749999999602,null,336,486.18749999999602]
[337,444.19999999999601,449.19999999999601,null,null,null,null,null,null,null,null,null,337,492.19999999999601,498.19999999999601,null,337,504.19999999999601,510.19999999999601,null,337,486.19999999999601]
[338,444.212499999996,449.212499999996,null,null,null,null,null,null,null,null,null,338,492.212499999996,498.212499999996,null,338,504.212499999996,510.212499999996,null,338,486.212499999996]
[339,444.22499999999599,449.22499999999599,null,null,null,null,null,null,null,null,null,339,492.22499999999599,498.22499999999599,null,339,504.22499999999599,510.22499999999599,null,339,486.22499999999599]
[340,444.23749999999598,449.23749999999598,null,null,null,null,null,null,null,null,null,340,492.23749999999598,498.23749999999598,null,340,504.23749999999598,510.23749999999598,null,340,486.23749999999598]
[341,444.24999999999602,449.24999999999602,null,null,null,null,null,null,null,null,null,341,492.24999999999602,498.24999999999602,null,341,504.24999999999602,510.24999999999602,null,341,486.24999999999602]
[342,444.26249999999601,449.26249999999601,null,null,null,null,null,null,null,null,null,342,492.26249999999601,498.26249999999601,null,342,504.26249999999601,510.26249999999601,null,342,486.26249999999601]
[343,444.274999999996,449.274999999996,null,null,null,null,null,null,null,null,null,343,492.274999999996,498.274999999996,null,343,504.274999999996,510.274999999996,null,343,486.274999999996]
[344,444.28749999999599,449.28749999999599,null,null,null,null,null,null,null,null,null,344,492.28749999999599,498.28749999999599,null,344,504.28749999999599,510.28749999999599,null,344,486.28749999999599]
[345,444.29999999999598,449.29999999999598,null,null,null,null,null,null,null,null,null,345,492.29999999999598,498.29999999999598,null,345,504.29999999999598,510.29999999999598,null,345,486.29999999999598]
[346,444.31249999999602,449.31249999999602,null,null,null,null,null,null,null,null,null,346,492.31249999999602,498.31249999999602,null,346,504.31249999999602,510.31249999999602,null,346,486.31249999999602]
[347,444.32499999999601,449.32499999999601,null,null,null,null,null,null,null,null,null,347,492.32499999999601,498.32499999999601,null,347,504.32499999999601,510.32499999999601,null,347,486.32499999999601]
[348,444.337499999996,449.337499999996,null,null,null,null,null,null,null,null,null,348,492.337499999996,498.337499999996,null,348,504.337499999996,510.337499999996,null,348,486.337499999996]
[349,444.34999999999599,449.34999999999599,null,null,null,null,null,null,null,null,null,349,492.34999999999599,498.34999999999599,null,349,504.34999999999599,510.34999999999599,null,349,486.34999999999599]
[350,444.36249999999598,449.36249999999598,null,null,null,null,null,null,null,null,null,350,492.36249999999598,498.36249999999598,null,350,504.36249999999598,510.36249999999598,null,350,486.36249999999598]
[351,444.37499999999602,449.37499999999602,null,null,null,null,null,null,null,null,null,351,492.37499999999602,498.37499999999602,null,351,504.37499999999602,510.37499999999602,null,351,486.37499999999602]
[352,444.38749999999601,449.38749999999601,null,null,null,null,null,null,null,null,null,352,492.38749999999601,498.38749999999601,null,352,504.38749999999601,510.38749999999601,null,352,486.38749999999601]
[353,444.399999999996,449.399999999996,null,null,null,null,null,null,null,null,null,353,492.399999999996,498.399999999996,null,353,504.399999999996,510.399999999996,null,353,486.399999999996]
[354,444.41249999999599,449.41249999999599,null,null,null,null,null,null,null,null,null,354,492.41249999999599,498.41249999999599,null,354,504.41249999999599,510.41249999999599,null,354,486.41249999999599]
[355,444.42499999999598,449.42499999999598,null,null,null,null,null,null,null,null,null,355,492.42499999999598,498.42499999999598,null,355,504.42499999999598,510.42499999999598,null,355,486.42499999999598]
[356,444.43749999999602,449.43749999999602,null,null,null,null,null,null,null,null,null,356,492.43749999999602,498.43749999999602,null,356,504.43749999999602,510.43749999999602,null,356,486.43749999999602]
[357,444.44999999999601,449.44999999999601,null,null,null,null,null,null,null,null,null,357,492.44999999999601,498.44999999999601,null,357,504.44999999999601,510.44999999999601,null,357,486.44999999999601]
[358,444.462499999996,449.462499999996,null,null,null,null,null,null,null,null,null,358,492.462499999996,498.462499999996,null,358,504.462499999996,510.462499999996,null,358,486.462499999996]
[359,444.47499999999599,449.47499999999599,null,null,null,null,null,null,null,null,null,359,492.47499999999599,498.47499999999599,null,359,504.47499999999599,510.47499999999599,null,359,486.47499999999599]
[360,444.48749999999598,449.48749999999598,null,null,null,null,null,null,null,null,null,360,492.48749999999598,498.48749999999598,null,360,504.48749999999598,510.48749999999598,null,360,486.48749999999598]
[361,444.49999999999602,449.49999999999602,null,null,null,null,null,null,null,null,null,361,492.49999999999602,498.49999999999602,null,361,504.49999999999602,510.49999999999602,null,361,486.49999999999602]
[362,444.51249999999601,449.51249999999601,null,null,null,null,null,null,null,null,null,362,492.51249999999601,498.51249999999601,null,362,504.51249999999601,510.51249999999601,null,362,486.51249999999601]
[363,444.524999999996,449.524999999996,null,null,null,null,null,null,null,null,null,363,492.524999999996,498.524999999996,null,363,504.524999999996,510.524999999996,null,363,486.524999999996]
[364,444.53749999999599,449.53749999999599,null,null,null,null,null,null,null,null,null,364,492.53749999999599,498.53749999999599,null,364,504.53749999999599,510.53749999999599,null,364,486.53749999999599]
[365,444.54999999999598,449.54999999999598,null,null,null,null,null,null,null,null,null,365,492.54999999999598,498.54999999999598,null,365,504.54999999999598,510.54999999999598,null,365,486.54999999999598]
[366,444.56249999999602,449.56249999999602,null,null,null,null,null,null,null,null,null,366,492.56249999999602,498.56249999999602,null,366,504.56249999999602,510.56249999999602,null,366,486.56249999999602]
[367,444.57499999999601,449.57499999999601,null,null,null,null,null,null,null,null,null,367,492.57499999999601,498.57499999999601,null,367,504.57499999999601,510.57499999999601,null,367,486.57499999999601]
[368,444.587499999996,449.587499999996,null,null,null,null,null,null,null,null,null,368,492.587499999996,498.587499999996,null,368,504.587499999996,510.587499999996,null,368,486.587499999996]
[369,444.59999999999599,449.59999999999599,null,null,null,null,null,null,null,null,null,369,492.59999999999599,498.59999999999599,null,369,504.59999999999599,510.59999999999599,null,369,486.59999999999599]
[370,444.61249999999598,449.61249999999598,null,null,null,null,null,null,null,null,null,370,492.61249999999598,498.61249999999598,null,370,504.61249999999598,510.61249999999598,null,370,486.61249999999598]
[371,444.62499999999602,449.62499999999602,null,null,null,null,null,null,null,null,null,371,492.62499999999602,498.62499999999602,null,371,504.62499999999602,510.62499999999602,null,371,486.62499999999602]
[372,444.63749999999601,449.63749999999601,null,null,null,null,null,null,null,null,null,372,492.63749999999601,498.63749999999601,null,372,504.63749999999601,510.63749999999601,null,372,486.63749999999601]
[373,444.649999999996,449.649999999996,null,null,null,null,null,null,null,null,null,373,492.649999999996,498.649999999996,null,373,504.649999999996,510.649999999996,null,373,486.649999999996]
[374,444.66249999999599,449.66249999999599,null,null,null,null,null,null,null,null,null,374,492.66249999999599,498.66249999999599,null,374,504.66249999999599,510.66249999999599,null,374,486.66249999999599]
[375,444.67499999999598,449.67499999999598,null,null,null,null,null,null,null,null,null,375,492.67499999999598,498.67499999999598,null,375,504.67499999999598,510.67499999999598,null,375,486.67499999999598]
[376,444.68749999999602,449.68749999999602,null,null,null,null,null,null,null,null,null,376,492.68749999999602,498.68749999999602,null,376,504.68749999999602,510.68749999999602,null,376,486.68749999999602]
[377,444.69999999999601,449.69999999999601,null,null,null,null,null,null,null,null,null,377,492.69999999999601,498.69999999999601,null,377,504.69999999999601,510.69999999999601,null,377,486.69999999999601]
[378,444.712499999996,449.712499999996,null,null,null,null,null,null,null,null,null,378,492.712499999996,498.712499999996,null,378,504.712499999996,510.712499999996,null,378,486.712499999996]
[379,444.72499999999599,449.72499999999599,null,null,null,null,null,null,null,null,null,379,492.72499999999599,498.72499999999599,null,379,504.72499999999599,510.72499999999599,null,379,486.72499999999599]
[380,444.73749999999598,449.73749999999598,null,null,null,null,null,null,null,null,null,380,492.73749999999598,498.73749999999598,null,380,504.73749999999598,510.73749999999598,null,380,486.73749999999598]
[381,444.74999999999602,449.74999999999602,null,null,null,null,null,null,null,null,null,381,492.74999999999602,498.74999999999602,null,381,504.74999999999602,510.74999999999602,null,381,486.74999999999602]
[382,444.76249999999601,449.76249999999601,null,null,null,null,null,null,null,null,null,382,492.76249999999601,498.76249999999601,null,382,504.76249999999601,510.76249999999601,null,382,486.76249999999601]
[383,444.774999999996,449.774999999996,null,null,null,null,null,null,null,null,null,383,492.774999999996,498.774999999996,null,383,504.774999999996,510.774999999996,null,383,486.774999999996]
[384,444.78749999999599,449.78749999999599,null,null,null,null,null,null,null,null,null,384,492.78749999999599,498.78749999999599,null,384,504.78749999999599,510.78749999999599,null,384,486.78749999999599]
[385,444.79999999999598,449.79999999999598,null,null,null,null,null,null,null,null,null,385,492.79999999999598,498.79999999999598,null,385,504.79999999999598,510.79999999999598,null,385,486.79999999999598]
[386,444.81249999999602,449.81249999999602,null,null,null,null,null,null,null,null,null,386,492.81249999999602,498.81249999999602,null,386,504.81249999999602,510.81249999999602,null,386,486.81249999999602]
[387,444.82499999999601,449.82499999999601,null,null,null,null,null,null,null,null,null,387,492.82499999999601,498.82499999999601,null,387,504.82499999999601,510.82499999999601,null,387,486.82499999999601]
[388,444.837499999996,449.837499999996,null,null,null,null,null,null,null,null,null,388,492.837499999996,498.837499999996,null,388,504.837499999996,510.837499999996,null,388,486.837499999996]
[389,444.84999999999599,449.84999999999599,null,null,null,null,null,null,null,null,null,389,492.84999999999599,498.84999999999599,null,389,504.84999999999599,510.84999999999599,null,389,486.84999999999599]
[390,444.86249999999598,449.86249999999598,null,null,null,null,null,null,null,null,null,390,492.86249999999598,498.86249999999598,null,390,504.86249999999598,510.86249999999598,null,390,486.86249999999598]
[391,444.87499999999602,449.87499999999602,null,null,null,null,null,null,null,null,null,391,492.87499999999602,498.87499999999602,null,391,504.87499999999602,510.87499999999602,null,391,486.87499999999602]
[392,444.88749999999601,449.88749999999601,null,null,null,null,null,null,null,null,null,392,492.88749999999601,498.88749999999601,null,392,504.88749999999601,510.88749999999601,null,392,486.88749999999601]
[393,444.899999999996,449.899999999996,null,null,null,null,null,null,null,null,null,393,492.899999999996,498.899999999996,null,393,504.899999999996,510.899999999996,null,393,486.899999999996]
[394,444.91249999999599,449.91249999999599,null,null,null,null,null,null,null,null,null,394,492.91249999999599,498.91249999999599,null,394,504.91249999999599,510.91249999999599,null,394,486.91249999999599]
[395,444.92499999999598,449.92499999999598,null,null,null,null,null,null,null,null,null,395,492.92499999999598,498.92499999999598,null,395,504.92499999999598,510.92499999999598,null,395,486.92499999999598]
[396,444.93749999999602,449.93749999999602,null,null,null,null,null,null,null,null,null,396,492.93749999999602,498.93749999999602,null,396,504.93749999999602,510.93749999999602,null,396,486.93749999999602]
[397,444.94999999999499,449.94999999999499,null,null,null,null,null,null,null,null,null,397,492.94999999999499,498.94999999999499,null,397,504.94999999999499,510.94999999999499,null,397,486.94999999999499]
[398,444.96249999999498,449.96249999999498,null,null,null,null,null,null,null,null,null,398,492.96249999999498,498.96249999999498,null,398,504.96249999999498,510.96249999999498,null,398,486.96249999999498]
[399,444.97499999999502,449.97499999999502,null,null,null,null,null,null,null,null,null,399,492.97499999999502,498.97499999999502,null,399,504.97499999999502,510.97499999999502,null,399,486.97499999999502]
[400,444.98749999999501,449.98749999999501,null,null,null,null,null,null,null,null,null,400,492.98749999999501,498.98749999999501,null,400,504.98749999999501,510.98749999999501,null,400,486.98749999999501]
[null,null,null,null,null,null,null,null,null,null,null,null,401,492.999999999995,498.999999999995,null,401,504.999999999995,510.999999999995,null,401,486.999999999995]
[null,null,null,null,null,null,null,null,null,null,null,null,402,493.01249999999499,499.01249999999499,null,402,505.01249999999499,511.01249999999499,null,402,487.01249999999499]
[null,null,null,null,null,null,null,null,null,null,null,null,403,493.02499999999498,499.02499999999498,null,403,505.02499999999498,511.02499999999498,null,403,487.02499999999498]
[null,null,null,null,null,null,null,null,null,null,null,null,404,493.03749999999502,499.03749999999502,null,404,505.03749999999502,511.03749999999502,null,404,487.03749999999502]
[null,null,null,null,null,null,null,null,null,null,null,null,405,493.04999999999501,499.04999999999501,null,405,505.04999999999501,511.04999999999501,null,405,487.04999999999501]
[null,null,null,null,null,null,null,null,null,null,null,null,406,493.062499999995,499.062499999995,null,406,505.062499999995,511.062499999995,null,406,487.062499999995]
[null,null,null,null,null,null,null,null,null,null,null,null,407,493.07499999999499,499.07499999999499,null,407,505.07499999999499,511.07499999999499,null,407,487.07499999999499]
[null,null,null,null,null,null,null,null,null,null,null,null,408,493.08749999999498,499.08749999999498,null,408,505.08749999999498,511.08749999999498,null,408,487.08749999999498]
[null,null,null,null,null,null,null,null,null,null,null,null,409,493.09999999999502,499.09999999999502,null,409,505.09999999999502,511.09999999999502,null,409,487.09999999999502]
[null,null,null,null,null,null,null,null,null,null,null,null,410,493.11249999999501,499.11249999999501,null,410,505.11249999999501,511.11249999999501,null,410,487.11249999999501]
[null,null,null,null,null,null,null,null,null,null,null,null,411,493.124999999995,499.124999999995,null,411,505.124999999995,511.124999999995,null,411,487.124999999995]
[null,null,null,null,null,null,null,null,null,null,null,null,412,493.13749999999499,499.13749999999499,null,412,505.13749999999499,511.13749999999499,null,412,487.13749999999499]
[null,null,null,null,null,null,null,null,null,null,null,null,413,493.14999999999498,499.14999999999498,null,413,505.14999999999498,511.14999999999498,null,413,487.14999999999498]
[null,null,null,null,null,null,null,null,null,null,null,null,414,493.16249999999502,499.16249999999502,null,414,505.16249999999502,511.16249999999502,null,414,487.16249999999502]
[null,null,null,null,null,null,null,null,null,null,null,null,415,493.17499999999501,499.17499999999501,null,415,505.17499999999501,511.17499999999501,null,415,487.17499999999501]
[null,null,null,null,null,null,null,null,null,null,null,null,416,493.187499999995,499.187499999995,null,416,505.187499999995,511.187499999995,null,416,487.187499999995]
[null,null,null,null,null,null,null,null,null,null,null,null,417,493.19999999999499,499.19999999999499,null,417,505.19999999999499,511.19999999999499,null,417,487.19999999999499]
[null,null,null,null,null,null,null,null,null,null,null,null,418,493.21249999999498,499.21249999999498,null,418,505.21249999999498,511.21249999999498,null,418,487.21249999999498]
[null,null,null,null,null,null,null,null,null,null,null,null,419,493.22499999999502,499.22499999999502,null,419,505.22499999999502,511.22499999999502,null,419,487.22499999999502]
[null,null,null,null,null,null,null,null,null,null,null,null,420,493.23749999999501,499.23749999999501,null,420,505.23749999999501,511.23749999999501,null,420,487.23749999999501]
[null,null,null,null,null,null,null,null,null,null,null,null,421,493.249999999995,499.249999999995,null,421,505.249999999995,511.249999999995,null,421,487.249999999995]
[null,null,null,null,null,null,null,null,null,null,null,null,422,493.26249999999499,499.26249999999499,null,422,505.26249999999499,511.26249999999499,null,422,487.26249999999499]
[null,null,null,null,null,null,null,null,null,null,null,null,423,493.27499999999498,499.27499999999498,null,423,505.27499999999498,511.27499999999498,null,423,487.27499999999498]
[null,null,null,null,null,null,null,null,null,null,null,null,424,493.28749999999502,499.28749999999502,null,424,505.28749999999502,511.28749999999502,null,424,487.28749999999502]
[null,null,null,null,null,null,null,null,null,null,null,null,425,493.29999999999501,499.29999999999501,null,425,505.29999999999501,511.29999999999501,null,425,487.29999999999501]
[null,null,null,null,null,null,null,null,null,null,null,null,426,493.312499999995,499.312499999995,null,426,505.312499999995,511.312499999995,null,426,487.312499999995]
[null,null,null,null,null,null,null,null,null,null,null,null,427,493.32499999999499,499.32499999999499,null,427,505.32499999999499,511.32499999999499,null,427,487.32499999999499]
[null,null,null,null,null,null,null,null,null,null,null,null,428,493.33749999999498,499.33749999999498,null,428,505.33749999999498,511.33749999999498,null,428,487.33749999999498]
[null,null,null,null,null,null,null,null,null,null,null,null,429,493.34999999999502,499.34999999999502,null,429,505.34999999999502,511.34999999999502,null,429,487.34999999999502]
[null,null,null,null,null,null,null,null,null,null,null,null,430,493.36249999999501,499.36249999999501,null,430,505.36249999999501,511.36249999999501,null,430,487.36249999999501]
[null,null,null,null,null,null,null,null,null,null,null,null,431,493.374999999995,499.374999999995,null,431,505.374999999995,511.374999999995,null,431,487.374999999995]
[null,null,null,null,null,null,null,null,null,null,null,null,432,493.38749999999499,499.38749999999499,null,432,505.38749999999499,511.38749999999499,null,432,487.38749999999499]
[null,null,null,null,null,null,null,null,null,null,null,null,433,493.39999999999498,499.39999999999498,null,433,505.39999999999498,511.39999999999498,null,433,487.39999999999498]
[null,null,null,null,null,null,null,null,null,null,null,null,434,493.41249999999502,499.41249999999502,null,434,505.41249999999502,511.41249999999502,null,434,487.41249999999502]
[null,null,null,null,null,null,null,null,null,null,null,null,435,493.42499999999501,499.42499999999501,null,435,505.42499999999501,511.42499999999501,null,435,487.42499999999501]
[null,null,null,null,null,null,null,null,null,null,null,null,436,493.437499999995,499.437499999995,null,436,505.437499999995,511.437499999995,null,436,487.437499999995]
[null,null,null,null,null,null,null,null,null,null,null,null,437,493.44999999999499,499.44999999999499,null,437,505.44999999999499,511.44999999999499,null,437,487.44999999999499]
[null,null,null,null,null,null,null,null,null,null,null,null,438,493.46249999999498,499.46249999999498,null,438,505.46249999999498,511.46249999999498,null,438,487.46249999999498]
[null,null,null,null,null,null,null,null,null,null,null,null,439,493.47499999999502,499.47499999999502,null,439,505.47499999999502,511.47499999999502,null,439,487.47499999999502]
[null,null,null,null,null,null,null,null,null,null,null,null,440,493.48749999999501,499.48749999999501,null,440,505.48749999999501,511.48749999999501,null,440,487.48749999999501]
[null,null,null,null,null,null,null,null,null,null,null,null,441,493.499999999995,499.499999999995,null,441,505.499999999995,511.499999999995,null,441,487.499999999995]
[null,null,null,null,null,null,null,null,null,null,null,null,442,493.51249999999499,499.51249999999499,null,442,505.51249999999499,511.51249999999499,null,442,487.51249999999499]
[null,null,null,null,null,null,null,null,null,null,null,null,443,493.52499999999498,499.52499999999498,null,443,505.52499999999498,511.52499999999498,null,443,487.52499999999498]
[null,null,null,null,null,null,null,null,null,null,null,null,444,493.53749999999502,499.53749999999502,null,444,505.53749999999502,511.53749999999502,null,444,487.53749999999502]
[null,null,null,null,null,null,null,null,null,null,null,null,445,493.54999999999501,499.54999999999501,null,445,505.54999999999501,511.54999999999501,null,445,487.54999999999501]
[null,null,null,null,null,null,null,null,null,null,null,null,446,493.562499999995,499.562499999995,null,446,505.562499999995,511.562499999995,null,446,487.562499999995]
[null,null,null,null,null,null,null,null,null,null,null,null,447,493.57499999999499,499.57499999999499,null,447,505.57499999999499,511.57499999999499,null,447,487.57499999999499]
[null,null,null,null,null,null,null,null,null,null,null,null,448,493.58749999999498,499.58749999999498,null,448,505.58749999999498,511.58749999999498,null,448,487.58749999999498]
[null,null,null,null,null,null,null,null,null,null,null,null,449,493.59999999999502,499.59999999999502,null,449,505.59999999999502,511.59999999999502,null,449,487.59999999999502]
[null,null,null,null,null,null,null,null,null,null,null,null,450,493.61249999999501,499.61249999999501,null,450,505.61249999999501,511.61249999999501,null,450,487.61249999999501]
[null,null,null,null,null,null,null,null,null,null,null,null,451,493.624999999995,499.624999999995,null,451,505.624999999995,511.624999999995,null,451,487.624999999995]
[null,null,null,null,null,null,null,null,null,null,null,null,452,493.63749999999499,499.63749999999499,null,452,505.63749999999499,511.63749999999499,null,452,487.63749999999499]
[null,null,null,null,null,null,null,null,null,null,null,null,453,493.64999999999498,499.64999999999498,null,453,505.64999999999498,511.64999999999498,null,453,487.64999999999498]
[null,null,null,null,null,null,null,null,null,null,null,null,454,493.66249999999502,499.66249999999502,null,454,505.66249999999502,511.66249999999502,null,454,487.66249999999502]
[null,null,null,null,null,null,null,null,null,null,null,null,455,493.67499999999501,499.67499999999501,null,455,505.67499999999501,511.67499999999501,null,455,487.67499999999501]
[null,null,null,null,null,null,null,null,null,null,null,null,456,493.687499999995,499.687499999995,null,456,505.687499999995,511.687499999995,null,456,487.687499999995]
[null,null,null,null,null,null,null,null,null,null,null,null,457,493.69999999999499,499.69999999999499,null,457,505.69999999999499,511.69999999999499,null,457,487.69999999999499]
[null,null,null,null,null,null,null,null,null,null,null,null,458,493.71249999999498,499.71249999999498,null,458,505.71249999999498,511.71249999999498,null,458,487.71249999999498]
[null,null,null,null,null,null,null,null,null,null,null,null,459,493.72499999999502,499.72499999999502,null,459,505.72499999999502,511.72499999999502,null,459,487.72499999999502]
[null,null,null,null,null,null,null,null,null,null,null,null,460,493.73749999999501,499.73749999999501,null,460,505.73749999999501,511.73749999999501,null,460,487.73749999999501]
[null,null,null,null,null,null,null,null,null,null,null,null,461,493.749999999995,499.749999999995,null,461,505.749999999995,511.749999999995,null,461,487.749999999995]
[null,null,null,null,null,null,null,null,null,null,null,null,462,493.76249999999499,499.76249999999499,null,462,505.76249999999499,511.76249999999499,null,462,487.76249999999499]
[null,null,null,null,null,null,null,null,null,null,null,null,463,493.77499999999498,499.77499999999498,null,463,505.77499999999498,511.77499999999498,null,463,487.77499999999498]
[null,null,null,null,null,null,null,null,null,null,null,null,464,493.78749999999502,499.78749999999502,null,464,505.78749999999502,511.78749999999502,null,464,487.78749999999502]
[null,null,null,null,null,null,null,null,null,null,null,null,465,493.79999999999501,499.79999999999501,null,465,505.79999999999501,511.79999999999501,null,465,487.79999999999501]
[null,null,null,null,null,null,null,null,null,null,null,null,466,493.812499999995,499.812499999995,null,466,505.812499999995,511.812499999995,null,466,487.812499999995]
[null,null,null,null,null,null,null,null,null,null,null,null,467,493.82499999999499,499.82499999999499,null,467,505.82499999999499,511.82499999999499,null,467,487.82499999999499]
[null,null,null,null,null,null,null,null,null,null,null,null,468,493.83749999999498,499.83749999999498,null,468,505.83749999999498,511.83749999999498,null,468,487.83749999999498]
[null,null,null,null,null,null,null,null,null,null,null,null,469,493.84999999999502,499.84999999999502,null,469,505.84999999999502,511.84999999999502,null,469,487.84999999999502]
[null,null,null,null,null,null,null,null,null,null,null,null,470,493.86249999999501,499.86249999999501,null,470,505.86249999999501,511.86249999999501,null,470,487.86249999999501]
[null,null,null,null,null,null,null,null,null,null,null,null,471,493.874999999995,499.874999999995,null,471,505.874999999995,511.874999999995,null,471,487.874999999995]
[null,null,null,null,null,null,null,null,null,null,null,null,472,493.88749999999499,499.88749999999499,null,472,505.88749999999499,511.88749999999499,null,472,487.88749999999499]
[null,null,null,null,null,null,null,null,null,null,null,null,473,493.89999999999498,499.89999999999498,null,473,505.89999999999498,511.89999999999498,null,473,487.89999999999498]
[null,null,null,null,null,null,null,null,null,null,null,null,474,493.91249999999502,499.91249999999502,null,474,505.91249999999502,511.91249999999502,null,474,487.91249999999502]
[null,null,null,null,null,null,null,null,null,null,null,null,475,493.92499999999501,499.92499999999501,null,475,505.92499999999501,511.92499999999501,null,475,487.92499999999501]
[null,null,null,null,null,null,null,null,null,null,null,null,476,493.937499999995,499.937499999995,null,476,505.937499999995,511.937499999995,null,476,487.937499999995]
[null,null,null,null,null,null,null,null,null,null,null,null,477,493.94999999999499,499.94999999999499,null,477,505.94999999999499,511.94999999999499,null,477,487.94999999999499]
[null,null,null,null,null,null,null,null,null,null,null,null,478,493.96249999999498,499.96249999999498,null,478,505.96249999999498,511.96249999999498,null,478,487.96249999999498]
[null,null,null,null,null,null,null,null,null,null,null,null,479,493.97499999999502,499.97499999999502,null,479,505.97499999999502,511.97499999999502,null,479,487.97499999999502]
[null,null,null,null,null,null,null,null,null,null,null,null,480,493.98749999999501,499.98749999999501,null,480,505.98749999999501,511.98749999999501,null,480,487.98749999999501]